{"text_format":"1","workbook":"xlsx","n_sheets":19,"sheets":["S1","S2","S3","S4","S5","S6","S7","S8","S9","S10","Chart 1-24","Chart 25-48","Chart 49-72","Chart 73-96","Chart 97-120","ST1","Avg","ST13","AP"],"not_rendered":{"charts":30,"images":30,"macros":1,"external_links":0,"defined_names":2,"comments":0,"pivot_tables":0},"unopened":[],"bounds":{"document_bytes":16777216,"sheet_cells":100000,"rows_first":2000,"rows_last":500,"rows_between":2000,"halvings":0,"cell_chars":16384,"cell_head_chars":4096},"cells_cut":0,"cells_raw":0,"read":"whole","date_system":"1900"}

{"sheet":"S1","index":0,"n_rows":41,"n_cols":14,"rows_kept":41,"cut":false,"hidden":false,"merged":[[8,12,8,13],[26,10,26,11],[26,12,26,13],[20,8,20,9],[20,10,20,11],[20,12,20,13],[21,8,24,9],[21,12,24,13],[26,8,26,9],[11,12,11,13],[21,10,24,11],[11,8,11,9],[11,10,11,11],[40,0,43,1],[40,2,43,3],[40,4,43,5],[40,6,43,7],[8,10,8,11],[39,6,39,7],[30,6,30,7],[40,8,43,9],[40,10,43,11],[39,4,39,5],[26,0,26,1],[26,2,26,3],[26,4,26,5],[26,6,26,7],[28,0,28,1],[27,0,27,1],[40,12,43,13],[27,10,27,11],[29,0,29,1],[27,12,27,13],[39,10,39,11],[39,12,39,13],[30,8,30,9],[30,10,30,11],[30,12,30,13],[27,8,27,9],[30,0,30,1],[30,2,30,3],[30,4,30,5],[39,8,39,9],[39,0,39,1],[39,2,39,3],[27,2,27,3],[27,4,27,5],[27,6,27,7],[21,0,24,1],[21,2,24,3],[21,4,24,5],[21,6,24,7],[11,0,11,1],[11,2,11,3],[11,4,11,5],[11,6,11,7],[20,0,20,1],[20,2,20,3],[20,4,20,5],[20,6,20,7],[9,0,9,1],[10,0,10,1],[8,8,8,9],[8,0,8,1],[8,2,8,3],[8,4,8,5],[8,6,8,7],[1,11,1,12],[2,11,2,12],[3,11,3,12],[7,6,7,7],[7,10,7,11],[7,12,7,13],[7,8,7,9],[1,9,1,10],[1,2,1,6],[2,2,2,6],[3,2,3,6],[7,0,7,1],[7,2,7,3],[2,9,2,10],[3,9,3,10],[5,3,5,8],[7,4,7,5],[0,0,3,1],[4,0,4,1],[0,7,3,8]]}
[]
[null,null,"COMMONWEALTH OF PENNSYLVANIA",null,null,null,null,null,null,"DISTRICT"]
[null,null,"DEPARTMENT OF TRANSPORTATION",null,null,null,null,null,null,"PLANT CODE"]
[null,null,"PENNSYLVANIA TURNPIKE COMMISSION",null,null,null,null,null,null,"AGG SIZE",null,"#9's"]
["Aggregate 2023"]
[null,null,null,"Material Test Results for #9 Aggregate"]
[]
["Sample No."]
["Date"]
["St. Wt. Before Wash.",null,null,"% Loss",null,"% Loss",null,"% Loss",null,"% Loss",null,"% Loss",null,"% Loss"]
["Dry. Wt. After Wash.",null,null,{"$f":"IF(ISBLANK(C10),\" \",IF(ISBLANK(C14),\" \",(C11-C14)/C11*100))","v":" "},null,{"$f":"IF(ISBLANK(E10),\" \",IF(ISBLANK(E14),\" \",(E11-E14)/E11*100))","v":" "},null,{"$f":"IF(ISBLANK(G10),\" \",IF(ISBLANK(G14),\" \",(G11-G14)/G11*100))","v":" "},null,{"$f":"IF(ISBLANK(I10),\" \",IF(ISBLANK(I14),\" \",(I11-I14)/I11*100))","v":" "},null,{"$f":"IF(ISBLANK(K10),\" \",IF(ISBLANK(K14),\" \",(K11-K14)/K11*100))","v":" "},null,{"$f":"IF(ISBLANK(M10),\" \",IF(ISBLANK(M14),\" \",(M11-M14)/M11*100))","v":" "}]
["Wt. Loss",null,{"$f":"IF(ISBLANK(C10),\" \",IF(ISBLANK(C11),\" \",C10-C11))","v":" "},null,{"$f":"IF(ISBLANK(E10),\" \",IF(ISBLANK(E11),\" \",E10-E11))","v":" "},null,{"$f":"IF(ISBLANK(G10),\" \",IF(ISBLANK(G11),\" \",G10-G11))","v":" "},null,{"$f":"IF(ISBLANK(I10),\" \",IF(ISBLANK(I11),\" \",I10-I11))","v":" "},null,{"$f":"IF(ISBLANK(K10),\" \",IF(ISBLANK(K11),\" \",K10-K11))","v":" "},null,{"$f":"IF(ISBLANK(M10),\" \",IF(ISBLANK(M11),\" \",M10-M11))","v":" "}]
["Spec","Sieve","Wt","% Passing","Wt","% Passing","Wt","% Passing","Wt","% Passing","Wt","% Passing","Wt","% Passing"]
["100",0.375,null,{"$f":"IF(ISBLANK(C$10),\"  \",IF(ISBLANK(C$11),\" \",IF(ISBLANK(C14),\" \",ROUND((C14+C$12)/C$10*100,1))))","v":"  "},null,{"$f":"IF(ISBLANK(E$10),\"  \",IF(ISBLANK(E$11),\" \",IF(ISBLANK(E14),\" \",ROUND((E14+E$12)/E$10*100,1))))","v":"  "},null,{"$f":"IF(ISBLANK(G$10),\"  \",IF(ISBLANK(G$11),\" \",IF(ISBLANK(G14),\" \",ROUND((G14+G$12)/G$10*100,1))))","v":"  "},null,{"$f":"IF(ISBLANK(I$10),\"  \",IF(ISBLANK(I$11),\" \",IF(ISBLANK(I14),\" \",ROUND((I14+I$12)/I$10*100,1))))","v":"  "},null,{"$f":"IF(ISBLANK(K$10),\"  \",IF(ISBLANK(K$11),\" \",IF(ISBLANK(K14),\" \",ROUND((K14+K$12)/K$10*100,1))))","v":"  "},null,{"$f":"IF(ISBLANK(M$10),\"  \",IF(ISBLANK(M$11),\" \",IF(ISBLANK(M14),\" \",ROUND((M14+M$12)/M$10*100,1))))","v":"  "}]
["Breaker",0.25,null,{"$f":"IF(ISBLANK(C$10),\"  \",IF(ISBLANK(C$11),\" \",IF(ISBLANK(C15),\" \",ROUND((C15+C$12)/C$10*100,0))))","v":"  "},null,{"$f":"IF(ISBLANK(E$10),\"  \",IF(ISBLANK(E$11),\" \",IF(ISBLANK(E15),\" \",ROUND((E15+E$12)/E$10*100,0))))","v":"  "},null,{"$f":"IF(ISBLANK(G$10),\"  \",IF(ISBLANK(G$11),\" \",IF(ISBLANK(G15),\" \",ROUND((G15+G$12)/G$10*100,0))))","v":"  "},null,{"$f":"IF(ISBLANK(I$10),\"  \",IF(ISBLANK(I$11),\" \",IF(ISBLANK(I15),\" \",ROUND((I15+I$12)/I$10*100,0))))","v":"  "},null,{"$f":"IF(ISBLANK(K$10),\"  \",IF(ISBLANK(K$11),\" \",IF(ISBLANK(K15),\" \",ROUND((K15+K$12)/K$10*100,0))))","v":"  "},null,{"$f":"IF(ISBLANK(M$10),\"  \",IF(ISBLANK(M$11),\" \",IF(ISBLANK(M15),\" \",ROUND((M15+M$12)/M$10*100,0))))","v":"  "}]
["85-100",4,null,{"$f":"IF(ISBLANK(C$10),\"  \",IF(ISBLANK(C$11),\" \",IF(ISBLANK(C16),\" \",ROUND((C16+C$12)/C$10*100,0))))","v":"  "},null,{"$f":"IF(ISBLANK(E$10),\"  \",IF(ISBLANK(E$11),\" \",IF(ISBLANK(E16),\" \",ROUND((E16+E$12)/E$10*100,0))))","v":"  "},null,{"$f":"IF(ISBLANK(G$10),\"  \",IF(ISBLANK(G$11),\" \",IF(ISBLANK(G16),\" \",ROUND((G16+G$12)/G$10*100,0))))","v":"  "},null,{"$f":"IF(ISBLANK(I$10),\"  \",IF(ISBLANK(I$11),\" \",IF(ISBLANK(I16),\" \",ROUND((I16+I$12)/I$10*100,0))))","v":"  "},null,{"$f":"IF(ISBLANK(K$10),\"  \",IF(ISBLANK(K$11),\" \",IF(ISBLANK(K16),\" \",ROUND((K16+K$12)/K$10*100,0))))","v":"  "},null,{"$f":"IF(ISBLANK(M$10),\"  \",IF(ISBLANK(M$11),\" \",IF(ISBLANK(M16),\" \",ROUND((M16+M$12)/M$10*100,0))))","v":"  "}]
["10-40",8,null,{"$f":"IF(ISBLANK(C$10),\"  \",IF(ISBLANK(C$11),\" \",IF(ISBLANK(C17),\" \",ROUND((C17+C$12)/C$10*100,0))))","v":"  "},null,{"$f":"IF(ISBLANK(E$10),\"  \",IF(ISBLANK(E$11),\" \",IF(ISBLANK(E17),\" \",ROUND((E17+E$12)/E$10*100,0))))","v":"  "},null,{"$f":"IF(ISBLANK(G$10),\"  \",IF(ISBLANK(G$11),\" \",IF(ISBLANK(G17),\" \",ROUND((G17+G$12)/G$10*100,0))))","v":"  "},null,{"$f":"IF(ISBLANK(I$10),\"  \",IF(ISBLANK(I$11),\" \",IF(ISBLANK(I17),\" \",ROUND((I17+I$12)/I$10*100,0))))","v":"  "},null,{"$f":"IF(ISBLANK(K$10),\"  \",IF(ISBLANK(K$11),\" \",IF(ISBLANK(K17),\" \",ROUND((K17+K$12)/K$10*100,0))))","v":"  "},null,{"$f":"IF(ISBLANK(M$10),\"  \",IF(ISBLANK(M$11),\" \",IF(ISBLANK(M17),\" \",ROUND((M17+M$12)/M$10*100,0))))","v":"  "}]
["0-10",16,null,{"$f":"IF(ISBLANK(C$10),\"  \",IF(ISBLANK(C$11),\" \",IF(ISBLANK(C18),\" \",ROUND((C18+C$12)/C$10*100,0))))","v":"  "},null,{"$f":"IF(ISBLANK(E$10),\"  \",IF(ISBLANK(E$11),\" \",IF(ISBLANK(E18),\" \",ROUND((E18+E$12)/E$10*100,0))))","v":"  "},null,{"$f":"IF(ISBLANK(G$10),\"  \",IF(ISBLANK(G$11),\" \",IF(ISBLANK(G18),\" \",ROUND((G18+G$12)/G$10*100,0))))","v":"  "},null,{"$f":"IF(ISBLANK(I$10),\"  \",IF(ISBLANK(I$11),\" \",IF(ISBLANK(I18),\" \",ROUND((I18+I$12)/I$10*100,0))))","v":"  "},null,{"$f":"IF(ISBLANK(K$10),\"  \",IF(ISBLANK(K$11),\" \",IF(ISBLANK(K18),\" \",ROUND((K18+K$12)/K$10*100,0))))","v":"  "},null,{"$f":"IF(ISBLANK(M$10),\"  \",IF(ISBLANK(M$11),\" \",IF(ISBLANK(M18),\" \",ROUND((M18+M$12)/M$10*100,0))))","v":"  "}]
["0-5",50,null,{"$f":"IF(ISBLANK(C$10),\"  \",IF(ISBLANK(C$11),\" \",IF(ISBLANK(C19),\" \",ROUND((C19+C$12)/C$10*100,0))))","v":"  "},null,{"$f":"IF(ISBLANK(E$10),\"  \",IF(ISBLANK(E$11),\" \",IF(ISBLANK(E19),\" \",ROUND((E19+E$12)/E$10*100,0))))","v":"  "},null,{"$f":"IF(ISBLANK(G$10),\"  \",IF(ISBLANK(G$11),\" \",IF(ISBLANK(G19),\" \",ROUND((G19+G$12)/G$10*100,0))))","v":"  "},null,{"$f":"IF(ISBLANK(I$10),\"  \",IF(ISBLANK(I$11),\" \",IF(ISBLANK(I19),\" \",ROUND((I19+I$12)/I$10*100,0))))","v":"  "},null,{"$f":"IF(ISBLANK(K$10),\"  \",IF(ISBLANK(K$11),\" \",IF(ISBLANK(K19),\" \",ROUND((K19+K$12)/K$10*100,0))))","v":"  "},null,{"$f":"IF(ISBLANK(M$10),\"  \",IF(ISBLANK(M$11),\" \",IF(ISBLANK(M19),\" \",ROUND((M19+M$12)/M$10*100,0))))","v":"  "}]
["0-2",200,null,{"$f":"IF(ISBLANK(C$10),\"  \",IF(ISBLANK(C$11),\" \",IF(ISBLANK(C20),\" \",ROUND((C20+C$12)/C$10*100,2))))","v":"  "},null,{"$f":"IF(ISBLANK(E$10),\"  \",IF(ISBLANK(E$11),\" \",IF(ISBLANK(E20),\" \",ROUND((E20+E$12)/E$10*100,2))))","v":"  "},null,{"$f":"IF(ISBLANK(G$10),\"  \",IF(ISBLANK(G$11),\" \",IF(ISBLANK(G20),\" \",ROUND((G20+G$12)/G$10*100,2))))","v":"  "},null,{"$f":"IF(ISBLANK(I$10),\"  \",IF(ISBLANK(I$11),\" \",IF(ISBLANK(I20),\" \",ROUND((I20+I$12)/I$10*100,2))))","v":"  "},null,{"$f":"IF(ISBLANK(K$10),\"  \",IF(ISBLANK(K$11),\" \",IF(ISBLANK(K20),\" \",ROUND((K20+K$12)/K$10*100,2))))","v":"  "},null,{"$f":"IF(ISBLANK(M$10),\"  \",IF(ISBLANK(M$11),\" \",IF(ISBLANK(M20),\" \",ROUND((M20+M$12)/M$10*100,2))))","v":"  "}]
["Tested By"]
["Remarks"]
[]
[]
[]
[]
["Sample No."]
["Date"]
[{"$f":"A10","v":"St. Wt. Before Wash."},null,null,"% Loss",null,"% Loss",null,"% Loss",null,"% Loss",null,"% Loss",null,"% Loss"]
[{"$f":"A11","v":"Dry. Wt. After Wash."},null,null,{"$f":"IF(ISBLANK(C29),\" \",IF(ISBLANK(C33),\" \",(C30-C33)/C30*100))","v":" "},null,{"$f":"IF(ISBLANK(E29),\" \",IF(ISBLANK(E33),\" \",(E30-E33)/E30*100))","v":" "},null,{"$f":"IF(ISBLANK(G29),\" \",IF(ISBLANK(G33),\" \",(G30-G33)/G30*100))","v":" "},null,{"$f":"IF(ISBLANK(I29),\" \",IF(ISBLANK(I33),\" \",(I30-I33)/I30*100))","v":" "},null,{"$f":"IF(ISBLANK(K29),\" \",IF(ISBLANK(K33),\" \",(K30-K33)/K30*100))","v":" "},null,{"$f":"IF(ISBLANK(M29),\" \",IF(ISBLANK(M33),\" \",(M30-M33)/M30*100))","v":" "}]
["Wt. Loss",null,{"$f":"IF(ISBLANK(C29),\" \",IF(ISBLANK(C30),\" \",C29-C30))","v":" "},null,{"$f":"IF(ISBLANK(E29),\" \",IF(ISBLANK(E30),\" \",E29-E30))","v":" "},null,{"$f":"IF(ISBLANK(G29),\" \",IF(ISBLANK(G30),\" \",G29-G30))","v":" "},null,{"$f":"IF(ISBLANK(I29),\" \",IF(ISBLANK(I30),\" \",I29-I30))","v":" "},null,{"$f":"IF(ISBLANK(K29),\" \",IF(ISBLANK(K30),\" \",K29-K30))","v":" "},null,{"$f":"IF(ISBLANK(M29),\" \",IF(ISBLANK(M30),\" \",M29-M30))","v":" "}]
["Spec","Sieve","Wt","% Passing","Wt","% Passing","Wt","% Passing","Wt","% Passing","Wt","% Passing","Wt","% Passing"]
[100,0.375,null,{"$f":"IF(ISBLANK(C$29),\"  \",IF(ISBLANK(C$30),\" \",IF(ISBLANK(C33),\" \",ROUND((C33+C$31)/C$29*100,1))))","v":"  "},null,{"$f":"IF(ISBLANK(E$29),\"  \",IF(ISBLANK(E$30),\" \",IF(ISBLANK(E33),\" \",ROUND((E33+E$31)/E$29*100,1))))","v":"  "},null,{"$f":"IF(ISBLANK(G$29),\"  \",IF(ISBLANK(G$30),\" \",IF(ISBLANK(G33),\" \",ROUND((G33+G$31)/G$29*100,1))))","v":"  "},null,{"$f":"IF(ISBLANK(I$29),\"  \",IF(ISBLANK(I$30),\" \",IF(ISBLANK(I33),\" \",ROUND((I33+I$31)/I$29*100,1))))","v":"  "},null,{"$f":"IF(ISBLANK(K$29),\"  \",IF(ISBLANK(K$30),\" \",IF(ISBLANK(K33),\" \",ROUND((K33+K$31)/K$29*100,1))))","v":"  "},null,{"$f":"IF(ISBLANK(M$29),\"  \",IF(ISBLANK(M$30),\" \",IF(ISBLANK(M33),\" \",ROUND((M33+M$31)/M$29*100,1))))","v":"  "}]
["Breaker",0.25,null,{"$f":"IF(ISBLANK(C$29),\"  \",IF(ISBLANK(C$30),\" \",IF(ISBLANK(C34),\" \",ROUND((C34+C$31)/C$29*100,0))))","v":"  "},null,{"$f":"IF(ISBLANK(E$29),\"  \",IF(ISBLANK(E$30),\" \",IF(ISBLANK(E34),\" \",ROUND((E34+E$31)/E$29*100,0))))","v":"  "},null,{"$f":"IF(ISBLANK(G$29),\"  \",IF(ISBLANK(G$30),\" \",IF(ISBLANK(G34),\" \",ROUND((G34+G$31)/G$29*100,0))))","v":"  "},null,{"$f":"IF(ISBLANK(I$29),\"  \",IF(ISBLANK(I$30),\" \",IF(ISBLANK(I34),\" \",ROUND((I34+I$31)/I$29*100,0))))","v":"  "},null,{"$f":"IF(ISBLANK(K$29),\"  \",IF(ISBLANK(K$30),\" \",IF(ISBLANK(K34),\" \",ROUND((K34+K$31)/K$29*100,0))))","v":"  "},null,{"$f":"IF(ISBLANK(M$29),\"  \",IF(ISBLANK(M$30),\" \",IF(ISBLANK(M34),\" \",ROUND((M34+M$31)/M$29*100,0))))","v":"  "}]
[{"$f":"A16","v":"85-100"},4,null,{"$f":"IF(ISBLANK(C$29),\"  \",IF(ISBLANK(C$30),\" \",IF(ISBLANK(C35),\" \",ROUND((C35+C$31)/C$29*100,0))))","v":"  "},null,{"$f":"IF(ISBLANK(E$29),\"  \",IF(ISBLANK(E$30),\" \",IF(ISBLANK(E35),\" \",ROUND((E35+E$31)/E$29*100,0))))","v":"  "},null,{"$f":"IF(ISBLANK(G$29),\"  \",IF(ISBLANK(G$30),\" \",IF(ISBLANK(G35),\" \",ROUND((G35+G$31)/G$29*100,0))))","v":"  "},null,{"$f":"IF(ISBLANK(I$29),\"  \",IF(ISBLANK(I$30),\" \",IF(ISBLANK(I35),\" \",ROUND((I35+I$31)/I$29*100,0))))","v":"  "},null,{"$f":"IF(ISBLANK(K$29),\"  \",IF(ISBLANK(K$30),\" \",IF(ISBLANK(K35),\" \",ROUND((K35+K$31)/K$29*100,0))))","v":"  "},null,{"$f":"IF(ISBLANK(M$29),\"  \",IF(ISBLANK(M$30),\" \",IF(ISBLANK(M35),\" \",ROUND((M35+M$31)/M$29*100,0))))","v":"  "}]
[{"$f":"A17","v":"10-40"},8,null,{"$f":"IF(ISBLANK(C$29),\"  \",IF(ISBLANK(C$30),\" \",IF(ISBLANK(C36),\" \",ROUND((C36+C$31)/C$29*100,0))))","v":"  "},null,{"$f":"IF(ISBLANK(E$29),\"  \",IF(ISBLANK(E$30),\" \",IF(ISBLANK(E36),\" \",ROUND((E36+E$31)/E$29*100,0))))","v":"  "},null,{"$f":"IF(ISBLANK(G$29),\"  \",IF(ISBLANK(G$30),\" \",IF(ISBLANK(G36),\" \",ROUND((G36+G$31)/G$29*100,0))))","v":"  "},null,{"$f":"IF(ISBLANK(I$29),\"  \",IF(ISBLANK(I$30),\" \",IF(ISBLANK(I36),\" \",ROUND((I36+I$31)/I$29*100,0))))","v":"  "},null,{"$f":"IF(ISBLANK(K$29),\"  \",IF(ISBLANK(K$30),\" \",IF(ISBLANK(K36),\" \",ROUND((K36+K$31)/K$29*100,0))))","v":"  "},null,{"$f":"IF(ISBLANK(M$29),\"  \",IF(ISBLANK(M$30),\" \",IF(ISBLANK(M36),\" \",ROUND((M36+M$31)/M$29*100,0))))","v":"  "}]
["0-10",16,null,{"$f":"IF(ISBLANK(C$29),\"  \",IF(ISBLANK(C$30),\" \",IF(ISBLANK(C37),\" \",ROUND((C37+C$31)/C$29*100,0))))","v":"  "},null,{"$f":"IF(ISBLANK(E$29),\"  \",IF(ISBLANK(E$30),\" \",IF(ISBLANK(E37),\" \",ROUND((E37+E$31)/E$29*100,0))))","v":"  "},null,{"$f":"IF(ISBLANK(G$29),\"  \",IF(ISBLANK(G$30),\" \",IF(ISBLANK(G37),\" \",ROUND((G37+G$31)/G$29*100,0))))","v":"  "},null,{"$f":"IF(ISBLANK(I$29),\"  \",IF(ISBLANK(I$30),\" \",IF(ISBLANK(I37),\" \",ROUND((I37+I$31)/I$29*100,0))))","v":"  "},null,{"$f":"IF(ISBLANK(K$29),\"  \",IF(ISBLANK(K$30),\" \",IF(ISBLANK(K37),\" \",ROUND((K37+K$31)/K$29*100,0))))","v":"  "},null,{"$f":"IF(ISBLANK(M$29),\"  \",IF(ISBLANK(M$30),\" \",IF(ISBLANK(M37),\" \",ROUND((M37+M$31)/M$29*100,0))))","v":"  "}]
[{"$f":"A19","v":"0-5"},50,null,{"$f":"IF(ISBLANK(C$29),\"  \",IF(ISBLANK(C$30),\" \",IF(ISBLANK(C38),\" \",ROUND((C38+C$31)/C$29*100,0))))","v":"  "},null,{"$f":"IF(ISBLANK(E$29),\"  \",IF(ISBLANK(E$30),\" \",IF(ISBLANK(E38),\" \",ROUND((E38+E$31)/E$29*100,0))))","v":"  "},null,{"$f":"IF(ISBLANK(G$29),\"  \",IF(ISBLANK(G$30),\" \",IF(ISBLANK(G38),\" \",ROUND((G38+G$31)/G$29*100,0))))","v":"  "},null,{"$f":"IF(ISBLANK(I$29),\"  \",IF(ISBLANK(I$30),\" \",IF(ISBLANK(I38),\" \",ROUND((I38+I$31)/I$29*100,0))))","v":"  "},null,{"$f":"IF(ISBLANK(K$29),\"  \",IF(ISBLANK(K$30),\" \",IF(ISBLANK(K38),\" \",ROUND((K38+K$31)/K$29*100,0))))","v":"  "},null,{"$f":"IF(ISBLANK(M$29),\"  \",IF(ISBLANK(M$30),\" \",IF(ISBLANK(M38),\" \",ROUND((M38+M$31)/M$29*100,0))))","v":"  "}]
[{"$f":"A20","v":"0-2"},200,null,{"$f":"IF(ISBLANK(C$29),\"  \",IF(ISBLANK(C$30),\" \",IF(ISBLANK(C39),\" \",ROUND((C39+C$31)/C$29*100,2))))","v":"  "},null,{"$f":"IF(ISBLANK(E$29),\"  \",IF(ISBLANK(E$30),\" \",IF(ISBLANK(E39),\" \",ROUND((E39+E$31)/E$29*100,2))))","v":"  "},null,{"$f":"IF(ISBLANK(G$29),\"  \",IF(ISBLANK(G$30),\" \",IF(ISBLANK(G39),\" \",ROUND((G39+G$31)/G$29*100,2))))","v":"  "},null,{"$f":"IF(ISBLANK(I$29),\"  \",IF(ISBLANK(I$30),\" \",IF(ISBLANK(I39),\" \",ROUND((I39+I$31)/I$29*100,2))))","v":"  "},null,{"$f":"IF(ISBLANK(K$29),\"  \",IF(ISBLANK(K$30),\" \",IF(ISBLANK(K39),\" \",ROUND((K39+K$31)/K$29*100,2))))","v":"  "},null,{"$f":"IF(ISBLANK(M$29),\"  \",IF(ISBLANK(M$30),\" \",IF(ISBLANK(M39),\" \",ROUND((M39+M$31)/M$29*100,2))))","v":"  "}]
["Tested By"]
["Remarks"]

{"sheet":"S2","index":1,"n_rows":41,"n_cols":14,"rows_kept":41,"cut":false,"hidden":true,"merged":[[1,11,1,12],[2,2,2,6],[2,9,2,10],[2,11,2,12],[3,2,3,6],[3,9,3,10],[3,11,3,12],[0,7,3,8],[1,9,1,10],[11,6,11,7],[28,0,28,1],[29,0,29,1],[30,0,30,1],[30,2,30,3],[30,4,30,5],[30,6,30,7],[26,0,26,1],[27,0,27,1],[20,6,20,7],[26,2,26,3],[26,4,26,5],[26,6,26,7],[27,4,27,5],[27,2,27,3],[20,4,20,5],[39,0,39,1],[39,2,39,3],[39,4,39,5],[39,6,39,7],[40,10,43,11],[39,10,39,11],[40,12,43,13],[40,0,43,1],[40,2,43,3],[40,4,43,5],[40,6,43,7],[40,8,43,9],[39,12,39,13],[30,12,30,13],[30,8,30,9],[30,10,30,11],[39,8,39,9],[11,8,11,9],[7,10,7,11],[7,12,7,13],[11,12,11,13],[8,10,8,11],[8,12,8,13],[11,10,11,11],[8,8,8,9],[4,0,4,1],[0,0,3,1],[1,2,1,6],[8,4,8,5],[8,6,8,7],[5,3,5,8],[7,0,7,1],[7,2,7,3],[7,4,7,5],[7,6,7,7],[7,8,7,9],[9,0,9,1],[8,0,8,1],[8,2,8,3],[10,0,10,1],[20,2,20,3],[20,0,20,1],[21,0,24,1],[21,2,24,3],[21,4,24,5],[11,0,11,1],[11,2,11,3],[11,4,11,5],[27,12,27,13],[27,10,27,11],[20,12,20,13],[27,6,27,7],[26,12,26,13],[20,10,20,11],[20,8,20,9],[21,6,24,7],[21,8,24,9],[26,10,26,11],[21,10,24,11],[21,12,24,13],[27,8,27,9],[26,8,26,9]]}
[]
[null,null,"COMMONWEALTH OF PENNSYLVANIA",null,null,null,null,null,null,"DISTRICT"]
[null,null,"DEPARTMENT OF TRANSPORTATION",null,null,null,null,null,null,"PLANT CODE"]
[null,null,"PENNSYLVANIA TURNPIKE COMMISSION",null,null,null,null,null,null,"AGG SIZE",null,"#9's"]
["Aggregate 2017"]
[null,null,null,"Material Test Results for #9 Aggregate"]
[]
["Sample No."]
["Date"]
["St. Wt. Before Wash.",null,null,"% Loss",null,"% Loss",null,"% Loss",null,"% Loss",null,"% Loss",null,"% Loss"]
["Dry. Wt. After Wash.",null,null,{"$f":"IF(ISBLANK(C10),\" \",IF(ISBLANK(C14),\" \",(C11-C14)/C11*100))","v":" "},null,{"$f":"IF(ISBLANK(E10),\" \",IF(ISBLANK(E14),\" \",(E11-E14)/E11*100))","v":" "},null,{"$f":"IF(ISBLANK(G10),\" \",IF(ISBLANK(G14),\" \",(G11-G14)/G11*100))","v":" "},null,{"$f":"IF(ISBLANK(I10),\" \",IF(ISBLANK(I14),\" \",(I11-I14)/I11*100))","v":" "},null,{"$f":"IF(ISBLANK(K10),\" \",IF(ISBLANK(K14),\" \",(K11-K14)/K11*100))","v":" "},null,{"$f":"IF(ISBLANK(M10),\" \",IF(ISBLANK(M14),\" \",(M11-M14)/M11*100))","v":" "}]
["Wt. Loss",null,{"$f":"IF(ISBLANK(C10),\" \",IF(ISBLANK(C11),\" \",C10-C11))","v":" "},null,{"$f":"IF(ISBLANK(E10),\" \",IF(ISBLANK(E11),\" \",E10-E11))","v":" "},null,{"$f":"IF(ISBLANK(G10),\" \",IF(ISBLANK(G11),\" \",G10-G11))","v":" "},null,{"$f":"IF(ISBLANK(I10),\" \",IF(ISBLANK(I11),\" \",I10-I11))","v":" "},null,{"$f":"IF(ISBLANK(K10),\" \",IF(ISBLANK(K11),\" \",K10-K11))","v":" "},null,{"$f":"IF(ISBLANK(M10),\" \",IF(ISBLANK(M11),\" \",M10-M11))","v":" "}]
["Spec","Sieve","Wt","% Passing","Wt","% Passing","Wt","% Passing","Wt","% Passing","Wt","% Passing","Wt","% Passing"]
["100",0.375,null,{"$f":"IF(ISBLANK(C$10),\"  \",IF(ISBLANK(C$11),\" \",IF(ISBLANK(C14),\" \",ROUND((C14+C$12)/C$10*100,1))))","v":"  "},null,{"$f":"IF(ISBLANK(E$10),\"  \",IF(ISBLANK(E$11),\" \",IF(ISBLANK(E14),\" \",ROUND((E14+E$12)/E$10*100,1))))","v":"  "},null,{"$f":"IF(ISBLANK(G$10),\"  \",IF(ISBLANK(G$11),\" \",IF(ISBLANK(G14),\" \",ROUND((G14+G$12)/G$10*100,1))))","v":"  "},null,{"$f":"IF(ISBLANK(I$10),\"  \",IF(ISBLANK(I$11),\" \",IF(ISBLANK(I14),\" \",ROUND((I14+I$12)/I$10*100,1))))","v":"  "},null,{"$f":"IF(ISBLANK(K$10),\"  \",IF(ISBLANK(K$11),\" \",IF(ISBLANK(K14),\" \",ROUND((K14+K$12)/K$10*100,1))))","v":"  "},null,{"$f":"IF(ISBLANK(M$10),\"  \",IF(ISBLANK(M$11),\" \",IF(ISBLANK(M14),\" \",ROUND((M14+M$12)/M$10*100,1))))","v":"  "}]
["Breaker",0.25,null,{"$f":"IF(ISBLANK(C$10),\"  \",IF(ISBLANK(C$11),\" \",IF(ISBLANK(C15),\" \",ROUND((C15+C$12)/C$10*100,0))))","v":"  "},null,{"$f":"IF(ISBLANK(E$10),\"  \",IF(ISBLANK(E$11),\" \",IF(ISBLANK(E15),\" \",ROUND((E15+E$12)/E$10*100,0))))","v":"  "},null,{"$f":"IF(ISBLANK(G$10),\"  \",IF(ISBLANK(G$11),\" \",IF(ISBLANK(G15),\" \",ROUND((G15+G$12)/G$10*100,0))))","v":"  "},null,{"$f":"IF(ISBLANK(I$10),\"  \",IF(ISBLANK(I$11),\" \",IF(ISBLANK(I15),\" \",ROUND((I15+I$12)/I$10*100,0))))","v":"  "},null,{"$f":"IF(ISBLANK(K$10),\"  \",IF(ISBLANK(K$11),\" \",IF(ISBLANK(K15),\" \",ROUND((K15+K$12)/K$10*100,0))))","v":"  "},null,{"$f":"IF(ISBLANK(M$10),\"  \",IF(ISBLANK(M$11),\" \",IF(ISBLANK(M15),\" \",ROUND((M15+M$12)/M$10*100,0))))","v":"  "}]
["85-100",4,null,{"$f":"IF(ISBLANK(C$10),\"  \",IF(ISBLANK(C$11),\" \",IF(ISBLANK(C16),\" \",ROUND((C16+C$12)/C$10*100,0))))","v":"  "},null,{"$f":"IF(ISBLANK(E$10),\"  \",IF(ISBLANK(E$11),\" \",IF(ISBLANK(E16),\" \",ROUND((E16+E$12)/E$10*100,0))))","v":"  "},null,{"$f":"IF(ISBLANK(G$10),\"  \",IF(ISBLANK(G$11),\" \",IF(ISBLANK(G16),\" \",ROUND((G16+G$12)/G$10*100,0))))","v":"  "},null,{"$f":"IF(ISBLANK(I$10),\"  \",IF(ISBLANK(I$11),\" \",IF(ISBLANK(I16),\" \",ROUND((I16+I$12)/I$10*100,0))))","v":"  "},null,{"$f":"IF(ISBLANK(K$10),\"  \",IF(ISBLANK(K$11),\" \",IF(ISBLANK(K16),\" \",ROUND((K16+K$12)/K$10*100,0))))","v":"  "},null,{"$f":"IF(ISBLANK(M$10),\"  \",IF(ISBLANK(M$11),\" \",IF(ISBLANK(M16),\" \",ROUND((M16+M$12)/M$10*100,0))))","v":"  "}]
["10-40",8,null,{"$f":"IF(ISBLANK(C$10),\"  \",IF(ISBLANK(C$11),\" \",IF(ISBLANK(C17),\" \",ROUND((C17+C$12)/C$10*100,0))))","v":"  "},null,{"$f":"IF(ISBLANK(E$10),\"  \",IF(ISBLANK(E$11),\" \",IF(ISBLANK(E17),\" \",ROUND((E17+E$12)/E$10*100,0))))","v":"  "},null,{"$f":"IF(ISBLANK(G$10),\"  \",IF(ISBLANK(G$11),\" \",IF(ISBLANK(G17),\" \",ROUND((G17+G$12)/G$10*100,0))))","v":"  "},null,{"$f":"IF(ISBLANK(I$10),\"  \",IF(ISBLANK(I$11),\" \",IF(ISBLANK(I17),\" \",ROUND((I17+I$12)/I$10*100,0))))","v":"  "},null,{"$f":"IF(ISBLANK(K$10),\"  \",IF(ISBLANK(K$11),\" \",IF(ISBLANK(K17),\" \",ROUND((K17+K$12)/K$10*100,0))))","v":"  "},null,{"$f":"IF(ISBLANK(M$10),\"  \",IF(ISBLANK(M$11),\" \",IF(ISBLANK(M17),\" \",ROUND((M17+M$12)/M$10*100,0))))","v":"  "}]
["0-10",16,null,{"$f":"IF(ISBLANK(C$10),\"  \",IF(ISBLANK(C$11),\" \",IF(ISBLANK(C18),\" \",ROUND((C18+C$12)/C$10*100,0))))","v":"  "},null,{"$f":"IF(ISBLANK(E$10),\"  \",IF(ISBLANK(E$11),\" \",IF(ISBLANK(E18),\" \",ROUND((E18+E$12)/E$10*100,0))))","v":"  "},null,{"$f":"IF(ISBLANK(G$10),\"  \",IF(ISBLANK(G$11),\" \",IF(ISBLANK(G18),\" \",ROUND((G18+G$12)/G$10*100,0))))","v":"  "},null,{"$f":"IF(ISBLANK(I$10),\"  \",IF(ISBLANK(I$11),\" \",IF(ISBLANK(I18),\" \",ROUND((I18+I$12)/I$10*100,0))))","v":"  "},null,{"$f":"IF(ISBLANK(K$10),\"  \",IF(ISBLANK(K$11),\" \",IF(ISBLANK(K18),\" \",ROUND((K18+K$12)/K$10*100,0))))","v":"  "},null,{"$f":"IF(ISBLANK(M$10),\"  \",IF(ISBLANK(M$11),\" \",IF(ISBLANK(M18),\" \",ROUND((M18+M$12)/M$10*100,0))))","v":"  "}]
["0-5",50,null,{"$f":"IF(ISBLANK(C$10),\"  \",IF(ISBLANK(C$11),\" \",IF(ISBLANK(C19),\" \",ROUND((C19+C$12)/C$10*100,0))))","v":"  "},null,{"$f":"IF(ISBLANK(E$10),\"  \",IF(ISBLANK(E$11),\" \",IF(ISBLANK(E19),\" \",ROUND((E19+E$12)/E$10*100,0))))","v":"  "},null,{"$f":"IF(ISBLANK(G$10),\"  \",IF(ISBLANK(G$11),\" \",IF(ISBLANK(G19),\" \",ROUND((G19+G$12)/G$10*100,0))))","v":"  "},null,{"$f":"IF(ISBLANK(I$10),\"  \",IF(ISBLANK(I$11),\" \",IF(ISBLANK(I19),\" \",ROUND((I19+I$12)/I$10*100,0))))","v":"  "},null,{"$f":"IF(ISBLANK(K$10),\"  \",IF(ISBLANK(K$11),\" \",IF(ISBLANK(K19),\" \",ROUND((K19+K$12)/K$10*100,0))))","v":"  "},null,{"$f":"IF(ISBLANK(M$10),\"  \",IF(ISBLANK(M$11),\" \",IF(ISBLANK(M19),\" \",ROUND((M19+M$12)/M$10*100,0))))","v":"  "}]
["0-2",200,null,{"$f":"IF(ISBLANK(C$10),\"  \",IF(ISBLANK(C$11),\" \",IF(ISBLANK(C20),\" \",ROUND((C20+C$12)/C$10*100,2))))","v":"  "},null,{"$f":"IF(ISBLANK(E$10),\"  \",IF(ISBLANK(E$11),\" \",IF(ISBLANK(E20),\" \",ROUND((E20+E$12)/E$10*100,2))))","v":"  "},null,{"$f":"IF(ISBLANK(G$10),\"  \",IF(ISBLANK(G$11),\" \",IF(ISBLANK(G20),\" \",ROUND((G20+G$12)/G$10*100,2))))","v":"  "},null,{"$f":"IF(ISBLANK(I$10),\"  \",IF(ISBLANK(I$11),\" \",IF(ISBLANK(I20),\" \",ROUND((I20+I$12)/I$10*100,2))))","v":"  "},null,{"$f":"IF(ISBLANK(K$10),\"  \",IF(ISBLANK(K$11),\" \",IF(ISBLANK(K20),\" \",ROUND((K20+K$12)/K$10*100,2))))","v":"  "},null,{"$f":"IF(ISBLANK(M$10),\"  \",IF(ISBLANK(M$11),\" \",IF(ISBLANK(M20),\" \",ROUND((M20+M$12)/M$10*100,2))))","v":"  "}]
["Tested By"]
["Remarks"]
[]
[]
[]
[]
["Sample No."]
["Date"]
[{"$f":"A10","v":"St. Wt. Before Wash."},null,null,"% Loss",null,"% Loss",null,"% Loss",null,"% Loss",null,"% Loss",null,"% Loss"]
[{"$f":"A11","v":"Dry. Wt. After Wash."},null,null,{"$f":"IF(ISBLANK(C29),\" \",IF(ISBLANK(C33),\" \",(C30-C33)/C30*100))","v":" "},null,{"$f":"IF(ISBLANK(E29),\" \",IF(ISBLANK(E33),\" \",(E30-E33)/E30*100))","v":" "},null,{"$f":"IF(ISBLANK(G29),\" \",IF(ISBLANK(G33),\" \",(G30-G33)/G30*100))","v":" "},null,{"$f":"IF(ISBLANK(I29),\" \",IF(ISBLANK(I33),\" \",(I30-I33)/I30*100))","v":" "},null,{"$f":"IF(ISBLANK(K29),\" \",IF(ISBLANK(K33),\" \",(K30-K33)/K30*100))","v":" "},null,{"$f":"IF(ISBLANK(M29),\" \",IF(ISBLANK(M33),\" \",(M30-M33)/M30*100))","v":" "}]
["Wt. Loss",null,{"$f":"IF(ISBLANK(C29),\" \",IF(ISBLANK(C30),\" \",C29-C30))","v":" "},null,{"$f":"IF(ISBLANK(E29),\" \",IF(ISBLANK(E30),\" \",E29-E30))","v":" "},null,{"$f":"IF(ISBLANK(G29),\" \",IF(ISBLANK(G30),\" \",G29-G30))","v":" "},null,{"$f":"IF(ISBLANK(I29),\" \",IF(ISBLANK(I30),\" \",I29-I30))","v":" "},null,{"$f":"IF(ISBLANK(K29),\" \",IF(ISBLANK(K30),\" \",K29-K30))","v":" "},null,{"$f":"IF(ISBLANK(M29),\" \",IF(ISBLANK(M30),\" \",M29-M30))","v":" "}]
["Spec","Sieve","Wt","% Passing","Wt","% Passing","Wt","% Passing","Wt","% Passing","Wt","% Passing","Wt","% Passing"]
[100,0.375,null,{"$f":"IF(ISBLANK(C$29),\"  \",IF(ISBLANK(C$30),\" \",IF(ISBLANK(C33),\" \",ROUND((C33+C$31)/C$29*100,1))))","v":"  "},null,{"$f":"IF(ISBLANK(E$29),\"  \",IF(ISBLANK(E$30),\" \",IF(ISBLANK(E33),\" \",ROUND((E33+E$31)/E$29*100,1))))","v":"  "},null,{"$f":"IF(ISBLANK(G$29),\"  \",IF(ISBLANK(G$30),\" \",IF(ISBLANK(G33),\" \",ROUND((G33+G$31)/G$29*100,1))))","v":"  "},null,{"$f":"IF(ISBLANK(I$29),\"  \",IF(ISBLANK(I$30),\" \",IF(ISBLANK(I33),\" \",ROUND((I33+I$31)/I$29*100,1))))","v":"  "},null,{"$f":"IF(ISBLANK(K$29),\"  \",IF(ISBLANK(K$30),\" \",IF(ISBLANK(K33),\" \",ROUND((K33+K$31)/K$29*100,1))))","v":"  "},null,{"$f":"IF(ISBLANK(M$29),\"  \",IF(ISBLANK(M$30),\" \",IF(ISBLANK(M33),\" \",ROUND((M33+M$31)/M$29*100,1))))","v":"  "}]
["Breaker",0.25,null,{"$f":"IF(ISBLANK(C$29),\"  \",IF(ISBLANK(C$30),\" \",IF(ISBLANK(C34),\" \",ROUND((C34+C$31)/C$29*100,0))))","v":"  "},null,{"$f":"IF(ISBLANK(E$29),\"  \",IF(ISBLANK(E$30),\" \",IF(ISBLANK(E34),\" \",ROUND((E34+E$31)/E$29*100,0))))","v":"  "},null,{"$f":"IF(ISBLANK(G$29),\"  \",IF(ISBLANK(G$30),\" \",IF(ISBLANK(G34),\" \",ROUND((G34+G$31)/G$29*100,0))))","v":"  "},null,{"$f":"IF(ISBLANK(I$29),\"  \",IF(ISBLANK(I$30),\" \",IF(ISBLANK(I34),\" \",ROUND((I34+I$31)/I$29*100,0))))","v":"  "},null,{"$f":"IF(ISBLANK(K$29),\"  \",IF(ISBLANK(K$30),\" \",IF(ISBLANK(K34),\" \",ROUND((K34+K$31)/K$29*100,0))))","v":"  "},null,{"$f":"IF(ISBLANK(M$29),\"  \",IF(ISBLANK(M$30),\" \",IF(ISBLANK(M34),\" \",ROUND((M34+M$31)/M$29*100,0))))","v":"  "}]
[{"$f":"A16","v":"85-100"},4,null,{"$f":"IF(ISBLANK(C$29),\"  \",IF(ISBLANK(C$30),\" \",IF(ISBLANK(C35),\" \",ROUND((C35+C$31)/C$29*100,0))))","v":"  "},null,{"$f":"IF(ISBLANK(E$29),\"  \",IF(ISBLANK(E$30),\" \",IF(ISBLANK(E35),\" \",ROUND((E35+E$31)/E$29*100,0))))","v":"  "},null,{"$f":"IF(ISBLANK(G$29),\"  \",IF(ISBLANK(G$30),\" \",IF(ISBLANK(G35),\" \",ROUND((G35+G$31)/G$29*100,0))))","v":"  "},null,{"$f":"IF(ISBLANK(I$29),\"  \",IF(ISBLANK(I$30),\" \",IF(ISBLANK(I35),\" \",ROUND((I35+I$31)/I$29*100,0))))","v":"  "},null,{"$f":"IF(ISBLANK(K$29),\"  \",IF(ISBLANK(K$30),\" \",IF(ISBLANK(K35),\" \",ROUND((K35+K$31)/K$29*100,0))))","v":"  "},null,{"$f":"IF(ISBLANK(M$29),\"  \",IF(ISBLANK(M$30),\" \",IF(ISBLANK(M35),\" \",ROUND((M35+M$31)/M$29*100,0))))","v":"  "}]
[{"$f":"A17","v":"10-40"},8,null,{"$f":"IF(ISBLANK(C$29),\"  \",IF(ISBLANK(C$30),\" \",IF(ISBLANK(C36),\" \",ROUND((C36+C$31)/C$29*100,0))))","v":"  "},null,{"$f":"IF(ISBLANK(E$29),\"  \",IF(ISBLANK(E$30),\" \",IF(ISBLANK(E36),\" \",ROUND((E36+E$31)/E$29*100,0))))","v":"  "},null,{"$f":"IF(ISBLANK(G$29),\"  \",IF(ISBLANK(G$30),\" \",IF(ISBLANK(G36),\" \",ROUND((G36+G$31)/G$29*100,0))))","v":"  "},null,{"$f":"IF(ISBLANK(I$29),\"  \",IF(ISBLANK(I$30),\" \",IF(ISBLANK(I36),\" \",ROUND((I36+I$31)/I$29*100,0))))","v":"  "},null,{"$f":"IF(ISBLANK(K$29),\"  \",IF(ISBLANK(K$30),\" \",IF(ISBLANK(K36),\" \",ROUND((K36+K$31)/K$29*100,0))))","v":"  "},null,{"$f":"IF(ISBLANK(M$29),\"  \",IF(ISBLANK(M$30),\" \",IF(ISBLANK(M36),\" \",ROUND((M36+M$31)/M$29*100,0))))","v":"  "}]
["0-10",16,null,{"$f":"IF(ISBLANK(C$29),\"  \",IF(ISBLANK(C$30),\" \",IF(ISBLANK(C37),\" \",ROUND((C37+C$31)/C$29*100,0))))","v":"  "},null,{"$f":"IF(ISBLANK(E$29),\"  \",IF(ISBLANK(E$30),\" \",IF(ISBLANK(E37),\" \",ROUND((E37+E$31)/E$29*100,0))))","v":"  "},null,{"$f":"IF(ISBLANK(G$29),\"  \",IF(ISBLANK(G$30),\" \",IF(ISBLANK(G37),\" \",ROUND((G37+G$31)/G$29*100,0))))","v":"  "},null,{"$f":"IF(ISBLANK(I$29),\"  \",IF(ISBLANK(I$30),\" \",IF(ISBLANK(I37),\" \",ROUND((I37+I$31)/I$29*100,0))))","v":"  "},null,{"$f":"IF(ISBLANK(K$29),\"  \",IF(ISBLANK(K$30),\" \",IF(ISBLANK(K37),\" \",ROUND((K37+K$31)/K$29*100,0))))","v":"  "},null,{"$f":"IF(ISBLANK(M$29),\"  \",IF(ISBLANK(M$30),\" \",IF(ISBLANK(M37),\" \",ROUND((M37+M$31)/M$29*100,0))))","v":"  "}]
[{"$f":"A19","v":"0-5"},50,null,{"$f":"IF(ISBLANK(C$29),\"  \",IF(ISBLANK(C$30),\" \",IF(ISBLANK(C38),\" \",ROUND((C38+C$31)/C$29*100,0))))","v":"  "},null,{"$f":"IF(ISBLANK(E$29),\"  \",IF(ISBLANK(E$30),\" \",IF(ISBLANK(E38),\" \",ROUND((E38+E$31)/E$29*100,0))))","v":"  "},null,{"$f":"IF(ISBLANK(G$29),\"  \",IF(ISBLANK(G$30),\" \",IF(ISBLANK(G38),\" \",ROUND((G38+G$31)/G$29*100,0))))","v":"  "},null,{"$f":"IF(ISBLANK(I$29),\"  \",IF(ISBLANK(I$30),\" \",IF(ISBLANK(I38),\" \",ROUND((I38+I$31)/I$29*100,0))))","v":"  "},null,{"$f":"IF(ISBLANK(K$29),\"  \",IF(ISBLANK(K$30),\" \",IF(ISBLANK(K38),\" \",ROUND((K38+K$31)/K$29*100,0))))","v":"  "},null,{"$f":"IF(ISBLANK(M$29),\"  \",IF(ISBLANK(M$30),\" \",IF(ISBLANK(M38),\" \",ROUND((M38+M$31)/M$29*100,0))))","v":"  "}]
[{"$f":"A20","v":"0-2"},200,null,{"$f":"IF(ISBLANK(C$29),\"  \",IF(ISBLANK(C$30),\" \",IF(ISBLANK(C39),\" \",ROUND((C39+C$31)/C$29*100,2))))","v":"  "},null,{"$f":"IF(ISBLANK(E$29),\"  \",IF(ISBLANK(E$30),\" \",IF(ISBLANK(E39),\" \",ROUND((E39+E$31)/E$29*100,2))))","v":"  "},null,{"$f":"IF(ISBLANK(G$29),\"  \",IF(ISBLANK(G$30),\" \",IF(ISBLANK(G39),\" \",ROUND((G39+G$31)/G$29*100,2))))","v":"  "},null,{"$f":"IF(ISBLANK(I$29),\"  \",IF(ISBLANK(I$30),\" \",IF(ISBLANK(I39),\" \",ROUND((I39+I$31)/I$29*100,2))))","v":"  "},null,{"$f":"IF(ISBLANK(K$29),\"  \",IF(ISBLANK(K$30),\" \",IF(ISBLANK(K39),\" \",ROUND((K39+K$31)/K$29*100,2))))","v":"  "},null,{"$f":"IF(ISBLANK(M$29),\"  \",IF(ISBLANK(M$30),\" \",IF(ISBLANK(M39),\" \",ROUND((M39+M$31)/M$29*100,2))))","v":"  "}]
["Tested By"]
["Remarks"]

{"sheet":"S3","index":2,"n_rows":41,"n_cols":14,"rows_kept":41,"cut":false,"hidden":true,"merged":[[4,0,4,1],[39,2,39,3],[30,12,30,13],[39,12,39,13],[40,0,43,1],[40,2,43,3],[40,4,43,5],[40,6,43,7],[40,8,43,9],[40,10,43,11],[40,12,43,13],[30,4,30,5],[30,6,30,7],[30,8,30,9],[39,10,39,11],[39,4,39,5],[39,6,39,7],[39,8,39,9],[11,0,11,1],[11,2,11,3],[21,8,24,9],[20,0,20,1],[39,0,39,1],[20,4,20,5],[20,6,20,7],[20,8,20,9],[30,0,30,1],[21,10,24,11],[27,8,27,9],[27,10,27,11],[29,0,29,1],[28,0,28,1],[26,0,26,1],[27,0,27,1],[26,10,26,11],[21,0,24,1],[21,2,24,3],[21,4,24,5],[27,4,27,5],[27,6,27,7],[26,4,26,5],[26,6,26,7],[26,8,26,9],[21,12,24,13],[26,12,26,13],[27,12,27,13],[30,2,30,3],[11,10,11,11],[11,12,11,13],[11,4,11,5],[11,6,11,7],[11,8,11,9],[20,12,20,13],[30,10,30,11],[21,6,24,7],[27,2,27,3],[20,2,20,3],[26,2,26,3],[20,10,20,11],[10,0,10,1],[9,0,9,1],[7,10,7,11],[7,12,7,13],[8,0,8,1],[8,2,8,3],[8,4,8,5],[8,6,8,7],[8,8,8,9],[8,10,8,11],[8,12,8,13],[5,3,5,8],[7,0,7,1],[7,2,7,3],[7,4,7,5],[7,6,7,7],[7,8,7,9],[0,0,3,1],[0,7,3,8],[1,2,1,6],[1,9,1,10],[1,11,1,12],[2,2,2,6],[2,9,2,10],[2,11,2,12],[3,2,3,6],[3,9,3,10],[3,11,3,12]]}
[]
[null,null,"COMMONWEALTH OF PENNSYLVANIA",null,null,null,null,null,null,"DISTRICT"]
[null,null,"DEPARTMENT OF TRANSPORTATION",null,null,null,null,null,null,"PLANT CODE"]
[null,null,"PENNSYLVANIA TURNPIKE COMMISSION",null,null,null,null,null,null,"AGG SIZE",null,"#9's"]
["Aggregate 2017"]
[null,null,null,"Material Test Results for #9 Aggregate"]
[]
["Sample No."]
["Date"]
["St. Wt. Before Wash.",null,null,"% Loss",null,"% Loss",null,"% Loss",null,"% Loss",null,"% Loss",null,"% Loss"]
["Dry. Wt. After Wash.",null,null,{"$f":"IF(ISBLANK(C10),\" \",IF(ISBLANK(C14),\" \",(C11-C14)/C11*100))","v":" "},null,{"$f":"IF(ISBLANK(E10),\" \",IF(ISBLANK(E14),\" \",(E11-E14)/E11*100))","v":" "},null,{"$f":"IF(ISBLANK(G10),\" \",IF(ISBLANK(G14),\" \",(G11-G14)/G11*100))","v":" "},null,{"$f":"IF(ISBLANK(I10),\" \",IF(ISBLANK(I14),\" \",(I11-I14)/I11*100))","v":" "},null,{"$f":"IF(ISBLANK(K10),\" \",IF(ISBLANK(K14),\" \",(K11-K14)/K11*100))","v":" "},null,{"$f":"IF(ISBLANK(M10),\" \",IF(ISBLANK(M14),\" \",(M11-M14)/M11*100))","v":" "}]
["Wt. Loss",null,{"$f":"IF(ISBLANK(C10),\" \",IF(ISBLANK(C11),\" \",C10-C11))","v":" "},null,{"$f":"IF(ISBLANK(E10),\" \",IF(ISBLANK(E11),\" \",E10-E11))","v":" "},null,{"$f":"IF(ISBLANK(G10),\" \",IF(ISBLANK(G11),\" \",G10-G11))","v":" "},null,{"$f":"IF(ISBLANK(I10),\" \",IF(ISBLANK(I11),\" \",I10-I11))","v":" "},null,{"$f":"IF(ISBLANK(K10),\" \",IF(ISBLANK(K11),\" \",K10-K11))","v":" "},null,{"$f":"IF(ISBLANK(M10),\" \",IF(ISBLANK(M11),\" \",M10-M11))","v":" "}]
["Spec","Sieve","Wt","% Passing","Wt","% Passing","Wt","% Passing","Wt","% Passing","Wt","% Passing","Wt","% Passing"]
["100",0.375,null,{"$f":"IF(ISBLANK(C$10),\"  \",IF(ISBLANK(C$11),\" \",IF(ISBLANK(C14),\" \",ROUND((C14+C$12)/C$10*100,1))))","v":"  "},null,{"$f":"IF(ISBLANK(E$10),\"  \",IF(ISBLANK(E$11),\" \",IF(ISBLANK(E14),\" \",ROUND((E14+E$12)/E$10*100,1))))","v":"  "},null,{"$f":"IF(ISBLANK(G$10),\"  \",IF(ISBLANK(G$11),\" \",IF(ISBLANK(G14),\" \",ROUND((G14+G$12)/G$10*100,1))))","v":"  "},null,{"$f":"IF(ISBLANK(I$10),\"  \",IF(ISBLANK(I$11),\" \",IF(ISBLANK(I14),\" \",ROUND((I14+I$12)/I$10*100,1))))","v":"  "},null,{"$f":"IF(ISBLANK(K$10),\"  \",IF(ISBLANK(K$11),\" \",IF(ISBLANK(K14),\" \",ROUND((K14+K$12)/K$10*100,1))))","v":"  "},null,{"$f":"IF(ISBLANK(M$10),\"  \",IF(ISBLANK(M$11),\" \",IF(ISBLANK(M14),\" \",ROUND((M14+M$12)/M$10*100,1))))","v":"  "}]
["Breaker",0.25,null,{"$f":"IF(ISBLANK(C$10),\"  \",IF(ISBLANK(C$11),\" \",IF(ISBLANK(C15),\" \",ROUND((C15+C$12)/C$10*100,0))))","v":"  "},null,{"$f":"IF(ISBLANK(E$10),\"  \",IF(ISBLANK(E$11),\" \",IF(ISBLANK(E15),\" \",ROUND((E15+E$12)/E$10*100,0))))","v":"  "},null,{"$f":"IF(ISBLANK(G$10),\"  \",IF(ISBLANK(G$11),\" \",IF(ISBLANK(G15),\" \",ROUND((G15+G$12)/G$10*100,0))))","v":"  "},null,{"$f":"IF(ISBLANK(I$10),\"  \",IF(ISBLANK(I$11),\" \",IF(ISBLANK(I15),\" \",ROUND((I15+I$12)/I$10*100,0))))","v":"  "},null,{"$f":"IF(ISBLANK(K$10),\"  \",IF(ISBLANK(K$11),\" \",IF(ISBLANK(K15),\" \",ROUND((K15+K$12)/K$10*100,0))))","v":"  "},null,{"$f":"IF(ISBLANK(M$10),\"  \",IF(ISBLANK(M$11),\" \",IF(ISBLANK(M15),\" \",ROUND((M15+M$12)/M$10*100,0))))","v":"  "}]
["85-100",4,null,{"$f":"IF(ISBLANK(C$10),\"  \",IF(ISBLANK(C$11),\" \",IF(ISBLANK(C16),\" \",ROUND((C16+C$12)/C$10*100,0))))","v":"  "},null,{"$f":"IF(ISBLANK(E$10),\"  \",IF(ISBLANK(E$11),\" \",IF(ISBLANK(E16),\" \",ROUND((E16+E$12)/E$10*100,0))))","v":"  "},null,{"$f":"IF(ISBLANK(G$10),\"  \",IF(ISBLANK(G$11),\" \",IF(ISBLANK(G16),\" \",ROUND((G16+G$12)/G$10*100,0))))","v":"  "},null,{"$f":"IF(ISBLANK(I$10),\"  \",IF(ISBLANK(I$11),\" \",IF(ISBLANK(I16),\" \",ROUND((I16+I$12)/I$10*100,0))))","v":"  "},null,{"$f":"IF(ISBLANK(K$10),\"  \",IF(ISBLANK(K$11),\" \",IF(ISBLANK(K16),\" \",ROUND((K16+K$12)/K$10*100,0))))","v":"  "},null,{"$f":"IF(ISBLANK(M$10),\"  \",IF(ISBLANK(M$11),\" \",IF(ISBLANK(M16),\" \",ROUND((M16+M$12)/M$10*100,0))))","v":"  "}]
["10-40",8,null,{"$f":"IF(ISBLANK(C$10),\"  \",IF(ISBLANK(C$11),\" \",IF(ISBLANK(C17),\" \",ROUND((C17+C$12)/C$10*100,0))))","v":"  "},null,{"$f":"IF(ISBLANK(E$10),\"  \",IF(ISBLANK(E$11),\" \",IF(ISBLANK(E17),\" \",ROUND((E17+E$12)/E$10*100,0))))","v":"  "},null,{"$f":"IF(ISBLANK(G$10),\"  \",IF(ISBLANK(G$11),\" \",IF(ISBLANK(G17),\" \",ROUND((G17+G$12)/G$10*100,0))))","v":"  "},null,{"$f":"IF(ISBLANK(I$10),\"  \",IF(ISBLANK(I$11),\" \",IF(ISBLANK(I17),\" \",ROUND((I17+I$12)/I$10*100,0))))","v":"  "},null,{"$f":"IF(ISBLANK(K$10),\"  \",IF(ISBLANK(K$11),\" \",IF(ISBLANK(K17),\" \",ROUND((K17+K$12)/K$10*100,0))))","v":"  "},null,{"$f":"IF(ISBLANK(M$10),\"  \",IF(ISBLANK(M$11),\" \",IF(ISBLANK(M17),\" \",ROUND((M17+M$12)/M$10*100,0))))","v":"  "}]
["0-10",16,null,{"$f":"IF(ISBLANK(C$10),\"  \",IF(ISBLANK(C$11),\" \",IF(ISBLANK(C18),\" \",ROUND((C18+C$12)/C$10*100,0))))","v":"  "},null,{"$f":"IF(ISBLANK(E$10),\"  \",IF(ISBLANK(E$11),\" \",IF(ISBLANK(E18),\" \",ROUND((E18+E$12)/E$10*100,0))))","v":"  "},null,{"$f":"IF(ISBLANK(G$10),\"  \",IF(ISBLANK(G$11),\" \",IF(ISBLANK(G18),\" \",ROUND((G18+G$12)/G$10*100,0))))","v":"  "},null,{"$f":"IF(ISBLANK(I$10),\"  \",IF(ISBLANK(I$11),\" \",IF(ISBLANK(I18),\" \",ROUND((I18+I$12)/I$10*100,0))))","v":"  "},null,{"$f":"IF(ISBLANK(K$10),\"  \",IF(ISBLANK(K$11),\" \",IF(ISBLANK(K18),\" \",ROUND((K18+K$12)/K$10*100,0))))","v":"  "},null,{"$f":"IF(ISBLANK(M$10),\"  \",IF(ISBLANK(M$11),\" \",IF(ISBLANK(M18),\" \",ROUND((M18+M$12)/M$10*100,0))))","v":"  "}]
["0-5",50,null,{"$f":"IF(ISBLANK(C$10),\"  \",IF(ISBLANK(C$11),\" \",IF(ISBLANK(C19),\" \",ROUND((C19+C$12)/C$10*100,0))))","v":"  "},null,{"$f":"IF(ISBLANK(E$10),\"  \",IF(ISBLANK(E$11),\" \",IF(ISBLANK(E19),\" \",ROUND((E19+E$12)/E$10*100,0))))","v":"  "},null,{"$f":"IF(ISBLANK(G$10),\"  \",IF(ISBLANK(G$11),\" \",IF(ISBLANK(G19),\" \",ROUND((G19+G$12)/G$10*100,0))))","v":"  "},null,{"$f":"IF(ISBLANK(I$10),\"  \",IF(ISBLANK(I$11),\" \",IF(ISBLANK(I19),\" \",ROUND((I19+I$12)/I$10*100,0))))","v":"  "},null,{"$f":"IF(ISBLANK(K$10),\"  \",IF(ISBLANK(K$11),\" \",IF(ISBLANK(K19),\" \",ROUND((K19+K$12)/K$10*100,0))))","v":"  "},null,{"$f":"IF(ISBLANK(M$10),\"  \",IF(ISBLANK(M$11),\" \",IF(ISBLANK(M19),\" \",ROUND((M19+M$12)/M$10*100,0))))","v":"  "}]
["0-2",200,null,{"$f":"IF(ISBLANK(C$10),\"  \",IF(ISBLANK(C$11),\" \",IF(ISBLANK(C20),\" \",ROUND((C20+C$12)/C$10*100,2))))","v":"  "},null,{"$f":"IF(ISBLANK(E$10),\"  \",IF(ISBLANK(E$11),\" \",IF(ISBLANK(E20),\" \",ROUND((E20+E$12)/E$10*100,2))))","v":"  "},null,{"$f":"IF(ISBLANK(G$10),\"  \",IF(ISBLANK(G$11),\" \",IF(ISBLANK(G20),\" \",ROUND((G20+G$12)/G$10*100,2))))","v":"  "},null,{"$f":"IF(ISBLANK(I$10),\"  \",IF(ISBLANK(I$11),\" \",IF(ISBLANK(I20),\" \",ROUND((I20+I$12)/I$10*100,2))))","v":"  "},null,{"$f":"IF(ISBLANK(K$10),\"  \",IF(ISBLANK(K$11),\" \",IF(ISBLANK(K20),\" \",ROUND((K20+K$12)/K$10*100,2))))","v":"  "},null,{"$f":"IF(ISBLANK(M$10),\"  \",IF(ISBLANK(M$11),\" \",IF(ISBLANK(M20),\" \",ROUND((M20+M$12)/M$10*100,2))))","v":"  "}]
["Tested By"]
["Remarks"]
[]
[]
[]
[]
["Sample No."]
["Date"]
[{"$f":"A10","v":"St. Wt. Before Wash."},null,null,"% Loss",null,"% Loss",null,"% Loss",null,"% Loss",null,"% Loss",null,"% Loss"]
[{"$f":"A11","v":"Dry. Wt. After Wash."},null,null,{"$f":"IF(ISBLANK(C29),\" \",IF(ISBLANK(C33),\" \",(C30-C33)/C30*100))","v":" "},null,{"$f":"IF(ISBLANK(E29),\" \",IF(ISBLANK(E33),\" \",(E30-E33)/E30*100))","v":" "},null,{"$f":"IF(ISBLANK(G29),\" \",IF(ISBLANK(G33),\" \",(G30-G33)/G30*100))","v":" "},null,{"$f":"IF(ISBLANK(I29),\" \",IF(ISBLANK(I33),\" \",(I30-I33)/I30*100))","v":" "},null,{"$f":"IF(ISBLANK(K29),\" \",IF(ISBLANK(K33),\" \",(K30-K33)/K30*100))","v":" "},null,{"$f":"IF(ISBLANK(M29),\" \",IF(ISBLANK(M33),\" \",(M30-M33)/M30*100))","v":" "}]
["Wt. Loss",null,{"$f":"IF(ISBLANK(C29),\" \",IF(ISBLANK(C30),\" \",C29-C30))","v":" "},null,{"$f":"IF(ISBLANK(E29),\" \",IF(ISBLANK(E30),\" \",E29-E30))","v":" "},null,{"$f":"IF(ISBLANK(G29),\" \",IF(ISBLANK(G30),\" \",G29-G30))","v":" "},null,{"$f":"IF(ISBLANK(I29),\" \",IF(ISBLANK(I30),\" \",I29-I30))","v":" "},null,{"$f":"IF(ISBLANK(K29),\" \",IF(ISBLANK(K30),\" \",K29-K30))","v":" "},null,{"$f":"IF(ISBLANK(M29),\" \",IF(ISBLANK(M30),\" \",M29-M30))","v":" "}]
["Spec","Sieve","Wt","% Passing","Wt","% Passing","Wt","% Passing","Wt","% Passing","Wt","% Passing","Wt","% Passing"]
[100,0.375,null,{"$f":"IF(ISBLANK(C$29),\"  \",IF(ISBLANK(C$30),\" \",IF(ISBLANK(C33),\" \",ROUND((C33+C$31)/C$29*100,1))))","v":"  "},null,{"$f":"IF(ISBLANK(E$29),\"  \",IF(ISBLANK(E$30),\" \",IF(ISBLANK(E33),\" \",ROUND((E33+E$31)/E$29*100,1))))","v":"  "},null,{"$f":"IF(ISBLANK(G$29),\"  \",IF(ISBLANK(G$30),\" \",IF(ISBLANK(G33),\" \",ROUND((G33+G$31)/G$29*100,1))))","v":"  "},null,{"$f":"IF(ISBLANK(I$29),\"  \",IF(ISBLANK(I$30),\" \",IF(ISBLANK(I33),\" \",ROUND((I33+I$31)/I$29*100,1))))","v":"  "},null,{"$f":"IF(ISBLANK(K$29),\"  \",IF(ISBLANK(K$30),\" \",IF(ISBLANK(K33),\" \",ROUND((K33+K$31)/K$29*100,1))))","v":"  "},null,{"$f":"IF(ISBLANK(M$29),\"  \",IF(ISBLANK(M$30),\" \",IF(ISBLANK(M33),\" \",ROUND((M33+M$31)/M$29*100,1))))","v":"  "}]
["Breaker",0.25,null,{"$f":"IF(ISBLANK(C$29),\"  \",IF(ISBLANK(C$30),\" \",IF(ISBLANK(C34),\" \",ROUND((C34+C$31)/C$29*100,0))))","v":"  "},null,{"$f":"IF(ISBLANK(E$29),\"  \",IF(ISBLANK(E$30),\" \",IF(ISBLANK(E34),\" \",ROUND((E34+E$31)/E$29*100,0))))","v":"  "},null,{"$f":"IF(ISBLANK(G$29),\"  \",IF(ISBLANK(G$30),\" \",IF(ISBLANK(G34),\" \",ROUND((G34+G$31)/G$29*100,0))))","v":"  "},null,{"$f":"IF(ISBLANK(I$29),\"  \",IF(ISBLANK(I$30),\" \",IF(ISBLANK(I34),\" \",ROUND((I34+I$31)/I$29*100,0))))","v":"  "},null,{"$f":"IF(ISBLANK(K$29),\"  \",IF(ISBLANK(K$30),\" \",IF(ISBLANK(K34),\" \",ROUND((K34+K$31)/K$29*100,0))))","v":"  "},null,{"$f":"IF(ISBLANK(M$29),\"  \",IF(ISBLANK(M$30),\" \",IF(ISBLANK(M34),\" \",ROUND((M34+M$31)/M$29*100,0))))","v":"  "}]
[{"$f":"A16","v":"85-100"},4,null,{"$f":"IF(ISBLANK(C$29),\"  \",IF(ISBLANK(C$30),\" \",IF(ISBLANK(C35),\" \",ROUND((C35+C$31)/C$29*100,0))))","v":"  "},null,{"$f":"IF(ISBLANK(E$29),\"  \",IF(ISBLANK(E$30),\" \",IF(ISBLANK(E35),\" \",ROUND((E35+E$31)/E$29*100,0))))","v":"  "},null,{"$f":"IF(ISBLANK(G$29),\"  \",IF(ISBLANK(G$30),\" \",IF(ISBLANK(G35),\" \",ROUND((G35+G$31)/G$29*100,0))))","v":"  "},null,{"$f":"IF(ISBLANK(I$29),\"  \",IF(ISBLANK(I$30),\" \",IF(ISBLANK(I35),\" \",ROUND((I35+I$31)/I$29*100,0))))","v":"  "},null,{"$f":"IF(ISBLANK(K$29),\"  \",IF(ISBLANK(K$30),\" \",IF(ISBLANK(K35),\" \",ROUND((K35+K$31)/K$29*100,0))))","v":"  "},null,{"$f":"IF(ISBLANK(M$29),\"  \",IF(ISBLANK(M$30),\" \",IF(ISBLANK(M35),\" \",ROUND((M35+M$31)/M$29*100,0))))","v":"  "}]
[{"$f":"A17","v":"10-40"},8,null,{"$f":"IF(ISBLANK(C$29),\"  \",IF(ISBLANK(C$30),\" \",IF(ISBLANK(C36),\" \",ROUND((C36+C$31)/C$29*100,0))))","v":"  "},null,{"$f":"IF(ISBLANK(E$29),\"  \",IF(ISBLANK(E$30),\" \",IF(ISBLANK(E36),\" \",ROUND((E36+E$31)/E$29*100,0))))","v":"  "},null,{"$f":"IF(ISBLANK(G$29),\"  \",IF(ISBLANK(G$30),\" \",IF(ISBLANK(G36),\" \",ROUND((G36+G$31)/G$29*100,0))))","v":"  "},null,{"$f":"IF(ISBLANK(I$29),\"  \",IF(ISBLANK(I$30),\" \",IF(ISBLANK(I36),\" \",ROUND((I36+I$31)/I$29*100,0))))","v":"  "},null,{"$f":"IF(ISBLANK(K$29),\"  \",IF(ISBLANK(K$30),\" \",IF(ISBLANK(K36),\" \",ROUND((K36+K$31)/K$29*100,0))))","v":"  "},null,{"$f":"IF(ISBLANK(M$29),\"  \",IF(ISBLANK(M$30),\" \",IF(ISBLANK(M36),\" \",ROUND((M36+M$31)/M$29*100,0))))","v":"  "}]
["0-10",16,null,{"$f":"IF(ISBLANK(C$29),\"  \",IF(ISBLANK(C$30),\" \",IF(ISBLANK(C37),\" \",ROUND((C37+C$31)/C$29*100,0))))","v":"  "},null,{"$f":"IF(ISBLANK(E$29),\"  \",IF(ISBLANK(E$30),\" \",IF(ISBLANK(E37),\" \",ROUND((E37+E$31)/E$29*100,0))))","v":"  "},null,{"$f":"IF(ISBLANK(G$29),\"  \",IF(ISBLANK(G$30),\" \",IF(ISBLANK(G37),\" \",ROUND((G37+G$31)/G$29*100,0))))","v":"  "},null,{"$f":"IF(ISBLANK(I$29),\"  \",IF(ISBLANK(I$30),\" \",IF(ISBLANK(I37),\" \",ROUND((I37+I$31)/I$29*100,0))))","v":"  "},null,{"$f":"IF(ISBLANK(K$29),\"  \",IF(ISBLANK(K$30),\" \",IF(ISBLANK(K37),\" \",ROUND((K37+K$31)/K$29*100,0))))","v":"  "},null,{"$f":"IF(ISBLANK(M$29),\"  \",IF(ISBLANK(M$30),\" \",IF(ISBLANK(M37),\" \",ROUND((M37+M$31)/M$29*100,0))))","v":"  "}]
[{"$f":"A19","v":"0-5"},50,null,{"$f":"IF(ISBLANK(C$29),\"  \",IF(ISBLANK(C$30),\" \",IF(ISBLANK(C38),\" \",ROUND((C38+C$31)/C$29*100,0))))","v":"  "},null,{"$f":"IF(ISBLANK(E$29),\"  \",IF(ISBLANK(E$30),\" \",IF(ISBLANK(E38),\" \",ROUND((E38+E$31)/E$29*100,0))))","v":"  "},null,{"$f":"IF(ISBLANK(G$29),\"  \",IF(ISBLANK(G$30),\" \",IF(ISBLANK(G38),\" \",ROUND((G38+G$31)/G$29*100,0))))","v":"  "},null,{"$f":"IF(ISBLANK(I$29),\"  \",IF(ISBLANK(I$30),\" \",IF(ISBLANK(I38),\" \",ROUND((I38+I$31)/I$29*100,0))))","v":"  "},null,{"$f":"IF(ISBLANK(K$29),\"  \",IF(ISBLANK(K$30),\" \",IF(ISBLANK(K38),\" \",ROUND((K38+K$31)/K$29*100,0))))","v":"  "},null,{"$f":"IF(ISBLANK(M$29),\"  \",IF(ISBLANK(M$30),\" \",IF(ISBLANK(M38),\" \",ROUND((M38+M$31)/M$29*100,0))))","v":"  "}]
[{"$f":"A20","v":"0-2"},200,null,{"$f":"IF(ISBLANK(C$29),\"  \",IF(ISBLANK(C$30),\" \",IF(ISBLANK(C39),\" \",ROUND((C39+C$31)/C$29*100,2))))","v":"  "},null,{"$f":"IF(ISBLANK(E$29),\"  \",IF(ISBLANK(E$30),\" \",IF(ISBLANK(E39),\" \",ROUND((E39+E$31)/E$29*100,2))))","v":"  "},null,{"$f":"IF(ISBLANK(G$29),\"  \",IF(ISBLANK(G$30),\" \",IF(ISBLANK(G39),\" \",ROUND((G39+G$31)/G$29*100,2))))","v":"  "},null,{"$f":"IF(ISBLANK(I$29),\"  \",IF(ISBLANK(I$30),\" \",IF(ISBLANK(I39),\" \",ROUND((I39+I$31)/I$29*100,2))))","v":"  "},null,{"$f":"IF(ISBLANK(K$29),\"  \",IF(ISBLANK(K$30),\" \",IF(ISBLANK(K39),\" \",ROUND((K39+K$31)/K$29*100,2))))","v":"  "},null,{"$f":"IF(ISBLANK(M$29),\"  \",IF(ISBLANK(M$30),\" \",IF(ISBLANK(M39),\" \",ROUND((M39+M$31)/M$29*100,2))))","v":"  "}]
["Tested By"]
["Remarks"]

{"sheet":"S4","index":3,"n_rows":41,"n_cols":14,"rows_kept":41,"cut":false,"hidden":true,"merged":[[4,0,4,1],[39,2,39,3],[30,12,30,13],[39,12,39,13],[40,0,43,1],[40,2,43,3],[40,4,43,5],[40,6,43,7],[40,8,43,9],[40,10,43,11],[40,12,43,13],[30,4,30,5],[30,6,30,7],[30,8,30,9],[39,10,39,11],[39,4,39,5],[39,6,39,7],[39,8,39,9],[11,0,11,1],[11,2,11,3],[21,8,24,9],[20,0,20,1],[39,0,39,1],[20,4,20,5],[20,6,20,7],[20,8,20,9],[30,0,30,1],[21,10,24,11],[27,8,27,9],[27,10,27,11],[29,0,29,1],[28,0,28,1],[26,0,26,1],[27,0,27,1],[26,10,26,11],[21,0,24,1],[21,2,24,3],[21,4,24,5],[27,4,27,5],[27,6,27,7],[26,4,26,5],[26,6,26,7],[26,8,26,9],[21,12,24,13],[26,12,26,13],[27,12,27,13],[30,2,30,3],[11,10,11,11],[11,12,11,13],[11,4,11,5],[11,6,11,7],[11,8,11,9],[20,12,20,13],[30,10,30,11],[21,6,24,7],[27,2,27,3],[20,2,20,3],[26,2,26,3],[20,10,20,11],[10,0,10,1],[9,0,9,1],[7,10,7,11],[7,12,7,13],[8,0,8,1],[8,2,8,3],[8,4,8,5],[8,6,8,7],[8,8,8,9],[8,10,8,11],[8,12,8,13],[5,3,5,8],[7,0,7,1],[7,2,7,3],[7,4,7,5],[7,6,7,7],[7,8,7,9],[0,0,3,1],[0,7,3,8],[1,2,1,6],[1,9,1,10],[1,11,1,12],[2,2,2,6],[2,9,2,10],[2,11,2,12],[3,2,3,6],[3,9,3,10],[3,11,3,12]]}
[]
[null,null,"COMMONWEALTH OF PENNSYLVANIA",null,null,null,null,null,null,"DISTRICT"]
[null,null,"DEPARTMENT OF TRANSPORTATION",null,null,null,null,null,null,"PLANT CODE"]
[null,null,"PENNSYLVANIA TURNPIKE COMMISSION",null,null,null,null,null,null,"AGG SIZE",null,"#9's"]
["Aggregate 2017"]
[null,null,null,"Material Test Results for #9 Aggregate"]
[]
["Sample No."]
["Date"]
["St. Wt. Before Wash.",null,null,"% Loss",null,"% Loss",null,"% Loss",null,"% Loss",null,"% Loss",null,"% Loss"]
["Dry. Wt. After Wash.",null,null,{"$f":"IF(ISBLANK(C10),\" \",IF(ISBLANK(C14),\" \",(C11-C14)/C11*100))","v":" "},null,{"$f":"IF(ISBLANK(E10),\" \",IF(ISBLANK(E14),\" \",(E11-E14)/E11*100))","v":" "},null,{"$f":"IF(ISBLANK(G10),\" \",IF(ISBLANK(G14),\" \",(G11-G14)/G11*100))","v":" "},null,{"$f":"IF(ISBLANK(I10),\" \",IF(ISBLANK(I14),\" \",(I11-I14)/I11*100))","v":" "},null,{"$f":"IF(ISBLANK(K10),\" \",IF(ISBLANK(K14),\" \",(K11-K14)/K11*100))","v":" "},null,{"$f":"IF(ISBLANK(M10),\" \",IF(ISBLANK(M14),\" \",(M11-M14)/M11*100))","v":" "}]
["Wt. Loss",null,{"$f":"IF(ISBLANK(C10),\" \",IF(ISBLANK(C11),\" \",C10-C11))","v":" "},null,{"$f":"IF(ISBLANK(E10),\" \",IF(ISBLANK(E11),\" \",E10-E11))","v":" "},null,{"$f":"IF(ISBLANK(G10),\" \",IF(ISBLANK(G11),\" \",G10-G11))","v":" "},null,{"$f":"IF(ISBLANK(I10),\" \",IF(ISBLANK(I11),\" \",I10-I11))","v":" "},null,{"$f":"IF(ISBLANK(K10),\" \",IF(ISBLANK(K11),\" \",K10-K11))","v":" "},null,{"$f":"IF(ISBLANK(M10),\" \",IF(ISBLANK(M11),\" \",M10-M11))","v":" "}]
["Spec","Sieve","Wt","% Passing","Wt","% Passing","Wt","% Passing","Wt","% Passing","Wt","% Passing","Wt","% Passing"]
["100",0.375,null,{"$f":"IF(ISBLANK(C$10),\"  \",IF(ISBLANK(C$11),\" \",IF(ISBLANK(C14),\" \",ROUND((C14+C$12)/C$10*100,1))))","v":"  "},null,{"$f":"IF(ISBLANK(E$10),\"  \",IF(ISBLANK(E$11),\" \",IF(ISBLANK(E14),\" \",ROUND((E14+E$12)/E$10*100,1))))","v":"  "},null,{"$f":"IF(ISBLANK(G$10),\"  \",IF(ISBLANK(G$11),\" \",IF(ISBLANK(G14),\" \",ROUND((G14+G$12)/G$10*100,1))))","v":"  "},null,{"$f":"IF(ISBLANK(I$10),\"  \",IF(ISBLANK(I$11),\" \",IF(ISBLANK(I14),\" \",ROUND((I14+I$12)/I$10*100,1))))","v":"  "},null,{"$f":"IF(ISBLANK(K$10),\"  \",IF(ISBLANK(K$11),\" \",IF(ISBLANK(K14),\" \",ROUND((K14+K$12)/K$10*100,1))))","v":"  "},null,{"$f":"IF(ISBLANK(M$10),\"  \",IF(ISBLANK(M$11),\" \",IF(ISBLANK(M14),\" \",ROUND((M14+M$12)/M$10*100,1))))","v":"  "}]
["Breaker",0.25,null,{"$f":"IF(ISBLANK(C$10),\"  \",IF(ISBLANK(C$11),\" \",IF(ISBLANK(C15),\" \",ROUND((C15+C$12)/C$10*100,0))))","v":"  "},null,{"$f":"IF(ISBLANK(E$10),\"  \",IF(ISBLANK(E$11),\" \",IF(ISBLANK(E15),\" \",ROUND((E15+E$12)/E$10*100,0))))","v":"  "},null,{"$f":"IF(ISBLANK(G$10),\"  \",IF(ISBLANK(G$11),\" \",IF(ISBLANK(G15),\" \",ROUND((G15+G$12)/G$10*100,0))))","v":"  "},null,{"$f":"IF(ISBLANK(I$10),\"  \",IF(ISBLANK(I$11),\" \",IF(ISBLANK(I15),\" \",ROUND((I15+I$12)/I$10*100,0))))","v":"  "},null,{"$f":"IF(ISBLANK(K$10),\"  \",IF(ISBLANK(K$11),\" \",IF(ISBLANK(K15),\" \",ROUND((K15+K$12)/K$10*100,0))))","v":"  "},null,{"$f":"IF(ISBLANK(M$10),\"  \",IF(ISBLANK(M$11),\" \",IF(ISBLANK(M15),\" \",ROUND((M15+M$12)/M$10*100,0))))","v":"  "}]
["85-100",4,null,{"$f":"IF(ISBLANK(C$10),\"  \",IF(ISBLANK(C$11),\" \",IF(ISBLANK(C16),\" \",ROUND((C16+C$12)/C$10*100,0))))","v":"  "},null,{"$f":"IF(ISBLANK(E$10),\"  \",IF(ISBLANK(E$11),\" \",IF(ISBLANK(E16),\" \",ROUND((E16+E$12)/E$10*100,0))))","v":"  "},null,{"$f":"IF(ISBLANK(G$10),\"  \",IF(ISBLANK(G$11),\" \",IF(ISBLANK(G16),\" \",ROUND((G16+G$12)/G$10*100,0))))","v":"  "},null,{"$f":"IF(ISBLANK(I$10),\"  \",IF(ISBLANK(I$11),\" \",IF(ISBLANK(I16),\" \",ROUND((I16+I$12)/I$10*100,0))))","v":"  "},null,{"$f":"IF(ISBLANK(K$10),\"  \",IF(ISBLANK(K$11),\" \",IF(ISBLANK(K16),\" \",ROUND((K16+K$12)/K$10*100,0))))","v":"  "},null,{"$f":"IF(ISBLANK(M$10),\"  \",IF(ISBLANK(M$11),\" \",IF(ISBLANK(M16),\" \",ROUND((M16+M$12)/M$10*100,0))))","v":"  "}]
["10-40",8,null,{"$f":"IF(ISBLANK(C$10),\"  \",IF(ISBLANK(C$11),\" \",IF(ISBLANK(C17),\" \",ROUND((C17+C$12)/C$10*100,0))))","v":"  "},null,{"$f":"IF(ISBLANK(E$10),\"  \",IF(ISBLANK(E$11),\" \",IF(ISBLANK(E17),\" \",ROUND((E17+E$12)/E$10*100,0))))","v":"  "},null,{"$f":"IF(ISBLANK(G$10),\"  \",IF(ISBLANK(G$11),\" \",IF(ISBLANK(G17),\" \",ROUND((G17+G$12)/G$10*100,0))))","v":"  "},null,{"$f":"IF(ISBLANK(I$10),\"  \",IF(ISBLANK(I$11),\" \",IF(ISBLANK(I17),\" \",ROUND((I17+I$12)/I$10*100,0))))","v":"  "},null,{"$f":"IF(ISBLANK(K$10),\"  \",IF(ISBLANK(K$11),\" \",IF(ISBLANK(K17),\" \",ROUND((K17+K$12)/K$10*100,0))))","v":"  "},null,{"$f":"IF(ISBLANK(M$10),\"  \",IF(ISBLANK(M$11),\" \",IF(ISBLANK(M17),\" \",ROUND((M17+M$12)/M$10*100,0))))","v":"  "}]
["0-10",16,null,{"$f":"IF(ISBLANK(C$10),\"  \",IF(ISBLANK(C$11),\" \",IF(ISBLANK(C18),\" \",ROUND((C18+C$12)/C$10*100,0))))","v":"  "},null,{"$f":"IF(ISBLANK(E$10),\"  \",IF(ISBLANK(E$11),\" \",IF(ISBLANK(E18),\" \",ROUND((E18+E$12)/E$10*100,0))))","v":"  "},null,{"$f":"IF(ISBLANK(G$10),\"  \",IF(ISBLANK(G$11),\" \",IF(ISBLANK(G18),\" \",ROUND((G18+G$12)/G$10*100,0))))","v":"  "},null,{"$f":"IF(ISBLANK(I$10),\"  \",IF(ISBLANK(I$11),\" \",IF(ISBLANK(I18),\" \",ROUND((I18+I$12)/I$10*100,0))))","v":"  "},null,{"$f":"IF(ISBLANK(K$10),\"  \",IF(ISBLANK(K$11),\" \",IF(ISBLANK(K18),\" \",ROUND((K18+K$12)/K$10*100,0))))","v":"  "},null,{"$f":"IF(ISBLANK(M$10),\"  \",IF(ISBLANK(M$11),\" \",IF(ISBLANK(M18),\" \",ROUND((M18+M$12)/M$10*100,0))))","v":"  "}]
["0-5",50,null,{"$f":"IF(ISBLANK(C$10),\"  \",IF(ISBLANK(C$11),\" \",IF(ISBLANK(C19),\" \",ROUND((C19+C$12)/C$10*100,0))))","v":"  "},null,{"$f":"IF(ISBLANK(E$10),\"  \",IF(ISBLANK(E$11),\" \",IF(ISBLANK(E19),\" \",ROUND((E19+E$12)/E$10*100,0))))","v":"  "},null,{"$f":"IF(ISBLANK(G$10),\"  \",IF(ISBLANK(G$11),\" \",IF(ISBLANK(G19),\" \",ROUND((G19+G$12)/G$10*100,0))))","v":"  "},null,{"$f":"IF(ISBLANK(I$10),\"  \",IF(ISBLANK(I$11),\" \",IF(ISBLANK(I19),\" \",ROUND((I19+I$12)/I$10*100,0))))","v":"  "},null,{"$f":"IF(ISBLANK(K$10),\"  \",IF(ISBLANK(K$11),\" \",IF(ISBLANK(K19),\" \",ROUND((K19+K$12)/K$10*100,0))))","v":"  "},null,{"$f":"IF(ISBLANK(M$10),\"  \",IF(ISBLANK(M$11),\" \",IF(ISBLANK(M19),\" \",ROUND((M19+M$12)/M$10*100,0))))","v":"  "}]
["0-2",200,null,{"$f":"IF(ISBLANK(C$10),\"  \",IF(ISBLANK(C$11),\" \",IF(ISBLANK(C20),\" \",ROUND((C20+C$12)/C$10*100,2))))","v":"  "},null,{"$f":"IF(ISBLANK(E$10),\"  \",IF(ISBLANK(E$11),\" \",IF(ISBLANK(E20),\" \",ROUND((E20+E$12)/E$10*100,2))))","v":"  "},null,{"$f":"IF(ISBLANK(G$10),\"  \",IF(ISBLANK(G$11),\" \",IF(ISBLANK(G20),\" \",ROUND((G20+G$12)/G$10*100,2))))","v":"  "},null,{"$f":"IF(ISBLANK(I$10),\"  \",IF(ISBLANK(I$11),\" \",IF(ISBLANK(I20),\" \",ROUND((I20+I$12)/I$10*100,2))))","v":"  "},null,{"$f":"IF(ISBLANK(K$10),\"  \",IF(ISBLANK(K$11),\" \",IF(ISBLANK(K20),\" \",ROUND((K20+K$12)/K$10*100,2))))","v":"  "},null,{"$f":"IF(ISBLANK(M$10),\"  \",IF(ISBLANK(M$11),\" \",IF(ISBLANK(M20),\" \",ROUND((M20+M$12)/M$10*100,2))))","v":"  "}]
["Tested By"]
["Remarks"]
[]
[]
[]
[]
["Sample No."]
["Date"]
[{"$f":"A10","v":"St. Wt. Before Wash."},null,null,"% Loss",null,"% Loss",null,"% Loss",null,"% Loss",null,"% Loss",null,"% Loss"]
[{"$f":"A11","v":"Dry. Wt. After Wash."},null,null,{"$f":"IF(ISBLANK(C29),\" \",IF(ISBLANK(C33),\" \",(C30-C33)/C30*100))","v":" "},null,{"$f":"IF(ISBLANK(E29),\" \",IF(ISBLANK(E33),\" \",(E30-E33)/E30*100))","v":" "},null,{"$f":"IF(ISBLANK(G29),\" \",IF(ISBLANK(G33),\" \",(G30-G33)/G30*100))","v":" "},null,{"$f":"IF(ISBLANK(I29),\" \",IF(ISBLANK(I33),\" \",(I30-I33)/I30*100))","v":" "},null,{"$f":"IF(ISBLANK(K29),\" \",IF(ISBLANK(K33),\" \",(K30-K33)/K30*100))","v":" "},null,{"$f":"IF(ISBLANK(M29),\" \",IF(ISBLANK(M33),\" \",(M30-M33)/M30*100))","v":" "}]
["Wt. Loss",null,{"$f":"IF(ISBLANK(C29),\" \",IF(ISBLANK(C30),\" \",C29-C30))","v":" "},null,{"$f":"IF(ISBLANK(E29),\" \",IF(ISBLANK(E30),\" \",E29-E30))","v":" "},null,{"$f":"IF(ISBLANK(G29),\" \",IF(ISBLANK(G30),\" \",G29-G30))","v":" "},null,{"$f":"IF(ISBLANK(I29),\" \",IF(ISBLANK(I30),\" \",I29-I30))","v":" "},null,{"$f":"IF(ISBLANK(K29),\" \",IF(ISBLANK(K30),\" \",K29-K30))","v":" "},null,{"$f":"IF(ISBLANK(M29),\" \",IF(ISBLANK(M30),\" \",M29-M30))","v":" "}]
["Spec","Sieve","Wt","% Passing","Wt","% Passing","Wt","% Passing","Wt","% Passing","Wt","% Passing","Wt","% Passing"]
[100,0.375,null,{"$f":"IF(ISBLANK(C$29),\"  \",IF(ISBLANK(C$30),\" \",IF(ISBLANK(C33),\" \",ROUND((C33+C$31)/C$29*100,1))))","v":"  "},null,{"$f":"IF(ISBLANK(E$29),\"  \",IF(ISBLANK(E$30),\" \",IF(ISBLANK(E33),\" \",ROUND((E33+E$31)/E$29*100,1))))","v":"  "},null,{"$f":"IF(ISBLANK(G$29),\"  \",IF(ISBLANK(G$30),\" \",IF(ISBLANK(G33),\" \",ROUND((G33+G$31)/G$29*100,1))))","v":"  "},null,{"$f":"IF(ISBLANK(I$29),\"  \",IF(ISBLANK(I$30),\" \",IF(ISBLANK(I33),\" \",ROUND((I33+I$31)/I$29*100,1))))","v":"  "},null,{"$f":"IF(ISBLANK(K$29),\"  \",IF(ISBLANK(K$30),\" \",IF(ISBLANK(K33),\" \",ROUND((K33+K$31)/K$29*100,1))))","v":"  "},null,{"$f":"IF(ISBLANK(M$29),\"  \",IF(ISBLANK(M$30),\" \",IF(ISBLANK(M33),\" \",ROUND((M33+M$31)/M$29*100,1))))","v":"  "}]
["Breaker",0.25,null,{"$f":"IF(ISBLANK(C$29),\"  \",IF(ISBLANK(C$30),\" \",IF(ISBLANK(C34),\" \",ROUND((C34+C$31)/C$29*100,0))))","v":"  "},null,{"$f":"IF(ISBLANK(E$29),\"  \",IF(ISBLANK(E$30),\" \",IF(ISBLANK(E34),\" \",ROUND((E34+E$31)/E$29*100,0))))","v":"  "},null,{"$f":"IF(ISBLANK(G$29),\"  \",IF(ISBLANK(G$30),\" \",IF(ISBLANK(G34),\" \",ROUND((G34+G$31)/G$29*100,0))))","v":"  "},null,{"$f":"IF(ISBLANK(I$29),\"  \",IF(ISBLANK(I$30),\" \",IF(ISBLANK(I34),\" \",ROUND((I34+I$31)/I$29*100,0))))","v":"  "},null,{"$f":"IF(ISBLANK(K$29),\"  \",IF(ISBLANK(K$30),\" \",IF(ISBLANK(K34),\" \",ROUND((K34+K$31)/K$29*100,0))))","v":"  "},null,{"$f":"IF(ISBLANK(M$29),\"  \",IF(ISBLANK(M$30),\" \",IF(ISBLANK(M34),\" \",ROUND((M34+M$31)/M$29*100,0))))","v":"  "}]
[{"$f":"A16","v":"85-100"},4,null,{"$f":"IF(ISBLANK(C$29),\"  \",IF(ISBLANK(C$30),\" \",IF(ISBLANK(C35),\" \",ROUND((C35+C$31)/C$29*100,0))))","v":"  "},null,{"$f":"IF(ISBLANK(E$29),\"  \",IF(ISBLANK(E$30),\" \",IF(ISBLANK(E35),\" \",ROUND((E35+E$31)/E$29*100,0))))","v":"  "},null,{"$f":"IF(ISBLANK(G$29),\"  \",IF(ISBLANK(G$30),\" \",IF(ISBLANK(G35),\" \",ROUND((G35+G$31)/G$29*100,0))))","v":"  "},null,{"$f":"IF(ISBLANK(I$29),\"  \",IF(ISBLANK(I$30),\" \",IF(ISBLANK(I35),\" \",ROUND((I35+I$31)/I$29*100,0))))","v":"  "},null,{"$f":"IF(ISBLANK(K$29),\"  \",IF(ISBLANK(K$30),\" \",IF(ISBLANK(K35),\" \",ROUND((K35+K$31)/K$29*100,0))))","v":"  "},null,{"$f":"IF(ISBLANK(M$29),\"  \",IF(ISBLANK(M$30),\" \",IF(ISBLANK(M35),\" \",ROUND((M35+M$31)/M$29*100,0))))","v":"  "}]
[{"$f":"A17","v":"10-40"},8,null,{"$f":"IF(ISBLANK(C$29),\"  \",IF(ISBLANK(C$30),\" \",IF(ISBLANK(C36),\" \",ROUND((C36+C$31)/C$29*100,0))))","v":"  "},null,{"$f":"IF(ISBLANK(E$29),\"  \",IF(ISBLANK(E$30),\" \",IF(ISBLANK(E36),\" \",ROUND((E36+E$31)/E$29*100,0))))","v":"  "},null,{"$f":"IF(ISBLANK(G$29),\"  \",IF(ISBLANK(G$30),\" \",IF(ISBLANK(G36),\" \",ROUND((G36+G$31)/G$29*100,0))))","v":"  "},null,{"$f":"IF(ISBLANK(I$29),\"  \",IF(ISBLANK(I$30),\" \",IF(ISBLANK(I36),\" \",ROUND((I36+I$31)/I$29*100,0))))","v":"  "},null,{"$f":"IF(ISBLANK(K$29),\"  \",IF(ISBLANK(K$30),\" \",IF(ISBLANK(K36),\" \",ROUND((K36+K$31)/K$29*100,0))))","v":"  "},null,{"$f":"IF(ISBLANK(M$29),\"  \",IF(ISBLANK(M$30),\" \",IF(ISBLANK(M36),\" \",ROUND((M36+M$31)/M$29*100,0))))","v":"  "}]
["0-10",16,null,{"$f":"IF(ISBLANK(C$29),\"  \",IF(ISBLANK(C$30),\" \",IF(ISBLANK(C37),\" \",ROUND((C37+C$31)/C$29*100,0))))","v":"  "},null,{"$f":"IF(ISBLANK(E$29),\"  \",IF(ISBLANK(E$30),\" \",IF(ISBLANK(E37),\" \",ROUND((E37+E$31)/E$29*100,0))))","v":"  "},null,{"$f":"IF(ISBLANK(G$29),\"  \",IF(ISBLANK(G$30),\" \",IF(ISBLANK(G37),\" \",ROUND((G37+G$31)/G$29*100,0))))","v":"  "},null,{"$f":"IF(ISBLANK(I$29),\"  \",IF(ISBLANK(I$30),\" \",IF(ISBLANK(I37),\" \",ROUND((I37+I$31)/I$29*100,0))))","v":"  "},null,{"$f":"IF(ISBLANK(K$29),\"  \",IF(ISBLANK(K$30),\" \",IF(ISBLANK(K37),\" \",ROUND((K37+K$31)/K$29*100,0))))","v":"  "},null,{"$f":"IF(ISBLANK(M$29),\"  \",IF(ISBLANK(M$30),\" \",IF(ISBLANK(M37),\" \",ROUND((M37+M$31)/M$29*100,0))))","v":"  "}]
[{"$f":"A19","v":"0-5"},50,null,{"$f":"IF(ISBLANK(C$29),\"  \",IF(ISBLANK(C$30),\" \",IF(ISBLANK(C38),\" \",ROUND((C38+C$31)/C$29*100,0))))","v":"  "},null,{"$f":"IF(ISBLANK(E$29),\"  \",IF(ISBLANK(E$30),\" \",IF(ISBLANK(E38),\" \",ROUND((E38+E$31)/E$29*100,0))))","v":"  "},null,{"$f":"IF(ISBLANK(G$29),\"  \",IF(ISBLANK(G$30),\" \",IF(ISBLANK(G38),\" \",ROUND((G38+G$31)/G$29*100,0))))","v":"  "},null,{"$f":"IF(ISBLANK(I$29),\"  \",IF(ISBLANK(I$30),\" \",IF(ISBLANK(I38),\" \",ROUND((I38+I$31)/I$29*100,0))))","v":"  "},null,{"$f":"IF(ISBLANK(K$29),\"  \",IF(ISBLANK(K$30),\" \",IF(ISBLANK(K38),\" \",ROUND((K38+K$31)/K$29*100,0))))","v":"  "},null,{"$f":"IF(ISBLANK(M$29),\"  \",IF(ISBLANK(M$30),\" \",IF(ISBLANK(M38),\" \",ROUND((M38+M$31)/M$29*100,0))))","v":"  "}]
[{"$f":"A20","v":"0-2"},200,null,{"$f":"IF(ISBLANK(C$29),\"  \",IF(ISBLANK(C$30),\" \",IF(ISBLANK(C39),\" \",ROUND((C39+C$31)/C$29*100,2))))","v":"  "},null,{"$f":"IF(ISBLANK(E$29),\"  \",IF(ISBLANK(E$30),\" \",IF(ISBLANK(E39),\" \",ROUND((E39+E$31)/E$29*100,2))))","v":"  "},null,{"$f":"IF(ISBLANK(G$29),\"  \",IF(ISBLANK(G$30),\" \",IF(ISBLANK(G39),\" \",ROUND((G39+G$31)/G$29*100,2))))","v":"  "},null,{"$f":"IF(ISBLANK(I$29),\"  \",IF(ISBLANK(I$30),\" \",IF(ISBLANK(I39),\" \",ROUND((I39+I$31)/I$29*100,2))))","v":"  "},null,{"$f":"IF(ISBLANK(K$29),\"  \",IF(ISBLANK(K$30),\" \",IF(ISBLANK(K39),\" \",ROUND((K39+K$31)/K$29*100,2))))","v":"  "},null,{"$f":"IF(ISBLANK(M$29),\"  \",IF(ISBLANK(M$30),\" \",IF(ISBLANK(M39),\" \",ROUND((M39+M$31)/M$29*100,2))))","v":"  "}]
["Tested By"]
["Remarks"]

{"sheet":"S5","index":4,"n_rows":41,"n_cols":14,"rows_kept":41,"cut":false,"hidden":true,"merged":[[4,0,4,1],[39,2,39,3],[30,12,30,13],[39,12,39,13],[40,0,43,1],[40,2,43,3],[40,4,43,5],[40,6,43,7],[40,8,43,9],[40,10,43,11],[40,12,43,13],[30,4,30,5],[30,6,30,7],[30,8,30,9],[39,10,39,11],[39,4,39,5],[39,6,39,7],[39,8,39,9],[11,0,11,1],[11,2,11,3],[21,8,24,9],[20,0,20,1],[39,0,39,1],[20,4,20,5],[20,6,20,7],[20,8,20,9],[30,0,30,1],[21,10,24,11],[27,8,27,9],[27,10,27,11],[29,0,29,1],[28,0,28,1],[26,0,26,1],[27,0,27,1],[26,10,26,11],[21,0,24,1],[21,2,24,3],[21,4,24,5],[27,4,27,5],[27,6,27,7],[26,4,26,5],[26,6,26,7],[26,8,26,9],[21,12,24,13],[26,12,26,13],[27,12,27,13],[30,2,30,3],[11,10,11,11],[11,12,11,13],[11,4,11,5],[11,6,11,7],[11,8,11,9],[20,12,20,13],[30,10,30,11],[21,6,24,7],[27,2,27,3],[20,2,20,3],[26,2,26,3],[20,10,20,11],[10,0,10,1],[9,0,9,1],[7,10,7,11],[7,12,7,13],[8,0,8,1],[8,2,8,3],[8,4,8,5],[8,6,8,7],[8,8,8,9],[8,10,8,11],[8,12,8,13],[5,3,5,8],[7,0,7,1],[7,2,7,3],[7,4,7,5],[7,6,7,7],[7,8,7,9],[0,0,3,1],[0,7,3,8],[1,2,1,6],[1,9,1,10],[1,11,1,12],[2,2,2,6],[2,9,2,10],[2,11,2,12],[3,2,3,6],[3,9,3,10],[3,11,3,12]]}
[]
[null,null,"COMMONWEALTH OF PENNSYLVANIA",null,null,null,null,null,null,"DISTRICT"]
[null,null,"DEPARTMENT OF TRANSPORTATION",null,null,null,null,null,null,"PLANT CODE"]
[null,null,"PENNSYLVANIA TURNPIKE COMMISSION",null,null,null,null,null,null,"AGG SIZE",null,"#9's"]
["Aggregate 2017"]
[null,null,null,"Material Test Results for #9 Aggregate"]
[]
["Sample No."]
["Date"]
["St. Wt. Before Wash.",null,null,"% Loss",null,"% Loss",null,"% Loss",null,"% Loss",null,"% Loss",null,"% Loss"]
["Dry. Wt. After Wash.",null,null,{"$f":"IF(ISBLANK(C10),\" \",IF(ISBLANK(C14),\" \",(C11-C14)/C11*100))","v":" "},null,{"$f":"IF(ISBLANK(E10),\" \",IF(ISBLANK(E14),\" \",(E11-E14)/E11*100))","v":" "},null,{"$f":"IF(ISBLANK(G10),\" \",IF(ISBLANK(G14),\" \",(G11-G14)/G11*100))","v":" "},null,{"$f":"IF(ISBLANK(I10),\" \",IF(ISBLANK(I14),\" \",(I11-I14)/I11*100))","v":" "},null,{"$f":"IF(ISBLANK(K10),\" \",IF(ISBLANK(K14),\" \",(K11-K14)/K11*100))","v":" "},null,{"$f":"IF(ISBLANK(M10),\" \",IF(ISBLANK(M14),\" \",(M11-M14)/M11*100))","v":" "}]
["Wt. Loss",null,{"$f":"IF(ISBLANK(C10),\" \",IF(ISBLANK(C11),\" \",C10-C11))","v":" "},null,{"$f":"IF(ISBLANK(E10),\" \",IF(ISBLANK(E11),\" \",E10-E11))","v":" "},null,{"$f":"IF(ISBLANK(G10),\" \",IF(ISBLANK(G11),\" \",G10-G11))","v":" "},null,{"$f":"IF(ISBLANK(I10),\" \",IF(ISBLANK(I11),\" \",I10-I11))","v":" "},null,{"$f":"IF(ISBLANK(K10),\" \",IF(ISBLANK(K11),\" \",K10-K11))","v":" "},null,{"$f":"IF(ISBLANK(M10),\" \",IF(ISBLANK(M11),\" \",M10-M11))","v":" "}]
["Spec","Sieve","Wt","% Passing","Wt","% Passing","Wt","% Passing","Wt","% Passing","Wt","% Passing","Wt","% Passing"]
["100",0.375,null,{"$f":"IF(ISBLANK(C$10),\"  \",IF(ISBLANK(C$11),\" \",IF(ISBLANK(C14),\" \",ROUND((C14+C$12)/C$10*100,1))))","v":"  "},null,{"$f":"IF(ISBLANK(E$10),\"  \",IF(ISBLANK(E$11),\" \",IF(ISBLANK(E14),\" \",ROUND((E14+E$12)/E$10*100,1))))","v":"  "},null,{"$f":"IF(ISBLANK(G$10),\"  \",IF(ISBLANK(G$11),\" \",IF(ISBLANK(G14),\" \",ROUND((G14+G$12)/G$10*100,1))))","v":"  "},null,{"$f":"IF(ISBLANK(I$10),\"  \",IF(ISBLANK(I$11),\" \",IF(ISBLANK(I14),\" \",ROUND((I14+I$12)/I$10*100,1))))","v":"  "},null,{"$f":"IF(ISBLANK(K$10),\"  \",IF(ISBLANK(K$11),\" \",IF(ISBLANK(K14),\" \",ROUND((K14+K$12)/K$10*100,1))))","v":"  "},null,{"$f":"IF(ISBLANK(M$10),\"  \",IF(ISBLANK(M$11),\" \",IF(ISBLANK(M14),\" \",ROUND((M14+M$12)/M$10*100,1))))","v":"  "}]
["Breaker",0.25,null,{"$f":"IF(ISBLANK(C$10),\"  \",IF(ISBLANK(C$11),\" \",IF(ISBLANK(C15),\" \",ROUND((C15+C$12)/C$10*100,0))))","v":"  "},null,{"$f":"IF(ISBLANK(E$10),\"  \",IF(ISBLANK(E$11),\" \",IF(ISBLANK(E15),\" \",ROUND((E15+E$12)/E$10*100,0))))","v":"  "},null,{"$f":"IF(ISBLANK(G$10),\"  \",IF(ISBLANK(G$11),\" \",IF(ISBLANK(G15),\" \",ROUND((G15+G$12)/G$10*100,0))))","v":"  "},null,{"$f":"IF(ISBLANK(I$10),\"  \",IF(ISBLANK(I$11),\" \",IF(ISBLANK(I15),\" \",ROUND((I15+I$12)/I$10*100,0))))","v":"  "},null,{"$f":"IF(ISBLANK(K$10),\"  \",IF(ISBLANK(K$11),\" \",IF(ISBLANK(K15),\" \",ROUND((K15+K$12)/K$10*100,0))))","v":"  "},null,{"$f":"IF(ISBLANK(M$10),\"  \",IF(ISBLANK(M$11),\" \",IF(ISBLANK(M15),\" \",ROUND((M15+M$12)/M$10*100,0))))","v":"  "}]
["85-100",4,null,{"$f":"IF(ISBLANK(C$10),\"  \",IF(ISBLANK(C$11),\" \",IF(ISBLANK(C16),\" \",ROUND((C16+C$12)/C$10*100,0))))","v":"  "},null,{"$f":"IF(ISBLANK(E$10),\"  \",IF(ISBLANK(E$11),\" \",IF(ISBLANK(E16),\" \",ROUND((E16+E$12)/E$10*100,0))))","v":"  "},null,{"$f":"IF(ISBLANK(G$10),\"  \",IF(ISBLANK(G$11),\" \",IF(ISBLANK(G16),\" \",ROUND((G16+G$12)/G$10*100,0))))","v":"  "},null,{"$f":"IF(ISBLANK(I$10),\"  \",IF(ISBLANK(I$11),\" \",IF(ISBLANK(I16),\" \",ROUND((I16+I$12)/I$10*100,0))))","v":"  "},null,{"$f":"IF(ISBLANK(K$10),\"  \",IF(ISBLANK(K$11),\" \",IF(ISBLANK(K16),\" \",ROUND((K16+K$12)/K$10*100,0))))","v":"  "},null,{"$f":"IF(ISBLANK(M$10),\"  \",IF(ISBLANK(M$11),\" \",IF(ISBLANK(M16),\" \",ROUND((M16+M$12)/M$10*100,0))))","v":"  "}]
["10-40",8,null,{"$f":"IF(ISBLANK(C$10),\"  \",IF(ISBLANK(C$11),\" \",IF(ISBLANK(C17),\" \",ROUND((C17+C$12)/C$10*100,0))))","v":"  "},null,{"$f":"IF(ISBLANK(E$10),\"  \",IF(ISBLANK(E$11),\" \",IF(ISBLANK(E17),\" \",ROUND((E17+E$12)/E$10*100,0))))","v":"  "},null,{"$f":"IF(ISBLANK(G$10),\"  \",IF(ISBLANK(G$11),\" \",IF(ISBLANK(G17),\" \",ROUND((G17+G$12)/G$10*100,0))))","v":"  "},null,{"$f":"IF(ISBLANK(I$10),\"  \",IF(ISBLANK(I$11),\" \",IF(ISBLANK(I17),\" \",ROUND((I17+I$12)/I$10*100,0))))","v":"  "},null,{"$f":"IF(ISBLANK(K$10),\"  \",IF(ISBLANK(K$11),\" \",IF(ISBLANK(K17),\" \",ROUND((K17+K$12)/K$10*100,0))))","v":"  "},null,{"$f":"IF(ISBLANK(M$10),\"  \",IF(ISBLANK(M$11),\" \",IF(ISBLANK(M17),\" \",ROUND((M17+M$12)/M$10*100,0))))","v":"  "}]
["0-10",16,null,{"$f":"IF(ISBLANK(C$10),\"  \",IF(ISBLANK(C$11),\" \",IF(ISBLANK(C18),\" \",ROUND((C18+C$12)/C$10*100,0))))","v":"  "},null,{"$f":"IF(ISBLANK(E$10),\"  \",IF(ISBLANK(E$11),\" \",IF(ISBLANK(E18),\" \",ROUND((E18+E$12)/E$10*100,0))))","v":"  "},null,{"$f":"IF(ISBLANK(G$10),\"  \",IF(ISBLANK(G$11),\" \",IF(ISBLANK(G18),\" \",ROUND((G18+G$12)/G$10*100,0))))","v":"  "},null,{"$f":"IF(ISBLANK(I$10),\"  \",IF(ISBLANK(I$11),\" \",IF(ISBLANK(I18),\" \",ROUND((I18+I$12)/I$10*100,0))))","v":"  "},null,{"$f":"IF(ISBLANK(K$10),\"  \",IF(ISBLANK(K$11),\" \",IF(ISBLANK(K18),\" \",ROUND((K18+K$12)/K$10*100,0))))","v":"  "},null,{"$f":"IF(ISBLANK(M$10),\"  \",IF(ISBLANK(M$11),\" \",IF(ISBLANK(M18),\" \",ROUND((M18+M$12)/M$10*100,0))))","v":"  "}]
["0-5",50,null,{"$f":"IF(ISBLANK(C$10),\"  \",IF(ISBLANK(C$11),\" \",IF(ISBLANK(C19),\" \",ROUND((C19+C$12)/C$10*100,0))))","v":"  "},null,{"$f":"IF(ISBLANK(E$10),\"  \",IF(ISBLANK(E$11),\" \",IF(ISBLANK(E19),\" \",ROUND((E19+E$12)/E$10*100,0))))","v":"  "},null,{"$f":"IF(ISBLANK(G$10),\"  \",IF(ISBLANK(G$11),\" \",IF(ISBLANK(G19),\" \",ROUND((G19+G$12)/G$10*100,0))))","v":"  "},null,{"$f":"IF(ISBLANK(I$10),\"  \",IF(ISBLANK(I$11),\" \",IF(ISBLANK(I19),\" \",ROUND((I19+I$12)/I$10*100,0))))","v":"  "},null,{"$f":"IF(ISBLANK(K$10),\"  \",IF(ISBLANK(K$11),\" \",IF(ISBLANK(K19),\" \",ROUND((K19+K$12)/K$10*100,0))))","v":"  "},null,{"$f":"IF(ISBLANK(M$10),\"  \",IF(ISBLANK(M$11),\" \",IF(ISBLANK(M19),\" \",ROUND((M19+M$12)/M$10*100,0))))","v":"  "}]
["0-2",200,null,{"$f":"IF(ISBLANK(C$10),\"  \",IF(ISBLANK(C$11),\" \",IF(ISBLANK(C20),\" \",ROUND((C20+C$12)/C$10*100,2))))","v":"  "},null,{"$f":"IF(ISBLANK(E$10),\"  \",IF(ISBLANK(E$11),\" \",IF(ISBLANK(E20),\" \",ROUND((E20+E$12)/E$10*100,2))))","v":"  "},null,{"$f":"IF(ISBLANK(G$10),\"  \",IF(ISBLANK(G$11),\" \",IF(ISBLANK(G20),\" \",ROUND((G20+G$12)/G$10*100,2))))","v":"  "},null,{"$f":"IF(ISBLANK(I$10),\"  \",IF(ISBLANK(I$11),\" \",IF(ISBLANK(I20),\" \",ROUND((I20+I$12)/I$10*100,2))))","v":"  "},null,{"$f":"IF(ISBLANK(K$10),\"  \",IF(ISBLANK(K$11),\" \",IF(ISBLANK(K20),\" \",ROUND((K20+K$12)/K$10*100,2))))","v":"  "},null,{"$f":"IF(ISBLANK(M$10),\"  \",IF(ISBLANK(M$11),\" \",IF(ISBLANK(M20),\" \",ROUND((M20+M$12)/M$10*100,2))))","v":"  "}]
["Tested By"]
["Remarks"]
[]
[]
[]
[]
["Sample No."]
["Date"]
[{"$f":"A10","v":"St. Wt. Before Wash."},null,null,"% Loss",null,"% Loss",null,"% Loss",null,"% Loss",null,"% Loss",null,"% Loss"]
[{"$f":"A11","v":"Dry. Wt. After Wash."},null,null,{"$f":"IF(ISBLANK(C29),\" \",IF(ISBLANK(C33),\" \",(C30-C33)/C30*100))","v":" "},null,{"$f":"IF(ISBLANK(E29),\" \",IF(ISBLANK(E33),\" \",(E30-E33)/E30*100))","v":" "},null,{"$f":"IF(ISBLANK(G29),\" \",IF(ISBLANK(G33),\" \",(G30-G33)/G30*100))","v":" "},null,{"$f":"IF(ISBLANK(I29),\" \",IF(ISBLANK(I33),\" \",(I30-I33)/I30*100))","v":" "},null,{"$f":"IF(ISBLANK(K29),\" \",IF(ISBLANK(K33),\" \",(K30-K33)/K30*100))","v":" "},null,{"$f":"IF(ISBLANK(M29),\" \",IF(ISBLANK(M33),\" \",(M30-M33)/M30*100))","v":" "}]
["Wt. Loss",null,{"$f":"IF(ISBLANK(C29),\" \",IF(ISBLANK(C30),\" \",C29-C30))","v":" "},null,{"$f":"IF(ISBLANK(E29),\" \",IF(ISBLANK(E30),\" \",E29-E30))","v":" "},null,{"$f":"IF(ISBLANK(G29),\" \",IF(ISBLANK(G30),\" \",G29-G30))","v":" "},null,{"$f":"IF(ISBLANK(I29),\" \",IF(ISBLANK(I30),\" \",I29-I30))","v":" "},null,{"$f":"IF(ISBLANK(K29),\" \",IF(ISBLANK(K30),\" \",K29-K30))","v":" "},null,{"$f":"IF(ISBLANK(M29),\" \",IF(ISBLANK(M30),\" \",M29-M30))","v":" "}]
["Spec","Sieve","Wt","% Passing","Wt","% Passing","Wt","% Passing","Wt","% Passing","Wt","% Passing","Wt","% Passing"]
[100,0.375,null,{"$f":"IF(ISBLANK(C$29),\"  \",IF(ISBLANK(C$30),\" \",IF(ISBLANK(C33),\" \",ROUND((C33+C$31)/C$29*100,1))))","v":"  "},null,{"$f":"IF(ISBLANK(E$29),\"  \",IF(ISBLANK(E$30),\" \",IF(ISBLANK(E33),\" \",ROUND((E33+E$31)/E$29*100,1))))","v":"  "},null,{"$f":"IF(ISBLANK(G$29),\"  \",IF(ISBLANK(G$30),\" \",IF(ISBLANK(G33),\" \",ROUND((G33+G$31)/G$29*100,1))))","v":"  "},null,{"$f":"IF(ISBLANK(I$29),\"  \",IF(ISBLANK(I$30),\" \",IF(ISBLANK(I33),\" \",ROUND((I33+I$31)/I$29*100,1))))","v":"  "},null,{"$f":"IF(ISBLANK(K$29),\"  \",IF(ISBLANK(K$30),\" \",IF(ISBLANK(K33),\" \",ROUND((K33+K$31)/K$29*100,1))))","v":"  "},null,{"$f":"IF(ISBLANK(M$29),\"  \",IF(ISBLANK(M$30),\" \",IF(ISBLANK(M33),\" \",ROUND((M33+M$31)/M$29*100,1))))","v":"  "}]
["Breaker",0.25,null,{"$f":"IF(ISBLANK(C$29),\"  \",IF(ISBLANK(C$30),\" \",IF(ISBLANK(C34),\" \",ROUND((C34+C$31)/C$29*100,0))))","v":"  "},null,{"$f":"IF(ISBLANK(E$29),\"  \",IF(ISBLANK(E$30),\" \",IF(ISBLANK(E34),\" \",ROUND((E34+E$31)/E$29*100,0))))","v":"  "},null,{"$f":"IF(ISBLANK(G$29),\"  \",IF(ISBLANK(G$30),\" \",IF(ISBLANK(G34),\" \",ROUND((G34+G$31)/G$29*100,0))))","v":"  "},null,{"$f":"IF(ISBLANK(I$29),\"  \",IF(ISBLANK(I$30),\" \",IF(ISBLANK(I34),\" \",ROUND((I34+I$31)/I$29*100,0))))","v":"  "},null,{"$f":"IF(ISBLANK(K$29),\"  \",IF(ISBLANK(K$30),\" \",IF(ISBLANK(K34),\" \",ROUND((K34+K$31)/K$29*100,0))))","v":"  "},null,{"$f":"IF(ISBLANK(M$29),\"  \",IF(ISBLANK(M$30),\" \",IF(ISBLANK(M34),\" \",ROUND((M34+M$31)/M$29*100,0))))","v":"  "}]
[{"$f":"A16","v":"85-100"},4,null,{"$f":"IF(ISBLANK(C$29),\"  \",IF(ISBLANK(C$30),\" \",IF(ISBLANK(C35),\" \",ROUND((C35+C$31)/C$29*100,0))))","v":"  "},null,{"$f":"IF(ISBLANK(E$29),\"  \",IF(ISBLANK(E$30),\" \",IF(ISBLANK(E35),\" \",ROUND((E35+E$31)/E$29*100,0))))","v":"  "},null,{"$f":"IF(ISBLANK(G$29),\"  \",IF(ISBLANK(G$30),\" \",IF(ISBLANK(G35),\" \",ROUND((G35+G$31)/G$29*100,0))))","v":"  "},null,{"$f":"IF(ISBLANK(I$29),\"  \",IF(ISBLANK(I$30),\" \",IF(ISBLANK(I35),\" \",ROUND((I35+I$31)/I$29*100,0))))","v":"  "},null,{"$f":"IF(ISBLANK(K$29),\"  \",IF(ISBLANK(K$30),\" \",IF(ISBLANK(K35),\" \",ROUND((K35+K$31)/K$29*100,0))))","v":"  "},null,{"$f":"IF(ISBLANK(M$29),\"  \",IF(ISBLANK(M$30),\" \",IF(ISBLANK(M35),\" \",ROUND((M35+M$31)/M$29*100,0))))","v":"  "}]
[{"$f":"A17","v":"10-40"},8,null,{"$f":"IF(ISBLANK(C$29),\"  \",IF(ISBLANK(C$30),\" \",IF(ISBLANK(C36),\" \",ROUND((C36+C$31)/C$29*100,0))))","v":"  "},null,{"$f":"IF(ISBLANK(E$29),\"  \",IF(ISBLANK(E$30),\" \",IF(ISBLANK(E36),\" \",ROUND((E36+E$31)/E$29*100,0))))","v":"  "},null,{"$f":"IF(ISBLANK(G$29),\"  \",IF(ISBLANK(G$30),\" \",IF(ISBLANK(G36),\" \",ROUND((G36+G$31)/G$29*100,0))))","v":"  "},null,{"$f":"IF(ISBLANK(I$29),\"  \",IF(ISBLANK(I$30),\" \",IF(ISBLANK(I36),\" \",ROUND((I36+I$31)/I$29*100,0))))","v":"  "},null,{"$f":"IF(ISBLANK(K$29),\"  \",IF(ISBLANK(K$30),\" \",IF(ISBLANK(K36),\" \",ROUND((K36+K$31)/K$29*100,0))))","v":"  "},null,{"$f":"IF(ISBLANK(M$29),\"  \",IF(ISBLANK(M$30),\" \",IF(ISBLANK(M36),\" \",ROUND((M36+M$31)/M$29*100,0))))","v":"  "}]
["0-10",16,null,{"$f":"IF(ISBLANK(C$29),\"  \",IF(ISBLANK(C$30),\" \",IF(ISBLANK(C37),\" \",ROUND((C37+C$31)/C$29*100,0))))","v":"  "},null,{"$f":"IF(ISBLANK(E$29),\"  \",IF(ISBLANK(E$30),\" \",IF(ISBLANK(E37),\" \",ROUND((E37+E$31)/E$29*100,0))))","v":"  "},null,{"$f":"IF(ISBLANK(G$29),\"  \",IF(ISBLANK(G$30),\" \",IF(ISBLANK(G37),\" \",ROUND((G37+G$31)/G$29*100,0))))","v":"  "},null,{"$f":"IF(ISBLANK(I$29),\"  \",IF(ISBLANK(I$30),\" \",IF(ISBLANK(I37),\" \",ROUND((I37+I$31)/I$29*100,0))))","v":"  "},null,{"$f":"IF(ISBLANK(K$29),\"  \",IF(ISBLANK(K$30),\" \",IF(ISBLANK(K37),\" \",ROUND((K37+K$31)/K$29*100,0))))","v":"  "},null,{"$f":"IF(ISBLANK(M$29),\"  \",IF(ISBLANK(M$30),\" \",IF(ISBLANK(M37),\" \",ROUND((M37+M$31)/M$29*100,0))))","v":"  "}]
[{"$f":"A19","v":"0-5"},50,null,{"$f":"IF(ISBLANK(C$29),\"  \",IF(ISBLANK(C$30),\" \",IF(ISBLANK(C38),\" \",ROUND((C38+C$31)/C$29*100,0))))","v":"  "},null,{"$f":"IF(ISBLANK(E$29),\"  \",IF(ISBLANK(E$30),\" \",IF(ISBLANK(E38),\" \",ROUND((E38+E$31)/E$29*100,0))))","v":"  "},null,{"$f":"IF(ISBLANK(G$29),\"  \",IF(ISBLANK(G$30),\" \",IF(ISBLANK(G38),\" \",ROUND((G38+G$31)/G$29*100,0))))","v":"  "},null,{"$f":"IF(ISBLANK(I$29),\"  \",IF(ISBLANK(I$30),\" \",IF(ISBLANK(I38),\" \",ROUND((I38+I$31)/I$29*100,0))))","v":"  "},null,{"$f":"IF(ISBLANK(K$29),\"  \",IF(ISBLANK(K$30),\" \",IF(ISBLANK(K38),\" \",ROUND((K38+K$31)/K$29*100,0))))","v":"  "},null,{"$f":"IF(ISBLANK(M$29),\"  \",IF(ISBLANK(M$30),\" \",IF(ISBLANK(M38),\" \",ROUND((M38+M$31)/M$29*100,0))))","v":"  "}]
[{"$f":"A20","v":"0-2"},200,null,{"$f":"IF(ISBLANK(C$29),\"  \",IF(ISBLANK(C$30),\" \",IF(ISBLANK(C39),\" \",ROUND((C39+C$31)/C$29*100,2))))","v":"  "},null,{"$f":"IF(ISBLANK(E$29),\"  \",IF(ISBLANK(E$30),\" \",IF(ISBLANK(E39),\" \",ROUND((E39+E$31)/E$29*100,2))))","v":"  "},null,{"$f":"IF(ISBLANK(G$29),\"  \",IF(ISBLANK(G$30),\" \",IF(ISBLANK(G39),\" \",ROUND((G39+G$31)/G$29*100,2))))","v":"  "},null,{"$f":"IF(ISBLANK(I$29),\"  \",IF(ISBLANK(I$30),\" \",IF(ISBLANK(I39),\" \",ROUND((I39+I$31)/I$29*100,2))))","v":"  "},null,{"$f":"IF(ISBLANK(K$29),\"  \",IF(ISBLANK(K$30),\" \",IF(ISBLANK(K39),\" \",ROUND((K39+K$31)/K$29*100,2))))","v":"  "},null,{"$f":"IF(ISBLANK(M$29),\"  \",IF(ISBLANK(M$30),\" \",IF(ISBLANK(M39),\" \",ROUND((M39+M$31)/M$29*100,2))))","v":"  "}]
["Tested By"]
["Remarks"]

{"sheet":"S6","index":5,"n_rows":41,"n_cols":14,"rows_kept":41,"cut":false,"hidden":true,"merged":[[4,0,4,1],[39,2,39,3],[30,12,30,13],[39,12,39,13],[40,0,43,1],[40,2,43,3],[40,4,43,5],[40,6,43,7],[40,8,43,9],[40,10,43,11],[40,12,43,13],[30,4,30,5],[30,6,30,7],[30,8,30,9],[39,10,39,11],[39,4,39,5],[39,6,39,7],[39,8,39,9],[11,0,11,1],[11,2,11,3],[21,8,24,9],[20,0,20,1],[39,0,39,1],[20,4,20,5],[20,6,20,7],[20,8,20,9],[30,0,30,1],[21,10,24,11],[27,8,27,9],[27,10,27,11],[29,0,29,1],[28,0,28,1],[26,0,26,1],[27,0,27,1],[26,10,26,11],[21,0,24,1],[21,2,24,3],[21,4,24,5],[27,4,27,5],[27,6,27,7],[26,4,26,5],[26,6,26,7],[26,8,26,9],[21,12,24,13],[26,12,26,13],[27,12,27,13],[30,2,30,3],[11,10,11,11],[11,12,11,13],[11,4,11,5],[11,6,11,7],[11,8,11,9],[20,12,20,13],[30,10,30,11],[21,6,24,7],[27,2,27,3],[20,2,20,3],[26,2,26,3],[20,10,20,11],[10,0,10,1],[9,0,9,1],[7,10,7,11],[7,12,7,13],[8,0,8,1],[8,2,8,3],[8,4,8,5],[8,6,8,7],[8,8,8,9],[8,10,8,11],[8,12,8,13],[5,3,5,8],[7,0,7,1],[7,2,7,3],[7,4,7,5],[7,6,7,7],[7,8,7,9],[0,0,3,1],[0,7,3,8],[1,2,1,6],[1,9,1,10],[1,11,1,12],[2,2,2,6],[2,9,2,10],[2,11,2,12],[3,2,3,6],[3,9,3,10],[3,11,3,12]]}
[]
[null,null,"COMMONWEALTH OF PENNSYLVANIA",null,null,null,null,null,null,"DISTRICT"]
[null,null,"DEPARTMENT OF TRANSPORTATION",null,null,null,null,null,null,"PLANT CODE"]
[null,null,"PENNSYLVANIA TURNPIKE COMMISSION",null,null,null,null,null,null,"AGG SIZE",null,"#9's"]
["Aggregate 2017"]
[null,null,null,"Material Test Results for #9 Aggregate"]
[]
["Sample No."]
["Date"]
["St. Wt. Before Wash.",null,null,"% Loss",null,"% Loss",null,"% Loss",null,"% Loss",null,"% Loss",null,"% Loss"]
["Dry. Wt. After Wash.",null,null,{"$f":"IF(ISBLANK(C10),\" \",IF(ISBLANK(C14),\" \",(C11-C14)/C11*100))","v":" "},null,{"$f":"IF(ISBLANK(E10),\" \",IF(ISBLANK(E14),\" \",(E11-E14)/E11*100))","v":" "},null,{"$f":"IF(ISBLANK(G10),\" \",IF(ISBLANK(G14),\" \",(G11-G14)/G11*100))","v":" "},null,{"$f":"IF(ISBLANK(I10),\" \",IF(ISBLANK(I14),\" \",(I11-I14)/I11*100))","v":" "},null,{"$f":"IF(ISBLANK(K10),\" \",IF(ISBLANK(K14),\" \",(K11-K14)/K11*100))","v":" "},null,{"$f":"IF(ISBLANK(M10),\" \",IF(ISBLANK(M14),\" \",(M11-M14)/M11*100))","v":" "}]
["Wt. Loss",null,{"$f":"IF(ISBLANK(C10),\" \",IF(ISBLANK(C11),\" \",C10-C11))","v":" "},null,{"$f":"IF(ISBLANK(E10),\" \",IF(ISBLANK(E11),\" \",E10-E11))","v":" "},null,{"$f":"IF(ISBLANK(G10),\" \",IF(ISBLANK(G11),\" \",G10-G11))","v":" "},null,{"$f":"IF(ISBLANK(I10),\" \",IF(ISBLANK(I11),\" \",I10-I11))","v":" "},null,{"$f":"IF(ISBLANK(K10),\" \",IF(ISBLANK(K11),\" \",K10-K11))","v":" "},null,{"$f":"IF(ISBLANK(M10),\" \",IF(ISBLANK(M11),\" \",M10-M11))","v":" "}]
["Spec","Sieve","Wt","% Passing","Wt","% Passing","Wt","% Passing","Wt","% Passing","Wt","% Passing","Wt","% Passing"]
["100",0.375,null,{"$f":"IF(ISBLANK(C$10),\"  \",IF(ISBLANK(C$11),\" \",IF(ISBLANK(C14),\" \",ROUND((C14+C$12)/C$10*100,1))))","v":"  "},null,{"$f":"IF(ISBLANK(E$10),\"  \",IF(ISBLANK(E$11),\" \",IF(ISBLANK(E14),\" \",ROUND((E14+E$12)/E$10*100,1))))","v":"  "},null,{"$f":"IF(ISBLANK(G$10),\"  \",IF(ISBLANK(G$11),\" \",IF(ISBLANK(G14),\" \",ROUND((G14+G$12)/G$10*100,1))))","v":"  "},null,{"$f":"IF(ISBLANK(I$10),\"  \",IF(ISBLANK(I$11),\" \",IF(ISBLANK(I14),\" \",ROUND((I14+I$12)/I$10*100,1))))","v":"  "},null,{"$f":"IF(ISBLANK(K$10),\"  \",IF(ISBLANK(K$11),\" \",IF(ISBLANK(K14),\" \",ROUND((K14+K$12)/K$10*100,1))))","v":"  "},null,{"$f":"IF(ISBLANK(M$10),\"  \",IF(ISBLANK(M$11),\" \",IF(ISBLANK(M14),\" \",ROUND((M14+M$12)/M$10*100,1))))","v":"  "}]
["Breaker",0.25,null,{"$f":"IF(ISBLANK(C$10),\"  \",IF(ISBLANK(C$11),\" \",IF(ISBLANK(C15),\" \",ROUND((C15+C$12)/C$10*100,0))))","v":"  "},null,{"$f":"IF(ISBLANK(E$10),\"  \",IF(ISBLANK(E$11),\" \",IF(ISBLANK(E15),\" \",ROUND((E15+E$12)/E$10*100,0))))","v":"  "},null,{"$f":"IF(ISBLANK(G$10),\"  \",IF(ISBLANK(G$11),\" \",IF(ISBLANK(G15),\" \",ROUND((G15+G$12)/G$10*100,0))))","v":"  "},null,{"$f":"IF(ISBLANK(I$10),\"  \",IF(ISBLANK(I$11),\" \",IF(ISBLANK(I15),\" \",ROUND((I15+I$12)/I$10*100,0))))","v":"  "},null,{"$f":"IF(ISBLANK(K$10),\"  \",IF(ISBLANK(K$11),\" \",IF(ISBLANK(K15),\" \",ROUND((K15+K$12)/K$10*100,0))))","v":"  "},null,{"$f":"IF(ISBLANK(M$10),\"  \",IF(ISBLANK(M$11),\" \",IF(ISBLANK(M15),\" \",ROUND((M15+M$12)/M$10*100,0))))","v":"  "}]
["85-100",4,null,{"$f":"IF(ISBLANK(C$10),\"  \",IF(ISBLANK(C$11),\" \",IF(ISBLANK(C16),\" \",ROUND((C16+C$12)/C$10*100,0))))","v":"  "},null,{"$f":"IF(ISBLANK(E$10),\"  \",IF(ISBLANK(E$11),\" \",IF(ISBLANK(E16),\" \",ROUND((E16+E$12)/E$10*100,0))))","v":"  "},null,{"$f":"IF(ISBLANK(G$10),\"  \",IF(ISBLANK(G$11),\" \",IF(ISBLANK(G16),\" \",ROUND((G16+G$12)/G$10*100,0))))","v":"  "},null,{"$f":"IF(ISBLANK(I$10),\"  \",IF(ISBLANK(I$11),\" \",IF(ISBLANK(I16),\" \",ROUND((I16+I$12)/I$10*100,0))))","v":"  "},null,{"$f":"IF(ISBLANK(K$10),\"  \",IF(ISBLANK(K$11),\" \",IF(ISBLANK(K16),\" \",ROUND((K16+K$12)/K$10*100,0))))","v":"  "},null,{"$f":"IF(ISBLANK(M$10),\"  \",IF(ISBLANK(M$11),\" \",IF(ISBLANK(M16),\" \",ROUND((M16+M$12)/M$10*100,0))))","v":"  "}]
["10-40",8,null,{"$f":"IF(ISBLANK(C$10),\"  \",IF(ISBLANK(C$11),\" \",IF(ISBLANK(C17),\" \",ROUND((C17+C$12)/C$10*100,0))))","v":"  "},null,{"$f":"IF(ISBLANK(E$10),\"  \",IF(ISBLANK(E$11),\" \",IF(ISBLANK(E17),\" \",ROUND((E17+E$12)/E$10*100,0))))","v":"  "},null,{"$f":"IF(ISBLANK(G$10),\"  \",IF(ISBLANK(G$11),\" \",IF(ISBLANK(G17),\" \",ROUND((G17+G$12)/G$10*100,0))))","v":"  "},null,{"$f":"IF(ISBLANK(I$10),\"  \",IF(ISBLANK(I$11),\" \",IF(ISBLANK(I17),\" \",ROUND((I17+I$12)/I$10*100,0))))","v":"  "},null,{"$f":"IF(ISBLANK(K$10),\"  \",IF(ISBLANK(K$11),\" \",IF(ISBLANK(K17),\" \",ROUND((K17+K$12)/K$10*100,0))))","v":"  "},null,{"$f":"IF(ISBLANK(M$10),\"  \",IF(ISBLANK(M$11),\" \",IF(ISBLANK(M17),\" \",ROUND((M17+M$12)/M$10*100,0))))","v":"  "}]
["0-10",16,null,{"$f":"IF(ISBLANK(C$10),\"  \",IF(ISBLANK(C$11),\" \",IF(ISBLANK(C18),\" \",ROUND((C18+C$12)/C$10*100,0))))","v":"  "},null,{"$f":"IF(ISBLANK(E$10),\"  \",IF(ISBLANK(E$11),\" \",IF(ISBLANK(E18),\" \",ROUND((E18+E$12)/E$10*100,0))))","v":"  "},null,{"$f":"IF(ISBLANK(G$10),\"  \",IF(ISBLANK(G$11),\" \",IF(ISBLANK(G18),\" \",ROUND((G18+G$12)/G$10*100,0))))","v":"  "},null,{"$f":"IF(ISBLANK(I$10),\"  \",IF(ISBLANK(I$11),\" \",IF(ISBLANK(I18),\" \",ROUND((I18+I$12)/I$10*100,0))))","v":"  "},null,{"$f":"IF(ISBLANK(K$10),\"  \",IF(ISBLANK(K$11),\" \",IF(ISBLANK(K18),\" \",ROUND((K18+K$12)/K$10*100,0))))","v":"  "},null,{"$f":"IF(ISBLANK(M$10),\"  \",IF(ISBLANK(M$11),\" \",IF(ISBLANK(M18),\" \",ROUND((M18+M$12)/M$10*100,0))))","v":"  "}]
["0-5",50,null,{"$f":"IF(ISBLANK(C$10),\"  \",IF(ISBLANK(C$11),\" \",IF(ISBLANK(C19),\" \",ROUND((C19+C$12)/C$10*100,0))))","v":"  "},null,{"$f":"IF(ISBLANK(E$10),\"  \",IF(ISBLANK(E$11),\" \",IF(ISBLANK(E19),\" \",ROUND((E19+E$12)/E$10*100,0))))","v":"  "},null,{"$f":"IF(ISBLANK(G$10),\"  \",IF(ISBLANK(G$11),\" \",IF(ISBLANK(G19),\" \",ROUND((G19+G$12)/G$10*100,0))))","v":"  "},null,{"$f":"IF(ISBLANK(I$10),\"  \",IF(ISBLANK(I$11),\" \",IF(ISBLANK(I19),\" \",ROUND((I19+I$12)/I$10*100,0))))","v":"  "},null,{"$f":"IF(ISBLANK(K$10),\"  \",IF(ISBLANK(K$11),\" \",IF(ISBLANK(K19),\" \",ROUND((K19+K$12)/K$10*100,0))))","v":"  "},null,{"$f":"IF(ISBLANK(M$10),\"  \",IF(ISBLANK(M$11),\" \",IF(ISBLANK(M19),\" \",ROUND((M19+M$12)/M$10*100,0))))","v":"  "}]
["0-2",200,null,{"$f":"IF(ISBLANK(C$10),\"  \",IF(ISBLANK(C$11),\" \",IF(ISBLANK(C20),\" \",ROUND((C20+C$12)/C$10*100,2))))","v":"  "},null,{"$f":"IF(ISBLANK(E$10),\"  \",IF(ISBLANK(E$11),\" \",IF(ISBLANK(E20),\" \",ROUND((E20+E$12)/E$10*100,2))))","v":"  "},null,{"$f":"IF(ISBLANK(G$10),\"  \",IF(ISBLANK(G$11),\" \",IF(ISBLANK(G20),\" \",ROUND((G20+G$12)/G$10*100,2))))","v":"  "},null,{"$f":"IF(ISBLANK(I$10),\"  \",IF(ISBLANK(I$11),\" \",IF(ISBLANK(I20),\" \",ROUND((I20+I$12)/I$10*100,2))))","v":"  "},null,{"$f":"IF(ISBLANK(K$10),\"  \",IF(ISBLANK(K$11),\" \",IF(ISBLANK(K20),\" \",ROUND((K20+K$12)/K$10*100,2))))","v":"  "},null,{"$f":"IF(ISBLANK(M$10),\"  \",IF(ISBLANK(M$11),\" \",IF(ISBLANK(M20),\" \",ROUND((M20+M$12)/M$10*100,2))))","v":"  "}]
["Tested By"]
["Remarks"]
[]
[]
[]
[]
["Sample No."]
["Date"]
[{"$f":"A10","v":"St. Wt. Before Wash."},null,null,"% Loss",null,"% Loss",null,"% Loss",null,"% Loss",null,"% Loss",null,"% Loss"]
[{"$f":"A11","v":"Dry. Wt. After Wash."},null,null,{"$f":"IF(ISBLANK(C29),\" \",IF(ISBLANK(C33),\" \",(C30-C33)/C30*100))","v":" "},null,{"$f":"IF(ISBLANK(E29),\" \",IF(ISBLANK(E33),\" \",(E30-E33)/E30*100))","v":" "},null,{"$f":"IF(ISBLANK(G29),\" \",IF(ISBLANK(G33),\" \",(G30-G33)/G30*100))","v":" "},null,{"$f":"IF(ISBLANK(I29),\" \",IF(ISBLANK(I33),\" \",(I30-I33)/I30*100))","v":" "},null,{"$f":"IF(ISBLANK(K29),\" \",IF(ISBLANK(K33),\" \",(K30-K33)/K30*100))","v":" "},null,{"$f":"IF(ISBLANK(M29),\" \",IF(ISBLANK(M33),\" \",(M30-M33)/M30*100))","v":" "}]
["Wt. Loss",null,{"$f":"IF(ISBLANK(C29),\" \",IF(ISBLANK(C30),\" \",C29-C30))","v":" "},null,{"$f":"IF(ISBLANK(E29),\" \",IF(ISBLANK(E30),\" \",E29-E30))","v":" "},null,{"$f":"IF(ISBLANK(G29),\" \",IF(ISBLANK(G30),\" \",G29-G30))","v":" "},null,{"$f":"IF(ISBLANK(I29),\" \",IF(ISBLANK(I30),\" \",I29-I30))","v":" "},null,{"$f":"IF(ISBLANK(K29),\" \",IF(ISBLANK(K30),\" \",K29-K30))","v":" "},null,{"$f":"IF(ISBLANK(M29),\" \",IF(ISBLANK(M30),\" \",M29-M30))","v":" "}]
["Spec","Sieve","Wt","% Passing","Wt","% Passing","Wt","% Passing","Wt","% Passing","Wt","% Passing","Wt","% Passing"]
[100,0.375,null,{"$f":"IF(ISBLANK(C$29),\"  \",IF(ISBLANK(C$30),\" \",IF(ISBLANK(C33),\" \",ROUND((C33+C$31)/C$29*100,1))))","v":"  "},null,{"$f":"IF(ISBLANK(E$29),\"  \",IF(ISBLANK(E$30),\" \",IF(ISBLANK(E33),\" \",ROUND((E33+E$31)/E$29*100,1))))","v":"  "},null,{"$f":"IF(ISBLANK(G$29),\"  \",IF(ISBLANK(G$30),\" \",IF(ISBLANK(G33),\" \",ROUND((G33+G$31)/G$29*100,1))))","v":"  "},null,{"$f":"IF(ISBLANK(I$29),\"  \",IF(ISBLANK(I$30),\" \",IF(ISBLANK(I33),\" \",ROUND((I33+I$31)/I$29*100,1))))","v":"  "},null,{"$f":"IF(ISBLANK(K$29),\"  \",IF(ISBLANK(K$30),\" \",IF(ISBLANK(K33),\" \",ROUND((K33+K$31)/K$29*100,1))))","v":"  "},null,{"$f":"IF(ISBLANK(M$29),\"  \",IF(ISBLANK(M$30),\" \",IF(ISBLANK(M33),\" \",ROUND((M33+M$31)/M$29*100,1))))","v":"  "}]
["Breaker",0.25,null,{"$f":"IF(ISBLANK(C$29),\"  \",IF(ISBLANK(C$30),\" \",IF(ISBLANK(C34),\" \",ROUND((C34+C$31)/C$29*100,0))))","v":"  "},null,{"$f":"IF(ISBLANK(E$29),\"  \",IF(ISBLANK(E$30),\" \",IF(ISBLANK(E34),\" \",ROUND((E34+E$31)/E$29*100,0))))","v":"  "},null,{"$f":"IF(ISBLANK(G$29),\"  \",IF(ISBLANK(G$30),\" \",IF(ISBLANK(G34),\" \",ROUND((G34+G$31)/G$29*100,0))))","v":"  "},null,{"$f":"IF(ISBLANK(I$29),\"  \",IF(ISBLANK(I$30),\" \",IF(ISBLANK(I34),\" \",ROUND((I34+I$31)/I$29*100,0))))","v":"  "},null,{"$f":"IF(ISBLANK(K$29),\"  \",IF(ISBLANK(K$30),\" \",IF(ISBLANK(K34),\" \",ROUND((K34+K$31)/K$29*100,0))))","v":"  "},null,{"$f":"IF(ISBLANK(M$29),\"  \",IF(ISBLANK(M$30),\" \",IF(ISBLANK(M34),\" \",ROUND((M34+M$31)/M$29*100,0))))","v":"  "}]
[{"$f":"A16","v":"85-100"},4,null,{"$f":"IF(ISBLANK(C$29),\"  \",IF(ISBLANK(C$30),\" \",IF(ISBLANK(C35),\" \",ROUND((C35+C$31)/C$29*100,0))))","v":"  "},null,{"$f":"IF(ISBLANK(E$29),\"  \",IF(ISBLANK(E$30),\" \",IF(ISBLANK(E35),\" \",ROUND((E35+E$31)/E$29*100,0))))","v":"  "},null,{"$f":"IF(ISBLANK(G$29),\"  \",IF(ISBLANK(G$30),\" \",IF(ISBLANK(G35),\" \",ROUND((G35+G$31)/G$29*100,0))))","v":"  "},null,{"$f":"IF(ISBLANK(I$29),\"  \",IF(ISBLANK(I$30),\" \",IF(ISBLANK(I35),\" \",ROUND((I35+I$31)/I$29*100,0))))","v":"  "},null,{"$f":"IF(ISBLANK(K$29),\"  \",IF(ISBLANK(K$30),\" \",IF(ISBLANK(K35),\" \",ROUND((K35+K$31)/K$29*100,0))))","v":"  "},null,{"$f":"IF(ISBLANK(M$29),\"  \",IF(ISBLANK(M$30),\" \",IF(ISBLANK(M35),\" \",ROUND((M35+M$31)/M$29*100,0))))","v":"  "}]
[{"$f":"A17","v":"10-40"},8,null,{"$f":"IF(ISBLANK(C$29),\"  \",IF(ISBLANK(C$30),\" \",IF(ISBLANK(C36),\" \",ROUND((C36+C$31)/C$29*100,0))))","v":"  "},null,{"$f":"IF(ISBLANK(E$29),\"  \",IF(ISBLANK(E$30),\" \",IF(ISBLANK(E36),\" \",ROUND((E36+E$31)/E$29*100,0))))","v":"  "},null,{"$f":"IF(ISBLANK(G$29),\"  \",IF(ISBLANK(G$30),\" \",IF(ISBLANK(G36),\" \",ROUND((G36+G$31)/G$29*100,0))))","v":"  "},null,{"$f":"IF(ISBLANK(I$29),\"  \",IF(ISBLANK(I$30),\" \",IF(ISBLANK(I36),\" \",ROUND((I36+I$31)/I$29*100,0))))","v":"  "},null,{"$f":"IF(ISBLANK(K$29),\"  \",IF(ISBLANK(K$30),\" \",IF(ISBLANK(K36),\" \",ROUND((K36+K$31)/K$29*100,0))))","v":"  "},null,{"$f":"IF(ISBLANK(M$29),\"  \",IF(ISBLANK(M$30),\" \",IF(ISBLANK(M36),\" \",ROUND((M36+M$31)/M$29*100,0))))","v":"  "}]
["0-10",16,null,{"$f":"IF(ISBLANK(C$29),\"  \",IF(ISBLANK(C$30),\" \",IF(ISBLANK(C37),\" \",ROUND((C37+C$31)/C$29*100,0))))","v":"  "},null,{"$f":"IF(ISBLANK(E$29),\"  \",IF(ISBLANK(E$30),\" \",IF(ISBLANK(E37),\" \",ROUND((E37+E$31)/E$29*100,0))))","v":"  "},null,{"$f":"IF(ISBLANK(G$29),\"  \",IF(ISBLANK(G$30),\" \",IF(ISBLANK(G37),\" \",ROUND((G37+G$31)/G$29*100,0))))","v":"  "},null,{"$f":"IF(ISBLANK(I$29),\"  \",IF(ISBLANK(I$30),\" \",IF(ISBLANK(I37),\" \",ROUND((I37+I$31)/I$29*100,0))))","v":"  "},null,{"$f":"IF(ISBLANK(K$29),\"  \",IF(ISBLANK(K$30),\" \",IF(ISBLANK(K37),\" \",ROUND((K37+K$31)/K$29*100,0))))","v":"  "},null,{"$f":"IF(ISBLANK(M$29),\"  \",IF(ISBLANK(M$30),\" \",IF(ISBLANK(M37),\" \",ROUND((M37+M$31)/M$29*100,0))))","v":"  "}]
[{"$f":"A19","v":"0-5"},50,null,{"$f":"IF(ISBLANK(C$29),\"  \",IF(ISBLANK(C$30),\" \",IF(ISBLANK(C38),\" \",ROUND((C38+C$31)/C$29*100,0))))","v":"  "},null,{"$f":"IF(ISBLANK(E$29),\"  \",IF(ISBLANK(E$30),\" \",IF(ISBLANK(E38),\" \",ROUND((E38+E$31)/E$29*100,0))))","v":"  "},null,{"$f":"IF(ISBLANK(G$29),\"  \",IF(ISBLANK(G$30),\" \",IF(ISBLANK(G38),\" \",ROUND((G38+G$31)/G$29*100,0))))","v":"  "},null,{"$f":"IF(ISBLANK(I$29),\"  \",IF(ISBLANK(I$30),\" \",IF(ISBLANK(I38),\" \",ROUND((I38+I$31)/I$29*100,0))))","v":"  "},null,{"$f":"IF(ISBLANK(K$29),\"  \",IF(ISBLANK(K$30),\" \",IF(ISBLANK(K38),\" \",ROUND((K38+K$31)/K$29*100,0))))","v":"  "},null,{"$f":"IF(ISBLANK(M$29),\"  \",IF(ISBLANK(M$30),\" \",IF(ISBLANK(M38),\" \",ROUND((M38+M$31)/M$29*100,0))))","v":"  "}]
[{"$f":"A20","v":"0-2"},200,null,{"$f":"IF(ISBLANK(C$29),\"  \",IF(ISBLANK(C$30),\" \",IF(ISBLANK(C39),\" \",ROUND((C39+C$31)/C$29*100,2))))","v":"  "},null,{"$f":"IF(ISBLANK(E$29),\"  \",IF(ISBLANK(E$30),\" \",IF(ISBLANK(E39),\" \",ROUND((E39+E$31)/E$29*100,2))))","v":"  "},null,{"$f":"IF(ISBLANK(G$29),\"  \",IF(ISBLANK(G$30),\" \",IF(ISBLANK(G39),\" \",ROUND((G39+G$31)/G$29*100,2))))","v":"  "},null,{"$f":"IF(ISBLANK(I$29),\"  \",IF(ISBLANK(I$30),\" \",IF(ISBLANK(I39),\" \",ROUND((I39+I$31)/I$29*100,2))))","v":"  "},null,{"$f":"IF(ISBLANK(K$29),\"  \",IF(ISBLANK(K$30),\" \",IF(ISBLANK(K39),\" \",ROUND((K39+K$31)/K$29*100,2))))","v":"  "},null,{"$f":"IF(ISBLANK(M$29),\"  \",IF(ISBLANK(M$30),\" \",IF(ISBLANK(M39),\" \",ROUND((M39+M$31)/M$29*100,2))))","v":"  "}]
["Tested By"]
["Remarks"]

{"sheet":"S7","index":6,"n_rows":41,"n_cols":14,"rows_kept":41,"cut":false,"hidden":true,"merged":[[39,10,39,11],[39,12,39,13],[40,0,43,1],[40,2,43,3],[40,4,43,5],[40,6,43,7],[40,8,43,9],[40,10,43,11],[40,12,43,13],[39,0,39,1],[39,2,39,3],[39,4,39,5],[39,6,39,7],[39,8,39,9],[4,0,4,1],[30,12,30,13],[30,4,30,5],[30,6,30,7],[30,8,30,9],[11,0,11,1],[11,2,11,3],[21,8,24,9],[20,0,20,1],[20,4,20,5],[20,6,20,7],[20,8,20,9],[30,0,30,1],[21,10,24,11],[27,8,27,9],[27,10,27,11],[29,0,29,1],[28,0,28,1],[26,0,26,1],[27,0,27,1],[26,10,26,11],[26,8,26,9],[21,0,24,1],[21,2,24,3],[21,4,24,5],[27,4,27,5],[27,6,27,7],[26,4,26,5],[26,6,26,7],[21,12,24,13],[26,12,26,13],[27,12,27,13],[30,2,30,3],[11,10,11,11],[11,12,11,13],[11,4,11,5],[11,6,11,7],[11,8,11,9],[20,12,20,13],[30,10,30,11],[21,6,24,7],[27,2,27,3],[20,2,20,3],[26,2,26,3],[20,10,20,11],[10,0,10,1],[9,0,9,1],[7,10,7,11],[7,12,7,13],[8,0,8,1],[8,2,8,3],[8,4,8,5],[8,6,8,7],[8,8,8,9],[8,10,8,11],[8,12,8,13],[5,3,5,8],[7,0,7,1],[7,2,7,3],[7,4,7,5],[7,6,7,7],[7,8,7,9],[0,0,3,1],[0,7,3,8],[1,2,1,6],[1,9,1,10],[1,11,1,12],[2,2,2,6],[2,9,2,10],[2,11,2,12],[3,2,3,6],[3,9,3,10],[3,11,3,12]]}
[]
[null,null,"COMMONWEALTH OF PENNSYLVANIA",null,null,null,null,null,null,"DISTRICT"]
[null,null,"DEPARTMENT OF TRANSPORTATION",null,null,null,null,null,null,"PLANT CODE"]
[null,null,"PENNSYLVANIA TURNPIKE COMMISSION",null,null,null,null,null,null,"AGG SIZE",null,"#9's"]
["Aggregate 2017"]
[null,null,null,"Material Test Results for #9 Aggregate"]
[]
["Sample No."]
["Date"]
["St. Wt. Before Wash.",null,null,"% Loss",null,"% Loss",null,"% Loss",null,"% Loss",null,"% Loss",null,"% Loss"]
["Dry. Wt. After Wash.",null,null,{"$f":"IF(ISBLANK(C10),\" \",IF(ISBLANK(C14),\" \",(C11-C14)/C11*100))","v":" "},null,{"$f":"IF(ISBLANK(E10),\" \",IF(ISBLANK(E14),\" \",(E11-E14)/E11*100))","v":" "},null,{"$f":"IF(ISBLANK(G10),\" \",IF(ISBLANK(G14),\" \",(G11-G14)/G11*100))","v":" "},null,{"$f":"IF(ISBLANK(I10),\" \",IF(ISBLANK(I14),\" \",(I11-I14)/I11*100))","v":" "},null,{"$f":"IF(ISBLANK(K10),\" \",IF(ISBLANK(K14),\" \",(K11-K14)/K11*100))","v":" "},null,{"$f":"IF(ISBLANK(M10),\" \",IF(ISBLANK(M14),\" \",(M11-M14)/M11*100))","v":" "}]
["Wt. Loss",null,{"$f":"IF(ISBLANK(C10),\" \",IF(ISBLANK(C11),\" \",C10-C11))","v":" "},null,{"$f":"IF(ISBLANK(E10),\" \",IF(ISBLANK(E11),\" \",E10-E11))","v":" "},null,{"$f":"IF(ISBLANK(G10),\" \",IF(ISBLANK(G11),\" \",G10-G11))","v":" "},null,{"$f":"IF(ISBLANK(I10),\" \",IF(ISBLANK(I11),\" \",I10-I11))","v":" "},null,{"$f":"IF(ISBLANK(K10),\" \",IF(ISBLANK(K11),\" \",K10-K11))","v":" "},null,{"$f":"IF(ISBLANK(M10),\" \",IF(ISBLANK(M11),\" \",M10-M11))","v":" "}]
["Spec","Sieve","Wt","% Passing","Wt","% Passing","Wt","% Passing","Wt","% Passing","Wt","% Passing","Wt","% Passing"]
["100",0.375,null,{"$f":"IF(ISBLANK(C$10),\"  \",IF(ISBLANK(C$11),\" \",IF(ISBLANK(C14),\" \",ROUND((C14+C$12)/C$10*100,1))))","v":"  "},null,{"$f":"IF(ISBLANK(E$10),\"  \",IF(ISBLANK(E$11),\" \",IF(ISBLANK(E14),\" \",ROUND((E14+E$12)/E$10*100,1))))","v":"  "},null,{"$f":"IF(ISBLANK(G$10),\"  \",IF(ISBLANK(G$11),\" \",IF(ISBLANK(G14),\" \",ROUND((G14+G$12)/G$10*100,1))))","v":"  "},null,{"$f":"IF(ISBLANK(I$10),\"  \",IF(ISBLANK(I$11),\" \",IF(ISBLANK(I14),\" \",ROUND((I14+I$12)/I$10*100,1))))","v":"  "},null,{"$f":"IF(ISBLANK(K$10),\"  \",IF(ISBLANK(K$11),\" \",IF(ISBLANK(K14),\" \",ROUND((K14+K$12)/K$10*100,1))))","v":"  "},null,{"$f":"IF(ISBLANK(M$10),\"  \",IF(ISBLANK(M$11),\" \",IF(ISBLANK(M14),\" \",ROUND((M14+M$12)/M$10*100,1))))","v":"  "}]
["Breaker",0.25,null,{"$f":"IF(ISBLANK(C$10),\"  \",IF(ISBLANK(C$11),\" \",IF(ISBLANK(C15),\" \",ROUND((C15+C$12)/C$10*100,0))))","v":"  "},null,{"$f":"IF(ISBLANK(E$10),\"  \",IF(ISBLANK(E$11),\" \",IF(ISBLANK(E15),\" \",ROUND((E15+E$12)/E$10*100,0))))","v":"  "},null,{"$f":"IF(ISBLANK(G$10),\"  \",IF(ISBLANK(G$11),\" \",IF(ISBLANK(G15),\" \",ROUND((G15+G$12)/G$10*100,0))))","v":"  "},null,{"$f":"IF(ISBLANK(I$10),\"  \",IF(ISBLANK(I$11),\" \",IF(ISBLANK(I15),\" \",ROUND((I15+I$12)/I$10*100,0))))","v":"  "},null,{"$f":"IF(ISBLANK(K$10),\"  \",IF(ISBLANK(K$11),\" \",IF(ISBLANK(K15),\" \",ROUND((K15+K$12)/K$10*100,0))))","v":"  "},null,{"$f":"IF(ISBLANK(M$10),\"  \",IF(ISBLANK(M$11),\" \",IF(ISBLANK(M15),\" \",ROUND((M15+M$12)/M$10*100,0))))","v":"  "}]
["85-100",4,null,{"$f":"IF(ISBLANK(C$10),\"  \",IF(ISBLANK(C$11),\" \",IF(ISBLANK(C16),\" \",ROUND((C16+C$12)/C$10*100,0))))","v":"  "},null,{"$f":"IF(ISBLANK(E$10),\"  \",IF(ISBLANK(E$11),\" \",IF(ISBLANK(E16),\" \",ROUND((E16+E$12)/E$10*100,0))))","v":"  "},null,{"$f":"IF(ISBLANK(G$10),\"  \",IF(ISBLANK(G$11),\" \",IF(ISBLANK(G16),\" \",ROUND((G16+G$12)/G$10*100,0))))","v":"  "},null,{"$f":"IF(ISBLANK(I$10),\"  \",IF(ISBLANK(I$11),\" \",IF(ISBLANK(I16),\" \",ROUND((I16+I$12)/I$10*100,0))))","v":"  "},null,{"$f":"IF(ISBLANK(K$10),\"  \",IF(ISBLANK(K$11),\" \",IF(ISBLANK(K16),\" \",ROUND((K16+K$12)/K$10*100,0))))","v":"  "},null,{"$f":"IF(ISBLANK(M$10),\"  \",IF(ISBLANK(M$11),\" \",IF(ISBLANK(M16),\" \",ROUND((M16+M$12)/M$10*100,0))))","v":"  "}]
["10-40",8,null,{"$f":"IF(ISBLANK(C$10),\"  \",IF(ISBLANK(C$11),\" \",IF(ISBLANK(C17),\" \",ROUND((C17+C$12)/C$10*100,0))))","v":"  "},null,{"$f":"IF(ISBLANK(E$10),\"  \",IF(ISBLANK(E$11),\" \",IF(ISBLANK(E17),\" \",ROUND((E17+E$12)/E$10*100,0))))","v":"  "},null,{"$f":"IF(ISBLANK(G$10),\"  \",IF(ISBLANK(G$11),\" \",IF(ISBLANK(G17),\" \",ROUND((G17+G$12)/G$10*100,0))))","v":"  "},null,{"$f":"IF(ISBLANK(I$10),\"  \",IF(ISBLANK(I$11),\" \",IF(ISBLANK(I17),\" \",ROUND((I17+I$12)/I$10*100,0))))","v":"  "},null,{"$f":"IF(ISBLANK(K$10),\"  \",IF(ISBLANK(K$11),\" \",IF(ISBLANK(K17),\" \",ROUND((K17+K$12)/K$10*100,0))))","v":"  "},null,{"$f":"IF(ISBLANK(M$10),\"  \",IF(ISBLANK(M$11),\" \",IF(ISBLANK(M17),\" \",ROUND((M17+M$12)/M$10*100,0))))","v":"  "}]
["0-10",16,null,{"$f":"IF(ISBLANK(C$10),\"  \",IF(ISBLANK(C$11),\" \",IF(ISBLANK(C18),\" \",ROUND((C18+C$12)/C$10*100,0))))","v":"  "},null,{"$f":"IF(ISBLANK(E$10),\"  \",IF(ISBLANK(E$11),\" \",IF(ISBLANK(E18),\" \",ROUND((E18+E$12)/E$10*100,0))))","v":"  "},null,{"$f":"IF(ISBLANK(G$10),\"  \",IF(ISBLANK(G$11),\" \",IF(ISBLANK(G18),\" \",ROUND((G18+G$12)/G$10*100,0))))","v":"  "},null,{"$f":"IF(ISBLANK(I$10),\"  \",IF(ISBLANK(I$11),\" \",IF(ISBLANK(I18),\" \",ROUND((I18+I$12)/I$10*100,0))))","v":"  "},null,{"$f":"IF(ISBLANK(K$10),\"  \",IF(ISBLANK(K$11),\" \",IF(ISBLANK(K18),\" \",ROUND((K18+K$12)/K$10*100,0))))","v":"  "},null,{"$f":"IF(ISBLANK(M$10),\"  \",IF(ISBLANK(M$11),\" \",IF(ISBLANK(M18),\" \",ROUND((M18+M$12)/M$10*100,0))))","v":"  "}]
["0-5",50,null,{"$f":"IF(ISBLANK(C$10),\"  \",IF(ISBLANK(C$11),\" \",IF(ISBLANK(C19),\" \",ROUND((C19+C$12)/C$10*100,0))))","v":"  "},null,{"$f":"IF(ISBLANK(E$10),\"  \",IF(ISBLANK(E$11),\" \",IF(ISBLANK(E19),\" \",ROUND((E19+E$12)/E$10*100,0))))","v":"  "},null,{"$f":"IF(ISBLANK(G$10),\"  \",IF(ISBLANK(G$11),\" \",IF(ISBLANK(G19),\" \",ROUND((G19+G$12)/G$10*100,0))))","v":"  "},null,{"$f":"IF(ISBLANK(I$10),\"  \",IF(ISBLANK(I$11),\" \",IF(ISBLANK(I19),\" \",ROUND((I19+I$12)/I$10*100,0))))","v":"  "},null,{"$f":"IF(ISBLANK(K$10),\"  \",IF(ISBLANK(K$11),\" \",IF(ISBLANK(K19),\" \",ROUND((K19+K$12)/K$10*100,0))))","v":"  "},null,{"$f":"IF(ISBLANK(M$10),\"  \",IF(ISBLANK(M$11),\" \",IF(ISBLANK(M19),\" \",ROUND((M19+M$12)/M$10*100,0))))","v":"  "}]
["0-2",200,null,{"$f":"IF(ISBLANK(C$10),\"  \",IF(ISBLANK(C$11),\" \",IF(ISBLANK(C20),\" \",ROUND((C20+C$12)/C$10*100,2))))","v":"  "},null,{"$f":"IF(ISBLANK(E$10),\"  \",IF(ISBLANK(E$11),\" \",IF(ISBLANK(E20),\" \",ROUND((E20+E$12)/E$10*100,2))))","v":"  "},null,{"$f":"IF(ISBLANK(G$10),\"  \",IF(ISBLANK(G$11),\" \",IF(ISBLANK(G20),\" \",ROUND((G20+G$12)/G$10*100,2))))","v":"  "},null,{"$f":"IF(ISBLANK(I$10),\"  \",IF(ISBLANK(I$11),\" \",IF(ISBLANK(I20),\" \",ROUND((I20+I$12)/I$10*100,2))))","v":"  "},null,{"$f":"IF(ISBLANK(K$10),\"  \",IF(ISBLANK(K$11),\" \",IF(ISBLANK(K20),\" \",ROUND((K20+K$12)/K$10*100,2))))","v":"  "},null,{"$f":"IF(ISBLANK(M$10),\"  \",IF(ISBLANK(M$11),\" \",IF(ISBLANK(M20),\" \",ROUND((M20+M$12)/M$10*100,2))))","v":"  "}]
["Tested By"]
["Remarks"]
[]
[]
[]
[]
["Sample No."]
["Date"]
[{"$f":"A10","v":"St. Wt. Before Wash."},null,null,"% Loss",null,"% Loss",null,"% Loss",null,"% Loss",null,"% Loss",null,"% Loss"]
[{"$f":"A11","v":"Dry. Wt. After Wash."},null,null,{"$f":"IF(ISBLANK(C29),\" \",IF(ISBLANK(C33),\" \",(C30-C33)/C30*100))","v":" "},null,{"$f":"IF(ISBLANK(E29),\" \",IF(ISBLANK(E33),\" \",(E30-E33)/E30*100))","v":" "},null,{"$f":"IF(ISBLANK(G29),\" \",IF(ISBLANK(G33),\" \",(G30-G33)/G30*100))","v":" "},null,{"$f":"IF(ISBLANK(I29),\" \",IF(ISBLANK(I33),\" \",(I30-I33)/I30*100))","v":" "},null,{"$f":"IF(ISBLANK(K29),\" \",IF(ISBLANK(K33),\" \",(K30-K33)/K30*100))","v":" "},null,{"$f":"IF(ISBLANK(M29),\" \",IF(ISBLANK(M33),\" \",(M30-M33)/M30*100))","v":" "}]
["Wt. Loss",null,{"$f":"IF(ISBLANK(C29),\" \",IF(ISBLANK(C30),\" \",C29-C30))","v":" "},null,{"$f":"IF(ISBLANK(E29),\" \",IF(ISBLANK(E30),\" \",E29-E30))","v":" "},null,{"$f":"IF(ISBLANK(G29),\" \",IF(ISBLANK(G30),\" \",G29-G30))","v":" "},null,{"$f":"IF(ISBLANK(I29),\" \",IF(ISBLANK(I30),\" \",I29-I30))","v":" "},null,{"$f":"IF(ISBLANK(K29),\" \",IF(ISBLANK(K30),\" \",K29-K30))","v":" "},null,{"$f":"IF(ISBLANK(M29),\" \",IF(ISBLANK(M30),\" \",M29-M30))","v":" "}]
["Spec","Sieve","Wt","% Passing","Wt","% Passing","Wt","% Passing","Wt","% Passing","Wt","% Passing","Wt","% Passing"]
[100,0.375,null,{"$f":"IF(ISBLANK(C$29),\"  \",IF(ISBLANK(C$30),\" \",IF(ISBLANK(C33),\" \",ROUND((C33+C$31)/C$29*100,1))))","v":"  "},null,{"$f":"IF(ISBLANK(E$29),\"  \",IF(ISBLANK(E$30),\" \",IF(ISBLANK(E33),\" \",ROUND((E33+E$31)/E$29*100,1))))","v":"  "},null,{"$f":"IF(ISBLANK(G$29),\"  \",IF(ISBLANK(G$30),\" \",IF(ISBLANK(G33),\" \",ROUND((G33+G$31)/G$29*100,1))))","v":"  "},null,{"$f":"IF(ISBLANK(I$29),\"  \",IF(ISBLANK(I$30),\" \",IF(ISBLANK(I33),\" \",ROUND((I33+I$31)/I$29*100,1))))","v":"  "},null,{"$f":"IF(ISBLANK(K$29),\"  \",IF(ISBLANK(K$30),\" \",IF(ISBLANK(K33),\" \",ROUND((K33+K$31)/K$29*100,1))))","v":"  "},null,{"$f":"IF(ISBLANK(M$29),\"  \",IF(ISBLANK(M$30),\" \",IF(ISBLANK(M33),\" \",ROUND((M33+M$31)/M$29*100,1))))","v":"  "}]
["Breaker",0.25,null,{"$f":"IF(ISBLANK(C$29),\"  \",IF(ISBLANK(C$30),\" \",IF(ISBLANK(C34),\" \",ROUND((C34+C$31)/C$29*100,0))))","v":"  "},null,{"$f":"IF(ISBLANK(E$29),\"  \",IF(ISBLANK(E$30),\" \",IF(ISBLANK(E34),\" \",ROUND((E34+E$31)/E$29*100,0))))","v":"  "},null,{"$f":"IF(ISBLANK(G$29),\"  \",IF(ISBLANK(G$30),\" \",IF(ISBLANK(G34),\" \",ROUND((G34+G$31)/G$29*100,0))))","v":"  "},null,{"$f":"IF(ISBLANK(I$29),\"  \",IF(ISBLANK(I$30),\" \",IF(ISBLANK(I34),\" \",ROUND((I34+I$31)/I$29*100,0))))","v":"  "},null,{"$f":"IF(ISBLANK(K$29),\"  \",IF(ISBLANK(K$30),\" \",IF(ISBLANK(K34),\" \",ROUND((K34+K$31)/K$29*100,0))))","v":"  "},null,{"$f":"IF(ISBLANK(M$29),\"  \",IF(ISBLANK(M$30),\" \",IF(ISBLANK(M34),\" \",ROUND((M34+M$31)/M$29*100,0))))","v":"  "}]
[{"$f":"A16","v":"85-100"},4,null,{"$f":"IF(ISBLANK(C$29),\"  \",IF(ISBLANK(C$30),\" \",IF(ISBLANK(C35),\" \",ROUND((C35+C$31)/C$29*100,0))))","v":"  "},null,{"$f":"IF(ISBLANK(E$29),\"  \",IF(ISBLANK(E$30),\" \",IF(ISBLANK(E35),\" \",ROUND((E35+E$31)/E$29*100,0))))","v":"  "},null,{"$f":"IF(ISBLANK(G$29),\"  \",IF(ISBLANK(G$30),\" \",IF(ISBLANK(G35),\" \",ROUND((G35+G$31)/G$29*100,0))))","v":"  "},null,{"$f":"IF(ISBLANK(I$29),\"  \",IF(ISBLANK(I$30),\" \",IF(ISBLANK(I35),\" \",ROUND((I35+I$31)/I$29*100,0))))","v":"  "},null,{"$f":"IF(ISBLANK(K$29),\"  \",IF(ISBLANK(K$30),\" \",IF(ISBLANK(K35),\" \",ROUND((K35+K$31)/K$29*100,0))))","v":"  "},null,{"$f":"IF(ISBLANK(M$29),\"  \",IF(ISBLANK(M$30),\" \",IF(ISBLANK(M35),\" \",ROUND((M35+M$31)/M$29*100,0))))","v":"  "}]
[{"$f":"A17","v":"10-40"},8,null,{"$f":"IF(ISBLANK(C$29),\"  \",IF(ISBLANK(C$30),\" \",IF(ISBLANK(C36),\" \",ROUND((C36+C$31)/C$29*100,0))))","v":"  "},null,{"$f":"IF(ISBLANK(E$29),\"  \",IF(ISBLANK(E$30),\" \",IF(ISBLANK(E36),\" \",ROUND((E36+E$31)/E$29*100,0))))","v":"  "},null,{"$f":"IF(ISBLANK(G$29),\"  \",IF(ISBLANK(G$30),\" \",IF(ISBLANK(G36),\" \",ROUND((G36+G$31)/G$29*100,0))))","v":"  "},null,{"$f":"IF(ISBLANK(I$29),\"  \",IF(ISBLANK(I$30),\" \",IF(ISBLANK(I36),\" \",ROUND((I36+I$31)/I$29*100,0))))","v":"  "},null,{"$f":"IF(ISBLANK(K$29),\"  \",IF(ISBLANK(K$30),\" \",IF(ISBLANK(K36),\" \",ROUND((K36+K$31)/K$29*100,0))))","v":"  "},null,{"$f":"IF(ISBLANK(M$29),\"  \",IF(ISBLANK(M$30),\" \",IF(ISBLANK(M36),\" \",ROUND((M36+M$31)/M$29*100,0))))","v":"  "}]
["0-10",16,null,{"$f":"IF(ISBLANK(C$29),\"  \",IF(ISBLANK(C$30),\" \",IF(ISBLANK(C37),\" \",ROUND((C37+C$31)/C$29*100,0))))","v":"  "},null,{"$f":"IF(ISBLANK(E$29),\"  \",IF(ISBLANK(E$30),\" \",IF(ISBLANK(E37),\" \",ROUND((E37+E$31)/E$29*100,0))))","v":"  "},null,{"$f":"IF(ISBLANK(G$29),\"  \",IF(ISBLANK(G$30),\" \",IF(ISBLANK(G37),\" \",ROUND((G37+G$31)/G$29*100,0))))","v":"  "},null,{"$f":"IF(ISBLANK(I$29),\"  \",IF(ISBLANK(I$30),\" \",IF(ISBLANK(I37),\" \",ROUND((I37+I$31)/I$29*100,0))))","v":"  "},null,{"$f":"IF(ISBLANK(K$29),\"  \",IF(ISBLANK(K$30),\" \",IF(ISBLANK(K37),\" \",ROUND((K37+K$31)/K$29*100,0))))","v":"  "},null,{"$f":"IF(ISBLANK(M$29),\"  \",IF(ISBLANK(M$30),\" \",IF(ISBLANK(M37),\" \",ROUND((M37+M$31)/M$29*100,0))))","v":"  "}]
[{"$f":"A19","v":"0-5"},50,null,{"$f":"IF(ISBLANK(C$29),\"  \",IF(ISBLANK(C$30),\" \",IF(ISBLANK(C38),\" \",ROUND((C38+C$31)/C$29*100,0))))","v":"  "},null,{"$f":"IF(ISBLANK(E$29),\"  \",IF(ISBLANK(E$30),\" \",IF(ISBLANK(E38),\" \",ROUND((E38+E$31)/E$29*100,0))))","v":"  "},null,{"$f":"IF(ISBLANK(G$29),\"  \",IF(ISBLANK(G$30),\" \",IF(ISBLANK(G38),\" \",ROUND((G38+G$31)/G$29*100,0))))","v":"  "},null,{"$f":"IF(ISBLANK(I$29),\"  \",IF(ISBLANK(I$30),\" \",IF(ISBLANK(I38),\" \",ROUND((I38+I$31)/I$29*100,0))))","v":"  "},null,{"$f":"IF(ISBLANK(K$29),\"  \",IF(ISBLANK(K$30),\" \",IF(ISBLANK(K38),\" \",ROUND((K38+K$31)/K$29*100,0))))","v":"  "},null,{"$f":"IF(ISBLANK(M$29),\"  \",IF(ISBLANK(M$30),\" \",IF(ISBLANK(M38),\" \",ROUND((M38+M$31)/M$29*100,0))))","v":"  "}]
[{"$f":"A20","v":"0-2"},200,null,{"$f":"IF(ISBLANK(C$29),\"  \",IF(ISBLANK(C$30),\" \",IF(ISBLANK(C39),\" \",ROUND((C39+C$31)/C$29*100,2))))","v":"  "},null,{"$f":"IF(ISBLANK(E$29),\"  \",IF(ISBLANK(E$30),\" \",IF(ISBLANK(E39),\" \",ROUND((E39+E$31)/E$29*100,2))))","v":"  "},null,{"$f":"IF(ISBLANK(G$29),\"  \",IF(ISBLANK(G$30),\" \",IF(ISBLANK(G39),\" \",ROUND((G39+G$31)/G$29*100,2))))","v":"  "},null,{"$f":"IF(ISBLANK(I$29),\"  \",IF(ISBLANK(I$30),\" \",IF(ISBLANK(I39),\" \",ROUND((I39+I$31)/I$29*100,2))))","v":"  "},null,{"$f":"IF(ISBLANK(K$29),\"  \",IF(ISBLANK(K$30),\" \",IF(ISBLANK(K39),\" \",ROUND((K39+K$31)/K$29*100,2))))","v":"  "},null,{"$f":"IF(ISBLANK(M$29),\"  \",IF(ISBLANK(M$30),\" \",IF(ISBLANK(M39),\" \",ROUND((M39+M$31)/M$29*100,2))))","v":"  "}]
["Tested By"]
["Remarks"]

{"sheet":"S8","index":7,"n_rows":41,"n_cols":14,"rows_kept":41,"cut":false,"hidden":true,"merged":[[39,10,39,11],[39,12,39,13],[40,0,43,1],[40,2,43,3],[40,4,43,5],[40,6,43,7],[40,8,43,9],[40,10,43,11],[40,12,43,13],[39,0,39,1],[39,2,39,3],[39,4,39,5],[39,6,39,7],[39,8,39,9],[27,12,27,13],[30,0,30,1],[30,2,30,3],[30,4,30,5],[30,6,30,7],[30,8,30,9],[30,10,30,11],[30,12,30,13],[27,2,27,3],[27,4,27,5],[27,6,27,7],[27,8,27,9],[27,10,27,11],[28,0,28,1],[27,0,27,1],[4,0,4,1],[11,0,11,1],[11,2,11,3],[29,0,29,1],[20,0,20,1],[20,2,20,3],[10,0,10,1],[9,0,9,1],[5,3,5,8],[21,0,24,1],[21,2,24,3],[21,4,24,5],[21,6,24,7],[21,8,24,9],[20,4,20,5],[20,6,20,7],[26,0,26,1],[26,4,26,5],[26,6,26,7],[26,2,26,3],[26,12,26,13],[26,8,26,9],[26,10,26,11],[11,10,11,11],[11,12,11,13],[11,4,11,5],[11,6,11,7],[11,8,11,9],[20,10,20,11],[20,12,20,13],[21,10,24,11],[21,12,24,13],[20,8,20,9],[7,10,7,11],[7,12,7,13],[8,0,8,1],[8,2,8,3],[8,4,8,5],[8,6,8,7],[8,8,8,9],[8,10,8,11],[8,12,8,13],[7,0,7,1],[7,2,7,3],[7,4,7,5],[7,6,7,7],[7,8,7,9],[0,0,3,1],[0,7,3,8],[1,2,1,6],[1,9,1,10],[1,11,1,12],[2,2,2,6],[2,9,2,10],[2,11,2,12],[3,2,3,6],[3,9,3,10],[3,11,3,12]]}
[]
[null,null,"COMMONWEALTH OF PENNSYLVANIA",null,null,null,null,null,null,"DISTRICT"]
[null,null,"DEPARTMENT OF TRANSPORTATION",null,null,null,null,null,null,"PLANT CODE"]
[null,null,"PENNSYLVANIA TURNPIKE COMMISSION",null,null,null,null,null,null,"AGG SIZE",null,"#9's"]
["Aggregate 2017"]
[null,null,null,"Material Test Results for #9 Aggregate"]
[]
["Sample No."]
["Date"]
["St. Wt. Before Wash.",null,null,"% Loss",null,"% Loss",null,"% Loss",null,"% Loss",null,"% Loss",null,"% Loss"]
["Dry. Wt. After Wash.",null,null,{"$f":"IF(ISBLANK(C10),\" \",IF(ISBLANK(C14),\" \",(C11-C14)/C11*100))","v":" "},null,{"$f":"IF(ISBLANK(E10),\" \",IF(ISBLANK(E14),\" \",(E11-E14)/E11*100))","v":" "},null,{"$f":"IF(ISBLANK(G10),\" \",IF(ISBLANK(G14),\" \",(G11-G14)/G11*100))","v":" "},null,{"$f":"IF(ISBLANK(I10),\" \",IF(ISBLANK(I14),\" \",(I11-I14)/I11*100))","v":" "},null,{"$f":"IF(ISBLANK(K10),\" \",IF(ISBLANK(K14),\" \",(K11-K14)/K11*100))","v":" "},null,{"$f":"IF(ISBLANK(M10),\" \",IF(ISBLANK(M14),\" \",(M11-M14)/M11*100))","v":" "}]
["Wt. Loss",null,{"$f":"IF(ISBLANK(C10),\" \",IF(ISBLANK(C11),\" \",C10-C11))","v":" "},null,{"$f":"IF(ISBLANK(E10),\" \",IF(ISBLANK(E11),\" \",E10-E11))","v":" "},null,{"$f":"IF(ISBLANK(G10),\" \",IF(ISBLANK(G11),\" \",G10-G11))","v":" "},null,{"$f":"IF(ISBLANK(I10),\" \",IF(ISBLANK(I11),\" \",I10-I11))","v":" "},null,{"$f":"IF(ISBLANK(K10),\" \",IF(ISBLANK(K11),\" \",K10-K11))","v":" "},null,{"$f":"IF(ISBLANK(M10),\" \",IF(ISBLANK(M11),\" \",M10-M11))","v":" "}]
["Spec","Sieve","Wt","% Passing","Wt","% Passing","Wt","% Passing","Wt","% Passing","Wt","% Passing","Wt","% Passing"]
["100",0.375,null,{"$f":"IF(ISBLANK(C$10),\"  \",IF(ISBLANK(C$11),\" \",IF(ISBLANK(C14),\" \",ROUND((C14+C$12)/C$10*100,1))))","v":"  "},null,{"$f":"IF(ISBLANK(E$10),\"  \",IF(ISBLANK(E$11),\" \",IF(ISBLANK(E14),\" \",ROUND((E14+E$12)/E$10*100,1))))","v":"  "},null,{"$f":"IF(ISBLANK(G$10),\"  \",IF(ISBLANK(G$11),\" \",IF(ISBLANK(G14),\" \",ROUND((G14+G$12)/G$10*100,1))))","v":"  "},null,{"$f":"IF(ISBLANK(I$10),\"  \",IF(ISBLANK(I$11),\" \",IF(ISBLANK(I14),\" \",ROUND((I14+I$12)/I$10*100,1))))","v":"  "},null,{"$f":"IF(ISBLANK(K$10),\"  \",IF(ISBLANK(K$11),\" \",IF(ISBLANK(K14),\" \",ROUND((K14+K$12)/K$10*100,1))))","v":"  "},null,{"$f":"IF(ISBLANK(M$10),\"  \",IF(ISBLANK(M$11),\" \",IF(ISBLANK(M14),\" \",ROUND((M14+M$12)/M$10*100,1))))","v":"  "}]
["Breaker",0.25,null,{"$f":"IF(ISBLANK(C$10),\"  \",IF(ISBLANK(C$11),\" \",IF(ISBLANK(C15),\" \",ROUND((C15+C$12)/C$10*100,0))))","v":"  "},null,{"$f":"IF(ISBLANK(E$10),\"  \",IF(ISBLANK(E$11),\" \",IF(ISBLANK(E15),\" \",ROUND((E15+E$12)/E$10*100,0))))","v":"  "},null,{"$f":"IF(ISBLANK(G$10),\"  \",IF(ISBLANK(G$11),\" \",IF(ISBLANK(G15),\" \",ROUND((G15+G$12)/G$10*100,0))))","v":"  "},null,{"$f":"IF(ISBLANK(I$10),\"  \",IF(ISBLANK(I$11),\" \",IF(ISBLANK(I15),\" \",ROUND((I15+I$12)/I$10*100,0))))","v":"  "},null,{"$f":"IF(ISBLANK(K$10),\"  \",IF(ISBLANK(K$11),\" \",IF(ISBLANK(K15),\" \",ROUND((K15+K$12)/K$10*100,0))))","v":"  "},null,{"$f":"IF(ISBLANK(M$10),\"  \",IF(ISBLANK(M$11),\" \",IF(ISBLANK(M15),\" \",ROUND((M15+M$12)/M$10*100,0))))","v":"  "}]
["85-100",4,null,{"$f":"IF(ISBLANK(C$10),\"  \",IF(ISBLANK(C$11),\" \",IF(ISBLANK(C16),\" \",ROUND((C16+C$12)/C$10*100,0))))","v":"  "},null,{"$f":"IF(ISBLANK(E$10),\"  \",IF(ISBLANK(E$11),\" \",IF(ISBLANK(E16),\" \",ROUND((E16+E$12)/E$10*100,0))))","v":"  "},null,{"$f":"IF(ISBLANK(G$10),\"  \",IF(ISBLANK(G$11),\" \",IF(ISBLANK(G16),\" \",ROUND((G16+G$12)/G$10*100,0))))","v":"  "},null,{"$f":"IF(ISBLANK(I$10),\"  \",IF(ISBLANK(I$11),\" \",IF(ISBLANK(I16),\" \",ROUND((I16+I$12)/I$10*100,0))))","v":"  "},null,{"$f":"IF(ISBLANK(K$10),\"  \",IF(ISBLANK(K$11),\" \",IF(ISBLANK(K16),\" \",ROUND((K16+K$12)/K$10*100,0))))","v":"  "},null,{"$f":"IF(ISBLANK(M$10),\"  \",IF(ISBLANK(M$11),\" \",IF(ISBLANK(M16),\" \",ROUND((M16+M$12)/M$10*100,0))))","v":"  "}]
["10-40",8,null,{"$f":"IF(ISBLANK(C$10),\"  \",IF(ISBLANK(C$11),\" \",IF(ISBLANK(C17),\" \",ROUND((C17+C$12)/C$10*100,0))))","v":"  "},null,{"$f":"IF(ISBLANK(E$10),\"  \",IF(ISBLANK(E$11),\" \",IF(ISBLANK(E17),\" \",ROUND((E17+E$12)/E$10*100,0))))","v":"  "},null,{"$f":"IF(ISBLANK(G$10),\"  \",IF(ISBLANK(G$11),\" \",IF(ISBLANK(G17),\" \",ROUND((G17+G$12)/G$10*100,0))))","v":"  "},null,{"$f":"IF(ISBLANK(I$10),\"  \",IF(ISBLANK(I$11),\" \",IF(ISBLANK(I17),\" \",ROUND((I17+I$12)/I$10*100,0))))","v":"  "},null,{"$f":"IF(ISBLANK(K$10),\"  \",IF(ISBLANK(K$11),\" \",IF(ISBLANK(K17),\" \",ROUND((K17+K$12)/K$10*100,0))))","v":"  "},null,{"$f":"IF(ISBLANK(M$10),\"  \",IF(ISBLANK(M$11),\" \",IF(ISBLANK(M17),\" \",ROUND((M17+M$12)/M$10*100,0))))","v":"  "}]
["0-10",16,null,{"$f":"IF(ISBLANK(C$10),\"  \",IF(ISBLANK(C$11),\" \",IF(ISBLANK(C18),\" \",ROUND((C18+C$12)/C$10*100,0))))","v":"  "},null,{"$f":"IF(ISBLANK(E$10),\"  \",IF(ISBLANK(E$11),\" \",IF(ISBLANK(E18),\" \",ROUND((E18+E$12)/E$10*100,0))))","v":"  "},null,{"$f":"IF(ISBLANK(G$10),\"  \",IF(ISBLANK(G$11),\" \",IF(ISBLANK(G18),\" \",ROUND((G18+G$12)/G$10*100,0))))","v":"  "},null,{"$f":"IF(ISBLANK(I$10),\"  \",IF(ISBLANK(I$11),\" \",IF(ISBLANK(I18),\" \",ROUND((I18+I$12)/I$10*100,0))))","v":"  "},null,{"$f":"IF(ISBLANK(K$10),\"  \",IF(ISBLANK(K$11),\" \",IF(ISBLANK(K18),\" \",ROUND((K18+K$12)/K$10*100,0))))","v":"  "},null,{"$f":"IF(ISBLANK(M$10),\"  \",IF(ISBLANK(M$11),\" \",IF(ISBLANK(M18),\" \",ROUND((M18+M$12)/M$10*100,0))))","v":"  "}]
["0-5",50,null,{"$f":"IF(ISBLANK(C$10),\"  \",IF(ISBLANK(C$11),\" \",IF(ISBLANK(C19),\" \",ROUND((C19+C$12)/C$10*100,0))))","v":"  "},null,{"$f":"IF(ISBLANK(E$10),\"  \",IF(ISBLANK(E$11),\" \",IF(ISBLANK(E19),\" \",ROUND((E19+E$12)/E$10*100,0))))","v":"  "},null,{"$f":"IF(ISBLANK(G$10),\"  \",IF(ISBLANK(G$11),\" \",IF(ISBLANK(G19),\" \",ROUND((G19+G$12)/G$10*100,0))))","v":"  "},null,{"$f":"IF(ISBLANK(I$10),\"  \",IF(ISBLANK(I$11),\" \",IF(ISBLANK(I19),\" \",ROUND((I19+I$12)/I$10*100,0))))","v":"  "},null,{"$f":"IF(ISBLANK(K$10),\"  \",IF(ISBLANK(K$11),\" \",IF(ISBLANK(K19),\" \",ROUND((K19+K$12)/K$10*100,0))))","v":"  "},null,{"$f":"IF(ISBLANK(M$10),\"  \",IF(ISBLANK(M$11),\" \",IF(ISBLANK(M19),\" \",ROUND((M19+M$12)/M$10*100,0))))","v":"  "}]
["0-2",200,null,{"$f":"IF(ISBLANK(C$10),\"  \",IF(ISBLANK(C$11),\" \",IF(ISBLANK(C20),\" \",ROUND((C20+C$12)/C$10*100,2))))","v":"  "},null,{"$f":"IF(ISBLANK(E$10),\"  \",IF(ISBLANK(E$11),\" \",IF(ISBLANK(E20),\" \",ROUND((E20+E$12)/E$10*100,2))))","v":"  "},null,{"$f":"IF(ISBLANK(G$10),\"  \",IF(ISBLANK(G$11),\" \",IF(ISBLANK(G20),\" \",ROUND((G20+G$12)/G$10*100,2))))","v":"  "},null,{"$f":"IF(ISBLANK(I$10),\"  \",IF(ISBLANK(I$11),\" \",IF(ISBLANK(I20),\" \",ROUND((I20+I$12)/I$10*100,2))))","v":"  "},null,{"$f":"IF(ISBLANK(K$10),\"  \",IF(ISBLANK(K$11),\" \",IF(ISBLANK(K20),\" \",ROUND((K20+K$12)/K$10*100,2))))","v":"  "},null,{"$f":"IF(ISBLANK(M$10),\"  \",IF(ISBLANK(M$11),\" \",IF(ISBLANK(M20),\" \",ROUND((M20+M$12)/M$10*100,2))))","v":"  "}]
["Tested By"]
["Remarks"]
[]
[]
[]
[]
["Sample No."]
["Date"]
[{"$f":"A10","v":"St. Wt. Before Wash."},null,null,"% Loss",null,"% Loss",null,"% Loss",null,"% Loss",null,"% Loss",null,"% Loss"]
[{"$f":"A11","v":"Dry. Wt. After Wash."},null,null,{"$f":"IF(ISBLANK(C29),\" \",IF(ISBLANK(C33),\" \",(C30-C33)/C30*100))","v":" "},null,{"$f":"IF(ISBLANK(E29),\" \",IF(ISBLANK(E33),\" \",(E30-E33)/E30*100))","v":" "},null,{"$f":"IF(ISBLANK(G29),\" \",IF(ISBLANK(G33),\" \",(G30-G33)/G30*100))","v":" "},null,{"$f":"IF(ISBLANK(I29),\" \",IF(ISBLANK(I33),\" \",(I30-I33)/I30*100))","v":" "},null,{"$f":"IF(ISBLANK(K29),\" \",IF(ISBLANK(K33),\" \",(K30-K33)/K30*100))","v":" "},null,{"$f":"IF(ISBLANK(M29),\" \",IF(ISBLANK(M33),\" \",(M30-M33)/M30*100))","v":" "}]
["Wt. Loss",null,{"$f":"IF(ISBLANK(C29),\" \",IF(ISBLANK(C30),\" \",C29-C30))","v":" "},null,{"$f":"IF(ISBLANK(E29),\" \",IF(ISBLANK(E30),\" \",E29-E30))","v":" "},null,{"$f":"IF(ISBLANK(G29),\" \",IF(ISBLANK(G30),\" \",G29-G30))","v":" "},null,{"$f":"IF(ISBLANK(I29),\" \",IF(ISBLANK(I30),\" \",I29-I30))","v":" "},null,{"$f":"IF(ISBLANK(K29),\" \",IF(ISBLANK(K30),\" \",K29-K30))","v":" "},null,{"$f":"IF(ISBLANK(M29),\" \",IF(ISBLANK(M30),\" \",M29-M30))","v":" "}]
["Spec","Sieve","Wt","% Passing","Wt","% Passing","Wt","% Passing","Wt","% Passing","Wt","% Passing","Wt","% Passing"]
[100,0.375,null,{"$f":"IF(ISBLANK(C$29),\"  \",IF(ISBLANK(C$30),\" \",IF(ISBLANK(C33),\" \",ROUND((C33+C$31)/C$29*100,1))))","v":"  "},null,{"$f":"IF(ISBLANK(E$29),\"  \",IF(ISBLANK(E$30),\" \",IF(ISBLANK(E33),\" \",ROUND((E33+E$31)/E$29*100,1))))","v":"  "},null,{"$f":"IF(ISBLANK(G$29),\"  \",IF(ISBLANK(G$30),\" \",IF(ISBLANK(G33),\" \",ROUND((G33+G$31)/G$29*100,1))))","v":"  "},null,{"$f":"IF(ISBLANK(I$29),\"  \",IF(ISBLANK(I$30),\" \",IF(ISBLANK(I33),\" \",ROUND((I33+I$31)/I$29*100,1))))","v":"  "},null,{"$f":"IF(ISBLANK(K$29),\"  \",IF(ISBLANK(K$30),\" \",IF(ISBLANK(K33),\" \",ROUND((K33+K$31)/K$29*100,1))))","v":"  "},null,{"$f":"IF(ISBLANK(M$29),\"  \",IF(ISBLANK(M$30),\" \",IF(ISBLANK(M33),\" \",ROUND((M33+M$31)/M$29*100,1))))","v":"  "}]
["Breaker",0.25,null,{"$f":"IF(ISBLANK(C$29),\"  \",IF(ISBLANK(C$30),\" \",IF(ISBLANK(C34),\" \",ROUND((C34+C$31)/C$29*100,0))))","v":"  "},null,{"$f":"IF(ISBLANK(E$29),\"  \",IF(ISBLANK(E$30),\" \",IF(ISBLANK(E34),\" \",ROUND((E34+E$31)/E$29*100,0))))","v":"  "},null,{"$f":"IF(ISBLANK(G$29),\"  \",IF(ISBLANK(G$30),\" \",IF(ISBLANK(G34),\" \",ROUND((G34+G$31)/G$29*100,0))))","v":"  "},null,{"$f":"IF(ISBLANK(I$29),\"  \",IF(ISBLANK(I$30),\" \",IF(ISBLANK(I34),\" \",ROUND((I34+I$31)/I$29*100,0))))","v":"  "},null,{"$f":"IF(ISBLANK(K$29),\"  \",IF(ISBLANK(K$30),\" \",IF(ISBLANK(K34),\" \",ROUND((K34+K$31)/K$29*100,0))))","v":"  "},null,{"$f":"IF(ISBLANK(M$29),\"  \",IF(ISBLANK(M$30),\" \",IF(ISBLANK(M34),\" \",ROUND((M34+M$31)/M$29*100,0))))","v":"  "}]
[{"$f":"A16","v":"85-100"},4,null,{"$f":"IF(ISBLANK(C$29),\"  \",IF(ISBLANK(C$30),\" \",IF(ISBLANK(C35),\" \",ROUND((C35+C$31)/C$29*100,0))))","v":"  "},null,{"$f":"IF(ISBLANK(E$29),\"  \",IF(ISBLANK(E$30),\" \",IF(ISBLANK(E35),\" \",ROUND((E35+E$31)/E$29*100,0))))","v":"  "},null,{"$f":"IF(ISBLANK(G$29),\"  \",IF(ISBLANK(G$30),\" \",IF(ISBLANK(G35),\" \",ROUND((G35+G$31)/G$29*100,0))))","v":"  "},null,{"$f":"IF(ISBLANK(I$29),\"  \",IF(ISBLANK(I$30),\" \",IF(ISBLANK(I35),\" \",ROUND((I35+I$31)/I$29*100,0))))","v":"  "},null,{"$f":"IF(ISBLANK(K$29),\"  \",IF(ISBLANK(K$30),\" \",IF(ISBLANK(K35),\" \",ROUND((K35+K$31)/K$29*100,0))))","v":"  "},null,{"$f":"IF(ISBLANK(M$29),\"  \",IF(ISBLANK(M$30),\" \",IF(ISBLANK(M35),\" \",ROUND((M35+M$31)/M$29*100,0))))","v":"  "}]
[{"$f":"A17","v":"10-40"},8,null,{"$f":"IF(ISBLANK(C$29),\"  \",IF(ISBLANK(C$30),\" \",IF(ISBLANK(C36),\" \",ROUND((C36+C$31)/C$29*100,0))))","v":"  "},null,{"$f":"IF(ISBLANK(E$29),\"  \",IF(ISBLANK(E$30),\" \",IF(ISBLANK(E36),\" \",ROUND((E36+E$31)/E$29*100,0))))","v":"  "},null,{"$f":"IF(ISBLANK(G$29),\"  \",IF(ISBLANK(G$30),\" \",IF(ISBLANK(G36),\" \",ROUND((G36+G$31)/G$29*100,0))))","v":"  "},null,{"$f":"IF(ISBLANK(I$29),\"  \",IF(ISBLANK(I$30),\" \",IF(ISBLANK(I36),\" \",ROUND((I36+I$31)/I$29*100,0))))","v":"  "},null,{"$f":"IF(ISBLANK(K$29),\"  \",IF(ISBLANK(K$30),\" \",IF(ISBLANK(K36),\" \",ROUND((K36+K$31)/K$29*100,0))))","v":"  "},null,{"$f":"IF(ISBLANK(M$29),\"  \",IF(ISBLANK(M$30),\" \",IF(ISBLANK(M36),\" \",ROUND((M36+M$31)/M$29*100,0))))","v":"  "}]
["0-10",16,null,{"$f":"IF(ISBLANK(C$29),\"  \",IF(ISBLANK(C$30),\" \",IF(ISBLANK(C37),\" \",ROUND((C37+C$31)/C$29*100,0))))","v":"  "},null,{"$f":"IF(ISBLANK(E$29),\"  \",IF(ISBLANK(E$30),\" \",IF(ISBLANK(E37),\" \",ROUND((E37+E$31)/E$29*100,0))))","v":"  "},null,{"$f":"IF(ISBLANK(G$29),\"  \",IF(ISBLANK(G$30),\" \",IF(ISBLANK(G37),\" \",ROUND((G37+G$31)/G$29*100,0))))","v":"  "},null,{"$f":"IF(ISBLANK(I$29),\"  \",IF(ISBLANK(I$30),\" \",IF(ISBLANK(I37),\" \",ROUND((I37+I$31)/I$29*100,0))))","v":"  "},null,{"$f":"IF(ISBLANK(K$29),\"  \",IF(ISBLANK(K$30),\" \",IF(ISBLANK(K37),\" \",ROUND((K37+K$31)/K$29*100,0))))","v":"  "},null,{"$f":"IF(ISBLANK(M$29),\"  \",IF(ISBLANK(M$30),\" \",IF(ISBLANK(M37),\" \",ROUND((M37+M$31)/M$29*100,0))))","v":"  "}]
[{"$f":"A19","v":"0-5"},50,null,{"$f":"IF(ISBLANK(C$29),\"  \",IF(ISBLANK(C$30),\" \",IF(ISBLANK(C38),\" \",ROUND((C38+C$31)/C$29*100,0))))","v":"  "},null,{"$f":"IF(ISBLANK(E$29),\"  \",IF(ISBLANK(E$30),\" \",IF(ISBLANK(E38),\" \",ROUND((E38+E$31)/E$29*100,0))))","v":"  "},null,{"$f":"IF(ISBLANK(G$29),\"  \",IF(ISBLANK(G$30),\" \",IF(ISBLANK(G38),\" \",ROUND((G38+G$31)/G$29*100,0))))","v":"  "},null,{"$f":"IF(ISBLANK(I$29),\"  \",IF(ISBLANK(I$30),\" \",IF(ISBLANK(I38),\" \",ROUND((I38+I$31)/I$29*100,0))))","v":"  "},null,{"$f":"IF(ISBLANK(K$29),\"  \",IF(ISBLANK(K$30),\" \",IF(ISBLANK(K38),\" \",ROUND((K38+K$31)/K$29*100,0))))","v":"  "},null,{"$f":"IF(ISBLANK(M$29),\"  \",IF(ISBLANK(M$30),\" \",IF(ISBLANK(M38),\" \",ROUND((M38+M$31)/M$29*100,0))))","v":"  "}]
[{"$f":"A20","v":"0-2"},200,null,{"$f":"IF(ISBLANK(C$29),\"  \",IF(ISBLANK(C$30),\" \",IF(ISBLANK(C39),\" \",ROUND((C39+C$31)/C$29*100,2))))","v":"  "},null,{"$f":"IF(ISBLANK(E$29),\"  \",IF(ISBLANK(E$30),\" \",IF(ISBLANK(E39),\" \",ROUND((E39+E$31)/E$29*100,2))))","v":"  "},null,{"$f":"IF(ISBLANK(G$29),\"  \",IF(ISBLANK(G$30),\" \",IF(ISBLANK(G39),\" \",ROUND((G39+G$31)/G$29*100,2))))","v":"  "},null,{"$f":"IF(ISBLANK(I$29),\"  \",IF(ISBLANK(I$30),\" \",IF(ISBLANK(I39),\" \",ROUND((I39+I$31)/I$29*100,2))))","v":"  "},null,{"$f":"IF(ISBLANK(K$29),\"  \",IF(ISBLANK(K$30),\" \",IF(ISBLANK(K39),\" \",ROUND((K39+K$31)/K$29*100,2))))","v":"  "},null,{"$f":"IF(ISBLANK(M$29),\"  \",IF(ISBLANK(M$30),\" \",IF(ISBLANK(M39),\" \",ROUND((M39+M$31)/M$29*100,2))))","v":"  "}]
["Tested By"]
["Remarks"]

{"sheet":"S9","index":8,"n_rows":41,"n_cols":14,"rows_kept":41,"cut":false,"hidden":true,"merged":[[39,10,39,11],[39,12,39,13],[40,0,43,1],[40,2,43,3],[40,4,43,5],[40,6,43,7],[40,8,43,9],[40,10,43,11],[40,12,43,13],[39,0,39,1],[39,2,39,3],[39,4,39,5],[39,6,39,7],[39,8,39,9],[27,12,27,13],[30,0,30,1],[30,2,30,3],[30,4,30,5],[30,6,30,7],[30,8,30,9],[30,10,30,11],[30,12,30,13],[27,2,27,3],[27,4,27,5],[27,6,27,7],[27,8,27,9],[27,10,27,11],[28,0,28,1],[27,0,27,1],[4,0,4,1],[11,0,11,1],[11,2,11,3],[29,0,29,1],[20,0,20,1],[20,2,20,3],[10,0,10,1],[9,0,9,1],[5,3,5,8],[21,0,24,1],[21,2,24,3],[21,4,24,5],[21,6,24,7],[21,8,24,9],[20,4,20,5],[20,6,20,7],[26,0,26,1],[26,4,26,5],[26,6,26,7],[26,2,26,3],[26,12,26,13],[26,8,26,9],[26,10,26,11],[11,10,11,11],[11,12,11,13],[11,4,11,5],[11,6,11,7],[11,8,11,9],[20,10,20,11],[20,12,20,13],[21,10,24,11],[21,12,24,13],[20,8,20,9],[7,10,7,11],[7,12,7,13],[8,0,8,1],[8,2,8,3],[8,4,8,5],[8,6,8,7],[8,8,8,9],[8,10,8,11],[8,12,8,13],[7,0,7,1],[7,2,7,3],[7,4,7,5],[7,6,7,7],[7,8,7,9],[0,0,3,1],[0,7,3,8],[1,2,1,6],[1,9,1,10],[1,11,1,12],[2,2,2,6],[2,9,2,10],[2,11,2,12],[3,2,3,6],[3,9,3,10],[3,11,3,12]]}
[]
[null,null,"COMMONWEALTH OF PENNSYLVANIA",null,null,null,null,null,null,"DISTRICT"]
[null,null,"DEPARTMENT OF TRANSPORTATION",null,null,null,null,null,null,"PLANT CODE"]
[null,null,"PENNSYLVANIA TURNPIKE COMMISSION",null,null,null,null,null,null,"AGG SIZE",null,"#9's"]
["Aggregate 2017"]
[null,null,null,"Material Test Results for #9 Aggregate"]
[]
["Sample No."]
["Date"]
["St. Wt. Before Wash.",null,null,"% Loss",null,"% Loss",null,"% Loss",null,"% Loss",null,"% Loss",null,"% Loss"]
["Dry. Wt. After Wash.",null,null,{"$f":"IF(ISBLANK(C10),\" \",IF(ISBLANK(C14),\" \",(C11-C14)/C11*100))","v":" "},null,{"$f":"IF(ISBLANK(E10),\" \",IF(ISBLANK(E14),\" \",(E11-E14)/E11*100))","v":" "},null,{"$f":"IF(ISBLANK(G10),\" \",IF(ISBLANK(G14),\" \",(G11-G14)/G11*100))","v":" "},null,{"$f":"IF(ISBLANK(I10),\" \",IF(ISBLANK(I14),\" \",(I11-I14)/I11*100))","v":" "},null,{"$f":"IF(ISBLANK(K10),\" \",IF(ISBLANK(K14),\" \",(K11-K14)/K11*100))","v":" "},null,{"$f":"IF(ISBLANK(M10),\" \",IF(ISBLANK(M14),\" \",(M11-M14)/M11*100))","v":" "}]
["Wt. Loss",null,{"$f":"IF(ISBLANK(C10),\" \",IF(ISBLANK(C11),\" \",C10-C11))","v":" "},null,{"$f":"IF(ISBLANK(E10),\" \",IF(ISBLANK(E11),\" \",E10-E11))","v":" "},null,{"$f":"IF(ISBLANK(G10),\" \",IF(ISBLANK(G11),\" \",G10-G11))","v":" "},null,{"$f":"IF(ISBLANK(I10),\" \",IF(ISBLANK(I11),\" \",I10-I11))","v":" "},null,{"$f":"IF(ISBLANK(K10),\" \",IF(ISBLANK(K11),\" \",K10-K11))","v":" "},null,{"$f":"IF(ISBLANK(M10),\" \",IF(ISBLANK(M11),\" \",M10-M11))","v":" "}]
["Spec","Sieve","Wt","% Passing","Wt","% Passing","Wt","% Passing","Wt","% Passing","Wt","% Passing","Wt","% Passing"]
["100",0.375,null,{"$f":"IF(ISBLANK(C$10),\"  \",IF(ISBLANK(C$11),\" \",IF(ISBLANK(C14),\" \",ROUND((C14+C$12)/C$10*100,1))))","v":"  "},null,{"$f":"IF(ISBLANK(E$10),\"  \",IF(ISBLANK(E$11),\" \",IF(ISBLANK(E14),\" \",ROUND((E14+E$12)/E$10*100,1))))","v":"  "},null,{"$f":"IF(ISBLANK(G$10),\"  \",IF(ISBLANK(G$11),\" \",IF(ISBLANK(G14),\" \",ROUND((G14+G$12)/G$10*100,1))))","v":"  "},null,{"$f":"IF(ISBLANK(I$10),\"  \",IF(ISBLANK(I$11),\" \",IF(ISBLANK(I14),\" \",ROUND((I14+I$12)/I$10*100,1))))","v":"  "},null,{"$f":"IF(ISBLANK(K$10),\"  \",IF(ISBLANK(K$11),\" \",IF(ISBLANK(K14),\" \",ROUND((K14+K$12)/K$10*100,1))))","v":"  "},null,{"$f":"IF(ISBLANK(M$10),\"  \",IF(ISBLANK(M$11),\" \",IF(ISBLANK(M14),\" \",ROUND((M14+M$12)/M$10*100,1))))","v":"  "}]
["Breaker",0.25,null,{"$f":"IF(ISBLANK(C$10),\"  \",IF(ISBLANK(C$11),\" \",IF(ISBLANK(C15),\" \",ROUND((C15+C$12)/C$10*100,0))))","v":"  "},null,{"$f":"IF(ISBLANK(E$10),\"  \",IF(ISBLANK(E$11),\" \",IF(ISBLANK(E15),\" \",ROUND((E15+E$12)/E$10*100,0))))","v":"  "},null,{"$f":"IF(ISBLANK(G$10),\"  \",IF(ISBLANK(G$11),\" \",IF(ISBLANK(G15),\" \",ROUND((G15+G$12)/G$10*100,0))))","v":"  "},null,{"$f":"IF(ISBLANK(I$10),\"  \",IF(ISBLANK(I$11),\" \",IF(ISBLANK(I15),\" \",ROUND((I15+I$12)/I$10*100,0))))","v":"  "},null,{"$f":"IF(ISBLANK(K$10),\"  \",IF(ISBLANK(K$11),\" \",IF(ISBLANK(K15),\" \",ROUND((K15+K$12)/K$10*100,0))))","v":"  "},null,{"$f":"IF(ISBLANK(M$10),\"  \",IF(ISBLANK(M$11),\" \",IF(ISBLANK(M15),\" \",ROUND((M15+M$12)/M$10*100,0))))","v":"  "}]
["85-100",4,null,{"$f":"IF(ISBLANK(C$10),\"  \",IF(ISBLANK(C$11),\" \",IF(ISBLANK(C16),\" \",ROUND((C16+C$12)/C$10*100,0))))","v":"  "},null,{"$f":"IF(ISBLANK(E$10),\"  \",IF(ISBLANK(E$11),\" \",IF(ISBLANK(E16),\" \",ROUND((E16+E$12)/E$10*100,0))))","v":"  "},null,{"$f":"IF(ISBLANK(G$10),\"  \",IF(ISBLANK(G$11),\" \",IF(ISBLANK(G16),\" \",ROUND((G16+G$12)/G$10*100,0))))","v":"  "},null,{"$f":"IF(ISBLANK(I$10),\"  \",IF(ISBLANK(I$11),\" \",IF(ISBLANK(I16),\" \",ROUND((I16+I$12)/I$10*100,0))))","v":"  "},null,{"$f":"IF(ISBLANK(K$10),\"  \",IF(ISBLANK(K$11),\" \",IF(ISBLANK(K16),\" \",ROUND((K16+K$12)/K$10*100,0))))","v":"  "},null,{"$f":"IF(ISBLANK(M$10),\"  \",IF(ISBLANK(M$11),\" \",IF(ISBLANK(M16),\" \",ROUND((M16+M$12)/M$10*100,0))))","v":"  "}]
["10-40",8,null,{"$f":"IF(ISBLANK(C$10),\"  \",IF(ISBLANK(C$11),\" \",IF(ISBLANK(C17),\" \",ROUND((C17+C$12)/C$10*100,0))))","v":"  "},null,{"$f":"IF(ISBLANK(E$10),\"  \",IF(ISBLANK(E$11),\" \",IF(ISBLANK(E17),\" \",ROUND((E17+E$12)/E$10*100,0))))","v":"  "},null,{"$f":"IF(ISBLANK(G$10),\"  \",IF(ISBLANK(G$11),\" \",IF(ISBLANK(G17),\" \",ROUND((G17+G$12)/G$10*100,0))))","v":"  "},null,{"$f":"IF(ISBLANK(I$10),\"  \",IF(ISBLANK(I$11),\" \",IF(ISBLANK(I17),\" \",ROUND((I17+I$12)/I$10*100,0))))","v":"  "},null,{"$f":"IF(ISBLANK(K$10),\"  \",IF(ISBLANK(K$11),\" \",IF(ISBLANK(K17),\" \",ROUND((K17+K$12)/K$10*100,0))))","v":"  "},null,{"$f":"IF(ISBLANK(M$10),\"  \",IF(ISBLANK(M$11),\" \",IF(ISBLANK(M17),\" \",ROUND((M17+M$12)/M$10*100,0))))","v":"  "}]
["0-10",16,null,{"$f":"IF(ISBLANK(C$10),\"  \",IF(ISBLANK(C$11),\" \",IF(ISBLANK(C18),\" \",ROUND((C18+C$12)/C$10*100,0))))","v":"  "},null,{"$f":"IF(ISBLANK(E$10),\"  \",IF(ISBLANK(E$11),\" \",IF(ISBLANK(E18),\" \",ROUND((E18+E$12)/E$10*100,0))))","v":"  "},null,{"$f":"IF(ISBLANK(G$10),\"  \",IF(ISBLANK(G$11),\" \",IF(ISBLANK(G18),\" \",ROUND((G18+G$12)/G$10*100,0))))","v":"  "},null,{"$f":"IF(ISBLANK(I$10),\"  \",IF(ISBLANK(I$11),\" \",IF(ISBLANK(I18),\" \",ROUND((I18+I$12)/I$10*100,0))))","v":"  "},null,{"$f":"IF(ISBLANK(K$10),\"  \",IF(ISBLANK(K$11),\" \",IF(ISBLANK(K18),\" \",ROUND((K18+K$12)/K$10*100,0))))","v":"  "},null,{"$f":"IF(ISBLANK(M$10),\"  \",IF(ISBLANK(M$11),\" \",IF(ISBLANK(M18),\" \",ROUND((M18+M$12)/M$10*100,0))))","v":"  "}]
["0-5",50,null,{"$f":"IF(ISBLANK(C$10),\"  \",IF(ISBLANK(C$11),\" \",IF(ISBLANK(C19),\" \",ROUND((C19+C$12)/C$10*100,0))))","v":"  "},null,{"$f":"IF(ISBLANK(E$10),\"  \",IF(ISBLANK(E$11),\" \",IF(ISBLANK(E19),\" \",ROUND((E19+E$12)/E$10*100,0))))","v":"  "},null,{"$f":"IF(ISBLANK(G$10),\"  \",IF(ISBLANK(G$11),\" \",IF(ISBLANK(G19),\" \",ROUND((G19+G$12)/G$10*100,0))))","v":"  "},null,{"$f":"IF(ISBLANK(I$10),\"  \",IF(ISBLANK(I$11),\" \",IF(ISBLANK(I19),\" \",ROUND((I19+I$12)/I$10*100,0))))","v":"  "},null,{"$f":"IF(ISBLANK(K$10),\"  \",IF(ISBLANK(K$11),\" \",IF(ISBLANK(K19),\" \",ROUND((K19+K$12)/K$10*100,0))))","v":"  "},null,{"$f":"IF(ISBLANK(M$10),\"  \",IF(ISBLANK(M$11),\" \",IF(ISBLANK(M19),\" \",ROUND((M19+M$12)/M$10*100,0))))","v":"  "}]
["0-2",200,null,{"$f":"IF(ISBLANK(C$10),\"  \",IF(ISBLANK(C$11),\" \",IF(ISBLANK(C20),\" \",ROUND((C20+C$12)/C$10*100,2))))","v":"  "},null,{"$f":"IF(ISBLANK(E$10),\"  \",IF(ISBLANK(E$11),\" \",IF(ISBLANK(E20),\" \",ROUND((E20+E$12)/E$10*100,2))))","v":"  "},null,{"$f":"IF(ISBLANK(G$10),\"  \",IF(ISBLANK(G$11),\" \",IF(ISBLANK(G20),\" \",ROUND((G20+G$12)/G$10*100,2))))","v":"  "},null,{"$f":"IF(ISBLANK(I$10),\"  \",IF(ISBLANK(I$11),\" \",IF(ISBLANK(I20),\" \",ROUND((I20+I$12)/I$10*100,2))))","v":"  "},null,{"$f":"IF(ISBLANK(K$10),\"  \",IF(ISBLANK(K$11),\" \",IF(ISBLANK(K20),\" \",ROUND((K20+K$12)/K$10*100,2))))","v":"  "},null,{"$f":"IF(ISBLANK(M$10),\"  \",IF(ISBLANK(M$11),\" \",IF(ISBLANK(M20),\" \",ROUND((M20+M$12)/M$10*100,2))))","v":"  "}]
["Tested By"]
["Remarks"]
[]
[]
[]
[]
["Sample No."]
["Date"]
[{"$f":"A10","v":"St. Wt. Before Wash."},null,null,"% Loss",null,"% Loss",null,"% Loss",null,"% Loss",null,"% Loss",null,"% Loss"]
[{"$f":"A11","v":"Dry. Wt. After Wash."},null,null,{"$f":"IF(ISBLANK(C29),\" \",IF(ISBLANK(C33),\" \",(C30-C33)/C30*100))","v":" "},null,{"$f":"IF(ISBLANK(E29),\" \",IF(ISBLANK(E33),\" \",(E30-E33)/E30*100))","v":" "},null,{"$f":"IF(ISBLANK(G29),\" \",IF(ISBLANK(G33),\" \",(G30-G33)/G30*100))","v":" "},null,{"$f":"IF(ISBLANK(I29),\" \",IF(ISBLANK(I33),\" \",(I30-I33)/I30*100))","v":" "},null,{"$f":"IF(ISBLANK(K29),\" \",IF(ISBLANK(K33),\" \",(K30-K33)/K30*100))","v":" "},null,{"$f":"IF(ISBLANK(M29),\" \",IF(ISBLANK(M33),\" \",(M30-M33)/M30*100))","v":" "}]
["Wt. Loss",null,{"$f":"IF(ISBLANK(C29),\" \",IF(ISBLANK(C30),\" \",C29-C30))","v":" "},null,{"$f":"IF(ISBLANK(E29),\" \",IF(ISBLANK(E30),\" \",E29-E30))","v":" "},null,{"$f":"IF(ISBLANK(G29),\" \",IF(ISBLANK(G30),\" \",G29-G30))","v":" "},null,{"$f":"IF(ISBLANK(I29),\" \",IF(ISBLANK(I30),\" \",I29-I30))","v":" "},null,{"$f":"IF(ISBLANK(K29),\" \",IF(ISBLANK(K30),\" \",K29-K30))","v":" "},null,{"$f":"IF(ISBLANK(M29),\" \",IF(ISBLANK(M30),\" \",M29-M30))","v":" "}]
["Spec","Sieve","Wt","% Passing","Wt","% Passing","Wt","% Passing","Wt","% Passing","Wt","% Passing","Wt","% Passing"]
[100,0.375,null,{"$f":"IF(ISBLANK(C$29),\"  \",IF(ISBLANK(C$30),\" \",IF(ISBLANK(C33),\" \",ROUND((C33+C$31)/C$29*100,1))))","v":"  "},null,{"$f":"IF(ISBLANK(E$29),\"  \",IF(ISBLANK(E$30),\" \",IF(ISBLANK(E33),\" \",ROUND((E33+E$31)/E$29*100,1))))","v":"  "},null,{"$f":"IF(ISBLANK(G$29),\"  \",IF(ISBLANK(G$30),\" \",IF(ISBLANK(G33),\" \",ROUND((G33+G$31)/G$29*100,1))))","v":"  "},null,{"$f":"IF(ISBLANK(I$29),\"  \",IF(ISBLANK(I$30),\" \",IF(ISBLANK(I33),\" \",ROUND((I33+I$31)/I$29*100,1))))","v":"  "},null,{"$f":"IF(ISBLANK(K$29),\"  \",IF(ISBLANK(K$30),\" \",IF(ISBLANK(K33),\" \",ROUND((K33+K$31)/K$29*100,1))))","v":"  "},null,{"$f":"IF(ISBLANK(M$29),\"  \",IF(ISBLANK(M$30),\" \",IF(ISBLANK(M33),\" \",ROUND((M33+M$31)/M$29*100,1))))","v":"  "}]
["Breaker",0.25,null,{"$f":"IF(ISBLANK(C$29),\"  \",IF(ISBLANK(C$30),\" \",IF(ISBLANK(C34),\" \",ROUND((C34+C$31)/C$29*100,0))))","v":"  "},null,{"$f":"IF(ISBLANK(E$29),\"  \",IF(ISBLANK(E$30),\" \",IF(ISBLANK(E34),\" \",ROUND((E34+E$31)/E$29*100,0))))","v":"  "},null,{"$f":"IF(ISBLANK(G$29),\"  \",IF(ISBLANK(G$30),\" \",IF(ISBLANK(G34),\" \",ROUND((G34+G$31)/G$29*100,0))))","v":"  "},null,{"$f":"IF(ISBLANK(I$29),\"  \",IF(ISBLANK(I$30),\" \",IF(ISBLANK(I34),\" \",ROUND((I34+I$31)/I$29*100,0))))","v":"  "},null,{"$f":"IF(ISBLANK(K$29),\"  \",IF(ISBLANK(K$30),\" \",IF(ISBLANK(K34),\" \",ROUND((K34+K$31)/K$29*100,0))))","v":"  "},null,{"$f":"IF(ISBLANK(M$29),\"  \",IF(ISBLANK(M$30),\" \",IF(ISBLANK(M34),\" \",ROUND((M34+M$31)/M$29*100,0))))","v":"  "}]
[{"$f":"A16","v":"85-100"},4,null,{"$f":"IF(ISBLANK(C$29),\"  \",IF(ISBLANK(C$30),\" \",IF(ISBLANK(C35),\" \",ROUND((C35+C$31)/C$29*100,0))))","v":"  "},null,{"$f":"IF(ISBLANK(E$29),\"  \",IF(ISBLANK(E$30),\" \",IF(ISBLANK(E35),\" \",ROUND((E35+E$31)/E$29*100,0))))","v":"  "},null,{"$f":"IF(ISBLANK(G$29),\"  \",IF(ISBLANK(G$30),\" \",IF(ISBLANK(G35),\" \",ROUND((G35+G$31)/G$29*100,0))))","v":"  "},null,{"$f":"IF(ISBLANK(I$29),\"  \",IF(ISBLANK(I$30),\" \",IF(ISBLANK(I35),\" \",ROUND((I35+I$31)/I$29*100,0))))","v":"  "},null,{"$f":"IF(ISBLANK(K$29),\"  \",IF(ISBLANK(K$30),\" \",IF(ISBLANK(K35),\" \",ROUND((K35+K$31)/K$29*100,0))))","v":"  "},null,{"$f":"IF(ISBLANK(M$29),\"  \",IF(ISBLANK(M$30),\" \",IF(ISBLANK(M35),\" \",ROUND((M35+M$31)/M$29*100,0))))","v":"  "}]
[{"$f":"A17","v":"10-40"},8,null,{"$f":"IF(ISBLANK(C$29),\"  \",IF(ISBLANK(C$30),\" \",IF(ISBLANK(C36),\" \",ROUND((C36+C$31)/C$29*100,0))))","v":"  "},null,{"$f":"IF(ISBLANK(E$29),\"  \",IF(ISBLANK(E$30),\" \",IF(ISBLANK(E36),\" \",ROUND((E36+E$31)/E$29*100,0))))","v":"  "},null,{"$f":"IF(ISBLANK(G$29),\"  \",IF(ISBLANK(G$30),\" \",IF(ISBLANK(G36),\" \",ROUND((G36+G$31)/G$29*100,0))))","v":"  "},null,{"$f":"IF(ISBLANK(I$29),\"  \",IF(ISBLANK(I$30),\" \",IF(ISBLANK(I36),\" \",ROUND((I36+I$31)/I$29*100,0))))","v":"  "},null,{"$f":"IF(ISBLANK(K$29),\"  \",IF(ISBLANK(K$30),\" \",IF(ISBLANK(K36),\" \",ROUND((K36+K$31)/K$29*100,0))))","v":"  "},null,{"$f":"IF(ISBLANK(M$29),\"  \",IF(ISBLANK(M$30),\" \",IF(ISBLANK(M36),\" \",ROUND((M36+M$31)/M$29*100,0))))","v":"  "}]
["0-10",16,null,{"$f":"IF(ISBLANK(C$29),\"  \",IF(ISBLANK(C$30),\" \",IF(ISBLANK(C37),\" \",ROUND((C37+C$31)/C$29*100,0))))","v":"  "},null,{"$f":"IF(ISBLANK(E$29),\"  \",IF(ISBLANK(E$30),\" \",IF(ISBLANK(E37),\" \",ROUND((E37+E$31)/E$29*100,0))))","v":"  "},null,{"$f":"IF(ISBLANK(G$29),\"  \",IF(ISBLANK(G$30),\" \",IF(ISBLANK(G37),\" \",ROUND((G37+G$31)/G$29*100,0))))","v":"  "},null,{"$f":"IF(ISBLANK(I$29),\"  \",IF(ISBLANK(I$30),\" \",IF(ISBLANK(I37),\" \",ROUND((I37+I$31)/I$29*100,0))))","v":"  "},null,{"$f":"IF(ISBLANK(K$29),\"  \",IF(ISBLANK(K$30),\" \",IF(ISBLANK(K37),\" \",ROUND((K37+K$31)/K$29*100,0))))","v":"  "},null,{"$f":"IF(ISBLANK(M$29),\"  \",IF(ISBLANK(M$30),\" \",IF(ISBLANK(M37),\" \",ROUND((M37+M$31)/M$29*100,0))))","v":"  "}]
[{"$f":"A19","v":"0-5"},50,null,{"$f":"IF(ISBLANK(C$29),\"  \",IF(ISBLANK(C$30),\" \",IF(ISBLANK(C38),\" \",ROUND((C38+C$31)/C$29*100,0))))","v":"  "},null,{"$f":"IF(ISBLANK(E$29),\"  \",IF(ISBLANK(E$30),\" \",IF(ISBLANK(E38),\" \",ROUND((E38+E$31)/E$29*100,0))))","v":"  "},null,{"$f":"IF(ISBLANK(G$29),\"  \",IF(ISBLANK(G$30),\" \",IF(ISBLANK(G38),\" \",ROUND((G38+G$31)/G$29*100,0))))","v":"  "},null,{"$f":"IF(ISBLANK(I$29),\"  \",IF(ISBLANK(I$30),\" \",IF(ISBLANK(I38),\" \",ROUND((I38+I$31)/I$29*100,0))))","v":"  "},null,{"$f":"IF(ISBLANK(K$29),\"  \",IF(ISBLANK(K$30),\" \",IF(ISBLANK(K38),\" \",ROUND((K38+K$31)/K$29*100,0))))","v":"  "},null,{"$f":"IF(ISBLANK(M$29),\"  \",IF(ISBLANK(M$30),\" \",IF(ISBLANK(M38),\" \",ROUND((M38+M$31)/M$29*100,0))))","v":"  "}]
[{"$f":"A20","v":"0-2"},200,null,{"$f":"IF(ISBLANK(C$29),\"  \",IF(ISBLANK(C$30),\" \",IF(ISBLANK(C39),\" \",ROUND((C39+C$31)/C$29*100,2))))","v":"  "},null,{"$f":"IF(ISBLANK(E$29),\"  \",IF(ISBLANK(E$30),\" \",IF(ISBLANK(E39),\" \",ROUND((E39+E$31)/E$29*100,2))))","v":"  "},null,{"$f":"IF(ISBLANK(G$29),\"  \",IF(ISBLANK(G$30),\" \",IF(ISBLANK(G39),\" \",ROUND((G39+G$31)/G$29*100,2))))","v":"  "},null,{"$f":"IF(ISBLANK(I$29),\"  \",IF(ISBLANK(I$30),\" \",IF(ISBLANK(I39),\" \",ROUND((I39+I$31)/I$29*100,2))))","v":"  "},null,{"$f":"IF(ISBLANK(K$29),\"  \",IF(ISBLANK(K$30),\" \",IF(ISBLANK(K39),\" \",ROUND((K39+K$31)/K$29*100,2))))","v":"  "},null,{"$f":"IF(ISBLANK(M$29),\"  \",IF(ISBLANK(M$30),\" \",IF(ISBLANK(M39),\" \",ROUND((M39+M$31)/M$29*100,2))))","v":"  "}]
["Tested By"]
["Remarks"]

{"sheet":"S10","index":9,"n_rows":41,"n_cols":14,"rows_kept":41,"cut":false,"hidden":true,"merged":[[39,10,39,11],[39,12,39,13],[40,0,43,1],[40,2,43,3],[40,4,43,5],[40,6,43,7],[40,8,43,9],[40,10,43,11],[40,12,43,13],[39,0,39,1],[39,2,39,3],[39,4,39,5],[39,6,39,7],[39,8,39,9],[27,12,27,13],[30,0,30,1],[30,2,30,3],[30,4,30,5],[30,6,30,7],[30,8,30,9],[30,10,30,11],[30,12,30,13],[27,2,27,3],[27,4,27,5],[27,6,27,7],[27,8,27,9],[27,10,27,11],[28,0,28,1],[27,0,27,1],[4,0,4,1],[11,0,11,1],[11,2,11,3],[29,0,29,1],[20,0,20,1],[20,2,20,3],[10,0,10,1],[9,0,9,1],[5,3,5,8],[21,0,24,1],[21,2,24,3],[21,4,24,5],[21,6,24,7],[21,8,24,9],[20,4,20,5],[20,6,20,7],[26,0,26,1],[26,4,26,5],[26,6,26,7],[26,2,26,3],[26,12,26,13],[26,8,26,9],[26,10,26,11],[11,10,11,11],[11,12,11,13],[11,4,11,5],[11,6,11,7],[11,8,11,9],[20,10,20,11],[20,12,20,13],[21,10,24,11],[21,12,24,13],[20,8,20,9],[7,10,7,11],[7,12,7,13],[8,0,8,1],[8,2,8,3],[8,4,8,5],[8,6,8,7],[8,8,8,9],[8,10,8,11],[8,12,8,13],[7,0,7,1],[7,2,7,3],[7,4,7,5],[7,6,7,7],[7,8,7,9],[0,0,3,1],[0,7,3,8],[1,2,1,6],[1,9,1,10],[1,11,1,12],[2,2,2,6],[2,9,2,10],[2,11,2,12],[3,2,3,6],[3,9,3,10],[3,11,3,12]]}
[]
[null,null,"COMMONWEALTH OF PENNSYLVANIA",null,null,null,null,null,null,"DISTRICT"]
[null,null,"DEPARTMENT OF TRANSPORTATION",null,null,null,null,null,null,"PLANT CODE"]
[null,null,"PENNSYLVANIA TURNPIKE COMMISSION",null,null,null,null,null,null,"AGG SIZE",null,"#9's"]
["Aggregate 2017"]
[null,null,null,"Material Test Results for #9 Aggregate"]
[]
["Sample No."]
["Date"]
["St. Wt. Before Wash.",null,null,"% Loss",null,"% Loss",null,"% Loss",null,"% Loss",null,"% Loss",null,"% Loss"]
["Dry. Wt. After Wash.",null,null,{"$f":"IF(ISBLANK(C10),\" \",IF(ISBLANK(C14),\" \",(C11-C14)/C11*100))","v":" "},null,{"$f":"IF(ISBLANK(E10),\" \",IF(ISBLANK(E14),\" \",(E11-E14)/E11*100))","v":" "},null,{"$f":"IF(ISBLANK(G10),\" \",IF(ISBLANK(G14),\" \",(G11-G14)/G11*100))","v":" "},null,{"$f":"IF(ISBLANK(I10),\" \",IF(ISBLANK(I14),\" \",(I11-I14)/I11*100))","v":" "},null,{"$f":"IF(ISBLANK(K10),\" \",IF(ISBLANK(K14),\" \",(K11-K14)/K11*100))","v":" "},null,{"$f":"IF(ISBLANK(M10),\" \",IF(ISBLANK(M14),\" \",(M11-M14)/M11*100))","v":" "}]
["Wt. Loss",null,{"$f":"IF(ISBLANK(C10),\" \",IF(ISBLANK(C11),\" \",C10-C11))","v":" "},null,{"$f":"IF(ISBLANK(E10),\" \",IF(ISBLANK(E11),\" \",E10-E11))","v":" "},null,{"$f":"IF(ISBLANK(G10),\" \",IF(ISBLANK(G11),\" \",G10-G11))","v":" "},null,{"$f":"IF(ISBLANK(I10),\" \",IF(ISBLANK(I11),\" \",I10-I11))","v":" "},null,{"$f":"IF(ISBLANK(K10),\" \",IF(ISBLANK(K11),\" \",K10-K11))","v":" "},null,{"$f":"IF(ISBLANK(M10),\" \",IF(ISBLANK(M11),\" \",M10-M11))","v":" "}]
["Spec","Sieve","Wt","% Passing","Wt","% Passing","Wt","% Passing","Wt","% Passing","Wt","% Passing","Wt","% Passing"]
["100",0.375,null,{"$f":"IF(ISBLANK(C$10),\"  \",IF(ISBLANK(C$11),\" \",IF(ISBLANK(C14),\" \",ROUND((C14+C$12)/C$10*100,1))))","v":"  "},null,{"$f":"IF(ISBLANK(E$10),\"  \",IF(ISBLANK(E$11),\" \",IF(ISBLANK(E14),\" \",ROUND((E14+E$12)/E$10*100,1))))","v":"  "},null,{"$f":"IF(ISBLANK(G$10),\"  \",IF(ISBLANK(G$11),\" \",IF(ISBLANK(G14),\" \",ROUND((G14+G$12)/G$10*100,1))))","v":"  "},null,{"$f":"IF(ISBLANK(I$10),\"  \",IF(ISBLANK(I$11),\" \",IF(ISBLANK(I14),\" \",ROUND((I14+I$12)/I$10*100,1))))","v":"  "},null,{"$f":"IF(ISBLANK(K$10),\"  \",IF(ISBLANK(K$11),\" \",IF(ISBLANK(K14),\" \",ROUND((K14+K$12)/K$10*100,1))))","v":"  "},null,{"$f":"IF(ISBLANK(M$10),\"  \",IF(ISBLANK(M$11),\" \",IF(ISBLANK(M14),\" \",ROUND((M14+M$12)/M$10*100,1))))","v":"  "}]
["Breaker",0.25,null,{"$f":"IF(ISBLANK(C$10),\"  \",IF(ISBLANK(C$11),\" \",IF(ISBLANK(C15),\" \",ROUND((C15+C$12)/C$10*100,0))))","v":"  "},null,{"$f":"IF(ISBLANK(E$10),\"  \",IF(ISBLANK(E$11),\" \",IF(ISBLANK(E15),\" \",ROUND((E15+E$12)/E$10*100,0))))","v":"  "},null,{"$f":"IF(ISBLANK(G$10),\"  \",IF(ISBLANK(G$11),\" \",IF(ISBLANK(G15),\" \",ROUND((G15+G$12)/G$10*100,0))))","v":"  "},null,{"$f":"IF(ISBLANK(I$10),\"  \",IF(ISBLANK(I$11),\" \",IF(ISBLANK(I15),\" \",ROUND((I15+I$12)/I$10*100,0))))","v":"  "},null,{"$f":"IF(ISBLANK(K$10),\"  \",IF(ISBLANK(K$11),\" \",IF(ISBLANK(K15),\" \",ROUND((K15+K$12)/K$10*100,0))))","v":"  "},null,{"$f":"IF(ISBLANK(M$10),\"  \",IF(ISBLANK(M$11),\" \",IF(ISBLANK(M15),\" \",ROUND((M15+M$12)/M$10*100,0))))","v":"  "}]
["85-100",4,null,{"$f":"IF(ISBLANK(C$10),\"  \",IF(ISBLANK(C$11),\" \",IF(ISBLANK(C16),\" \",ROUND((C16+C$12)/C$10*100,0))))","v":"  "},null,{"$f":"IF(ISBLANK(E$10),\"  \",IF(ISBLANK(E$11),\" \",IF(ISBLANK(E16),\" \",ROUND((E16+E$12)/E$10*100,0))))","v":"  "},null,{"$f":"IF(ISBLANK(G$10),\"  \",IF(ISBLANK(G$11),\" \",IF(ISBLANK(G16),\" \",ROUND((G16+G$12)/G$10*100,0))))","v":"  "},null,{"$f":"IF(ISBLANK(I$10),\"  \",IF(ISBLANK(I$11),\" \",IF(ISBLANK(I16),\" \",ROUND((I16+I$12)/I$10*100,0))))","v":"  "},null,{"$f":"IF(ISBLANK(K$10),\"  \",IF(ISBLANK(K$11),\" \",IF(ISBLANK(K16),\" \",ROUND((K16+K$12)/K$10*100,0))))","v":"  "},null,{"$f":"IF(ISBLANK(M$10),\"  \",IF(ISBLANK(M$11),\" \",IF(ISBLANK(M16),\" \",ROUND((M16+M$12)/M$10*100,0))))","v":"  "}]
["10-40",8,null,{"$f":"IF(ISBLANK(C$10),\"  \",IF(ISBLANK(C$11),\" \",IF(ISBLANK(C17),\" \",ROUND((C17+C$12)/C$10*100,0))))","v":"  "},null,{"$f":"IF(ISBLANK(E$10),\"  \",IF(ISBLANK(E$11),\" \",IF(ISBLANK(E17),\" \",ROUND((E17+E$12)/E$10*100,0))))","v":"  "},null,{"$f":"IF(ISBLANK(G$10),\"  \",IF(ISBLANK(G$11),\" \",IF(ISBLANK(G17),\" \",ROUND((G17+G$12)/G$10*100,0))))","v":"  "},null,{"$f":"IF(ISBLANK(I$10),\"  \",IF(ISBLANK(I$11),\" \",IF(ISBLANK(I17),\" \",ROUND((I17+I$12)/I$10*100,0))))","v":"  "},null,{"$f":"IF(ISBLANK(K$10),\"  \",IF(ISBLANK(K$11),\" \",IF(ISBLANK(K17),\" \",ROUND((K17+K$12)/K$10*100,0))))","v":"  "},null,{"$f":"IF(ISBLANK(M$10),\"  \",IF(ISBLANK(M$11),\" \",IF(ISBLANK(M17),\" \",ROUND((M17+M$12)/M$10*100,0))))","v":"  "}]
["0-10",16,null,{"$f":"IF(ISBLANK(C$10),\"  \",IF(ISBLANK(C$11),\" \",IF(ISBLANK(C18),\" \",ROUND((C18+C$12)/C$10*100,0))))","v":"  "},null,{"$f":"IF(ISBLANK(E$10),\"  \",IF(ISBLANK(E$11),\" \",IF(ISBLANK(E18),\" \",ROUND((E18+E$12)/E$10*100,0))))","v":"  "},null,{"$f":"IF(ISBLANK(G$10),\"  \",IF(ISBLANK(G$11),\" \",IF(ISBLANK(G18),\" \",ROUND((G18+G$12)/G$10*100,0))))","v":"  "},null,{"$f":"IF(ISBLANK(I$10),\"  \",IF(ISBLANK(I$11),\" \",IF(ISBLANK(I18),\" \",ROUND((I18+I$12)/I$10*100,0))))","v":"  "},null,{"$f":"IF(ISBLANK(K$10),\"  \",IF(ISBLANK(K$11),\" \",IF(ISBLANK(K18),\" \",ROUND((K18+K$12)/K$10*100,0))))","v":"  "},null,{"$f":"IF(ISBLANK(M$10),\"  \",IF(ISBLANK(M$11),\" \",IF(ISBLANK(M18),\" \",ROUND((M18+M$12)/M$10*100,0))))","v":"  "}]
["0-5",50,null,{"$f":"IF(ISBLANK(C$10),\"  \",IF(ISBLANK(C$11),\" \",IF(ISBLANK(C19),\" \",ROUND((C19+C$12)/C$10*100,0))))","v":"  "},null,{"$f":"IF(ISBLANK(E$10),\"  \",IF(ISBLANK(E$11),\" \",IF(ISBLANK(E19),\" \",ROUND((E19+E$12)/E$10*100,0))))","v":"  "},null,{"$f":"IF(ISBLANK(G$10),\"  \",IF(ISBLANK(G$11),\" \",IF(ISBLANK(G19),\" \",ROUND((G19+G$12)/G$10*100,0))))","v":"  "},null,{"$f":"IF(ISBLANK(I$10),\"  \",IF(ISBLANK(I$11),\" \",IF(ISBLANK(I19),\" \",ROUND((I19+I$12)/I$10*100,0))))","v":"  "},null,{"$f":"IF(ISBLANK(K$10),\"  \",IF(ISBLANK(K$11),\" \",IF(ISBLANK(K19),\" \",ROUND((K19+K$12)/K$10*100,0))))","v":"  "},null,{"$f":"IF(ISBLANK(M$10),\"  \",IF(ISBLANK(M$11),\" \",IF(ISBLANK(M19),\" \",ROUND((M19+M$12)/M$10*100,0))))","v":"  "}]
["0-2",200,null,{"$f":"IF(ISBLANK(C$10),\"  \",IF(ISBLANK(C$11),\" \",IF(ISBLANK(C20),\" \",ROUND((C20+C$12)/C$10*100,2))))","v":"  "},null,{"$f":"IF(ISBLANK(E$10),\"  \",IF(ISBLANK(E$11),\" \",IF(ISBLANK(E20),\" \",ROUND((E20+E$12)/E$10*100,2))))","v":"  "},null,{"$f":"IF(ISBLANK(G$10),\"  \",IF(ISBLANK(G$11),\" \",IF(ISBLANK(G20),\" \",ROUND((G20+G$12)/G$10*100,2))))","v":"  "},null,{"$f":"IF(ISBLANK(I$10),\"  \",IF(ISBLANK(I$11),\" \",IF(ISBLANK(I20),\" \",ROUND((I20+I$12)/I$10*100,2))))","v":"  "},null,{"$f":"IF(ISBLANK(K$10),\"  \",IF(ISBLANK(K$11),\" \",IF(ISBLANK(K20),\" \",ROUND((K20+K$12)/K$10*100,2))))","v":"  "},null,{"$f":"IF(ISBLANK(M$10),\"  \",IF(ISBLANK(M$11),\" \",IF(ISBLANK(M20),\" \",ROUND((M20+M$12)/M$10*100,2))))","v":"  "}]
["Tested By"]
["Remarks"]
[]
[]
[]
[]
["Sample No."]
["Date"]
[{"$f":"A10","v":"St. Wt. Before Wash."},null,null,"% Loss",null,"% Loss",null,"% Loss",null,"% Loss",null,"% Loss",null,"% Loss"]
[{"$f":"A11","v":"Dry. Wt. After Wash."},null,null,{"$f":"IF(ISBLANK(C29),\" \",IF(ISBLANK(C33),\" \",(C30-C33)/C30*100))","v":" "},null,{"$f":"IF(ISBLANK(E29),\" \",IF(ISBLANK(E33),\" \",(E30-E33)/E30*100))","v":" "},null,{"$f":"IF(ISBLANK(G29),\" \",IF(ISBLANK(G33),\" \",(G30-G33)/G30*100))","v":" "},null,{"$f":"IF(ISBLANK(I29),\" \",IF(ISBLANK(I33),\" \",(I30-I33)/I30*100))","v":" "},null,{"$f":"IF(ISBLANK(K29),\" \",IF(ISBLANK(K33),\" \",(K30-K33)/K30*100))","v":" "},null,{"$f":"IF(ISBLANK(M29),\" \",IF(ISBLANK(M33),\" \",(M30-M33)/M30*100))","v":" "}]
["Wt. Loss",null,{"$f":"IF(ISBLANK(C29),\" \",IF(ISBLANK(C30),\" \",C29-C30))","v":" "},null,{"$f":"IF(ISBLANK(E29),\" \",IF(ISBLANK(E30),\" \",E29-E30))","v":" "},null,{"$f":"IF(ISBLANK(G29),\" \",IF(ISBLANK(G30),\" \",G29-G30))","v":" "},null,{"$f":"IF(ISBLANK(I29),\" \",IF(ISBLANK(I30),\" \",I29-I30))","v":" "},null,{"$f":"IF(ISBLANK(K29),\" \",IF(ISBLANK(K30),\" \",K29-K30))","v":" "},null,{"$f":"IF(ISBLANK(M29),\" \",IF(ISBLANK(M30),\" \",M29-M30))","v":" "}]
["Spec","Sieve","Wt","% Passing","Wt","% Passing","Wt","% Passing","Wt","% Passing","Wt","% Passing","Wt","% Passing"]
[100,0.375,null,{"$f":"IF(ISBLANK(C$29),\"  \",IF(ISBLANK(C$30),\" \",IF(ISBLANK(C33),\" \",ROUND((C33+C$31)/C$29*100,1))))","v":"  "},null,{"$f":"IF(ISBLANK(E$29),\"  \",IF(ISBLANK(E$30),\" \",IF(ISBLANK(E33),\" \",ROUND((E33+E$31)/E$29*100,1))))","v":"  "},null,{"$f":"IF(ISBLANK(G$29),\"  \",IF(ISBLANK(G$30),\" \",IF(ISBLANK(G33),\" \",ROUND((G33+G$31)/G$29*100,1))))","v":"  "},null,{"$f":"IF(ISBLANK(I$29),\"  \",IF(ISBLANK(I$30),\" \",IF(ISBLANK(I33),\" \",ROUND((I33+I$31)/I$29*100,1))))","v":"  "},null,{"$f":"IF(ISBLANK(K$29),\"  \",IF(ISBLANK(K$30),\" \",IF(ISBLANK(K33),\" \",ROUND((K33+K$31)/K$29*100,1))))","v":"  "},null,{"$f":"IF(ISBLANK(M$29),\"  \",IF(ISBLANK(M$30),\" \",IF(ISBLANK(M33),\" \",ROUND((M33+M$31)/M$29*100,1))))","v":"  "}]
["Breaker",0.25,null,{"$f":"IF(ISBLANK(C$29),\"  \",IF(ISBLANK(C$30),\" \",IF(ISBLANK(C34),\" \",ROUND((C34+C$31)/C$29*100,0))))","v":"  "},null,{"$f":"IF(ISBLANK(E$29),\"  \",IF(ISBLANK(E$30),\" \",IF(ISBLANK(E34),\" \",ROUND((E34+E$31)/E$29*100,0))))","v":"  "},null,{"$f":"IF(ISBLANK(G$29),\"  \",IF(ISBLANK(G$30),\" \",IF(ISBLANK(G34),\" \",ROUND((G34+G$31)/G$29*100,0))))","v":"  "},null,{"$f":"IF(ISBLANK(I$29),\"  \",IF(ISBLANK(I$30),\" \",IF(ISBLANK(I34),\" \",ROUND((I34+I$31)/I$29*100,0))))","v":"  "},null,{"$f":"IF(ISBLANK(K$29),\"  \",IF(ISBLANK(K$30),\" \",IF(ISBLANK(K34),\" \",ROUND((K34+K$31)/K$29*100,0))))","v":"  "},null,{"$f":"IF(ISBLANK(M$29),\"  \",IF(ISBLANK(M$30),\" \",IF(ISBLANK(M34),\" \",ROUND((M34+M$31)/M$29*100,0))))","v":"  "}]
[{"$f":"A16","v":"85-100"},4,null,{"$f":"IF(ISBLANK(C$29),\"  \",IF(ISBLANK(C$30),\" \",IF(ISBLANK(C35),\" \",ROUND((C35+C$31)/C$29*100,0))))","v":"  "},null,{"$f":"IF(ISBLANK(E$29),\"  \",IF(ISBLANK(E$30),\" \",IF(ISBLANK(E35),\" \",ROUND((E35+E$31)/E$29*100,0))))","v":"  "},null,{"$f":"IF(ISBLANK(G$29),\"  \",IF(ISBLANK(G$30),\" \",IF(ISBLANK(G35),\" \",ROUND((G35+G$31)/G$29*100,0))))","v":"  "},null,{"$f":"IF(ISBLANK(I$29),\"  \",IF(ISBLANK(I$30),\" \",IF(ISBLANK(I35),\" \",ROUND((I35+I$31)/I$29*100,0))))","v":"  "},null,{"$f":"IF(ISBLANK(K$29),\"  \",IF(ISBLANK(K$30),\" \",IF(ISBLANK(K35),\" \",ROUND((K35+K$31)/K$29*100,0))))","v":"  "},null,{"$f":"IF(ISBLANK(M$29),\"  \",IF(ISBLANK(M$30),\" \",IF(ISBLANK(M35),\" \",ROUND((M35+M$31)/M$29*100,0))))","v":"  "}]
[{"$f":"A17","v":"10-40"},8,null,{"$f":"IF(ISBLANK(C$29),\"  \",IF(ISBLANK(C$30),\" \",IF(ISBLANK(C36),\" \",ROUND((C36+C$31)/C$29*100,0))))","v":"  "},null,{"$f":"IF(ISBLANK(E$29),\"  \",IF(ISBLANK(E$30),\" \",IF(ISBLANK(E36),\" \",ROUND((E36+E$31)/E$29*100,0))))","v":"  "},null,{"$f":"IF(ISBLANK(G$29),\"  \",IF(ISBLANK(G$30),\" \",IF(ISBLANK(G36),\" \",ROUND((G36+G$31)/G$29*100,0))))","v":"  "},null,{"$f":"IF(ISBLANK(I$29),\"  \",IF(ISBLANK(I$30),\" \",IF(ISBLANK(I36),\" \",ROUND((I36+I$31)/I$29*100,0))))","v":"  "},null,{"$f":"IF(ISBLANK(K$29),\"  \",IF(ISBLANK(K$30),\" \",IF(ISBLANK(K36),\" \",ROUND((K36+K$31)/K$29*100,0))))","v":"  "},null,{"$f":"IF(ISBLANK(M$29),\"  \",IF(ISBLANK(M$30),\" \",IF(ISBLANK(M36),\" \",ROUND((M36+M$31)/M$29*100,0))))","v":"  "}]
["0-10",16,null,{"$f":"IF(ISBLANK(C$29),\"  \",IF(ISBLANK(C$30),\" \",IF(ISBLANK(C37),\" \",ROUND((C37+C$31)/C$29*100,0))))","v":"  "},null,{"$f":"IF(ISBLANK(E$29),\"  \",IF(ISBLANK(E$30),\" \",IF(ISBLANK(E37),\" \",ROUND((E37+E$31)/E$29*100,0))))","v":"  "},null,{"$f":"IF(ISBLANK(G$29),\"  \",IF(ISBLANK(G$30),\" \",IF(ISBLANK(G37),\" \",ROUND((G37+G$31)/G$29*100,0))))","v":"  "},null,{"$f":"IF(ISBLANK(I$29),\"  \",IF(ISBLANK(I$30),\" \",IF(ISBLANK(I37),\" \",ROUND((I37+I$31)/I$29*100,0))))","v":"  "},null,{"$f":"IF(ISBLANK(K$29),\"  \",IF(ISBLANK(K$30),\" \",IF(ISBLANK(K37),\" \",ROUND((K37+K$31)/K$29*100,0))))","v":"  "},null,{"$f":"IF(ISBLANK(M$29),\"  \",IF(ISBLANK(M$30),\" \",IF(ISBLANK(M37),\" \",ROUND((M37+M$31)/M$29*100,0))))","v":"  "}]
[{"$f":"A19","v":"0-5"},50,null,{"$f":"IF(ISBLANK(C$29),\"  \",IF(ISBLANK(C$30),\" \",IF(ISBLANK(C38),\" \",ROUND((C38+C$31)/C$29*100,0))))","v":"  "},null,{"$f":"IF(ISBLANK(E$29),\"  \",IF(ISBLANK(E$30),\" \",IF(ISBLANK(E38),\" \",ROUND((E38+E$31)/E$29*100,0))))","v":"  "},null,{"$f":"IF(ISBLANK(G$29),\"  \",IF(ISBLANK(G$30),\" \",IF(ISBLANK(G38),\" \",ROUND((G38+G$31)/G$29*100,0))))","v":"  "},null,{"$f":"IF(ISBLANK(I$29),\"  \",IF(ISBLANK(I$30),\" \",IF(ISBLANK(I38),\" \",ROUND((I38+I$31)/I$29*100,0))))","v":"  "},null,{"$f":"IF(ISBLANK(K$29),\"  \",IF(ISBLANK(K$30),\" \",IF(ISBLANK(K38),\" \",ROUND((K38+K$31)/K$29*100,0))))","v":"  "},null,{"$f":"IF(ISBLANK(M$29),\"  \",IF(ISBLANK(M$30),\" \",IF(ISBLANK(M38),\" \",ROUND((M38+M$31)/M$29*100,0))))","v":"  "}]
[{"$f":"A20","v":"0-2"},200,null,{"$f":"IF(ISBLANK(C$29),\"  \",IF(ISBLANK(C$30),\" \",IF(ISBLANK(C39),\" \",ROUND((C39+C$31)/C$29*100,2))))","v":"  "},null,{"$f":"IF(ISBLANK(E$29),\"  \",IF(ISBLANK(E$30),\" \",IF(ISBLANK(E39),\" \",ROUND((E39+E$31)/E$29*100,2))))","v":"  "},null,{"$f":"IF(ISBLANK(G$29),\"  \",IF(ISBLANK(G$30),\" \",IF(ISBLANK(G39),\" \",ROUND((G39+G$31)/G$29*100,2))))","v":"  "},null,{"$f":"IF(ISBLANK(I$29),\"  \",IF(ISBLANK(I$30),\" \",IF(ISBLANK(I39),\" \",ROUND((I39+I$31)/I$29*100,2))))","v":"  "},null,{"$f":"IF(ISBLANK(K$29),\"  \",IF(ISBLANK(K$30),\" \",IF(ISBLANK(K39),\" \",ROUND((K39+K$31)/K$29*100,2))))","v":"  "},null,{"$f":"IF(ISBLANK(M$29),\"  \",IF(ISBLANK(M$30),\" \",IF(ISBLANK(M39),\" \",ROUND((M39+M$31)/M$29*100,2))))","v":"  "}]
["Tested By"]
["Remarks"]

{"sheet":"Chart 1-24","index":10,"n_rows":5,"n_cols":10,"rows_kept":5,"cut":false,"hidden":false,"merged":[[3,1,3,5],[3,7,3,8],[3,9,3,10],[4,0,4,1],[0,0,2,0],[1,1,1,5],[1,7,1,8],[1,9,1,10],[2,1,2,5],[2,7,2,8],[2,9,2,10]]}
[]
[null,"COMMONWEALTH OF PENNSYLVANIA",null,null,null,null,null,"DISTRICT",null,{"$f":"'S1'!L2","v":0}]
[null,"DEPARTMENT OF TRANSPORTATION",null,null,null,null,null,"PLANT CODE",null,{"$f":"'S1'!L3","v":0}]
[null,"PENNSYLVANIA TURNPIKE COMMISSION",null,null,null,null,null,"AGG SIZE",null,{"$f":"'S1'!L4","v":"#9's"}]
[{"$f":"'S1'!$A$5:$B$5","v":"Aggregate 2023"}]

{"sheet":"Chart 25-48","index":11,"n_rows":5,"n_cols":10,"rows_kept":5,"cut":false,"hidden":true,"merged":[[3,1,3,5],[3,7,3,8],[3,9,3,10],[4,0,4,1],[0,0,2,0],[1,1,1,5],[1,7,1,8],[1,9,1,10],[2,1,2,5],[2,7,2,8],[2,9,2,10]]}
[]
[null,"COMMONWEALTH OF PENNSYLVANIA",null,null,null,null,null,"DISTRICT",null,{"$f":"'S1'!L2","v":0}]
[null,"DEPARTMENT OF TRANSPORTATION",null,null,null,null,null,"PLANT CODE",null,{"$f":"'S1'!L3","v":0}]
[null,"PENNSYLVANIA TURNPIKE COMMISSION",null,null,null,null,null,"AGG SIZE",null,{"$f":"'S1'!L4","v":"#9's"}]
[{"$f":"'S1'!$A$5:$B$5","v":"Aggregate 2023"}]

{"sheet":"Chart 49-72","index":12,"n_rows":5,"n_cols":10,"rows_kept":5,"cut":false,"hidden":true,"merged":[[3,1,3,5],[3,7,3,8],[3,9,3,10],[4,0,4,1],[0,0,2,0],[1,1,1,5],[1,7,1,8],[1,9,1,10],[2,1,2,5],[2,7,2,8],[2,9,2,10]]}
[]
[null,"COMMONWEALTH OF PENNSYLVANIA",null,null,null,null,null,"DISTRICT",null,{"$f":"'S1'!L2","v":0}]
[null,"DEPARTMENT OF TRANSPORTATION",null,null,null,null,null,"PLANT CODE",null,{"$f":"'S1'!L3","v":0}]
[null,"PENNSYLVANIA TURNPIKE COMMISSION",null,null,null,null,null,"AGG SIZE",null,{"$f":"'S1'!L4","v":"#9's"}]
[{"$f":"'S1'!$A$5:$B$5","v":"Aggregate 2023"}]

{"sheet":"Chart 73-96","index":13,"n_rows":5,"n_cols":10,"rows_kept":5,"cut":false,"hidden":true,"merged":[[3,1,3,5],[3,7,3,8],[3,9,3,10],[4,0,4,1],[0,0,2,0],[1,1,1,5],[1,7,1,8],[1,9,1,10],[2,1,2,5],[2,7,2,8],[2,9,2,10]]}
[]
[null,"COMMONWEALTH OF PENNSYLVANIA",null,null,null,null,null,"DISTRICT",null,{"$f":"'S1'!L2","v":0}]
[null,"DEPARTMENT OF TRANSPORTATION",null,null,null,null,null,"PLANT CODE",null,{"$f":"'S1'!L3","v":0}]
[null,"PENNSYLVANIA TURNPIKE COMMISSION",null,null,null,null,null,"AGG SIZE",null,{"$f":"'S1'!L4","v":"#9's"}]
[{"$f":"'S1'!$A$5:$B$5","v":"Aggregate 2023"}]

{"sheet":"Chart 97-120","index":14,"n_rows":5,"n_cols":10,"rows_kept":5,"cut":false,"hidden":true,"merged":[[3,1,3,5],[3,7,3,8],[3,9,3,10],[4,0,4,1],[0,0,2,0],[1,1,1,5],[1,7,1,8],[1,9,1,10],[2,1,2,5],[2,7,2,8],[2,9,2,10]]}
[]
[null,"COMMONWEALTH OF PENNSYLVANIA",null,null,null,null,null,"DISTRICT",null,{"$f":"'S1'!L2","v":0}]
[null,"DEPARTMENT OF TRANSPORTATION",null,null,null,null,null,"PLANT CODE",null,{"$f":"'S1'!L3","v":0}]
[null,"PENNSYLVANIA TURNPIKE COMMISSION",null,null,null,null,null,"AGG SIZE",null,{"$f":"'S1'!L4","v":"#9's"}]
[{"$f":"'S1'!$A$5:$B$5","v":"Aggregate 2023"}]

{"sheet":"ST1","index":15,"n_rows":125,"n_cols":8,"rows_kept":125,"cut":false,"hidden":true,"merged":[]}
[]
[]
[]
["Samp #",200,50,16,8,4,0.25,0.375]
[]
[1,{"$f":"'S1'!$D$20","v":"  "},{"$f":"'S1'!$D$19","v":"  "},{"$f":"'S1'!$D$18","v":"  "},{"$f":"'S1'!$D$17","v":"  "},{"$f":"'S1'!$D$16","v":"  "},{"$f":"'S1'!$D$15","v":"  "},{"$f":"'S1'!$D$14","v":"  "}]
[2,{"$f":"'S1'!$F$20","v":"  "},{"$f":"'S1'!$F$19","v":"  "},{"$f":"'S1'!$F$18","v":"  "},{"$f":"'S1'!$F$17","v":"  "},{"$f":"'S1'!$F$16","v":"  "},{"$f":"'S1'!$F$15","v":"  "},{"$f":"'S1'!$F$14","v":"  "}]
[3,{"$f":"'S1'!$H$20","v":"  "},{"$f":"'S1'!$H$19","v":"  "},{"$f":"'S1'!$H$18","v":"  "},{"$f":"'S1'!$H$17","v":"  "},{"$f":"'S1'!$H$16","v":"  "},{"$f":"'S1'!$H$15","v":"  "},{"$f":"'S1'!$H$14","v":"  "}]
[4,{"$f":"'S1'!$J$20","v":"  "},{"$f":"'S1'!$J$19","v":"  "},{"$f":"'S1'!$J$18","v":"  "},{"$f":"'S1'!$J$17","v":"  "},{"$f":"'S1'!$J$16","v":"  "},{"$f":"'S1'!$J$15","v":"  "},{"$f":"'S1'!$J$14","v":"  "}]
[5,{"$f":"'S1'!$L$20","v":"  "},{"$f":"'S1'!$L$19","v":"  "},{"$f":"'S1'!$L$18","v":"  "},{"$f":"'S1'!$L$17","v":"  "},{"$f":"'S1'!$L$16","v":"  "},{"$f":"'S1'!$L$15","v":"  "},{"$f":"'S1'!$L$14","v":"  "}]
[6,{"$f":"'S1'!$N$20","v":"  "},{"$f":"'S1'!$N$19","v":"  "},{"$f":"'S1'!$N$18","v":"  "},{"$f":"'S1'!$N$17","v":"  "},{"$f":"'S1'!$N$16","v":"  "},{"$f":"'S1'!$N$15","v":"  "},{"$f":"'S1'!$N$14","v":"  "}]
[7,{"$f":"'S1'!$D$39","v":"  "},{"$f":"'S1'!$D$38","v":"  "},{"$f":"'S1'!$D$37","v":"  "},{"$f":"'S1'!$D$36","v":"  "},{"$f":"'S1'!$D$35","v":"  "},{"$f":"'S1'!$D$34","v":"  "},{"$f":"'S1'!$D$33","v":"  "}]
[8,{"$f":"'S1'!$F$39","v":"  "},{"$f":"'S1'!$F$38","v":"  "},{"$f":"'S1'!$F$37","v":"  "},{"$f":"'S1'!$F$36","v":"  "},{"$f":"'S1'!$F$35","v":"  "},{"$f":"'S1'!$F$34","v":"  "},{"$f":"'S1'!$F$33","v":"  "}]
[9,{"$f":"'S1'!$H$39","v":"  "},{"$f":"'S1'!$H$38","v":"  "},{"$f":"'S1'!$H$37","v":"  "},{"$f":"'S1'!$H$36","v":"  "},{"$f":"'S1'!$H$35","v":"  "},{"$f":"'S1'!$H$34","v":"  "},{"$f":"'S1'!$H$33","v":"  "}]
[10,{"$f":"'S1'!$J$39","v":"  "},{"$f":"'S1'!$J$38","v":"  "},{"$f":"'S1'!$J$37","v":"  "},{"$f":"'S1'!$J$36","v":"  "},{"$f":"'S1'!$J$35","v":"  "},{"$f":"'S1'!$J$34","v":"  "},{"$f":"'S1'!$J$33","v":"  "}]
[11,{"$f":"'S1'!$L$39","v":"  "},{"$f":"'S1'!$L$38","v":"  "},{"$f":"'S1'!$L$37","v":"  "},{"$f":"'S1'!$L$36","v":"  "},{"$f":"'S1'!$L$35","v":"  "},{"$f":"'S1'!$L$34","v":"  "},{"$f":"'S1'!$L$33","v":"  "}]
[12,{"$f":"'S1'!$N$39","v":"  "},{"$f":"'S1'!$N$38","v":"  "},{"$f":"'S1'!$N$37","v":"  "},{"$f":"'S1'!$N$36","v":"  "},{"$f":"'S1'!$N$35","v":"  "},{"$f":"'S1'!$N$34","v":"  "},{"$f":"'S1'!$N$33","v":"  "}]
[13,{"$f":"'S2'!$D$20","v":"  "},{"$f":"'S2'!$D$19","v":"  "},{"$f":"'S2'!$D$18","v":"  "},{"$f":"'S2'!$D$17","v":"  "},{"$f":"'S2'!$D$16","v":"  "},{"$f":"'S2'!$D$15","v":"  "},{"$f":"'S2'!$D$14","v":"  "}]
[14,{"$f":"'S2'!$F$20","v":"  "},{"$f":"'S2'!$F$19","v":"  "},{"$f":"'S2'!$F$18","v":"  "},{"$f":"'S2'!$F$17","v":"  "},{"$f":"'S2'!$F$16","v":"  "},{"$f":"'S2'!$F$15","v":"  "},{"$f":"'S2'!$F$14","v":"  "}]
[15,{"$f":"'S2'!$H$20","v":"  "},{"$f":"'S2'!$H$19","v":"  "},{"$f":"'S2'!$H$18","v":"  "},{"$f":"'S2'!$H$17","v":"  "},{"$f":"'S2'!$H$16","v":"  "},{"$f":"'S2'!$H$15","v":"  "},{"$f":"'S2'!$H$14","v":"  "}]
[16,{"$f":"'S2'!$J$20","v":"  "},{"$f":"'S2'!$J$19","v":"  "},{"$f":"'S2'!$J$18","v":"  "},{"$f":"'S2'!$J$17","v":"  "},{"$f":"'S2'!$J$16","v":"  "},{"$f":"'S2'!$J$15","v":"  "},{"$f":"'S2'!$J$14","v":"  "}]
[17,{"$f":"'S2'!$L$20","v":"  "},{"$f":"'S2'!$L$19","v":"  "},{"$f":"'S2'!$L$18","v":"  "},{"$f":"'S2'!$L$17","v":"  "},{"$f":"'S2'!$L$16","v":"  "},{"$f":"'S2'!$L$15","v":"  "},{"$f":"'S2'!$L$14","v":"  "}]
[18,{"$f":"'S2'!$N$20","v":"  "},{"$f":"'S2'!$N$19","v":"  "},{"$f":"'S2'!$N$18","v":"  "},{"$f":"'S2'!$N$17","v":"  "},{"$f":"'S2'!$N$16","v":"  "},{"$f":"'S2'!$N$15","v":"  "},{"$f":"'S2'!$N$14","v":"  "}]
[19,{"$f":"'S2'!$D$39","v":"  "},{"$f":"'S2'!$D$38","v":"  "},{"$f":"'S2'!$D$37","v":"  "},{"$f":"'S2'!$D$36","v":"  "},{"$f":"'S2'!$D$35","v":"  "},{"$f":"'S2'!$D$34","v":"  "},{"$f":"'S2'!$D$33","v":"  "}]
[20,{"$f":"'S2'!$F$39","v":"  "},{"$f":"'S2'!$F$38","v":"  "},{"$f":"'S2'!$F$37","v":"  "},{"$f":"'S2'!$F$36","v":"  "},{"$f":"'S2'!$F$35","v":"  "},{"$f":"'S2'!$F$34","v":"  "},{"$f":"'S2'!$F$33","v":"  "}]
[21,{"$f":"'S2'!$H$39","v":"  "},{"$f":"'S2'!$H$38","v":"  "},{"$f":"'S2'!$H$37","v":"  "},{"$f":"'S2'!$H$36","v":"  "},{"$f":"'S2'!$H$35","v":"  "},{"$f":"'S2'!$H$34","v":"  "},{"$f":"'S2'!$H$33","v":"  "}]
[22,{"$f":"'S2'!$J$39","v":"  "},{"$f":"'S2'!$J$38","v":"  "},{"$f":"'S2'!$J$37","v":"  "},{"$f":"'S2'!$J$36","v":"  "},{"$f":"'S2'!$J$35","v":"  "},{"$f":"'S2'!$J$34","v":"  "},{"$f":"'S2'!$J$33","v":"  "}]
[23,{"$f":"'S2'!$L$39","v":"  "},{"$f":"'S2'!$L$38","v":"  "},{"$f":"'S2'!$L$37","v":"  "},{"$f":"'S2'!$L$36","v":"  "},{"$f":"'S2'!$L$35","v":"  "},{"$f":"'S2'!$L$34","v":"  "},{"$f":"'S2'!$L$33","v":"  "}]
[24,{"$f":"'S2'!$N$39","v":"  "},{"$f":"'S2'!$N$38","v":"  "},{"$f":"'S2'!$N$37","v":"  "},{"$f":"'S2'!$N$36","v":"  "},{"$f":"'S2'!$N$35","v":"  "},{"$f":"'S2'!$N$34","v":"  "},{"$f":"'S2'!$N$33","v":"  "}]
[25,{"$f":"'S3'!$D$20","v":"  "},{"$f":"'S3'!$D$19","v":"  "},{"$f":"'S3'!$D$18","v":"  "},{"$f":"'S3'!$D$17","v":"  "},{"$f":"'S3'!$D$16","v":"  "},{"$f":"'S3'!$D$15","v":"  "},{"$f":"'S3'!$D$14","v":"  "}]
[26,{"$f":"'S3'!$F$20","v":"  "},{"$f":"'S3'!$F$19","v":"  "},{"$f":"'S3'!$F$18","v":"  "},{"$f":"'S3'!$F$17","v":"  "},{"$f":"'S3'!$F$16","v":"  "},{"$f":"'S3'!$F$15","v":"  "},{"$f":"'S3'!$F$14","v":"  "}]
[27,{"$f":"'S3'!$H$20","v":"  "},{"$f":"'S3'!$H$19","v":"  "},{"$f":"'S3'!$H$18","v":"  "},{"$f":"'S3'!$H$17","v":"  "},{"$f":"'S3'!$H$16","v":"  "},{"$f":"'S3'!$H$15","v":"  "},{"$f":"'S3'!$H$14","v":"  "}]
[28,{"$f":"'S3'!$J$20","v":"  "},{"$f":"'S3'!$J$19","v":"  "},{"$f":"'S3'!$J$18","v":"  "},{"$f":"'S3'!$J$17","v":"  "},{"$f":"'S3'!$J$16","v":"  "},{"$f":"'S3'!$J$15","v":"  "},{"$f":"'S3'!$J$14","v":"  "}]
[29,{"$f":"'S3'!$L$20","v":"  "},{"$f":"'S3'!$L$19","v":"  "},{"$f":"'S3'!$L$18","v":"  "},{"$f":"'S3'!$L$17","v":"  "},{"$f":"'S3'!$L$16","v":"  "},{"$f":"'S3'!$L$15","v":"  "},{"$f":"'S3'!$L$14","v":"  "}]
[30,{"$f":"'S3'!$N$20","v":"  "},{"$f":"'S3'!$N$19","v":"  "},{"$f":"'S3'!$N$18","v":"  "},{"$f":"'S3'!$N$17","v":"  "},{"$f":"'S3'!$N$16","v":"  "},{"$f":"'S3'!$N$15","v":"  "},{"$f":"'S3'!$N$14","v":"  "}]
[31,{"$f":"'S3'!$D$39","v":"  "},{"$f":"'S3'!$D$38","v":"  "},{"$f":"'S3'!$D$37","v":"  "},{"$f":"'S3'!$D$36","v":"  "},{"$f":"'S3'!$D$35","v":"  "},{"$f":"'S3'!$D$34","v":"  "},{"$f":"'S3'!$D$33","v":"  "}]
[32,{"$f":"'S3'!$F$39","v":"  "},{"$f":"'S3'!$F$38","v":"  "},{"$f":"'S3'!$F$37","v":"  "},{"$f":"'S3'!$F$36","v":"  "},{"$f":"'S3'!$F$35","v":"  "},{"$f":"'S3'!$F$34","v":"  "},{"$f":"'S3'!$F$33","v":"  "}]
[33,{"$f":"'S3'!$H$39","v":"  "},{"$f":"'S3'!$H$38","v":"  "},{"$f":"'S3'!$H$37","v":"  "},{"$f":"'S3'!$H$36","v":"  "},{"$f":"'S3'!$H$35","v":"  "},{"$f":"'S3'!$H$34","v":"  "},{"$f":"'S3'!$H$33","v":"  "}]
[34,{"$f":"'S3'!$J$39","v":"  "},{"$f":"'S3'!$J$38","v":"  "},{"$f":"'S3'!$J$37","v":"  "},{"$f":"'S3'!$J$36","v":"  "},{"$f":"'S3'!$J$35","v":"  "},{"$f":"'S3'!$J$34","v":"  "},{"$f":"'S3'!$J$33","v":"  "}]
[35,{"$f":"'S3'!$L$39","v":"  "},{"$f":"'S3'!$L$38","v":"  "},{"$f":"'S3'!$L$37","v":"  "},{"$f":"'S3'!$L$36","v":"  "},{"$f":"'S3'!$L$35","v":"  "},{"$f":"'S3'!$L$34","v":"  "},{"$f":"'S3'!$L$33","v":"  "}]
[36,{"$f":"'S3'!$N$39","v":"  "},{"$f":"'S3'!$N$38","v":"  "},{"$f":"'S3'!$N$37","v":"  "},{"$f":"'S3'!$N$36","v":"  "},{"$f":"'S3'!$N$35","v":"  "},{"$f":"'S3'!$N$34","v":"  "},{"$f":"'S3'!$N$33","v":"  "}]
[37,{"$f":"'S4'!$D$20","v":"  "},{"$f":"'S4'!$D$19","v":"  "},{"$f":"'S4'!$D$18","v":"  "},{"$f":"'S4'!$D$17","v":"  "},{"$f":"'S4'!$D$16","v":"  "},{"$f":"'S4'!$D$15","v":"  "},{"$f":"'S4'!$D$14","v":"  "}]
[38,{"$f":"'S4'!$F$20","v":"  "},{"$f":"'S4'!$F$19","v":"  "},{"$f":"'S4'!$F$18","v":"  "},{"$f":"'S4'!$F$17","v":"  "},{"$f":"'S4'!$F$16","v":"  "},{"$f":"'S4'!$F$15","v":"  "},{"$f":"'S4'!$F$14","v":"  "}]
[39,{"$f":"'S4'!$H$20","v":"  "},{"$f":"'S4'!$H$19","v":"  "},{"$f":"'S4'!$H$18","v":"  "},{"$f":"'S4'!$H$17","v":"  "},{"$f":"'S4'!$H$16","v":"  "},{"$f":"'S4'!$H$15","v":"  "},{"$f":"'S4'!$H$14","v":"  "}]
[40,{"$f":"'S4'!$J$20","v":"  "},{"$f":"'S4'!$J$19","v":"  "},{"$f":"'S4'!$J$18","v":"  "},{"$f":"'S4'!$J$17","v":"  "},{"$f":"'S4'!$J$16","v":"  "},{"$f":"'S4'!$J$15","v":"  "},{"$f":"'S4'!$J$14","v":"  "}]
[41,{"$f":"'S4'!$L$20","v":"  "},{"$f":"'S4'!$L$19","v":"  "},{"$f":"'S4'!$L$18","v":"  "},{"$f":"'S4'!$L$17","v":"  "},{"$f":"'S4'!$L$16","v":"  "},{"$f":"'S4'!$L$15","v":"  "},{"$f":"'S4'!$L$14","v":"  "}]
[42,{"$f":"'S4'!$N$20","v":"  "},{"$f":"'S4'!$N$19","v":"  "},{"$f":"'S4'!$N$18","v":"  "},{"$f":"'S4'!$N$17","v":"  "},{"$f":"'S4'!$N$16","v":"  "},{"$f":"'S4'!$N$15","v":"  "},{"$f":"'S4'!$N$14","v":"  "}]
[43,{"$f":"'S4'!$D$39","v":"  "},{"$f":"'S4'!$D$38","v":"  "},{"$f":"'S4'!$D$37","v":"  "},{"$f":"'S4'!$D$36","v":"  "},{"$f":"'S4'!$D$35","v":"  "},{"$f":"'S4'!$D$34","v":"  "},{"$f":"'S4'!$D$33","v":"  "}]
[44,{"$f":"'S4'!$F$39","v":"  "},{"$f":"'S4'!$F$38","v":"  "},{"$f":"'S4'!$F$37","v":"  "},{"$f":"'S4'!$F$36","v":"  "},{"$f":"'S4'!$F$35","v":"  "},{"$f":"'S4'!$F$34","v":"  "},{"$f":"'S4'!$F$33","v":"  "}]
[45,{"$f":"'S4'!$H$39","v":"  "},{"$f":"'S4'!$H$38","v":"  "},{"$f":"'S4'!$H$37","v":"  "},{"$f":"'S4'!$H$36","v":"  "},{"$f":"'S4'!$H$35","v":"  "},{"$f":"'S4'!$H$34","v":"  "},{"$f":"'S4'!$H$33","v":"  "}]
[46,{"$f":"'S4'!$J$39","v":"  "},{"$f":"'S4'!$J$38","v":"  "},{"$f":"'S4'!$J$37","v":"  "},{"$f":"'S4'!$J$36","v":"  "},{"$f":"'S4'!$J$35","v":"  "},{"$f":"'S4'!$J$34","v":"  "},{"$f":"'S4'!$J$33","v":"  "}]
[47,{"$f":"'S4'!$L$39","v":"  "},{"$f":"'S4'!$L$38","v":"  "},{"$f":"'S4'!$L$37","v":"  "},{"$f":"'S4'!$L$36","v":"  "},{"$f":"'S4'!$L$35","v":"  "},{"$f":"'S4'!$L$34","v":"  "},{"$f":"'S4'!$L$33","v":"  "}]
[48,{"$f":"'S4'!$N$39","v":"  "},{"$f":"'S4'!$N$38","v":"  "},{"$f":"'S4'!$N$37","v":"  "},{"$f":"'S4'!$N$36","v":"  "},{"$f":"'S4'!$N$35","v":"  "},{"$f":"'S4'!$N$34","v":"  "},{"$f":"'S4'!$N$33","v":"  "}]
[49,{"$f":"'S5'!$D$20","v":"  "},{"$f":"'S5'!$D$19","v":"  "},{"$f":"'S5'!$D$18","v":"  "},{"$f":"'S5'!$D$17","v":"  "},{"$f":"'S5'!$D$16","v":"  "},{"$f":"'S5'!$D$15","v":"  "},{"$f":"'S5'!$D$14","v":"  "}]
[50,{"$f":"'S5'!$F$20","v":"  "},{"$f":"'S5'!$F$19","v":"  "},{"$f":"'S5'!$F$18","v":"  "},{"$f":"'S5'!$F$17","v":"  "},{"$f":"'S5'!$F$16","v":"  "},{"$f":"'S5'!$F$15","v":"  "},{"$f":"'S5'!$F$14","v":"  "}]
[51,{"$f":"'S5'!$H$20","v":"  "},{"$f":"'S5'!$H$19","v":"  "},{"$f":"'S5'!$H$18","v":"  "},{"$f":"'S5'!$H$17","v":"  "},{"$f":"'S5'!$H$16","v":"  "},{"$f":"'S5'!$H$15","v":"  "},{"$f":"'S5'!$H$14","v":"  "}]
[52,{"$f":"'S5'!$J$20","v":"  "},{"$f":"'S5'!$J$19","v":"  "},{"$f":"'S5'!$J$18","v":"  "},{"$f":"'S5'!$J$17","v":"  "},{"$f":"'S5'!$J$16","v":"  "},{"$f":"'S5'!$J$15","v":"  "},{"$f":"'S5'!$J$14","v":"  "}]
[53,{"$f":"'S5'!$L$20","v":"  "},{"$f":"'S5'!$L$19","v":"  "},{"$f":"'S5'!$L$18","v":"  "},{"$f":"'S5'!$L$17","v":"  "},{"$f":"'S5'!$L$16","v":"  "},{"$f":"'S5'!$L$15","v":"  "},{"$f":"'S5'!$L$14","v":"  "}]
[54,{"$f":"'S5'!$N$20","v":"  "},{"$f":"'S5'!$N$19","v":"  "},{"$f":"'S5'!$N$18","v":"  "},{"$f":"'S5'!$N$17","v":"  "},{"$f":"'S5'!$N$16","v":"  "},{"$f":"'S5'!$N$15","v":"  "},{"$f":"'S5'!$N$14","v":"  "}]
[55,{"$f":"'S5'!$D$39","v":"  "},{"$f":"'S5'!$D$38","v":"  "},{"$f":"'S5'!$D$37","v":"  "},{"$f":"'S5'!$D$36","v":"  "},{"$f":"'S5'!$D$35","v":"  "},{"$f":"'S5'!$D$34","v":"  "},{"$f":"'S5'!$D$33","v":"  "}]
[56,{"$f":"'S5'!$F$39","v":"  "},{"$f":"'S5'!$F$38","v":"  "},{"$f":"'S5'!$F$37","v":"  "},{"$f":"'S5'!$F$36","v":"  "},{"$f":"'S5'!$F$35","v":"  "},{"$f":"'S5'!$F$34","v":"  "},{"$f":"'S5'!$F$33","v":"  "}]
[57,{"$f":"'S5'!$H$39","v":"  "},{"$f":"'S5'!$H$38","v":"  "},{"$f":"'S5'!$H$37","v":"  "},{"$f":"'S5'!$H$36","v":"  "},{"$f":"'S5'!$H$35","v":"  "},{"$f":"'S5'!$H$34","v":"  "},{"$f":"'S5'!$H$33","v":"  "}]
[58,{"$f":"'S5'!$J$39","v":"  "},{"$f":"'S5'!$J$38","v":"  "},{"$f":"'S5'!$J$37","v":"  "},{"$f":"'S5'!$J$36","v":"  "},{"$f":"'S5'!$J$35","v":"  "},{"$f":"'S5'!$J$34","v":"  "},{"$f":"'S5'!$J$33","v":"  "}]
[59,{"$f":"'S5'!$L$39","v":"  "},{"$f":"'S5'!$L$38","v":"  "},{"$f":"'S5'!$L$37","v":"  "},{"$f":"'S5'!$L$36","v":"  "},{"$f":"'S5'!$L$35","v":"  "},{"$f":"'S5'!$L$34","v":"  "},{"$f":"'S5'!$L$33","v":"  "}]
[60,{"$f":"'S5'!$N$39","v":"  "},{"$f":"'S5'!$N$38","v":"  "},{"$f":"'S5'!$N$37","v":"  "},{"$f":"'S5'!$N$36","v":"  "},{"$f":"'S5'!$N$35","v":"  "},{"$f":"'S5'!$N$34","v":"  "},{"$f":"'S5'!$N$33","v":"  "}]
[61,{"$f":"'S6'!$D$20","v":"  "},{"$f":"'S6'!$D$19","v":"  "},{"$f":"'S6'!$D$18","v":"  "},{"$f":"'S6'!$D$17","v":"  "},{"$f":"'S6'!$D$16","v":"  "},{"$f":"'S6'!$D$15","v":"  "},{"$f":"'S6'!$D$14","v":"  "}]
[62,{"$f":"'S6'!$F$20","v":"  "},{"$f":"'S6'!$F$19","v":"  "},{"$f":"'S6'!$F$18","v":"  "},{"$f":"'S6'!$F$17","v":"  "},{"$f":"'S6'!$F$16","v":"  "},{"$f":"'S6'!$F$15","v":"  "},{"$f":"'S6'!$F$14","v":"  "}]
[63,{"$f":"'S6'!$H$20","v":"  "},{"$f":"'S6'!$H$19","v":"  "},{"$f":"'S6'!$H$18","v":"  "},{"$f":"'S6'!$H$17","v":"  "},{"$f":"'S6'!$H$16","v":"  "},{"$f":"'S6'!$H$15","v":"  "},{"$f":"'S6'!$H$14","v":"  "}]
[64,{"$f":"'S6'!$J$20","v":"  "},{"$f":"'S6'!$J$19","v":"  "},{"$f":"'S6'!$J$18","v":"  "},{"$f":"'S6'!$J$17","v":"  "},{"$f":"'S6'!$J$16","v":"  "},{"$f":"'S6'!$J$15","v":"  "},{"$f":"'S6'!$J$14","v":"  "}]
[65,{"$f":"'S6'!$L$20","v":"  "},{"$f":"'S6'!$L$19","v":"  "},{"$f":"'S6'!$L$18","v":"  "},{"$f":"'S6'!$L$17","v":"  "},{"$f":"'S6'!$L$16","v":"  "},{"$f":"'S6'!$L$15","v":"  "},{"$f":"'S6'!$L$14","v":"  "}]
[66,{"$f":"'S6'!$N$20","v":"  "},{"$f":"'S6'!$N$19","v":"  "},{"$f":"'S6'!$N$18","v":"  "},{"$f":"'S6'!$N$17","v":"  "},{"$f":"'S6'!$N$16","v":"  "},{"$f":"'S6'!$N$15","v":"  "},{"$f":"'S6'!$N$14","v":"  "}]
[67,{"$f":"'S6'!$D$39","v":"  "},{"$f":"'S6'!$D$38","v":"  "},{"$f":"'S6'!$D$37","v":"  "},{"$f":"'S6'!$D$36","v":"  "},{"$f":"'S6'!$D$35","v":"  "},{"$f":"'S6'!$D$34","v":"  "},{"$f":"'S6'!$D$33","v":"  "}]
[68,{"$f":"'S6'!$F$39","v":"  "},{"$f":"'S6'!$F$38","v":"  "},{"$f":"'S6'!$F$37","v":"  "},{"$f":"'S6'!$F$36","v":"  "},{"$f":"'S6'!$F$35","v":"  "},{"$f":"'S6'!$F$34","v":"  "},{"$f":"'S6'!$F$33","v":"  "}]
[69,{"$f":"'S6'!$H$39","v":"  "},{"$f":"'S6'!$H$38","v":"  "},{"$f":"'S6'!$H$37","v":"  "},{"$f":"'S6'!$H$36","v":"  "},{"$f":"'S6'!$H$35","v":"  "},{"$f":"'S6'!$H$34","v":"  "},{"$f":"'S6'!$H$33","v":"  "}]
[70,{"$f":"'S6'!$J$39","v":"  "},{"$f":"'S6'!$J$38","v":"  "},{"$f":"'S6'!$J$37","v":"  "},{"$f":"'S6'!$J$36","v":"  "},{"$f":"'S6'!$J$35","v":"  "},{"$f":"'S6'!$J$34","v":"  "},{"$f":"'S6'!$J$33","v":"  "}]
[71,{"$f":"'S6'!$L$39","v":"  "},{"$f":"'S6'!$L$38","v":"  "},{"$f":"'S6'!$L$37","v":"  "},{"$f":"'S6'!$L$36","v":"  "},{"$f":"'S6'!$L$35","v":"  "},{"$f":"'S6'!$L$34","v":"  "},{"$f":"'S6'!$L$33","v":"  "}]
[72,{"$f":"'S6'!$N$39","v":"  "},{"$f":"'S6'!$N$38","v":"  "},{"$f":"'S6'!$N$37","v":"  "},{"$f":"'S6'!$N$36","v":"  "},{"$f":"'S6'!$N$35","v":"  "},{"$f":"'S6'!$N$34","v":"  "},{"$f":"'S6'!$N$33","v":"  "}]
[73,{"$f":"'S7'!$D$20","v":"  "},{"$f":"'S7'!$D$19","v":"  "},{"$f":"'S7'!$D$18","v":"  "},{"$f":"'S7'!$D$17","v":"  "},{"$f":"'S7'!$D$16","v":"  "},{"$f":"'S7'!$D$15","v":"  "},{"$f":"'S7'!$D$14","v":"  "}]
[74,{"$f":"'S7'!$F$20","v":"  "},{"$f":"'S7'!$F$19","v":"  "},{"$f":"'S7'!$F$18","v":"  "},{"$f":"'S7'!$F$17","v":"  "},{"$f":"'S7'!$F$16","v":"  "},{"$f":"'S7'!$F$15","v":"  "},{"$f":"'S7'!$F$14","v":"  "}]
[75,{"$f":"'S7'!$H$20","v":"  "},{"$f":"'S7'!$H$19","v":"  "},{"$f":"'S7'!$H$18","v":"  "},{"$f":"'S7'!$H$17","v":"  "},{"$f":"'S7'!$H$16","v":"  "},{"$f":"'S7'!$H$15","v":"  "},{"$f":"'S7'!$H$14","v":"  "}]
[76,{"$f":"'S7'!$J$20","v":"  "},{"$f":"'S7'!$J$19","v":"  "},{"$f":"'S7'!$J$18","v":"  "},{"$f":"'S7'!$J$17","v":"  "},{"$f":"'S7'!$J$16","v":"  "},{"$f":"'S7'!$J$15","v":"  "},{"$f":"'S7'!$J$14","v":"  "}]
[77,{"$f":"'S7'!$L$20","v":"  "},{"$f":"'S7'!$L$19","v":"  "},{"$f":"'S7'!$L$18","v":"  "},{"$f":"'S7'!$L$17","v":"  "},{"$f":"'S7'!$L$16","v":"  "},{"$f":"'S7'!$L$15","v":"  "},{"$f":"'S7'!$L$14","v":"  "}]
[78,{"$f":"'S7'!$N$20","v":"  "},{"$f":"'S7'!$N$19","v":"  "},{"$f":"'S7'!$N$18","v":"  "},{"$f":"'S7'!$N$17","v":"  "},{"$f":"'S7'!$N$16","v":"  "},{"$f":"'S7'!$N$15","v":"  "},{"$f":"'S7'!$N$14","v":"  "}]
[79,{"$f":"'S7'!$D$39","v":"  "},{"$f":"'S7'!$D$38","v":"  "},{"$f":"'S7'!$D$37","v":"  "},{"$f":"'S7'!$D$36","v":"  "},{"$f":"'S7'!$D$35","v":"  "},{"$f":"'S7'!$D$34","v":"  "},{"$f":"'S7'!$D$33","v":"  "}]
[80,{"$f":"'S7'!$F$39","v":"  "},{"$f":"'S7'!$F$38","v":"  "},{"$f":"'S7'!$F$37","v":"  "},{"$f":"'S7'!$F$36","v":"  "},{"$f":"'S7'!$F$35","v":"  "},{"$f":"'S7'!$F$34","v":"  "},{"$f":"'S7'!$F$33","v":"  "}]
[81,{"$f":"'S7'!$H$39","v":"  "},{"$f":"'S7'!$H$38","v":"  "},{"$f":"'S7'!$H$37","v":"  "},{"$f":"'S7'!$H$36","v":"  "},{"$f":"'S7'!$H$35","v":"  "},{"$f":"'S7'!$H$34","v":"  "},{"$f":"'S7'!$H$33","v":"  "}]
[82,{"$f":"'S7'!$J$39","v":"  "},{"$f":"'S7'!$J$38","v":"  "},{"$f":"'S7'!$J$37","v":"  "},{"$f":"'S7'!$J$36","v":"  "},{"$f":"'S7'!$J$35","v":"  "},{"$f":"'S7'!$J$34","v":"  "},{"$f":"'S7'!$J$33","v":"  "}]
[83,{"$f":"'S7'!$L$39","v":"  "},{"$f":"'S7'!$L$38","v":"  "},{"$f":"'S7'!$L$37","v":"  "},{"$f":"'S7'!$L$36","v":"  "},{"$f":"'S7'!$L$35","v":"  "},{"$f":"'S7'!$L$34","v":"  "},{"$f":"'S7'!$L$33","v":"  "}]
[84,{"$f":"'S7'!$N$39","v":"  "},{"$f":"'S7'!$N$38","v":"  "},{"$f":"'S7'!$N$37","v":"  "},{"$f":"'S7'!$N$36","v":"  "},{"$f":"'S7'!$N$35","v":"  "},{"$f":"'S7'!$N$34","v":"  "},{"$f":"'S7'!$N$33","v":"  "}]
[85,{"$f":"'S8'!$D$20","v":"  "},{"$f":"'S8'!$D$19","v":"  "},{"$f":"'S8'!$D$18","v":"  "},{"$f":"'S8'!$D$17","v":"  "},{"$f":"'S8'!$D$16","v":"  "},{"$f":"'S8'!$D$15","v":"  "},{"$f":"'S8'!$D$14","v":"  "}]
[86,{"$f":"'S8'!$F$20","v":"  "},{"$f":"'S8'!$F$19","v":"  "},{"$f":"'S8'!$F$18","v":"  "},{"$f":"'S8'!$F$17","v":"  "},{"$f":"'S8'!$F$16","v":"  "},{"$f":"'S8'!$F$15","v":"  "},{"$f":"'S8'!$F$14","v":"  "}]
[87,{"$f":"'S8'!$H$20","v":"  "},{"$f":"'S8'!$H$19","v":"  "},{"$f":"'S8'!$H$18","v":"  "},{"$f":"'S8'!$H$17","v":"  "},{"$f":"'S8'!$H$16","v":"  "},{"$f":"'S8'!$H$15","v":"  "},{"$f":"'S8'!$H$14","v":"  "}]
[88,{"$f":"'S8'!$J$20","v":"  "},{"$f":"'S8'!$J$19","v":"  "},{"$f":"'S8'!$J$18","v":"  "},{"$f":"'S8'!$J$17","v":"  "},{"$f":"'S8'!$J$16","v":"  "},{"$f":"'S8'!$J$15","v":"  "},{"$f":"'S8'!$J$14","v":"  "}]
[89,{"$f":"'S8'!$L$20","v":"  "},{"$f":"'S8'!$L$19","v":"  "},{"$f":"'S8'!$L$18","v":"  "},{"$f":"'S8'!$L$17","v":"  "},{"$f":"'S8'!$L$16","v":"  "},{"$f":"'S8'!$L$15","v":"  "},{"$f":"'S8'!$L$14","v":"  "}]
[90,{"$f":"'S8'!$N$20","v":"  "},{"$f":"'S8'!$N$19","v":"  "},{"$f":"'S8'!$N$18","v":"  "},{"$f":"'S8'!$N$17","v":"  "},{"$f":"'S8'!$N$16","v":"  "},{"$f":"'S8'!$N$15","v":"  "},{"$f":"'S8'!$N$14","v":"  "}]
[91,{"$f":"'S8'!$D$39","v":"  "},{"$f":"'S8'!$D$38","v":"  "},{"$f":"'S8'!$D$37","v":"  "},{"$f":"'S8'!$D$36","v":"  "},{"$f":"'S8'!$D$35","v":"  "},{"$f":"'S8'!$D$34","v":"  "},{"$f":"'S8'!$D$33","v":"  "}]
[92,{"$f":"'S8'!$F$39","v":"  "},{"$f":"'S8'!$F$38","v":"  "},{"$f":"'S8'!$F$37","v":"  "},{"$f":"'S8'!$F$36","v":"  "},{"$f":"'S8'!$F$35","v":"  "},{"$f":"'S8'!$F$34","v":"  "},{"$f":"'S8'!$F$33","v":"  "}]
[93,{"$f":"'S8'!$H$39","v":"  "},{"$f":"'S8'!$H$38","v":"  "},{"$f":"'S8'!$H$37","v":"  "},{"$f":"'S8'!$H$36","v":"  "},{"$f":"'S8'!$H$35","v":"  "},{"$f":"'S8'!$H$34","v":"  "},{"$f":"'S8'!$H$33","v":"  "}]
[94,{"$f":"'S8'!$J$39","v":"  "},{"$f":"'S8'!$J$38","v":"  "},{"$f":"'S8'!$J$37","v":"  "},{"$f":"'S8'!$J$36","v":"  "},{"$f":"'S8'!$J$35","v":"  "},{"$f":"'S8'!$J$34","v":"  "},{"$f":"'S8'!$J$33","v":"  "}]
[95,{"$f":"'S8'!$L$39","v":"  "},{"$f":"'S8'!$L$38","v":"  "},{"$f":"'S8'!$L$37","v":"  "},{"$f":"'S8'!$L$36","v":"  "},{"$f":"'S8'!$L$35","v":"  "},{"$f":"'S8'!$L$34","v":"  "},{"$f":"'S8'!$L$33","v":"  "}]
[96,{"$f":"'S8'!$N$39","v":"  "},{"$f":"'S8'!$N$38","v":"  "},{"$f":"'S8'!$N$37","v":"  "},{"$f":"'S8'!$N$36","v":"  "},{"$f":"'S8'!$N$35","v":"  "},{"$f":"'S8'!$N$34","v":"  "},{"$f":"'S8'!$N$33","v":"  "}]
[97,{"$f":"'S9'!$D$20","v":"  "},{"$f":"'S9'!$D$19","v":"  "},{"$f":"'S9'!$D$18","v":"  "},{"$f":"'S9'!$D$17","v":"  "},{"$f":"'S9'!$D$16","v":"  "},{"$f":"'S9'!$D$15","v":"  "},{"$f":"'S9'!$D$14","v":"  "}]
[98,{"$f":"'S9'!$F$20","v":"  "},{"$f":"'S9'!$F$19","v":"  "},{"$f":"'S9'!$F$18","v":"  "},{"$f":"'S9'!$F$17","v":"  "},{"$f":"'S9'!$F$16","v":"  "},{"$f":"'S9'!$F$15","v":"  "},{"$f":"'S9'!$F$14","v":"  "}]
[99,{"$f":"'S9'!$H$20","v":"  "},{"$f":"'S9'!$H$19","v":"  "},{"$f":"'S9'!$H$18","v":"  "},{"$f":"'S9'!$H$17","v":"  "},{"$f":"'S9'!$H$16","v":"  "},{"$f":"'S9'!$H$15","v":"  "},{"$f":"'S9'!$H$14","v":"  "}]
[100,{"$f":"'S9'!$J$20","v":"  "},{"$f":"'S9'!$J$19","v":"  "},{"$f":"'S9'!$J$18","v":"  "},{"$f":"'S9'!$J$17","v":"  "},{"$f":"'S9'!$J$16","v":"  "},{"$f":"'S9'!$J$15","v":"  "},{"$f":"'S9'!$J$14","v":"  "}]
[101,{"$f":"'S9'!$L$20","v":"  "},{"$f":"'S9'!$L$19","v":"  "},{"$f":"'S9'!$L$18","v":"  "},{"$f":"'S9'!$L$17","v":"  "},{"$f":"'S9'!$L$16","v":"  "},{"$f":"'S9'!$L$15","v":"  "},{"$f":"'S9'!$L$14","v":"  "}]
[102,{"$f":"'S9'!$N$20","v":"  "},{"$f":"'S9'!$N$19","v":"  "},{"$f":"'S9'!$N$18","v":"  "},{"$f":"'S9'!$N$17","v":"  "},{"$f":"'S9'!$N$16","v":"  "},{"$f":"'S9'!$N$15","v":"  "},{"$f":"'S9'!$N$14","v":"  "}]
[103,{"$f":"'S9'!$D$39","v":"  "},{"$f":"'S9'!$D$38","v":"  "},{"$f":"'S9'!$D$37","v":"  "},{"$f":"'S9'!$D$36","v":"  "},{"$f":"'S9'!$D$35","v":"  "},{"$f":"'S9'!$D$34","v":"  "},{"$f":"'S9'!$D$33","v":"  "}]
[104,{"$f":"'S9'!$F$39","v":"  "},{"$f":"'S9'!$F$38","v":"  "},{"$f":"'S9'!$F$37","v":"  "},{"$f":"'S9'!$F$36","v":"  "},{"$f":"'S9'!$F$35","v":"  "},{"$f":"'S9'!$F$34","v":"  "},{"$f":"'S9'!$F$33","v":"  "}]
[105,{"$f":"'S9'!$H$39","v":"  "},{"$f":"'S9'!$H$38","v":"  "},{"$f":"'S9'!$H$37","v":"  "},{"$f":"'S9'!$H$36","v":"  "},{"$f":"'S9'!$H$35","v":"  "},{"$f":"'S9'!$H$34","v":"  "},{"$f":"'S9'!$H$33","v":"  "}]
[106,{"$f":"'S9'!$J$39","v":"  "},{"$f":"'S9'!$J$38","v":"  "},{"$f":"'S9'!$J$37","v":"  "},{"$f":"'S9'!$J$36","v":"  "},{"$f":"'S9'!$J$35","v":"  "},{"$f":"'S9'!$J$34","v":"  "},{"$f":"'S9'!$J$33","v":"  "}]
[107,{"$f":"'S9'!$L$39","v":"  "},{"$f":"'S9'!$L$38","v":"  "},{"$f":"'S9'!$L$37","v":"  "},{"$f":"'S9'!$L$36","v":"  "},{"$f":"'S9'!$L$35","v":"  "},{"$f":"'S9'!$L$34","v":"  "},{"$f":"'S9'!$L$33","v":"  "}]
[108,{"$f":"'S9'!$N$39","v":"  "},{"$f":"'S9'!$N$38","v":"  "},{"$f":"'S9'!$N$37","v":"  "},{"$f":"'S9'!$N$36","v":"  "},{"$f":"'S9'!$N$35","v":"  "},{"$f":"'S9'!$N$34","v":"  "},{"$f":"'S9'!$N$33","v":"  "}]
[109,{"$f":"'S10'!$D$20","v":"  "},{"$f":"'S10'!$D$19","v":"  "},{"$f":"'S10'!$D$18","v":"  "},{"$f":"'S10'!$D$17","v":"  "},{"$f":"'S10'!$D$16","v":"  "},{"$f":"'S10'!$D$15","v":"  "},{"$f":"'S10'!$D$14","v":"  "}]
[110,{"$f":"'S10'!$F$20","v":"  "},{"$f":"'S10'!$F$19","v":"  "},{"$f":"'S10'!$F$18","v":"  "},{"$f":"'S10'!$F$17","v":"  "},{"$f":"'S10'!$F$16","v":"  "},{"$f":"'S10'!$F$15","v":"  "},{"$f":"'S10'!$F$14","v":"  "}]
[111,{"$f":"'S10'!$H$20","v":"  "},{"$f":"'S10'!$H$19","v":"  "},{"$f":"'S10'!$H$18","v":"  "},{"$f":"'S10'!$H$17","v":"  "},{"$f":"'S10'!$H$16","v":"  "},{"$f":"'S10'!$H$15","v":"  "},{"$f":"'S10'!$H$14","v":"  "}]
[112,{"$f":"'S10'!$J$20","v":"  "},{"$f":"'S10'!$J$19","v":"  "},{"$f":"'S10'!$J$18","v":"  "},{"$f":"'S10'!$J$17","v":"  "},{"$f":"'S10'!$J$16","v":"  "},{"$f":"'S10'!$J$15","v":"  "},{"$f":"'S10'!$J$14","v":"  "}]
[113,{"$f":"'S10'!$L$20","v":"  "},{"$f":"'S10'!$L$19","v":"  "},{"$f":"'S10'!$L$18","v":"  "},{"$f":"'S10'!$L$17","v":"  "},{"$f":"'S10'!$L$16","v":"  "},{"$f":"'S10'!$L$15","v":"  "},{"$f":"'S10'!$L$14","v":"  "}]
[114,{"$f":"'S10'!$N$20","v":"  "},{"$f":"'S10'!$N$19","v":"  "},{"$f":"'S10'!$N$18","v":"  "},{"$f":"'S10'!$N$17","v":"  "},{"$f":"'S10'!$N$16","v":"  "},{"$f":"'S10'!$N$15","v":"  "},{"$f":"'S10'!$N$14","v":"  "}]
[115,{"$f":"'S10'!$D$39","v":"  "},{"$f":"'S10'!$D$38","v":"  "},{"$f":"'S10'!$D$37","v":"  "},{"$f":"'S10'!$D$36","v":"  "},{"$f":"'S10'!$D$35","v":"  "},{"$f":"'S10'!$D$34","v":"  "},{"$f":"'S10'!$D$33","v":"  "}]
[116,{"$f":"'S10'!$F$39","v":"  "},{"$f":"'S10'!$F$38","v":"  "},{"$f":"'S10'!$F$37","v":"  "},{"$f":"'S10'!$F$36","v":"  "},{"$f":"'S10'!$F$35","v":"  "},{"$f":"'S10'!$F$34","v":"  "},{"$f":"'S10'!$F$33","v":"  "}]
[117,{"$f":"'S10'!$H$39","v":"  "},{"$f":"'S10'!$H$38","v":"  "},{"$f":"'S10'!$H$37","v":"  "},{"$f":"'S10'!$H$36","v":"  "},{"$f":"'S10'!$H$35","v":"  "},{"$f":"'S10'!$H$34","v":"  "},{"$f":"'S10'!$H$33","v":"  "}]
[118,{"$f":"'S10'!$J$39","v":"  "},{"$f":"'S10'!$J$38","v":"  "},{"$f":"'S10'!$J$37","v":"  "},{"$f":"'S10'!$J$36","v":"  "},{"$f":"'S10'!$J$35","v":"  "},{"$f":"'S10'!$J$34","v":"  "},{"$f":"'S10'!$J$33","v":"  "}]
[119,{"$f":"'S10'!$L$39","v":"  "},{"$f":"'S10'!$L$38","v":"  "},{"$f":"'S10'!$L$37","v":"  "},{"$f":"'S10'!$L$36","v":"  "},{"$f":"'S10'!$L$35","v":"  "},{"$f":"'S10'!$L$34","v":"  "},{"$f":"'S10'!$L$33","v":"  "}]
[120,{"$f":"'S10'!$N$39","v":"  "},{"$f":"'S10'!$N$38","v":"  "},{"$f":"'S10'!$N$37","v":"  "},{"$f":"'S10'!$N$36","v":"  "},{"$f":"'S10'!$N$35","v":"  "},{"$f":"'S10'!$N$34","v":"  "},{"$f":"'S10'!$N$33","v":"  "}]

{"sheet":"Avg","index":16,"n_rows":7,"n_cols":9,"rows_kept":7,"cut":false,"hidden":false,"merged":[[1,0,1,7],[1,8,1,9]]}
[]
["Average Gradations",null,null,null,null,null,null,null,{"$f":"IF(ISBLANK('S1'!L4),\" \",'S1'!L4)","v":"#9's"}]
[]
["Sieve",200,50,16,8,4,0.25,0.375]
["Count",{"$f":"COUNT('ST1'!B6:B125)","v":0},{"$f":"COUNT('ST1'!C6:C125)","v":0},{"$f":"COUNT('ST1'!D6:D125)","v":0},{"$f":"COUNT('ST1'!E6:E125)","v":0},{"$f":"COUNT('ST1'!F6:F125)","v":0},{"$f":"COUNT('ST1'!G6:G125)","v":0},{"$f":"COUNT('ST1'!H6:H125)","v":0}]
["Avg",{"$f":"AVERAGE('ST1'!B6:B125)","v":{"$error":"#DIV/0!"}},{"$f":"AVERAGE('ST1'!C6:C125)","v":{"$error":"#DIV/0!"}},{"$f":"AVERAGE('ST1'!D6:D125)","v":{"$error":"#DIV/0!"}},{"$f":"AVERAGE('ST1'!E6:E125)","v":{"$error":"#DIV/0!"}},{"$f":"AVERAGE('ST1'!F6:F125)","v":{"$error":"#DIV/0!"}},{"$f":"AVERAGE('ST1'!G6:G125)","v":{"$error":"#DIV/0!"}},{"$f":"AVERAGE('ST1'!H6:H125)","v":{"$error":"#DIV/0!"}}]
["St Dev",{"$f":"STDEV('ST1'!B6:B125)","v":{"$error":"#DIV/0!"}},{"$f":"STDEV('ST1'!C6:C125)","v":{"$error":"#DIV/0!"}},{"$f":"STDEV('ST1'!D6:D125)","v":{"$error":"#DIV/0!"}},{"$f":"STDEV('ST1'!E6:E125)","v":{"$error":"#DIV/0!"}},{"$f":"STDEV('ST1'!F6:F125)","v":{"$error":"#DIV/0!"}},{"$f":"STDEV('ST1'!G6:G125)","v":{"$error":"#DIV/0!"}},{"$f":"STDEV('ST1'!H6:H125)","v":{"$error":"#DIV/0!"}}]

{"sheet":"ST13","index":17,"n_rows":122,"n_cols":16,"rows_kept":122,"cut":false,"hidden":true,"merged":[[0,11,0,12],[0,1,0,2],[0,3,0,4],[0,5,0,6],[0,7,0,8],[0,9,0,10]]}
["Sam. No.",0.375,null,4,null,8,null,50,null,200,null,16,null,null,null,{"$f":"'S1'!L4","v":"#9's"}]
[null,"N=1","N=3","N=1","N=3","N=1","N=3","N=1","N=3","N=1","N=3","N=1","N=3"]
[{"$f":"IF(ISBLANK('S1'!C$8),\" \",'S1'!C$8)","v":" "},{"$f":"IF(ISTEXT('S1'!$D$14),NA(),'S1'!$D$14)","v":{"$error":"#N/A"}},{"$f":"B3","v":{"$error":"#N/A"}},{"$f":"IF(ISTEXT('S1'!$D$16),NA(),'S1'!$D$16)","v":{"$error":"#N/A"}},{"$f":"D3","v":{"$error":"#N/A"}},{"$f":"IF(ISTEXT('S1'!$D$17),NA(),'S1'!$D$17)","v":{"$error":"#N/A"}},{"$f":"F3","v":{"$error":"#N/A"}},{"$f":"IF(ISTEXT('S1'!$D$19),NA(),'S1'!$D$19)","v":{"$error":"#N/A"}},{"$f":"H3","v":{"$error":"#N/A"}},{"$f":"IF(ISTEXT('S1'!$D$20),NA(),'S1'!$D$20)","v":{"$error":"#N/A"}},{"$f":"J3","v":{"$error":"#N/A"}},{"$f":"IF(ISTEXT('S1'!$D$18),NA(),'S1'!$D$18)","v":{"$error":"#N/A"}},{"$f":"L3","v":{"$error":"#N/A"}}]
[{"$f":"IF(ISBLANK('S1'!E$8),\" \",'S1'!E$8)","v":" "},{"$f":"IF(ISTEXT('S1'!$F$14),NA(),'S1'!$F$14)","v":{"$error":"#N/A"}},{"$f":"ROUND(AVERAGE(B3:B4),0)","v":{"$error":"#N/A"}},{"$f":"IF(ISTEXT('S1'!$F$16),NA(),'S1'!$F$16)","v":{"$error":"#N/A"}},{"$f":"ROUND(AVERAGE(D3:D4),0)","v":{"$error":"#N/A"}},{"$f":"IF(ISTEXT('S1'!$F$17),NA(),'S1'!$F$17)","v":{"$error":"#N/A"}},{"$f":"ROUND(AVERAGE(F3:F4),0)","v":{"$error":"#N/A"}},{"$f":"IF(ISTEXT('S1'!$F$19),NA(),'S1'!$F$19)","v":{"$error":"#N/A"}},{"$f":"ROUND(AVERAGE(H3:H4),0)","v":{"$error":"#N/A"}},{"$f":"IF(ISTEXT('S1'!$F$20),NA(),'S1'!$F$20)","v":{"$error":"#N/A"}},{"$f":"ROUND(AVERAGE(J3:J4),2)","v":{"$error":"#N/A"}},{"$f":"IF(ISTEXT('S1'!$F$18),NA(),'S1'!$F$18)","v":{"$error":"#N/A"}},{"$f":"ROUND(AVERAGE(L3:L4),0)","v":{"$error":"#N/A"}}]
[{"$f":"IF(ISBLANK('S1'!G$8),\" \",'S1'!G$8)","v":" "},{"$f":"IF(ISTEXT('S1'!$H$14),NA(),'S1'!$H$14)","v":{"$error":"#N/A"}},{"$f":"ROUND(AVERAGE(B3:B5),0)","v":{"$error":"#N/A"}},{"$f":"IF(ISTEXT('S1'!$H$16),NA(),'S1'!$H$16)","v":{"$error":"#N/A"}},{"$f":"ROUND(AVERAGE(D3:D5),0)","v":{"$error":"#N/A"}},{"$f":"IF(ISTEXT('S1'!$H$17),NA(),'S1'!$H$17)","v":{"$error":"#N/A"}},{"$f":"ROUND(AVERAGE(F3:F5),0)","v":{"$error":"#N/A"}},{"$f":"IF(ISTEXT('S1'!$H$19),NA(),'S1'!$H$19)","v":{"$error":"#N/A"}},{"$f":"ROUND(AVERAGE(H3:H5),0)","v":{"$error":"#N/A"}},{"$f":"IF(ISTEXT('S1'!$H$20),NA(),'S1'!$H$20)","v":{"$error":"#N/A"}},{"$f":"ROUND(AVERAGE(J3:J5),2)","v":{"$error":"#N/A"}},{"$f":"IF(ISTEXT('S1'!$H$18),NA(),'S1'!$H$18)","v":{"$error":"#N/A"}},{"$f":"ROUND(AVERAGE(L3:L5),0)","v":{"$error":"#N/A"}}]
[{"$f":"IF(ISBLANK('S1'!I$8),\" \",'S1'!I$8)","v":" "},{"$f":"IF(ISTEXT('S1'!$J$14),NA(),'S1'!$J$14)","v":{"$error":"#N/A"}},{"$f":"ROUND(AVERAGE(B4:B6),0)","v":{"$error":"#N/A"}},{"$f":"IF(ISTEXT('S1'!$J$16),NA(),'S1'!$J$16)","v":{"$error":"#N/A"}},{"$error":"#N/A"},{"$f":"IF(ISTEXT('S1'!$J$17),NA(),'S1'!$J$17)","v":{"$error":"#N/A"}},{"$f":"ROUND(AVERAGE(F4:F6),0)","v":{"$error":"#N/A"}},{"$f":"IF(ISTEXT('S1'!$J$19),NA(),'S1'!$J$19)","v":{"$error":"#N/A"}},{"$f":"ROUND(AVERAGE(H4:H6),0)","v":{"$error":"#N/A"}},{"$f":"IF(ISTEXT('S1'!$J$20),NA(),'S1'!$J$20)","v":{"$error":"#N/A"}},{"$error":"#N/A"},{"$f":"IF(ISTEXT('S1'!$J$18),NA(),'S1'!$J$18)","v":{"$error":"#N/A"}},{"$f":"ROUND(AVERAGE(L4:L6),0)","v":{"$error":"#N/A"}}]
[{"$f":"IF(ISBLANK('S1'!K$8),\" \",'S1'!K$8)","v":" "},{"$f":"IF(ISTEXT('S1'!$L$14),NA(),'S1'!$L$14)","v":{"$error":"#N/A"}},{"$error":"#N/A"},{"$f":"IF(ISTEXT('S1'!$L$16),NA(),'S1'!$L$16)","v":{"$error":"#N/A"}},{"$error":"#N/A"},{"$f":"IF(ISTEXT('S1'!$L$17),NA(),'S1'!$L$17)","v":{"$error":"#N/A"}},{"$f":"ROUND(AVERAGE(F5:F7),0)","v":{"$error":"#N/A"}},{"$f":"IF(ISTEXT('S1'!$L$19),NA(),'S1'!$L$19)","v":{"$error":"#N/A"}},{"$f":"ROUND(AVERAGE(H5:H7),0)","v":{"$error":"#N/A"}},{"$f":"IF(ISTEXT('S1'!$L$20),NA(),'S1'!$L$20)","v":{"$error":"#N/A"}},{"$error":"#N/A"},{"$f":"IF(ISTEXT('S1'!$L$18),NA(),'S1'!$L$18)","v":{"$error":"#N/A"}},{"$f":"ROUND(AVERAGE(L5:L7),0)","v":{"$error":"#N/A"}}]
[{"$f":"IF(ISBLANK('S1'!M$8),\" \",'S1'!M$8)","v":" "},{"$f":"IF(ISTEXT('S1'!$N$14),NA(),'S1'!$N$14)","v":{"$error":"#N/A"}},{"$error":"#N/A"},{"$f":"IF(ISTEXT('S1'!$N$16),NA(),'S1'!$N$16)","v":{"$error":"#N/A"}},{"$error":"#N/A"},{"$f":"IF(ISTEXT('S1'!$N$17),NA(),'S1'!$N$17)","v":{"$error":"#N/A"}},{"$f":"ROUND(AVERAGE(F6:F8),0)","v":{"$error":"#N/A"}},{"$f":"IF(ISTEXT('S1'!$N$19),NA(),'S1'!$N$19)","v":{"$error":"#N/A"}},{"$f":"ROUND(AVERAGE(H6:H8),0)","v":{"$error":"#N/A"}},{"$f":"IF(ISTEXT('S1'!$N$20),NA(),'S1'!$N$20)","v":{"$error":"#N/A"}},{"$error":"#N/A"},{"$f":"IF(ISTEXT('S1'!$N$18),NA(),'S1'!$N$18)","v":{"$error":"#N/A"}},{"$f":"ROUND(AVERAGE(L6:L8),0)","v":{"$error":"#N/A"}}]
[{"$f":"IF(ISBLANK('S1'!C$27),\" \",'S1'!C$27)","v":" "},{"$f":"IF(ISTEXT('S1'!$D$33),NA(),'S1'!$D$33)","v":{"$error":"#N/A"}},{"$error":"#N/A"},{"$f":"IF(ISTEXT('S1'!$D$35),NA(),'S1'!$D$35)","v":{"$error":"#N/A"}},{"$error":"#N/A"},{"$f":"IF(ISTEXT('S1'!$D$36),NA(),'S1'!$D$36)","v":{"$error":"#N/A"}},{"$f":"ROUND(AVERAGE(F7:F9),0)","v":{"$error":"#N/A"}},{"$f":"IF(ISTEXT('S1'!$D$38),NA(),'S1'!$D$38)","v":{"$error":"#N/A"}},{"$f":"ROUND(AVERAGE(H7:H9),0)","v":{"$error":"#N/A"}},{"$f":"IF(ISTEXT('S1'!$D$39),NA(),'S1'!$D$39)","v":{"$error":"#N/A"}},{"$error":"#N/A"},{"$f":"IF(ISTEXT('S1'!$D$37),NA(),'S1'!$D$37)","v":{"$error":"#N/A"}},{"$f":"ROUND(AVERAGE(L7:L9),0)","v":{"$error":"#N/A"}}]
[{"$f":"IF(ISBLANK('S1'!E$27),\" \",'S1'!E$27)","v":" "},{"$f":"IF(ISTEXT('S1'!$F$33),NA(),'S1'!$F$33)","v":{"$error":"#N/A"}},{"$error":"#N/A"},{"$f":"IF(ISTEXT('S1'!$F$35),NA(),'S1'!$F$35)","v":{"$error":"#N/A"}},{"$error":"#N/A"},{"$f":"IF(ISTEXT('S1'!$F$36),NA(),'S1'!$F$36)","v":{"$error":"#N/A"}},{"$f":"ROUND(AVERAGE(F8:F10),0)","v":{"$error":"#N/A"}},{"$f":"IF(ISTEXT('S1'!$F$38),NA(),'S1'!$F$38)","v":{"$error":"#N/A"}},{"$f":"ROUND(AVERAGE(H8:H10),0)","v":{"$error":"#N/A"}},{"$f":"IF(ISTEXT('S1'!$F$39),NA(),'S1'!$F$39)","v":{"$error":"#N/A"}},{"$error":"#N/A"},{"$f":"IF(ISTEXT('S1'!$F$37),NA(),'S1'!$F$37)","v":{"$error":"#N/A"}},{"$f":"ROUND(AVERAGE(L8:L10),0)","v":{"$error":"#N/A"}}]
[{"$f":"IF(ISBLANK('S1'!G$27),\" \",'S1'!G$27)","v":" "},{"$f":"IF(ISTEXT('S1'!$H$33),NA(),'S1'!$H$33)","v":{"$error":"#N/A"}},{"$error":"#N/A"},{"$f":"IF(ISTEXT('S1'!$H$35),NA(),'S1'!$H$35)","v":{"$error":"#N/A"}},{"$error":"#N/A"},{"$f":"IF(ISTEXT('S1'!$H$36),NA(),'S1'!$H$36)","v":{"$error":"#N/A"}},{"$f":"ROUND(AVERAGE(F9:F11),0)","v":{"$error":"#N/A"}},{"$f":"IF(ISTEXT('S1'!$H$38),NA(),'S1'!$H$38)","v":{"$error":"#N/A"}},{"$f":"ROUND(AVERAGE(H9:H11),0)","v":{"$error":"#N/A"}},{"$f":"IF(ISTEXT('S1'!$H$39),NA(),'S1'!$H$39)","v":{"$error":"#N/A"}},{"$error":"#N/A"},{"$f":"IF(ISTEXT('S1'!$H$37),NA(),'S1'!$H$37)","v":{"$error":"#N/A"}},{"$f":"ROUND(AVERAGE(L9:L11),0)","v":{"$error":"#N/A"}}]
[{"$f":"IF(ISBLANK('S1'!I$27),\" \",'S1'!I$27)","v":" "},{"$f":"IF(ISTEXT('S1'!$J$33),NA(),'S1'!$J$33)","v":{"$error":"#N/A"}},{"$error":"#N/A"},{"$f":"IF(ISTEXT('S1'!$J$35),NA(),'S1'!$J$35)","v":{"$error":"#N/A"}},{"$error":"#N/A"},{"$f":"IF(ISTEXT('S1'!$J$36),NA(),'S1'!$J$36)","v":{"$error":"#N/A"}},{"$f":"ROUND(AVERAGE(F10:F12),0)","v":{"$error":"#N/A"}},{"$f":"IF(ISTEXT('S1'!$J$38),NA(),'S1'!$J$38)","v":{"$error":"#N/A"}},{"$f":"ROUND(AVERAGE(H10:H12),0)","v":{"$error":"#N/A"}},{"$f":"IF(ISTEXT('S1'!$J$39),NA(),'S1'!$J$39)","v":{"$error":"#N/A"}},{"$error":"#N/A"},{"$f":"IF(ISTEXT('S1'!$J$37),NA(),'S1'!$J$37)","v":{"$error":"#N/A"}},{"$f":"ROUND(AVERAGE(L10:L12),0)","v":{"$error":"#N/A"}}]
[{"$f":"IF(ISBLANK('S1'!K$27),\" \",'S1'!K$27)","v":" "},{"$f":"IF(ISTEXT('S1'!$L$33),NA(),'S1'!$L$33)","v":{"$error":"#N/A"}},{"$error":"#N/A"},{"$f":"IF(ISTEXT('S1'!$L$35),NA(),'S1'!$L$35)","v":{"$error":"#N/A"}},{"$error":"#N/A"},{"$f":"IF(ISTEXT('S1'!$L$36),NA(),'S1'!$L$36)","v":{"$error":"#N/A"}},{"$f":"ROUND(AVERAGE(F11:F13),0)","v":{"$error":"#N/A"}},{"$f":"IF(ISTEXT('S1'!$L$38),NA(),'S1'!$L$38)","v":{"$error":"#N/A"}},{"$f":"ROUND(AVERAGE(H11:H13),0)","v":{"$error":"#N/A"}},{"$f":"IF(ISTEXT('S1'!$L$39),NA(),'S1'!$L$39)","v":{"$error":"#N/A"}},{"$error":"#N/A"},{"$f":"IF(ISTEXT('S1'!$L$37),NA(),'S1'!$L$37)","v":{"$error":"#N/A"}},{"$f":"ROUND(AVERAGE(L11:L13),0)","v":{"$error":"#N/A"}}]
[{"$f":"IF(ISBLANK('S1'!M$27),\" \",'S1'!M$27)","v":" "},{"$f":"IF(ISTEXT('S1'!$N$33),NA(),'S1'!$N$33)","v":{"$error":"#N/A"}},{"$error":"#N/A"},{"$f":"IF(ISTEXT('S1'!$N$35),NA(),'S1'!$N$35)","v":{"$error":"#N/A"}},{"$error":"#N/A"},{"$f":"IF(ISTEXT('S1'!$N$36),NA(),'S1'!$N$36)","v":{"$error":"#N/A"}},{"$f":"ROUND(AVERAGE(F12:F14),0)","v":{"$error":"#N/A"}},{"$f":"IF(ISTEXT('S1'!$N$38),NA(),'S1'!$N$38)","v":{"$error":"#N/A"}},{"$f":"ROUND(AVERAGE(H12:H14),0)","v":{"$error":"#N/A"}},{"$f":"IF(ISTEXT('S1'!$N$39),NA(),'S1'!$N$39)","v":{"$error":"#N/A"}},{"$error":"#N/A"},{"$f":"IF(ISTEXT('S1'!$N$37),NA(),'S1'!$N$37)","v":{"$error":"#N/A"}},{"$f":"ROUND(AVERAGE(L12:L14),0)","v":{"$error":"#N/A"}}]
[{"$f":"IF(ISBLANK('S2'!C$8),\" \",'S2'!C$8)","v":" "},{"$f":"IF(ISTEXT('S2'!$D$14),NA(),'S2'!$D$14)","v":{"$error":"#N/A"}},{"$error":"#N/A"},{"$f":"IF(ISTEXT('S2'!$D$16),NA(),'S2'!$D$16)","v":{"$error":"#N/A"}},{"$error":"#N/A"},{"$f":"IF(ISTEXT('S2'!$D$17),NA(),'S2'!$D$17)","v":{"$error":"#N/A"}},{"$f":"ROUND(AVERAGE(F13:F15),0)","v":{"$error":"#N/A"}},{"$f":"IF(ISTEXT('S2'!$D$19),NA(),'S2'!$D$19)","v":{"$error":"#N/A"}},{"$f":"ROUND(AVERAGE(H13:H15),0)","v":{"$error":"#N/A"}},{"$f":"IF(ISTEXT('S2'!$D$20),NA(),'S2'!$D$20)","v":{"$error":"#N/A"}},{"$error":"#N/A"},{"$f":"IF(ISTEXT('S2'!$D$18),NA(),'S2'!$D$18)","v":{"$error":"#N/A"}},{"$f":"ROUND(AVERAGE(L13:L15),0)","v":{"$error":"#N/A"}}]
[{"$f":"IF(ISBLANK('S2'!E$8),\" \",'S2'!E$8)","v":" "},{"$f":"IF(ISTEXT('S2'!$F$14),NA(),'S2'!$F$14)","v":{"$error":"#N/A"}},{"$error":"#N/A"},{"$f":"IF(ISTEXT('S2'!$F$16),NA(),'S2'!$F$16)","v":{"$error":"#N/A"}},{"$error":"#N/A"},{"$f":"IF(ISTEXT('S2'!$F$17),NA(),'S2'!$F$17)","v":{"$error":"#N/A"}},{"$f":"ROUND(AVERAGE(F14:F16),0)","v":{"$error":"#N/A"}},{"$f":"IF(ISTEXT('S2'!$F$19),NA(),'S2'!$F$19)","v":{"$error":"#N/A"}},{"$f":"ROUND(AVERAGE(H14:H16),0)","v":{"$error":"#N/A"}},{"$f":"IF(ISTEXT('S2'!$F$20),NA(),'S2'!$F$20)","v":{"$error":"#N/A"}},{"$error":"#N/A"},{"$f":"IF(ISTEXT('S2'!$F$18),NA(),'S2'!$F$18)","v":{"$error":"#N/A"}},{"$f":"ROUND(AVERAGE(L14:L16),0)","v":{"$error":"#N/A"}}]
[{"$f":"IF(ISBLANK('S2'!G$8),\" \",'S2'!G$8)","v":" "},{"$f":"IF(ISTEXT('S2'!$H$14),NA(),'S2'!$H$14)","v":{"$error":"#N/A"}},{"$error":"#N/A"},{"$f":"IF(ISTEXT('S2'!$H$16),NA(),'S2'!$H$16)","v":{"$error":"#N/A"}},{"$error":"#N/A"},{"$f":"IF(ISTEXT('S2'!$H$17),NA(),'S2'!$H$17)","v":{"$error":"#N/A"}},{"$f":"ROUND(AVERAGE(F15:F17),0)","v":{"$error":"#N/A"}},{"$f":"IF(ISTEXT('S2'!$H$19),NA(),'S2'!$H$19)","v":{"$error":"#N/A"}},{"$f":"ROUND(AVERAGE(H15:H17),0)","v":{"$error":"#N/A"}},{"$f":"IF(ISTEXT('S2'!$H$20),NA(),'S2'!$H$20)","v":{"$error":"#N/A"}},{"$error":"#N/A"},{"$f":"IF(ISTEXT('S2'!$H$18),NA(),'S2'!$H$18)","v":{"$error":"#N/A"}},{"$f":"ROUND(AVERAGE(L15:L17),0)","v":{"$error":"#N/A"}}]
[{"$f":"IF(ISBLANK('S2'!I$8),\" \",'S2'!I$8)","v":" "},{"$f":"IF(ISTEXT('S2'!$J$14),NA(),'S2'!$J$14)","v":{"$error":"#N/A"}},{"$error":"#N/A"},{"$f":"IF(ISTEXT('S2'!$J$16),NA(),'S2'!$J$16)","v":{"$error":"#N/A"}},{"$error":"#N/A"},{"$f":"IF(ISTEXT('S2'!$J$17),NA(),'S2'!$J$17)","v":{"$error":"#N/A"}},{"$f":"ROUND(AVERAGE(F16:F18),0)","v":{"$error":"#N/A"}},{"$f":"IF(ISTEXT('S2'!$J$19),NA(),'S2'!$J$19)","v":{"$error":"#N/A"}},{"$f":"ROUND(AVERAGE(H16:H18),0)","v":{"$error":"#N/A"}},{"$f":"IF(ISTEXT('S2'!$J$20),NA(),'S2'!$J$20)","v":{"$error":"#N/A"}},{"$error":"#N/A"},{"$f":"IF(ISTEXT('S2'!$J$18),NA(),'S2'!$J$18)","v":{"$error":"#N/A"}},{"$f":"ROUND(AVERAGE(L16:L18),0)","v":{"$error":"#N/A"}}]
[{"$f":"IF(ISBLANK('S2'!K$8),\" \",'S2'!K$8)","v":" "},{"$f":"IF(ISTEXT('S2'!$L$14),NA(),'S2'!$L$14)","v":{"$error":"#N/A"}},{"$error":"#N/A"},{"$f":"IF(ISTEXT('S2'!$L$16),NA(),'S2'!$L$16)","v":{"$error":"#N/A"}},{"$error":"#N/A"},{"$f":"IF(ISTEXT('S2'!$L$17),NA(),'S2'!$L$17)","v":{"$error":"#N/A"}},{"$f":"ROUND(AVERAGE(F17:F19),0)","v":{"$error":"#N/A"}},{"$f":"IF(ISTEXT('S2'!$L$19),NA(),'S2'!$L$19)","v":{"$error":"#N/A"}},{"$f":"ROUND(AVERAGE(H17:H19),0)","v":{"$error":"#N/A"}},{"$f":"IF(ISTEXT('S2'!$L$20),NA(),'S2'!$L$20)","v":{"$error":"#N/A"}},{"$error":"#N/A"},{"$f":"IF(ISTEXT('S2'!$L$18),NA(),'S2'!$L$18)","v":{"$error":"#N/A"}},{"$f":"ROUND(AVERAGE(L17:L19),0)","v":{"$error":"#N/A"}}]
[{"$f":"IF(ISBLANK('S2'!M$8),\" \",'S2'!M$8)","v":" "},{"$f":"IF(ISTEXT('S2'!$N$14),NA(),'S2'!$N$14)","v":{"$error":"#N/A"}},{"$error":"#N/A"},{"$f":"IF(ISTEXT('S2'!$N$16),NA(),'S2'!$N$16)","v":{"$error":"#N/A"}},{"$error":"#N/A"},{"$f":"IF(ISTEXT('S2'!$N$17),NA(),'S2'!$N$17)","v":{"$error":"#N/A"}},{"$f":"ROUND(AVERAGE(F18:F20),0)","v":{"$error":"#N/A"}},{"$f":"IF(ISTEXT('S2'!$N$19),NA(),'S2'!$N$19)","v":{"$error":"#N/A"}},{"$f":"ROUND(AVERAGE(H18:H20),0)","v":{"$error":"#N/A"}},{"$f":"IF(ISTEXT('S2'!$N$20),NA(),'S2'!$N$20)","v":{"$error":"#N/A"}},{"$error":"#N/A"},{"$f":"IF(ISTEXT('S2'!$N$18),NA(),'S2'!$N$18)","v":{"$error":"#N/A"}},{"$f":"ROUND(AVERAGE(L18:L20),0)","v":{"$error":"#N/A"}}]
[{"$f":"IF(ISBLANK('S2'!C$27),\" \",'S2'!C$27)","v":" "},{"$f":"IF(ISTEXT('S2'!$D$33),NA(),'S2'!$D$33)","v":{"$error":"#N/A"}},{"$error":"#N/A"},{"$f":"IF(ISTEXT('S2'!$D$35),NA(),'S2'!$D$35)","v":{"$error":"#N/A"}},{"$error":"#N/A"},{"$f":"IF(ISTEXT('S2'!$D$36),NA(),'S2'!$D$36)","v":{"$error":"#N/A"}},{"$f":"ROUND(AVERAGE(F19:F21),0)","v":{"$error":"#N/A"}},{"$f":"IF(ISTEXT('S2'!$D$38),NA(),'S2'!$D$38)","v":{"$error":"#N/A"}},{"$f":"ROUND(AVERAGE(H19:H21),0)","v":{"$error":"#N/A"}},{"$f":"IF(ISTEXT('S2'!$D$39),NA(),'S2'!$D$39)","v":{"$error":"#N/A"}},{"$error":"#N/A"},{"$f":"IF(ISTEXT('S2'!$D$37),NA(),'S2'!$D$37)","v":{"$error":"#N/A"}},{"$f":"ROUND(AVERAGE(L19:L21),0)","v":{"$error":"#N/A"}}]
[{"$f":"IF(ISBLANK('S2'!E$27),\" \",'S2'!E$27)","v":" "},{"$f":"IF(ISTEXT('S2'!$F$33),NA(),'S2'!$F$33)","v":{"$error":"#N/A"}},{"$error":"#N/A"},{"$f":"IF(ISTEXT('S2'!$F$35),NA(),'S2'!$F$35)","v":{"$error":"#N/A"}},{"$error":"#N/A"},{"$f":"IF(ISTEXT('S2'!$F$36),NA(),'S2'!$F$36)","v":{"$error":"#N/A"}},{"$f":"ROUND(AVERAGE(F20:F22),0)","v":{"$error":"#N/A"}},{"$f":"IF(ISTEXT('S2'!$F$38),NA(),'S2'!$F$38)","v":{"$error":"#N/A"}},{"$f":"ROUND(AVERAGE(H20:H22),0)","v":{"$error":"#N/A"}},{"$f":"IF(ISTEXT('S2'!$F$39),NA(),'S2'!$F$39)","v":{"$error":"#N/A"}},{"$error":"#N/A"},{"$f":"IF(ISTEXT('S2'!$F$37),NA(),'S2'!$F$37)","v":{"$error":"#N/A"}},{"$f":"ROUND(AVERAGE(L20:L22),0)","v":{"$error":"#N/A"}}]
[{"$f":"IF(ISBLANK('S2'!G$27),\" \",'S2'!G$27)","v":" "},{"$f":"IF(ISTEXT('S2'!$H$33),NA(),'S2'!$H$33)","v":{"$error":"#N/A"}},{"$error":"#N/A"},{"$f":"IF(ISTEXT('S2'!$H$35),NA(),'S2'!$H$35)","v":{"$error":"#N/A"}},{"$error":"#N/A"},{"$f":"IF(ISTEXT('S2'!$H$36),NA(),'S2'!$H$36)","v":{"$error":"#N/A"}},{"$f":"ROUND(AVERAGE(F21:F23),0)","v":{"$error":"#N/A"}},{"$f":"IF(ISTEXT('S2'!$H$38),NA(),'S2'!$H$38)","v":{"$error":"#N/A"}},{"$f":"ROUND(AVERAGE(H21:H23),0)","v":{"$error":"#N/A"}},{"$f":"IF(ISTEXT('S2'!$H$39),NA(),'S2'!$H$39)","v":{"$error":"#N/A"}},{"$error":"#N/A"},{"$f":"IF(ISTEXT('S2'!$H$37),NA(),'S2'!$H$37)","v":{"$error":"#N/A"}},{"$f":"ROUND(AVERAGE(L21:L23),0)","v":{"$error":"#N/A"}}]
[{"$f":"IF(ISBLANK('S2'!I$27),\" \",'S2'!I$27)","v":" "},{"$f":"IF(ISTEXT('S2'!$J$33),NA(),'S2'!$J$33)","v":{"$error":"#N/A"}},{"$error":"#N/A"},{"$f":"IF(ISTEXT('S2'!$J$35),NA(),'S2'!$J$35)","v":{"$error":"#N/A"}},{"$error":"#N/A"},{"$f":"IF(ISTEXT('S2'!$J$36),NA(),'S2'!$J$36)","v":{"$error":"#N/A"}},{"$f":"ROUND(AVERAGE(F22:F24),0)","v":{"$error":"#N/A"}},{"$f":"IF(ISTEXT('S2'!$J$38),NA(),'S2'!$J$38)","v":{"$error":"#N/A"}},{"$f":"ROUND(AVERAGE(H22:H24),0)","v":{"$error":"#N/A"}},{"$f":"IF(ISTEXT('S2'!$J$39),NA(),'S2'!$J$39)","v":{"$error":"#N/A"}},{"$error":"#N/A"},{"$f":"IF(ISTEXT('S2'!$J$37),NA(),'S2'!$J$37)","v":{"$error":"#N/A"}},{"$f":"ROUND(AVERAGE(L22:L24),0)","v":{"$error":"#N/A"}}]
[{"$f":"IF(ISBLANK('S2'!K$27),\" \",'S2'!K$27)","v":" "},{"$f":"IF(ISTEXT('S2'!$L$33),NA(),'S2'!$L$33)","v":{"$error":"#N/A"}},{"$error":"#N/A"},{"$f":"IF(ISTEXT('S2'!$L$35),NA(),'S2'!$L$35)","v":{"$error":"#N/A"}},{"$error":"#N/A"},{"$f":"IF(ISTEXT('S2'!$L$36),NA(),'S2'!$L$36)","v":{"$error":"#N/A"}},{"$f":"ROUND(AVERAGE(F23:F25),0)","v":{"$error":"#N/A"}},{"$f":"IF(ISTEXT('S2'!$L$38),NA(),'S2'!$L$38)","v":{"$error":"#N/A"}},{"$f":"ROUND(AVERAGE(H23:H25),0)","v":{"$error":"#N/A"}},{"$f":"IF(ISTEXT('S2'!$L$39),NA(),'S2'!$L$39)","v":{"$error":"#N/A"}},{"$error":"#N/A"},{"$f":"IF(ISTEXT('S2'!$L$37),NA(),'S2'!$L$37)","v":{"$error":"#N/A"}},{"$f":"ROUND(AVERAGE(L23:L25),0)","v":{"$error":"#N/A"}}]
[{"$f":"IF(ISBLANK('S2'!M$27),\" \",'S2'!M$27)","v":" "},{"$f":"IF(ISTEXT('S2'!$N$33),NA(),'S2'!$N$33)","v":{"$error":"#N/A"}},{"$error":"#N/A"},{"$f":"IF(ISTEXT('S2'!$N$35),NA(),'S2'!$N$35)","v":{"$error":"#N/A"}},{"$error":"#N/A"},{"$f":"IF(ISTEXT('S2'!$N$36),NA(),'S2'!$N$36)","v":{"$error":"#N/A"}},{"$f":"ROUND(AVERAGE(F24:F26),0)","v":{"$error":"#N/A"}},{"$f":"IF(ISTEXT('S2'!$N$38),NA(),'S2'!$N$38)","v":{"$error":"#N/A"}},{"$f":"ROUND(AVERAGE(H24:H26),0)","v":{"$error":"#N/A"}},{"$f":"IF(ISTEXT('S2'!$N$39),NA(),'S2'!$N$39)","v":{"$error":"#N/A"}},{"$error":"#N/A"},{"$f":"IF(ISTEXT('S2'!$N$37),NA(),'S2'!$N$37)","v":{"$error":"#N/A"}},{"$f":"ROUND(AVERAGE(L24:L26),0)","v":{"$error":"#N/A"}}]
[{"$f":"IF(ISBLANK('S3'!C$8),\" \",'S3'!C$8)","v":" "},{"$f":"IF(ISTEXT('S3'!$D$14),NA(),'S3'!$D$14)","v":{"$error":"#N/A"}},{"$error":"#N/A"},{"$f":"IF(ISTEXT('S3'!$D$16),NA(),'S3'!$D$16)","v":{"$error":"#N/A"}},{"$error":"#N/A"},{"$f":"IF(ISTEXT('S3'!$D$17),NA(),'S3'!$D$17)","v":{"$error":"#N/A"}},{"$f":"ROUND(AVERAGE(F25:F27),0)","v":{"$error":"#N/A"}},{"$f":"IF(ISTEXT('S3'!$D$19),NA(),'S3'!$D$19)","v":{"$error":"#N/A"}},{"$f":"ROUND(AVERAGE(H25:H27),0)","v":{"$error":"#N/A"}},{"$f":"IF(ISTEXT('S3'!$D$20),NA(),'S3'!$D$20)","v":{"$error":"#N/A"}},{"$error":"#N/A"},{"$f":"IF(ISTEXT('S3'!$D$18),NA(),'S3'!$D$18)","v":{"$error":"#N/A"}},{"$f":"ROUND(AVERAGE(L25:L27),0)","v":{"$error":"#N/A"}}]
[{"$f":"IF(ISBLANK('S3'!E$8),\" \",'S3'!E$8)","v":" "},{"$f":"IF(ISTEXT('S3'!$F$14),NA(),'S3'!$F$14)","v":{"$error":"#N/A"}},{"$error":"#N/A"},{"$f":"IF(ISTEXT('S3'!$F$16),NA(),'S3'!$F$16)","v":{"$error":"#N/A"}},{"$error":"#N/A"},{"$f":"IF(ISTEXT('S3'!$F$17),NA(),'S3'!$F$17)","v":{"$error":"#N/A"}},{"$f":"ROUND(AVERAGE(F26:F28),0)","v":{"$error":"#N/A"}},{"$f":"IF(ISTEXT('S3'!$F$19),NA(),'S3'!$F$19)","v":{"$error":"#N/A"}},{"$f":"ROUND(AVERAGE(H26:H28),0)","v":{"$error":"#N/A"}},{"$f":"IF(ISTEXT('S3'!$F$20),NA(),'S3'!$F$20)","v":{"$error":"#N/A"}},{"$error":"#N/A"},{"$f":"IF(ISTEXT('S3'!$F$18),NA(),'S3'!$F$18)","v":{"$error":"#N/A"}},{"$f":"ROUND(AVERAGE(L26:L28),0)","v":{"$error":"#N/A"}}]
[{"$f":"IF(ISBLANK('S3'!G$8),\" \",'S3'!G$8)","v":" "},{"$f":"IF(ISTEXT('S3'!$H$14),NA(),'S3'!$H$14)","v":{"$error":"#N/A"}},{"$error":"#N/A"},{"$f":"IF(ISTEXT('S3'!$H$16),NA(),'S3'!$H$16)","v":{"$error":"#N/A"}},{"$error":"#N/A"},{"$f":"IF(ISTEXT('S3'!$H$17),NA(),'S3'!$H$17)","v":{"$error":"#N/A"}},{"$f":"ROUND(AVERAGE(F27:F29),0)","v":{"$error":"#N/A"}},{"$f":"IF(ISTEXT('S3'!$H$19),NA(),'S3'!$H$19)","v":{"$error":"#N/A"}},{"$f":"ROUND(AVERAGE(H27:H29),0)","v":{"$error":"#N/A"}},{"$f":"IF(ISTEXT('S3'!$H$20),NA(),'S3'!$H$20)","v":{"$error":"#N/A"}},{"$error":"#N/A"},{"$f":"IF(ISTEXT('S3'!$H$18),NA(),'S3'!$H$18)","v":{"$error":"#N/A"}},{"$f":"ROUND(AVERAGE(L27:L29),0)","v":{"$error":"#N/A"}}]
[{"$f":"IF(ISBLANK('S3'!I$8),\" \",'S3'!I$8)","v":" "},{"$f":"IF(ISTEXT('S3'!$J$14),NA(),'S3'!$J$14)","v":{"$error":"#N/A"}},{"$error":"#N/A"},{"$f":"IF(ISTEXT('S3'!$J$16),NA(),'S3'!$J$16)","v":{"$error":"#N/A"}},{"$error":"#N/A"},{"$f":"IF(ISTEXT('S3'!$J$17),NA(),'S3'!$J$17)","v":{"$error":"#N/A"}},{"$f":"ROUND(AVERAGE(F28:F30),0)","v":{"$error":"#N/A"}},{"$f":"IF(ISTEXT('S3'!$J$19),NA(),'S3'!$J$19)","v":{"$error":"#N/A"}},{"$f":"ROUND(AVERAGE(H28:H30),0)","v":{"$error":"#N/A"}},{"$f":"IF(ISTEXT('S3'!$J$20),NA(),'S3'!$J$20)","v":{"$error":"#N/A"}},{"$error":"#N/A"},{"$f":"IF(ISTEXT('S3'!$J$18),NA(),'S3'!$J$18)","v":{"$error":"#N/A"}},{"$f":"ROUND(AVERAGE(L28:L30),0)","v":{"$error":"#N/A"}}]
[{"$f":"IF(ISBLANK('S3'!K$8),\" \",'S3'!K$8)","v":" "},{"$f":"IF(ISTEXT('S3'!$L$14),NA(),'S3'!$L$14)","v":{"$error":"#N/A"}},{"$error":"#N/A"},{"$f":"IF(ISTEXT('S3'!$L$16),NA(),'S3'!$L$16)","v":{"$error":"#N/A"}},{"$error":"#N/A"},{"$f":"IF(ISTEXT('S3'!$L$17),NA(),'S3'!$L$17)","v":{"$error":"#N/A"}},{"$f":"ROUND(AVERAGE(F29:F31),0)","v":{"$error":"#N/A"}},{"$f":"IF(ISTEXT('S3'!$L$19),NA(),'S3'!$L$19)","v":{"$error":"#N/A"}},{"$f":"ROUND(AVERAGE(H29:H31),0)","v":{"$error":"#N/A"}},{"$f":"IF(ISTEXT('S3'!$L$20),NA(),'S3'!$L$20)","v":{"$error":"#N/A"}},{"$error":"#N/A"},{"$f":"IF(ISTEXT('S3'!$L$18),NA(),'S3'!$L$18)","v":{"$error":"#N/A"}},{"$f":"ROUND(AVERAGE(L29:L31),0)","v":{"$error":"#N/A"}}]
[{"$f":"IF(ISBLANK('S3'!M$8),\" \",'S3'!M$8)","v":" "},{"$f":"IF(ISTEXT('S3'!$N$14),NA(),'S3'!$N$14)","v":{"$error":"#N/A"}},{"$error":"#N/A"},{"$f":"IF(ISTEXT('S3'!$N$16),NA(),'S3'!$N$16)","v":{"$error":"#N/A"}},{"$error":"#N/A"},{"$f":"IF(ISTEXT('S3'!$N$17),NA(),'S3'!$N$17)","v":{"$error":"#N/A"}},{"$f":"ROUND(AVERAGE(F30:F32),0)","v":{"$error":"#N/A"}},{"$f":"IF(ISTEXT('S3'!$N$19),NA(),'S3'!$N$19)","v":{"$error":"#N/A"}},{"$f":"ROUND(AVERAGE(H30:H32),0)","v":{"$error":"#N/A"}},{"$f":"IF(ISTEXT('S3'!$N$20),NA(),'S3'!$N$20)","v":{"$error":"#N/A"}},{"$error":"#N/A"},{"$f":"IF(ISTEXT('S3'!$N$18),NA(),'S3'!$N$18)","v":{"$error":"#N/A"}},{"$f":"ROUND(AVERAGE(L30:L32),0)","v":{"$error":"#N/A"}}]
[{"$f":"IF(ISBLANK('S3'!C$27),\" \",'S3'!C$27)","v":" "},{"$f":"IF(ISTEXT('S3'!$D$33),NA(),'S3'!$D$33)","v":{"$error":"#N/A"}},{"$error":"#N/A"},{"$f":"IF(ISTEXT('S3'!$D$35),NA(),'S3'!$D$35)","v":{"$error":"#N/A"}},{"$error":"#N/A"},{"$f":"IF(ISTEXT('S3'!$D$36),NA(),'S3'!$D$36)","v":{"$error":"#N/A"}},{"$f":"ROUND(AVERAGE(F31:F33),0)","v":{"$error":"#N/A"}},{"$f":"IF(ISTEXT('S3'!$D$38),NA(),'S3'!$D$38)","v":{"$error":"#N/A"}},{"$f":"ROUND(AVERAGE(H31:H33),0)","v":{"$error":"#N/A"}},{"$f":"IF(ISTEXT('S3'!$D$39),NA(),'S3'!$D$39)","v":{"$error":"#N/A"}},{"$error":"#N/A"},{"$f":"IF(ISTEXT('S3'!$D$37),NA(),'S3'!$D$37)","v":{"$error":"#N/A"}},{"$f":"ROUND(AVERAGE(L31:L33),0)","v":{"$error":"#N/A"}}]
[{"$f":"IF(ISBLANK('S3'!E$27),\" \",'S3'!E$27)","v":" "},{"$f":"IF(ISTEXT('S3'!$F$33),NA(),'S3'!$F$33)","v":{"$error":"#N/A"}},{"$error":"#N/A"},{"$f":"IF(ISTEXT('S3'!$F$35),NA(),'S3'!$F$35)","v":{"$error":"#N/A"}},{"$error":"#N/A"},{"$f":"IF(ISTEXT('S3'!$F$36),NA(),'S3'!$F$36)","v":{"$error":"#N/A"}},{"$f":"ROUND(AVERAGE(F32:F34),0)","v":{"$error":"#N/A"}},{"$f":"IF(ISTEXT('S3'!$F$38),NA(),'S3'!$F$38)","v":{"$error":"#N/A"}},{"$f":"ROUND(AVERAGE(H32:H34),0)","v":{"$error":"#N/A"}},{"$f":"IF(ISTEXT('S3'!$F$39),NA(),'S3'!$F$39)","v":{"$error":"#N/A"}},{"$error":"#N/A"},{"$f":"IF(ISTEXT('S3'!$F$37),NA(),'S3'!$F$37)","v":{"$error":"#N/A"}},{"$f":"ROUND(AVERAGE(L32:L34),0)","v":{"$error":"#N/A"}}]
[{"$f":"IF(ISBLANK('S3'!G$27),\" \",'S3'!G$27)","v":" "},{"$f":"IF(ISTEXT('S3'!$H$33),NA(),'S3'!$H$33)","v":{"$error":"#N/A"}},{"$error":"#N/A"},{"$f":"IF(ISTEXT('S3'!$H$35),NA(),'S3'!$H$35)","v":{"$error":"#N/A"}},{"$error":"#N/A"},{"$f":"IF(ISTEXT('S3'!$H$36),NA(),'S3'!$H$36)","v":{"$error":"#N/A"}},{"$f":"ROUND(AVERAGE(F33:F35),0)","v":{"$error":"#N/A"}},{"$f":"IF(ISTEXT('S3'!$H$38),NA(),'S3'!$H$38)","v":{"$error":"#N/A"}},{"$f":"ROUND(AVERAGE(H33:H35),0)","v":{"$error":"#N/A"}},{"$f":"IF(ISTEXT('S3'!$H$39),NA(),'S3'!$H$39)","v":{"$error":"#N/A"}},{"$error":"#N/A"},{"$f":"IF(ISTEXT('S3'!$H$37),NA(),'S3'!$H$37)","v":{"$error":"#N/A"}},{"$f":"ROUND(AVERAGE(L33:L35),0)","v":{"$error":"#N/A"}}]
[{"$f":"IF(ISBLANK('S3'!I$27),\" \",'S3'!I$27)","v":" "},{"$f":"IF(ISTEXT('S3'!$J$33),NA(),'S3'!$J$33)","v":{"$error":"#N/A"}},{"$error":"#N/A"},{"$f":"IF(ISTEXT('S3'!$J$35),NA(),'S3'!$J$35)","v":{"$error":"#N/A"}},{"$error":"#N/A"},{"$f":"IF(ISTEXT('S3'!$J$36),NA(),'S3'!$J$36)","v":{"$error":"#N/A"}},{"$f":"ROUND(AVERAGE(F34:F36),0)","v":{"$error":"#N/A"}},{"$f":"IF(ISTEXT('S3'!$J$38),NA(),'S3'!$J$38)","v":{"$error":"#N/A"}},{"$f":"ROUND(AVERAGE(H34:H36),0)","v":{"$error":"#N/A"}},{"$f":"IF(ISTEXT('S3'!$J$39),NA(),'S3'!$J$39)","v":{"$error":"#N/A"}},{"$error":"#N/A"},{"$f":"IF(ISTEXT('S3'!$J$37),NA(),'S3'!$J$37)","v":{"$error":"#N/A"}},{"$f":"ROUND(AVERAGE(L34:L36),0)","v":{"$error":"#N/A"}}]
[{"$f":"IF(ISBLANK('S3'!K$27),\" \",'S3'!K$27)","v":" "},{"$f":"IF(ISTEXT('S3'!$L$33),NA(),'S3'!$L$33)","v":{"$error":"#N/A"}},{"$error":"#N/A"},{"$f":"IF(ISTEXT('S3'!$L$35),NA(),'S3'!$L$35)","v":{"$error":"#N/A"}},{"$error":"#N/A"},{"$f":"IF(ISTEXT('S3'!$L$36),NA(),'S3'!$L$36)","v":{"$error":"#N/A"}},{"$f":"ROUND(AVERAGE(F35:F37),0)","v":{"$error":"#N/A"}},{"$f":"IF(ISTEXT('S3'!$L$38),NA(),'S3'!$L$38)","v":{"$error":"#N/A"}},{"$f":"ROUND(AVERAGE(H35:H37),0)","v":{"$error":"#N/A"}},{"$f":"IF(ISTEXT('S3'!$L$39),NA(),'S3'!$L$39)","v":{"$error":"#N/A"}},{"$f":"ROUND(AVERAGE(J35:J37),2)","v":{"$error":"#N/A"}},{"$f":"IF(ISTEXT('S3'!$L$37),NA(),'S3'!$L$37)","v":{"$error":"#N/A"}},{"$f":"ROUND(AVERAGE(L35:L37),0)","v":{"$error":"#N/A"}}]
[{"$f":"IF(ISBLANK('S3'!M$27),\" \",'S3'!M$27)","v":" "},{"$f":"IF(ISTEXT('S3'!$N$33),NA(),'S3'!$N$33)","v":{"$error":"#N/A"}},{"$error":"#N/A"},{"$f":"IF(ISTEXT('S3'!$N$35),NA(),'S3'!$N$35)","v":{"$error":"#N/A"}},{"$error":"#N/A"},{"$f":"IF(ISTEXT('S3'!$N$36),NA(),'S3'!$N$36)","v":{"$error":"#N/A"}},{"$f":"ROUND(AVERAGE(F36:F38),0)","v":{"$error":"#N/A"}},{"$f":"IF(ISTEXT('S3'!$N$38),NA(),'S3'!$N$38)","v":{"$error":"#N/A"}},{"$f":"ROUND(AVERAGE(H36:H38),0)","v":{"$error":"#N/A"}},{"$f":"IF(ISTEXT('S3'!$N$39),NA(),'S3'!$N$39)","v":{"$error":"#N/A"}},{"$error":"#N/A"},{"$f":"IF(ISTEXT('S3'!$N$37),NA(),'S3'!$N$37)","v":{"$error":"#N/A"}},{"$f":"ROUND(AVERAGE(L36:L38),0)","v":{"$error":"#N/A"}}]
[{"$f":"IF(ISBLANK('S4'!C$8),\" \",'S4'!C$8)","v":" "},{"$f":"IF(ISTEXT('S4'!$D$14),NA(),'S4'!$D$14)","v":{"$error":"#N/A"}},{"$error":"#N/A"},{"$f":"IF(ISTEXT('S4'!$D$16),NA(),'S4'!$D$16)","v":{"$error":"#N/A"}},{"$error":"#N/A"},{"$f":"IF(ISTEXT('S4'!$D$17),NA(),'S4'!$D$17)","v":{"$error":"#N/A"}},{"$f":"ROUND(AVERAGE(F37:F39),0)","v":{"$error":"#N/A"}},{"$f":"IF(ISTEXT('S4'!$D$19),NA(),'S4'!$D$19)","v":{"$error":"#N/A"}},{"$f":"ROUND(AVERAGE(H37:H39),0)","v":{"$error":"#N/A"}},{"$f":"IF(ISTEXT('S4'!$D$20),NA(),'S4'!$D$20)","v":{"$error":"#N/A"}},{"$error":"#N/A"},{"$f":"IF(ISTEXT('S4'!$D$18),NA(),'S4'!$D$18)","v":{"$error":"#N/A"}},{"$f":"ROUND(AVERAGE(L37:L39),0)","v":{"$error":"#N/A"}}]
[{"$f":"IF(ISBLANK('S4'!E$8),\" \",'S4'!E$8)","v":" "},{"$f":"IF(ISTEXT('S4'!$F$14),NA(),'S4'!$F$14)","v":{"$error":"#N/A"}},{"$error":"#N/A"},{"$f":"IF(ISTEXT('S4'!$F$16),NA(),'S4'!$F$16)","v":{"$error":"#N/A"}},{"$error":"#N/A"},{"$f":"IF(ISTEXT('S4'!$F$17),NA(),'S4'!$F$17)","v":{"$error":"#N/A"}},{"$f":"ROUND(AVERAGE(F38:F40),0)","v":{"$error":"#N/A"}},{"$f":"IF(ISTEXT('S4'!$F$19),NA(),'S4'!$F$19)","v":{"$error":"#N/A"}},{"$f":"ROUND(AVERAGE(H38:H40),0)","v":{"$error":"#N/A"}},{"$f":"IF(ISTEXT('S4'!$F$20),NA(),'S4'!$F$20)","v":{"$error":"#N/A"}},{"$error":"#N/A"},{"$f":"IF(ISTEXT('S4'!$F$18),NA(),'S4'!$F$18)","v":{"$error":"#N/A"}},{"$f":"ROUND(AVERAGE(L38:L40),0)","v":{"$error":"#N/A"}}]
[{"$f":"IF(ISBLANK('S4'!G$8),\" \",'S4'!G$8)","v":" "},{"$f":"IF(ISTEXT('S4'!$H$14),NA(),'S4'!$H$14)","v":{"$error":"#N/A"}},{"$error":"#N/A"},{"$f":"IF(ISTEXT('S4'!$H$16),NA(),'S4'!$H$16)","v":{"$error":"#N/A"}},{"$error":"#N/A"},{"$f":"IF(ISTEXT('S4'!$H$17),NA(),'S4'!$H$17)","v":{"$error":"#N/A"}},{"$f":"ROUND(AVERAGE(F39:F41),0)","v":{"$error":"#N/A"}},{"$f":"IF(ISTEXT('S4'!$H$19),NA(),'S4'!$H$19)","v":{"$error":"#N/A"}},{"$f":"ROUND(AVERAGE(H39:H41),0)","v":{"$error":"#N/A"}},{"$f":"IF(ISTEXT('S4'!$H$20),NA(),'S4'!$H$20)","v":{"$error":"#N/A"}},{"$error":"#N/A"},{"$f":"IF(ISTEXT('S4'!$H$18),NA(),'S4'!$H$18)","v":{"$error":"#N/A"}},{"$f":"ROUND(AVERAGE(L39:L41),0)","v":{"$error":"#N/A"}}]
[{"$f":"IF(ISBLANK('S4'!I$8),\" \",'S4'!I$8)","v":" "},{"$f":"IF(ISTEXT('S4'!$J$14),NA(),'S4'!$J$14)","v":{"$error":"#N/A"}},{"$error":"#N/A"},{"$f":"IF(ISTEXT('S4'!$J$16),NA(),'S4'!$J$16)","v":{"$error":"#N/A"}},{"$error":"#N/A"},{"$f":"IF(ISTEXT('S4'!$J$17),NA(),'S4'!$J$17)","v":{"$error":"#N/A"}},{"$f":"ROUND(AVERAGE(F40:F42),0)","v":{"$error":"#N/A"}},{"$f":"IF(ISTEXT('S4'!$J$19),NA(),'S4'!$J$19)","v":{"$error":"#N/A"}},{"$f":"ROUND(AVERAGE(H40:H42),0)","v":{"$error":"#N/A"}},{"$f":"IF(ISTEXT('S4'!$J$20),NA(),'S4'!$J$20)","v":{"$error":"#N/A"}},{"$error":"#N/A"},{"$f":"IF(ISTEXT('S4'!$J$18),NA(),'S4'!$J$18)","v":{"$error":"#N/A"}},{"$f":"ROUND(AVERAGE(L40:L42),0)","v":{"$error":"#N/A"}}]
[{"$f":"IF(ISBLANK('S4'!K$8),\" \",'S4'!K$8)","v":" "},{"$f":"IF(ISTEXT('S4'!$L$14),NA(),'S4'!$L$14)","v":{"$error":"#N/A"}},{"$error":"#N/A"},{"$f":"IF(ISTEXT('S4'!$L$16),NA(),'S4'!$L$16)","v":{"$error":"#N/A"}},{"$error":"#N/A"},{"$f":"IF(ISTEXT('S4'!$L$17),NA(),'S4'!$L$17)","v":{"$error":"#N/A"}},{"$f":"ROUND(AVERAGE(F41:F43),0)","v":{"$error":"#N/A"}},{"$f":"IF(ISTEXT('S4'!$L$19),NA(),'S4'!$L$19)","v":{"$error":"#N/A"}},{"$f":"ROUND(AVERAGE(H41:H43),0)","v":{"$error":"#N/A"}},{"$f":"IF(ISTEXT('S4'!$L$20),NA(),'S4'!$L$20)","v":{"$error":"#N/A"}},{"$error":"#N/A"},{"$f":"IF(ISTEXT('S4'!$L$18),NA(),'S4'!$L$18)","v":{"$error":"#N/A"}},{"$f":"ROUND(AVERAGE(L41:L43),0)","v":{"$error":"#N/A"}}]
[{"$f":"IF(ISBLANK('S4'!M$8),\" \",'S4'!M$8)","v":" "},{"$f":"IF(ISTEXT('S4'!$N$14),NA(),'S4'!$N$14)","v":{"$error":"#N/A"}},{"$error":"#N/A"},{"$f":"IF(ISTEXT('S4'!$N$16),NA(),'S4'!$N$16)","v":{"$error":"#N/A"}},{"$error":"#N/A"},{"$f":"IF(ISTEXT('S4'!$N$17),NA(),'S4'!$N$17)","v":{"$error":"#N/A"}},{"$f":"ROUND(AVERAGE(F42:F44),0)","v":{"$error":"#N/A"}},{"$f":"IF(ISTEXT('S4'!$N$19),NA(),'S4'!$N$19)","v":{"$error":"#N/A"}},{"$f":"ROUND(AVERAGE(H42:H44),0)","v":{"$error":"#N/A"}},{"$f":"IF(ISTEXT('S4'!$N$20),NA(),'S4'!$N$20)","v":{"$error":"#N/A"}},{"$error":"#N/A"},{"$f":"IF(ISTEXT('S4'!$N$18),NA(),'S4'!$N$18)","v":{"$error":"#N/A"}},{"$f":"ROUND(AVERAGE(L42:L44),0)","v":{"$error":"#N/A"}}]
[{"$f":"IF(ISBLANK('S4'!C$27),\" \",'S4'!C$27)","v":" "},{"$f":"IF(ISTEXT('S4'!$D$33),NA(),'S4'!$D$33)","v":{"$error":"#N/A"}},{"$error":"#N/A"},{"$f":"IF(ISTEXT('S4'!$D$35),NA(),'S4'!$D$35)","v":{"$error":"#N/A"}},{"$error":"#N/A"},{"$f":"IF(ISTEXT('S4'!$D$36),NA(),'S4'!$D$36)","v":{"$error":"#N/A"}},{"$f":"ROUND(AVERAGE(F43:F45),0)","v":{"$error":"#N/A"}},{"$f":"IF(ISTEXT('S4'!$D$38),NA(),'S4'!$D$38)","v":{"$error":"#N/A"}},{"$f":"ROUND(AVERAGE(H43:H45),0)","v":{"$error":"#N/A"}},{"$f":"IF(ISTEXT('S4'!$D$39),NA(),'S4'!$D$39)","v":{"$error":"#N/A"}},{"$error":"#N/A"},{"$f":"IF(ISTEXT('S4'!$D$37),NA(),'S4'!$D$37)","v":{"$error":"#N/A"}},{"$f":"ROUND(AVERAGE(L43:L45),0)","v":{"$error":"#N/A"}}]
[{"$f":"IF(ISBLANK('S4'!E$27),\" \",'S4'!E$27)","v":" "},{"$f":"IF(ISTEXT('S4'!$F$33),NA(),'S4'!$F$33)","v":{"$error":"#N/A"}},{"$error":"#N/A"},{"$f":"IF(ISTEXT('S4'!$F$35),NA(),'S4'!$F$35)","v":{"$error":"#N/A"}},{"$error":"#N/A"},{"$f":"IF(ISTEXT('S4'!$F$36),NA(),'S4'!$F$36)","v":{"$error":"#N/A"}},{"$f":"ROUND(AVERAGE(F44:F46),0)","v":{"$error":"#N/A"}},{"$f":"IF(ISTEXT('S4'!$F$38),NA(),'S4'!$F$38)","v":{"$error":"#N/A"}},{"$f":"ROUND(AVERAGE(H44:H46),0)","v":{"$error":"#N/A"}},{"$f":"IF(ISTEXT('S4'!$F$39),NA(),'S4'!$F$39)","v":{"$error":"#N/A"}},{"$error":"#N/A"},{"$f":"IF(ISTEXT('S4'!$F$37),NA(),'S4'!$F$37)","v":{"$error":"#N/A"}},{"$f":"ROUND(AVERAGE(L44:L46),0)","v":{"$error":"#N/A"}}]
[{"$f":"IF(ISBLANK('S4'!G$27),\" \",'S4'!G$27)","v":" "},{"$f":"IF(ISTEXT('S4'!$H$33),NA(),'S4'!$H$33)","v":{"$error":"#N/A"}},{"$error":"#N/A"},{"$f":"IF(ISTEXT('S4'!$H$35),NA(),'S4'!$H$35)","v":{"$error":"#N/A"}},{"$error":"#N/A"},{"$f":"IF(ISTEXT('S4'!$H$36),NA(),'S4'!$H$36)","v":{"$error":"#N/A"}},{"$f":"ROUND(AVERAGE(F45:F47),0)","v":{"$error":"#N/A"}},{"$f":"IF(ISTEXT('S4'!$H$38),NA(),'S4'!$H$38)","v":{"$error":"#N/A"}},{"$f":"ROUND(AVERAGE(H45:H47),0)","v":{"$error":"#N/A"}},{"$f":"IF(ISTEXT('S4'!$H$39),NA(),'S4'!$H$39)","v":{"$error":"#N/A"}},{"$error":"#N/A"},{"$f":"IF(ISTEXT('S4'!$H$37),NA(),'S4'!$H$37)","v":{"$error":"#N/A"}},{"$f":"ROUND(AVERAGE(L45:L47),0)","v":{"$error":"#N/A"}}]
[{"$f":"IF(ISBLANK('S4'!I$27),\" \",'S4'!I$27)","v":" "},{"$f":"IF(ISTEXT('S4'!$J$33),NA(),'S4'!$J$33)","v":{"$error":"#N/A"}},{"$error":"#N/A"},{"$f":"IF(ISTEXT('S4'!$J$35),NA(),'S4'!$J$35)","v":{"$error":"#N/A"}},{"$error":"#N/A"},{"$f":"IF(ISTEXT('S4'!$J$36),NA(),'S4'!$J$36)","v":{"$error":"#N/A"}},{"$f":"ROUND(AVERAGE(F46:F48),0)","v":{"$error":"#N/A"}},{"$f":"IF(ISTEXT('S4'!$J$38),NA(),'S4'!$J$38)","v":{"$error":"#N/A"}},{"$f":"ROUND(AVERAGE(H46:H48),0)","v":{"$error":"#N/A"}},{"$f":"IF(ISTEXT('S4'!$J$39),NA(),'S4'!$J$39)","v":{"$error":"#N/A"}},{"$error":"#N/A"},{"$f":"IF(ISTEXT('S4'!$J$37),NA(),'S4'!$J$37)","v":{"$error":"#N/A"}},{"$f":"ROUND(AVERAGE(L46:L48),0)","v":{"$error":"#N/A"}}]
[{"$f":"IF(ISBLANK('S4'!K$27),\" \",'S4'!K$27)","v":" "},{"$f":"IF(ISTEXT('S4'!$L$33),NA(),'S4'!$L$33)","v":{"$error":"#N/A"}},{"$error":"#N/A"},{"$f":"IF(ISTEXT('S4'!$L$35),NA(),'S4'!$L$35)","v":{"$error":"#N/A"}},{"$error":"#N/A"},{"$f":"IF(ISTEXT('S4'!$L$36),NA(),'S4'!$L$36)","v":{"$error":"#N/A"}},{"$f":"ROUND(AVERAGE(F47:F49),0)","v":{"$error":"#N/A"}},{"$f":"IF(ISTEXT('S4'!$L$38),NA(),'S4'!$L$38)","v":{"$error":"#N/A"}},{"$f":"ROUND(AVERAGE(H47:H49),0)","v":{"$error":"#N/A"}},{"$f":"IF(ISTEXT('S4'!$L$39),NA(),'S4'!$L$39)","v":{"$error":"#N/A"}},{"$error":"#N/A"},{"$f":"IF(ISTEXT('S4'!$L$37),NA(),'S4'!$L$37)","v":{"$error":"#N/A"}},{"$f":"ROUND(AVERAGE(L47:L49),0)","v":{"$error":"#N/A"}}]
[{"$f":"IF(ISBLANK('S4'!M$27),\" \",'S4'!M$27)","v":" "},{"$f":"IF(ISTEXT('S4'!$N$33),NA(),'S4'!$N$33)","v":{"$error":"#N/A"}},{"$error":"#N/A"},{"$f":"IF(ISTEXT('S4'!$N$35),NA(),'S4'!$N$35)","v":{"$error":"#N/A"}},{"$error":"#N/A"},{"$f":"IF(ISTEXT('S4'!$N$36),NA(),'S4'!$N$36)","v":{"$error":"#N/A"}},{"$f":"ROUND(AVERAGE(F48:F50),0)","v":{"$error":"#N/A"}},{"$f":"IF(ISTEXT('S4'!$N$38),NA(),'S4'!$N$38)","v":{"$error":"#N/A"}},{"$f":"ROUND(AVERAGE(H48:H50),0)","v":{"$error":"#N/A"}},{"$f":"IF(ISTEXT('S4'!$N$39),NA(),'S4'!$N$39)","v":{"$error":"#N/A"}},{"$error":"#N/A"},{"$f":"IF(ISTEXT('S4'!$N$37),NA(),'S4'!$N$37)","v":{"$error":"#N/A"}},{"$f":"ROUND(AVERAGE(L48:L50),0)","v":{"$error":"#N/A"}}]
[{"$f":"IF(ISBLANK('S5'!C$8),\" \",'S5'!C$8)","v":" "},{"$f":"IF(ISTEXT('S5'!$D$14),NA(),'S5'!$D$14)","v":{"$error":"#N/A"}},{"$error":"#N/A"},{"$f":"IF(ISTEXT('S5'!$D$16),NA(),'S5'!$D$16)","v":{"$error":"#N/A"}},{"$error":"#N/A"},{"$f":"IF(ISTEXT('S5'!$D$17),NA(),'S5'!$D$17)","v":{"$error":"#N/A"}},{"$f":"ROUND(AVERAGE(F49:F51),0)","v":{"$error":"#N/A"}},{"$f":"IF(ISTEXT('S5'!$D$19),NA(),'S5'!$D$19)","v":{"$error":"#N/A"}},{"$f":"ROUND(AVERAGE(H49:H51),0)","v":{"$error":"#N/A"}},{"$f":"IF(ISTEXT('S5'!$D$20),NA(),'S5'!$D$20)","v":{"$error":"#N/A"}},{"$error":"#N/A"},{"$f":"IF(ISTEXT('S5'!$D$18),NA(),'S5'!$D$18)","v":{"$error":"#N/A"}},{"$f":"ROUND(AVERAGE(L49:L51),0)","v":{"$error":"#N/A"}}]
[{"$f":"IF(ISBLANK('S5'!E$8),\" \",'S5'!E$8)","v":" "},{"$f":"IF(ISTEXT('S5'!$F$14),NA(),'S5'!$F$14)","v":{"$error":"#N/A"}},{"$error":"#N/A"},{"$f":"IF(ISTEXT('S5'!$F$16),NA(),'S5'!$F$16)","v":{"$error":"#N/A"}},{"$error":"#N/A"},{"$f":"IF(ISTEXT('S5'!$F$17),NA(),'S5'!$F$17)","v":{"$error":"#N/A"}},{"$f":"ROUND(AVERAGE(F50:F52),0)","v":{"$error":"#N/A"}},{"$f":"IF(ISTEXT('S5'!$F$19),NA(),'S5'!$F$19)","v":{"$error":"#N/A"}},{"$f":"ROUND(AVERAGE(H50:H52),0)","v":{"$error":"#N/A"}},{"$f":"IF(ISTEXT('S5'!$F$20),NA(),'S5'!$F$20)","v":{"$error":"#N/A"}},{"$error":"#N/A"},{"$f":"IF(ISTEXT('S5'!$F$18),NA(),'S5'!$F$18)","v":{"$error":"#N/A"}},{"$f":"ROUND(AVERAGE(L50:L52),0)","v":{"$error":"#N/A"}}]
[{"$f":"IF(ISBLANK('S5'!G$8),\" \",'S5'!G$8)","v":" "},{"$f":"IF(ISTEXT('S5'!$H$14),NA(),'S5'!$H$14)","v":{"$error":"#N/A"}},{"$error":"#N/A"},{"$f":"IF(ISTEXT('S5'!$H$16),NA(),'S5'!$H$16)","v":{"$error":"#N/A"}},{"$error":"#N/A"},{"$f":"IF(ISTEXT('S5'!$H$17),NA(),'S5'!$H$17)","v":{"$error":"#N/A"}},{"$f":"ROUND(AVERAGE(F51:F53),0)","v":{"$error":"#N/A"}},{"$f":"IF(ISTEXT('S5'!$H$19),NA(),'S5'!$H$19)","v":{"$error":"#N/A"}},{"$f":"ROUND(AVERAGE(H51:H53),0)","v":{"$error":"#N/A"}},{"$f":"IF(ISTEXT('S5'!$H$20),NA(),'S5'!$H$20)","v":{"$error":"#N/A"}},{"$error":"#N/A"},{"$f":"IF(ISTEXT('S5'!$H$18),NA(),'S5'!$H$18)","v":{"$error":"#N/A"}},{"$f":"ROUND(AVERAGE(L51:L53),0)","v":{"$error":"#N/A"}}]
[{"$f":"IF(ISBLANK('S5'!I$8),\" \",'S5'!I$8)","v":" "},{"$f":"IF(ISTEXT('S5'!$J$14),NA(),'S5'!$J$14)","v":{"$error":"#N/A"}},{"$error":"#N/A"},{"$f":"IF(ISTEXT('S5'!$J$16),NA(),'S5'!$J$16)","v":{"$error":"#N/A"}},{"$error":"#N/A"},{"$f":"IF(ISTEXT('S5'!$J$17),NA(),'S5'!$J$17)","v":{"$error":"#N/A"}},{"$f":"ROUND(AVERAGE(F52:F54),0)","v":{"$error":"#N/A"}},{"$f":"IF(ISTEXT('S5'!$J$19),NA(),'S5'!$J$19)","v":{"$error":"#N/A"}},{"$f":"ROUND(AVERAGE(H52:H54),0)","v":{"$error":"#N/A"}},{"$f":"IF(ISTEXT('S5'!$J$20),NA(),'S5'!$J$20)","v":{"$error":"#N/A"}},{"$error":"#N/A"},{"$f":"IF(ISTEXT('S5'!$J$18),NA(),'S5'!$J$18)","v":{"$error":"#N/A"}},{"$f":"ROUND(AVERAGE(L52:L54),0)","v":{"$error":"#N/A"}}]
[{"$f":"IF(ISBLANK('S5'!K$8),\" \",'S5'!K$8)","v":" "},{"$f":"IF(ISTEXT('S5'!$L$14),NA(),'S5'!$L$14)","v":{"$error":"#N/A"}},{"$error":"#N/A"},{"$f":"IF(ISTEXT('S5'!$L$16),NA(),'S5'!$L$16)","v":{"$error":"#N/A"}},{"$error":"#N/A"},{"$f":"IF(ISTEXT('S5'!$L$17),NA(),'S5'!$L$17)","v":{"$error":"#N/A"}},{"$f":"ROUND(AVERAGE(F53:F55),0)","v":{"$error":"#N/A"}},{"$f":"IF(ISTEXT('S5'!$L$19),NA(),'S5'!$L$19)","v":{"$error":"#N/A"}},{"$f":"ROUND(AVERAGE(H53:H55),0)","v":{"$error":"#N/A"}},{"$f":"IF(ISTEXT('S5'!$L$20),NA(),'S5'!$L$20)","v":{"$error":"#N/A"}},{"$error":"#N/A"},{"$f":"IF(ISTEXT('S5'!$L$18),NA(),'S5'!$L$18)","v":{"$error":"#N/A"}},{"$f":"ROUND(AVERAGE(L53:L55),0)","v":{"$error":"#N/A"}}]
[{"$f":"IF(ISBLANK('S5'!M$8),\" \",'S5'!M$8)","v":" "},{"$f":"IF(ISTEXT('S5'!$N$14),NA(),'S5'!$N$14)","v":{"$error":"#N/A"}},{"$error":"#N/A"},{"$f":"IF(ISTEXT('S5'!$N$16),NA(),'S5'!$N$16)","v":{"$error":"#N/A"}},{"$error":"#N/A"},{"$f":"IF(ISTEXT('S5'!$N$17),NA(),'S5'!$N$17)","v":{"$error":"#N/A"}},{"$f":"ROUND(AVERAGE(F54:F56),0)","v":{"$error":"#N/A"}},{"$f":"IF(ISTEXT('S5'!$N$19),NA(),'S5'!$N$19)","v":{"$error":"#N/A"}},{"$f":"ROUND(AVERAGE(H54:H56),0)","v":{"$error":"#N/A"}},{"$f":"IF(ISTEXT('S5'!$N$20),NA(),'S5'!$N$20)","v":{"$error":"#N/A"}},{"$error":"#N/A"},{"$f":"IF(ISTEXT('S5'!$N$18),NA(),'S5'!$N$18)","v":{"$error":"#N/A"}},{"$f":"ROUND(AVERAGE(L54:L56),0)","v":{"$error":"#N/A"}}]
[{"$f":"IF(ISBLANK('S5'!C$27),\" \",'S5'!C$27)","v":" "},{"$f":"IF(ISTEXT('S5'!$D$33),NA(),'S5'!$D$33)","v":{"$error":"#N/A"}},{"$error":"#N/A"},{"$f":"IF(ISTEXT('S5'!$D$35),NA(),'S5'!$D$35)","v":{"$error":"#N/A"}},{"$error":"#N/A"},{"$f":"IF(ISTEXT('S5'!$D$36),NA(),'S5'!$D$36)","v":{"$error":"#N/A"}},{"$f":"ROUND(AVERAGE(F55:F57),0)","v":{"$error":"#N/A"}},{"$f":"IF(ISTEXT('S5'!$D$38),NA(),'S5'!$D$38)","v":{"$error":"#N/A"}},{"$f":"ROUND(AVERAGE(H55:H57),0)","v":{"$error":"#N/A"}},{"$f":"IF(ISTEXT('S5'!$D$39),NA(),'S5'!$D$39)","v":{"$error":"#N/A"}},{"$error":"#N/A"},{"$f":"IF(ISTEXT('S5'!$D$37),NA(),'S5'!$D$37)","v":{"$error":"#N/A"}},{"$f":"ROUND(AVERAGE(L55:L57),0)","v":{"$error":"#N/A"}}]
[{"$f":"IF(ISBLANK('S5'!E$27),\" \",'S5'!E$27)","v":" "},{"$f":"IF(ISTEXT('S5'!$F$33),NA(),'S5'!$F$33)","v":{"$error":"#N/A"}},{"$error":"#N/A"},{"$f":"IF(ISTEXT('S5'!$F$35),NA(),'S5'!$F$35)","v":{"$error":"#N/A"}},{"$error":"#N/A"},{"$f":"IF(ISTEXT('S5'!$F$36),NA(),'S5'!$F$36)","v":{"$error":"#N/A"}},{"$f":"ROUND(AVERAGE(F56:F58),0)","v":{"$error":"#N/A"}},{"$f":"IF(ISTEXT('S5'!$F$38),NA(),'S5'!$F$38)","v":{"$error":"#N/A"}},{"$f":"ROUND(AVERAGE(H56:H58),0)","v":{"$error":"#N/A"}},{"$f":"IF(ISTEXT('S5'!$F$39),NA(),'S5'!$F$39)","v":{"$error":"#N/A"}},{"$error":"#N/A"},{"$f":"IF(ISTEXT('S5'!$F$37),NA(),'S5'!$F$37)","v":{"$error":"#N/A"}},{"$f":"ROUND(AVERAGE(L56:L58),0)","v":{"$error":"#N/A"}}]
[{"$f":"IF(ISBLANK('S5'!G$27),\" \",'S5'!G$27)","v":" "},{"$f":"IF(ISTEXT('S5'!$H$33),NA(),'S5'!$H$33)","v":{"$error":"#N/A"}},{"$error":"#N/A"},{"$f":"IF(ISTEXT('S5'!$H$35),NA(),'S5'!$H$35)","v":{"$error":"#N/A"}},{"$error":"#N/A"},{"$f":"IF(ISTEXT('S5'!$H$36),NA(),'S5'!$H$36)","v":{"$error":"#N/A"}},{"$f":"ROUND(AVERAGE(F57:F59),0)","v":{"$error":"#N/A"}},{"$f":"IF(ISTEXT('S5'!$H$38),NA(),'S5'!$H$38)","v":{"$error":"#N/A"}},{"$f":"ROUND(AVERAGE(H57:H59),0)","v":{"$error":"#N/A"}},{"$f":"IF(ISTEXT('S5'!$H$39),NA(),'S5'!$H$39)","v":{"$error":"#N/A"}},{"$error":"#N/A"},{"$f":"IF(ISTEXT('S5'!$H$37),NA(),'S5'!$H$37)","v":{"$error":"#N/A"}},{"$f":"ROUND(AVERAGE(L57:L59),0)","v":{"$error":"#N/A"}}]
[{"$f":"IF(ISBLANK('S5'!I$27),\" \",'S5'!I$27)","v":" "},{"$f":"IF(ISTEXT('S5'!$J$33),NA(),'S5'!$J$33)","v":{"$error":"#N/A"}},{"$error":"#N/A"},{"$f":"IF(ISTEXT('S5'!$J$35),NA(),'S5'!$J$35)","v":{"$error":"#N/A"}},{"$error":"#N/A"},{"$f":"IF(ISTEXT('S5'!$J$36),NA(),'S5'!$J$36)","v":{"$error":"#N/A"}},{"$f":"ROUND(AVERAGE(F58:F60),0)","v":{"$error":"#N/A"}},{"$f":"IF(ISTEXT('S5'!$J$38),NA(),'S5'!$J$38)","v":{"$error":"#N/A"}},{"$f":"ROUND(AVERAGE(H58:H60),0)","v":{"$error":"#N/A"}},{"$f":"IF(ISTEXT('S5'!$J$39),NA(),'S5'!$J$39)","v":{"$error":"#N/A"}},{"$error":"#N/A"},{"$f":"IF(ISTEXT('S5'!$J$37),NA(),'S5'!$J$37)","v":{"$error":"#N/A"}},{"$f":"ROUND(AVERAGE(L58:L60),0)","v":{"$error":"#N/A"}}]
[{"$f":"IF(ISBLANK('S5'!K$27),\" \",'S5'!K$27)","v":" "},{"$f":"IF(ISTEXT('S5'!$L$33),NA(),'S5'!$L$33)","v":{"$error":"#N/A"}},{"$error":"#N/A"},{"$f":"IF(ISTEXT('S5'!$L$35),NA(),'S5'!$L$35)","v":{"$error":"#N/A"}},{"$error":"#N/A"},{"$f":"IF(ISTEXT('S5'!$L$36),NA(),'S5'!$L$36)","v":{"$error":"#N/A"}},{"$f":"ROUND(AVERAGE(F59:F61),0)","v":{"$error":"#N/A"}},{"$f":"IF(ISTEXT('S5'!$L$38),NA(),'S5'!$L$38)","v":{"$error":"#N/A"}},{"$f":"ROUND(AVERAGE(H59:H61),0)","v":{"$error":"#N/A"}},{"$f":"IF(ISTEXT('S5'!$L$39),NA(),'S5'!$L$39)","v":{"$error":"#N/A"}},{"$error":"#N/A"},{"$f":"IF(ISTEXT('S5'!$L$37),NA(),'S5'!$L$37)","v":{"$error":"#N/A"}},{"$f":"ROUND(AVERAGE(L59:L61),0)","v":{"$error":"#N/A"}}]
[{"$f":"IF(ISBLANK('S5'!M$27),\" \",'S5'!M$27)","v":" "},{"$f":"IF(ISTEXT('S5'!$N$33),NA(),'S5'!$N$33)","v":{"$error":"#N/A"}},{"$error":"#N/A"},{"$f":"IF(ISTEXT('S5'!$N$35),NA(),'S5'!$N$35)","v":{"$error":"#N/A"}},{"$error":"#N/A"},{"$f":"IF(ISTEXT('S5'!$N$36),NA(),'S5'!$N$36)","v":{"$error":"#N/A"}},{"$f":"ROUND(AVERAGE(F60:F62),0)","v":{"$error":"#N/A"}},{"$f":"IF(ISTEXT('S5'!$N$38),NA(),'S5'!$N$38)","v":{"$error":"#N/A"}},{"$f":"ROUND(AVERAGE(H60:H62),0)","v":{"$error":"#N/A"}},{"$f":"IF(ISTEXT('S5'!$N$39),NA(),'S5'!$N$39)","v":{"$error":"#N/A"}},{"$error":"#N/A"},{"$f":"IF(ISTEXT('S5'!$N$37),NA(),'S5'!$N$37)","v":{"$error":"#N/A"}},{"$f":"ROUND(AVERAGE(L60:L62),0)","v":{"$error":"#N/A"}}]
[{"$f":"IF(ISBLANK('S6'!C$8),\" \",'S6'!C$8)","v":" "},{"$f":"IF(ISTEXT('S6'!$D$14),NA(),'S6'!$D$14)","v":{"$error":"#N/A"}},{"$error":"#N/A"},{"$f":"IF(ISTEXT('S6'!$D$16),NA(),'S6'!$D$16)","v":{"$error":"#N/A"}},{"$error":"#N/A"},{"$f":"IF(ISTEXT('S6'!$D$17),NA(),'S6'!$D$17)","v":{"$error":"#N/A"}},{"$f":"ROUND(AVERAGE(F61:F63),0)","v":{"$error":"#N/A"}},{"$f":"IF(ISTEXT('S6'!$D$19),NA(),'S6'!$D$19)","v":{"$error":"#N/A"}},{"$f":"ROUND(AVERAGE(H61:H63),0)","v":{"$error":"#N/A"}},{"$f":"IF(ISTEXT('S6'!$D$20),NA(),'S6'!$D$20)","v":{"$error":"#N/A"}},{"$error":"#N/A"},{"$f":"IF(ISTEXT('S6'!$D$18),NA(),'S6'!$D$18)","v":{"$error":"#N/A"}},{"$f":"ROUND(AVERAGE(L61:L63),0)","v":{"$error":"#N/A"}}]
[{"$f":"IF(ISBLANK('S6'!E$8),\" \",'S6'!E$8)","v":" "},{"$f":"IF(ISTEXT('S6'!$F$14),NA(),'S6'!$F$14)","v":{"$error":"#N/A"}},{"$error":"#N/A"},{"$f":"IF(ISTEXT('S6'!$F$16),NA(),'S6'!$F$16)","v":{"$error":"#N/A"}},{"$error":"#N/A"},{"$f":"IF(ISTEXT('S6'!$F$17),NA(),'S6'!$F$17)","v":{"$error":"#N/A"}},{"$f":"ROUND(AVERAGE(F62:F64),0)","v":{"$error":"#N/A"}},{"$f":"IF(ISTEXT('S6'!$F$19),NA(),'S6'!$F$19)","v":{"$error":"#N/A"}},{"$f":"ROUND(AVERAGE(H62:H64),0)","v":{"$error":"#N/A"}},{"$f":"IF(ISTEXT('S6'!$F$20),NA(),'S6'!$F$20)","v":{"$error":"#N/A"}},{"$error":"#N/A"},{"$f":"IF(ISTEXT('S6'!$F$18),NA(),'S6'!$F$18)","v":{"$error":"#N/A"}},{"$f":"ROUND(AVERAGE(L62:L64),0)","v":{"$error":"#N/A"}}]
[{"$f":"IF(ISBLANK('S6'!G$8),\" \",'S6'!G$8)","v":" "},{"$f":"IF(ISTEXT('S6'!$H$14),NA(),'S6'!$H$14)","v":{"$error":"#N/A"}},{"$error":"#N/A"},{"$f":"IF(ISTEXT('S6'!$H$16),NA(),'S6'!$H$16)","v":{"$error":"#N/A"}},{"$error":"#N/A"},{"$f":"IF(ISTEXT('S6'!$H$17),NA(),'S6'!$H$17)","v":{"$error":"#N/A"}},{"$f":"ROUND(AVERAGE(F63:F65),0)","v":{"$error":"#N/A"}},{"$f":"IF(ISTEXT('S6'!$H$19),NA(),'S6'!$H$19)","v":{"$error":"#N/A"}},{"$f":"ROUND(AVERAGE(H63:H65),0)","v":{"$error":"#N/A"}},{"$f":"IF(ISTEXT('S6'!$H$20),NA(),'S6'!$H$20)","v":{"$error":"#N/A"}},{"$error":"#N/A"},{"$f":"IF(ISTEXT('S6'!$H$18),NA(),'S6'!$H$18)","v":{"$error":"#N/A"}},{"$f":"ROUND(AVERAGE(L63:L65),0)","v":{"$error":"#N/A"}}]
[{"$f":"IF(ISBLANK('S6'!I$8),\" \",'S6'!I$8)","v":" "},{"$f":"IF(ISTEXT('S6'!$J$14),NA(),'S6'!$J$14)","v":{"$error":"#N/A"}},{"$error":"#N/A"},{"$f":"IF(ISTEXT('S6'!$J$16),NA(),'S6'!$J$16)","v":{"$error":"#N/A"}},{"$error":"#N/A"},{"$f":"IF(ISTEXT('S6'!$J$17),NA(),'S6'!$J$17)","v":{"$error":"#N/A"}},{"$f":"ROUND(AVERAGE(F64:F66),0)","v":{"$error":"#N/A"}},{"$f":"IF(ISTEXT('S6'!$J$19),NA(),'S6'!$J$19)","v":{"$error":"#N/A"}},{"$f":"ROUND(AVERAGE(H64:H66),0)","v":{"$error":"#N/A"}},{"$f":"IF(ISTEXT('S6'!$J$20),NA(),'S6'!$J$20)","v":{"$error":"#N/A"}},{"$error":"#N/A"},{"$f":"IF(ISTEXT('S6'!$J$18),NA(),'S6'!$J$18)","v":{"$error":"#N/A"}},{"$f":"ROUND(AVERAGE(L64:L66),0)","v":{"$error":"#N/A"}}]
[{"$f":"IF(ISBLANK('S6'!K$8),\" \",'S6'!K$8)","v":" "},{"$f":"IF(ISTEXT('S6'!$L$14),NA(),'S6'!$L$14)","v":{"$error":"#N/A"}},{"$error":"#N/A"},{"$f":"IF(ISTEXT('S6'!$L$16),NA(),'S6'!$L$16)","v":{"$error":"#N/A"}},{"$error":"#N/A"},{"$f":"IF(ISTEXT('S6'!$L$17),NA(),'S6'!$L$17)","v":{"$error":"#N/A"}},{"$f":"ROUND(AVERAGE(F65:F67),0)","v":{"$error":"#N/A"}},{"$f":"IF(ISTEXT('S6'!$L$19),NA(),'S6'!$L$19)","v":{"$error":"#N/A"}},{"$f":"ROUND(AVERAGE(H65:H67),0)","v":{"$error":"#N/A"}},{"$f":"IF(ISTEXT('S6'!$L$20),NA(),'S6'!$L$20)","v":{"$error":"#N/A"}},{"$error":"#N/A"},{"$f":"IF(ISTEXT('S6'!$L$18),NA(),'S6'!$L$18)","v":{"$error":"#N/A"}},{"$f":"ROUND(AVERAGE(L65:L67),0)","v":{"$error":"#N/A"}}]
[{"$f":"IF(ISBLANK('S6'!M$8),\" \",'S6'!M$8)","v":" "},{"$f":"IF(ISTEXT('S6'!$N$14),NA(),'S6'!$N$14)","v":{"$error":"#N/A"}},{"$error":"#N/A"},{"$f":"IF(ISTEXT('S6'!$N$16),NA(),'S6'!$N$16)","v":{"$error":"#N/A"}},{"$error":"#N/A"},{"$f":"IF(ISTEXT('S6'!$N$17),NA(),'S6'!$N$17)","v":{"$error":"#N/A"}},{"$f":"ROUND(AVERAGE(F66:F68),0)","v":{"$error":"#N/A"}},{"$f":"IF(ISTEXT('S6'!$N$19),NA(),'S6'!$N$19)","v":{"$error":"#N/A"}},{"$f":"ROUND(AVERAGE(H66:H68),0)","v":{"$error":"#N/A"}},{"$f":"IF(ISTEXT('S6'!$N$20),NA(),'S6'!$N$20)","v":{"$error":"#N/A"}},{"$error":"#N/A"},{"$f":"IF(ISTEXT('S6'!$N$18),NA(),'S6'!$N$18)","v":{"$error":"#N/A"}},{"$f":"ROUND(AVERAGE(L66:L68),0)","v":{"$error":"#N/A"}}]
[{"$f":"IF(ISBLANK('S6'!C$27),\" \",'S6'!C$27)","v":" "},{"$f":"IF(ISTEXT('S6'!$D$33),NA(),'S6'!$D$33)","v":{"$error":"#N/A"}},{"$error":"#N/A"},{"$f":"IF(ISTEXT('S6'!$D$35),NA(),'S6'!$D$35)","v":{"$error":"#N/A"}},{"$error":"#N/A"},{"$f":"IF(ISTEXT('S6'!$D$36),NA(),'S6'!$D$36)","v":{"$error":"#N/A"}},{"$f":"ROUND(AVERAGE(F67:F69),0)","v":{"$error":"#N/A"}},{"$f":"IF(ISTEXT('S6'!$D$38),NA(),'S6'!$D$38)","v":{"$error":"#N/A"}},{"$f":"ROUND(AVERAGE(H67:H69),0)","v":{"$error":"#N/A"}},{"$f":"IF(ISTEXT('S6'!$D$39),NA(),'S6'!$D$39)","v":{"$error":"#N/A"}},{"$f":"ROUND(AVERAGE(J67:J69),2)","v":{"$error":"#N/A"}},{"$f":"IF(ISTEXT('S6'!$D$37),NA(),'S6'!$D$37)","v":{"$error":"#N/A"}},{"$f":"ROUND(AVERAGE(L67:L69),0)","v":{"$error":"#N/A"}}]
[{"$f":"IF(ISBLANK('S6'!E$27),\" \",'S6'!E$27)","v":" "},{"$f":"IF(ISTEXT('S6'!$F$33),NA(),'S6'!$F$33)","v":{"$error":"#N/A"}},{"$f":"ROUND(AVERAGE(B68:B70),0)","v":{"$error":"#N/A"}},{"$f":"IF(ISTEXT('S6'!$F$35),NA(),'S6'!$F$35)","v":{"$error":"#N/A"}},{"$error":"#N/A"},{"$f":"IF(ISTEXT('S6'!$F$36),NA(),'S6'!$F$36)","v":{"$error":"#N/A"}},{"$f":"ROUND(AVERAGE(F68:F70),0)","v":{"$error":"#N/A"}},{"$f":"IF(ISTEXT('S6'!$F$38),NA(),'S6'!$F$38)","v":{"$error":"#N/A"}},{"$f":"ROUND(AVERAGE(H68:H70),0)","v":{"$error":"#N/A"}},{"$f":"IF(ISTEXT('S6'!$F$39),NA(),'S6'!$F$39)","v":{"$error":"#N/A"}},{"$error":"#N/A"},{"$f":"IF(ISTEXT('S6'!$F$37),NA(),'S6'!$F$37)","v":{"$error":"#N/A"}},{"$f":"ROUND(AVERAGE(L68:L70),0)","v":{"$error":"#N/A"}}]
[{"$f":"IF(ISBLANK('S6'!G$27),\" \",'S6'!G$27)","v":" "},{"$f":"IF(ISTEXT('S6'!$H$33),NA(),'S6'!$H$33)","v":{"$error":"#N/A"}},{"$error":"#N/A"},{"$f":"IF(ISTEXT('S6'!$H$35),NA(),'S6'!$H$35)","v":{"$error":"#N/A"}},{"$error":"#N/A"},{"$f":"IF(ISTEXT('S6'!$H$36),NA(),'S6'!$H$36)","v":{"$error":"#N/A"}},{"$f":"ROUND(AVERAGE(F69:F71),0)","v":{"$error":"#N/A"}},{"$f":"IF(ISTEXT('S6'!$H$38),NA(),'S6'!$H$38)","v":{"$error":"#N/A"}},{"$f":"ROUND(AVERAGE(H69:H71),0)","v":{"$error":"#N/A"}},{"$f":"IF(ISTEXT('S6'!$H$39),NA(),'S6'!$H$39)","v":{"$error":"#N/A"}},{"$error":"#N/A"},{"$f":"IF(ISTEXT('S6'!$H$37),NA(),'S6'!$H$37)","v":{"$error":"#N/A"}},{"$f":"ROUND(AVERAGE(L69:L71),0)","v":{"$error":"#N/A"}}]
[{"$f":"IF(ISBLANK('S6'!I$27),\" \",'S6'!I$27)","v":" "},{"$f":"IF(ISTEXT('S6'!$J$33),NA(),'S6'!$J$33)","v":{"$error":"#N/A"}},{"$error":"#N/A"},{"$f":"IF(ISTEXT('S6'!$J$35),NA(),'S6'!$J$35)","v":{"$error":"#N/A"}},{"$error":"#N/A"},{"$f":"IF(ISTEXT('S6'!$J$36),NA(),'S6'!$J$36)","v":{"$error":"#N/A"}},{"$f":"ROUND(AVERAGE(F70:F72),0)","v":{"$error":"#N/A"}},{"$f":"IF(ISTEXT('S6'!$J$38),NA(),'S6'!$J$38)","v":{"$error":"#N/A"}},{"$f":"ROUND(AVERAGE(H70:H72),0)","v":{"$error":"#N/A"}},{"$f":"IF(ISTEXT('S6'!$J$39),NA(),'S6'!$J$39)","v":{"$error":"#N/A"}},{"$error":"#N/A"},{"$f":"IF(ISTEXT('S6'!$J$37),NA(),'S6'!$J$37)","v":{"$error":"#N/A"}},{"$f":"ROUND(AVERAGE(L70:L72),0)","v":{"$error":"#N/A"}}]
[{"$f":"IF(ISBLANK('S6'!K$27),\" \",'S6'!K$27)","v":" "},{"$f":"IF(ISTEXT('S6'!$L$33),NA(),'S6'!$L$33)","v":{"$error":"#N/A"}},{"$error":"#N/A"},{"$f":"IF(ISTEXT('S6'!$L$35),NA(),'S6'!$L$35)","v":{"$error":"#N/A"}},{"$error":"#N/A"},{"$f":"IF(ISTEXT('S6'!$L$36),NA(),'S6'!$L$36)","v":{"$error":"#N/A"}},{"$f":"ROUND(AVERAGE(F71:F73),0)","v":{"$error":"#N/A"}},{"$f":"IF(ISTEXT('S6'!$L$38),NA(),'S6'!$L$38)","v":{"$error":"#N/A"}},{"$f":"ROUND(AVERAGE(H71:H73),0)","v":{"$error":"#N/A"}},{"$f":"IF(ISTEXT('S6'!$L$39),NA(),'S6'!$L$39)","v":{"$error":"#N/A"}},{"$error":"#N/A"},{"$f":"IF(ISTEXT('S6'!$L$37),NA(),'S6'!$L$37)","v":{"$error":"#N/A"}},{"$f":"ROUND(AVERAGE(L71:L73),0)","v":{"$error":"#N/A"}}]
[{"$f":"IF(ISBLANK('S6'!M$27),\" \",'S6'!M$27)","v":" "},{"$f":"IF(ISTEXT('S6'!$N$33),NA(),'S6'!$N$33)","v":{"$error":"#N/A"}},{"$error":"#N/A"},{"$f":"IF(ISTEXT('S6'!$N$35),NA(),'S6'!$N$35)","v":{"$error":"#N/A"}},{"$error":"#N/A"},{"$f":"IF(ISTEXT('S6'!$N$36),NA(),'S6'!$N$36)","v":{"$error":"#N/A"}},{"$f":"ROUND(AVERAGE(F72:F74),0)","v":{"$error":"#N/A"}},{"$f":"IF(ISTEXT('S6'!$N$38),NA(),'S6'!$N$38)","v":{"$error":"#N/A"}},{"$f":"ROUND(AVERAGE(H72:H74),0)","v":{"$error":"#N/A"}},{"$f":"IF(ISTEXT('S6'!$N$39),NA(),'S6'!$N$39)","v":{"$error":"#N/A"}},{"$error":"#N/A"},{"$f":"IF(ISTEXT('S6'!$N$37),NA(),'S6'!$N$37)","v":{"$error":"#N/A"}},{"$f":"ROUND(AVERAGE(L72:L74),0)","v":{"$error":"#N/A"}}]
[{"$f":"IF(ISBLANK('S7'!C$8),\" \",'S7'!C$8)","v":" "},{"$f":"IF(ISTEXT('S7'!$D$14),NA(),'S7'!$D$14)","v":{"$error":"#N/A"}},{"$error":"#N/A"},{"$f":"IF(ISTEXT('S7'!$D$16),NA(),'S7'!$D$16)","v":{"$error":"#N/A"}},{"$error":"#N/A"},{"$f":"IF(ISTEXT('S7'!$D$17),NA(),'S7'!$D$17)","v":{"$error":"#N/A"}},{"$f":"ROUND(AVERAGE(F73:F75),0)","v":{"$error":"#N/A"}},{"$f":"IF(ISTEXT('S7'!$D$19),NA(),'S7'!$D$19)","v":{"$error":"#N/A"}},{"$f":"ROUND(AVERAGE(H73:H75),0)","v":{"$error":"#N/A"}},{"$f":"IF(ISTEXT('S7'!$D$20),NA(),'S7'!$D$20)","v":{"$error":"#N/A"}},{"$error":"#N/A"},{"$f":"IF(ISTEXT('S7'!$D$18),NA(),'S7'!$D$18)","v":{"$error":"#N/A"}},{"$f":"ROUND(AVERAGE(L73:L75),0)","v":{"$error":"#N/A"}}]
[{"$f":"IF(ISBLANK('S7'!E$8),\" \",'S7'!E$8)","v":" "},{"$f":"IF(ISTEXT('S7'!$F$14),NA(),'S7'!$F$14)","v":{"$error":"#N/A"}},{"$error":"#N/A"},{"$f":"IF(ISTEXT('S7'!$F$16),NA(),'S7'!$F$16)","v":{"$error":"#N/A"}},{"$error":"#N/A"},{"$f":"IF(ISTEXT('S7'!$F$17),NA(),'S7'!$F$17)","v":{"$error":"#N/A"}},{"$f":"ROUND(AVERAGE(F74:F76),0)","v":{"$error":"#N/A"}},{"$f":"IF(ISTEXT('S7'!$F$19),NA(),'S7'!$F$19)","v":{"$error":"#N/A"}},{"$f":"ROUND(AVERAGE(H74:H76),0)","v":{"$error":"#N/A"}},{"$f":"IF(ISTEXT('S7'!$F$20),NA(),'S7'!$F$20)","v":{"$error":"#N/A"}},{"$error":"#N/A"},{"$f":"IF(ISTEXT('S7'!$F$18),NA(),'S7'!$F$18)","v":{"$error":"#N/A"}},{"$f":"ROUND(AVERAGE(L74:L76),0)","v":{"$error":"#N/A"}}]
[{"$f":"IF(ISBLANK('S7'!G$8),\" \",'S7'!G$8)","v":" "},{"$f":"IF(ISTEXT('S7'!$H$14),NA(),'S7'!$H$14)","v":{"$error":"#N/A"}},{"$error":"#N/A"},{"$f":"IF(ISTEXT('S7'!$H$16),NA(),'S7'!$H$16)","v":{"$error":"#N/A"}},{"$error":"#N/A"},{"$f":"IF(ISTEXT('S7'!$H$17),NA(),'S7'!$H$17)","v":{"$error":"#N/A"}},{"$f":"ROUND(AVERAGE(F75:F77),0)","v":{"$error":"#N/A"}},{"$f":"IF(ISTEXT('S7'!$H$19),NA(),'S7'!$H$19)","v":{"$error":"#N/A"}},{"$f":"ROUND(AVERAGE(H75:H77),0)","v":{"$error":"#N/A"}},{"$f":"IF(ISTEXT('S7'!$H$20),NA(),'S7'!$H$20)","v":{"$error":"#N/A"}},{"$error":"#N/A"},{"$f":"IF(ISTEXT('S7'!$H$18),NA(),'S7'!$H$18)","v":{"$error":"#N/A"}},{"$f":"ROUND(AVERAGE(L75:L77),0)","v":{"$error":"#N/A"}}]
[{"$f":"IF(ISBLANK('S7'!I$8),\" \",'S7'!I$8)","v":" "},{"$f":"IF(ISTEXT('S7'!$J$14),NA(),'S7'!$J$14)","v":{"$error":"#N/A"}},{"$error":"#N/A"},{"$f":"IF(ISTEXT('S7'!$J$16),NA(),'S7'!$J$16)","v":{"$error":"#N/A"}},{"$error":"#N/A"},{"$f":"IF(ISTEXT('S7'!$J$17),NA(),'S7'!$J$17)","v":{"$error":"#N/A"}},{"$f":"ROUND(AVERAGE(F76:F78),0)","v":{"$error":"#N/A"}},{"$f":"IF(ISTEXT('S7'!$J$19),NA(),'S7'!$J$19)","v":{"$error":"#N/A"}},{"$f":"ROUND(AVERAGE(H76:H78),0)","v":{"$error":"#N/A"}},{"$f":"IF(ISTEXT('S7'!$J$20),NA(),'S7'!$J$20)","v":{"$error":"#N/A"}},{"$error":"#N/A"},{"$f":"IF(ISTEXT('S7'!$J$18),NA(),'S7'!$J$18)","v":{"$error":"#N/A"}},{"$f":"ROUND(AVERAGE(L76:L78),0)","v":{"$error":"#N/A"}}]
[{"$f":"IF(ISBLANK('S7'!K$8),\" \",'S7'!K$8)","v":" "},{"$f":"IF(ISTEXT('S7'!$L$14),NA(),'S7'!$L$14)","v":{"$error":"#N/A"}},{"$error":"#N/A"},{"$f":"IF(ISTEXT('S7'!$L$16),NA(),'S7'!$L$16)","v":{"$error":"#N/A"}},{"$error":"#N/A"},{"$f":"IF(ISTEXT('S7'!$L$17),NA(),'S7'!$L$17)","v":{"$error":"#N/A"}},{"$f":"ROUND(AVERAGE(F77:F79),0)","v":{"$error":"#N/A"}},{"$f":"IF(ISTEXT('S7'!$L$19),NA(),'S7'!$L$19)","v":{"$error":"#N/A"}},{"$f":"ROUND(AVERAGE(H77:H79),0)","v":{"$error":"#N/A"}},{"$f":"IF(ISTEXT('S7'!$L$20),NA(),'S7'!$L$20)","v":{"$error":"#N/A"}},{"$error":"#N/A"},{"$f":"IF(ISTEXT('S7'!$L$18),NA(),'S7'!$L$18)","v":{"$error":"#N/A"}},{"$f":"ROUND(AVERAGE(L77:L79),0)","v":{"$error":"#N/A"}}]
[{"$f":"IF(ISBLANK('S7'!M$8),\" \",'S7'!M$8)","v":" "},{"$f":"IF(ISTEXT('S7'!$N$14),NA(),'S7'!$N$14)","v":{"$error":"#N/A"}},{"$error":"#N/A"},{"$f":"IF(ISTEXT('S7'!$N$16),NA(),'S7'!$N$16)","v":{"$error":"#N/A"}},{"$error":"#N/A"},{"$f":"IF(ISTEXT('S7'!$N$17),NA(),'S7'!$N$17)","v":{"$error":"#N/A"}},{"$f":"ROUND(AVERAGE(F78:F80),0)","v":{"$error":"#N/A"}},{"$f":"IF(ISTEXT('S7'!$N$19),NA(),'S7'!$N$19)","v":{"$error":"#N/A"}},{"$f":"ROUND(AVERAGE(H78:H80),0)","v":{"$error":"#N/A"}},{"$f":"IF(ISTEXT('S7'!$N$20),NA(),'S7'!$N$20)","v":{"$error":"#N/A"}},{"$error":"#N/A"},{"$f":"IF(ISTEXT('S7'!$N$18),NA(),'S7'!$N$18)","v":{"$error":"#N/A"}},{"$f":"ROUND(AVERAGE(L78:L80),0)","v":{"$error":"#N/A"}}]
[{"$f":"IF(ISBLANK('S7'!C$27),\" \",'S7'!C$27)","v":" "},{"$f":"IF(ISTEXT('S7'!$D$33),NA(),'S7'!$D$33)","v":{"$error":"#N/A"}},{"$error":"#N/A"},{"$f":"IF(ISTEXT('S7'!$D$35),NA(),'S7'!$D$35)","v":{"$error":"#N/A"}},{"$error":"#N/A"},{"$f":"IF(ISTEXT('S7'!$D$36),NA(),'S7'!$D$36)","v":{"$error":"#N/A"}},{"$f":"ROUND(AVERAGE(F79:F81),0)","v":{"$error":"#N/A"}},{"$f":"IF(ISTEXT('S7'!$D$38),NA(),'S7'!$D$38)","v":{"$error":"#N/A"}},{"$f":"ROUND(AVERAGE(H79:H81),0)","v":{"$error":"#N/A"}},{"$f":"IF(ISTEXT('S7'!$D$39),NA(),'S7'!$D$39)","v":{"$error":"#N/A"}},{"$error":"#N/A"},{"$f":"IF(ISTEXT('S7'!$D$37),NA(),'S7'!$D$37)","v":{"$error":"#N/A"}},{"$f":"ROUND(AVERAGE(L79:L81),0)","v":{"$error":"#N/A"}}]
[{"$f":"IF(ISBLANK('S7'!E$27),\" \",'S7'!E$27)","v":" "},{"$f":"IF(ISTEXT('S7'!$F$33),NA(),'S7'!$F$33)","v":{"$error":"#N/A"}},{"$error":"#N/A"},{"$f":"IF(ISTEXT('S7'!$F$35),NA(),'S7'!$F$35)","v":{"$error":"#N/A"}},{"$error":"#N/A"},{"$f":"IF(ISTEXT('S7'!$F$36),NA(),'S7'!$F$36)","v":{"$error":"#N/A"}},{"$f":"ROUND(AVERAGE(F80:F82),0)","v":{"$error":"#N/A"}},{"$f":"IF(ISTEXT('S7'!$F$38),NA(),'S7'!$F$38)","v":{"$error":"#N/A"}},{"$f":"ROUND(AVERAGE(H80:H82),0)","v":{"$error":"#N/A"}},{"$f":"IF(ISTEXT('S7'!$F$39),NA(),'S7'!$F$39)","v":{"$error":"#N/A"}},{"$error":"#N/A"},{"$f":"IF(ISTEXT('S7'!$F$37),NA(),'S7'!$F$37)","v":{"$error":"#N/A"}},{"$f":"ROUND(AVERAGE(L80:L82),0)","v":{"$error":"#N/A"}}]
[{"$f":"IF(ISBLANK('S7'!G$27),\" \",'S7'!G$27)","v":" "},{"$f":"IF(ISTEXT('S7'!$H$33),NA(),'S7'!$H$33)","v":{"$error":"#N/A"}},{"$error":"#N/A"},{"$f":"IF(ISTEXT('S7'!$H$35),NA(),'S7'!$H$35)","v":{"$error":"#N/A"}},{"$error":"#N/A"},{"$f":"IF(ISTEXT('S7'!$H$36),NA(),'S7'!$H$36)","v":{"$error":"#N/A"}},{"$f":"ROUND(AVERAGE(F81:F83),0)","v":{"$error":"#N/A"}},{"$f":"IF(ISTEXT('S7'!$H$38),NA(),'S7'!$H$38)","v":{"$error":"#N/A"}},{"$f":"ROUND(AVERAGE(H81:H83),0)","v":{"$error":"#N/A"}},{"$f":"IF(ISTEXT('S7'!$H$39),NA(),'S7'!$H$39)","v":{"$error":"#N/A"}},{"$error":"#N/A"},{"$f":"IF(ISTEXT('S7'!$H$37),NA(),'S7'!$H$37)","v":{"$error":"#N/A"}},{"$f":"ROUND(AVERAGE(L81:L83),0)","v":{"$error":"#N/A"}}]
[{"$f":"IF(ISBLANK('S7'!I$27),\" \",'S7'!I$27)","v":" "},{"$f":"IF(ISTEXT('S7'!$J$33),NA(),'S7'!$J$33)","v":{"$error":"#N/A"}},{"$error":"#N/A"},{"$f":"IF(ISTEXT('S7'!$J$35),NA(),'S7'!$J$35)","v":{"$error":"#N/A"}},{"$error":"#N/A"},{"$f":"IF(ISTEXT('S7'!$J$36),NA(),'S7'!$J$36)","v":{"$error":"#N/A"}},{"$f":"ROUND(AVERAGE(F82:F84),0)","v":{"$error":"#N/A"}},{"$f":"IF(ISTEXT('S7'!$J$38),NA(),'S7'!$J$38)","v":{"$error":"#N/A"}},{"$f":"ROUND(AVERAGE(H82:H84),0)","v":{"$error":"#N/A"}},{"$f":"IF(ISTEXT('S7'!$J$39),NA(),'S7'!$J$39)","v":{"$error":"#N/A"}},{"$error":"#N/A"},{"$f":"IF(ISTEXT('S7'!$J$37),NA(),'S7'!$J$37)","v":{"$error":"#N/A"}},{"$f":"ROUND(AVERAGE(L82:L84),0)","v":{"$error":"#N/A"}}]
[{"$f":"IF(ISBLANK('S7'!K$27),\" \",'S7'!K$27)","v":" "},{"$f":"IF(ISTEXT('S7'!$L$33),NA(),'S7'!$L$33)","v":{"$error":"#N/A"}},{"$error":"#N/A"},{"$f":"IF(ISTEXT('S7'!$L$35),NA(),'S7'!$L$35)","v":{"$error":"#N/A"}},{"$error":"#N/A"},{"$f":"IF(ISTEXT('S7'!$L$36),NA(),'S7'!$L$36)","v":{"$error":"#N/A"}},{"$f":"ROUND(AVERAGE(F83:F85),0)","v":{"$error":"#N/A"}},{"$f":"IF(ISTEXT('S7'!$L$38),NA(),'S7'!$L$38)","v":{"$error":"#N/A"}},{"$f":"ROUND(AVERAGE(H83:H85),0)","v":{"$error":"#N/A"}},{"$f":"IF(ISTEXT('S7'!$L$39),NA(),'S7'!$L$39)","v":{"$error":"#N/A"}},{"$error":"#N/A"},{"$f":"IF(ISTEXT('S7'!$L$37),NA(),'S7'!$L$37)","v":{"$error":"#N/A"}},{"$f":"ROUND(AVERAGE(L83:L85),0)","v":{"$error":"#N/A"}}]
[{"$f":"IF(ISBLANK('S7'!M$27),\" \",'S7'!M$27)","v":" "},{"$f":"IF(ISTEXT('S7'!$N$33),NA(),'S7'!$N$33)","v":{"$error":"#N/A"}},{"$error":"#N/A"},{"$f":"IF(ISTEXT('S7'!$N$35),NA(),'S7'!$N$35)","v":{"$error":"#N/A"}},{"$error":"#N/A"},{"$f":"IF(ISTEXT('S7'!$N$36),NA(),'S7'!$N$36)","v":{"$error":"#N/A"}},{"$f":"ROUND(AVERAGE(F84:F86),0)","v":{"$error":"#N/A"}},{"$f":"IF(ISTEXT('S7'!$N$38),NA(),'S7'!$N$38)","v":{"$error":"#N/A"}},{"$f":"ROUND(AVERAGE(H84:H86),0)","v":{"$error":"#N/A"}},{"$f":"IF(ISTEXT('S7'!$N$39),NA(),'S7'!$N$39)","v":{"$error":"#N/A"}},{"$error":"#N/A"},{"$f":"IF(ISTEXT('S7'!$N$37),NA(),'S7'!$N$37)","v":{"$error":"#N/A"}},{"$f":"ROUND(AVERAGE(L84:L86),0)","v":{"$error":"#N/A"}}]
[{"$f":"IF(ISBLANK('S8'!C$8),\" \",'S8'!C$8)","v":" "},{"$f":"IF(ISTEXT('S8'!$D$14),NA(),'S8'!$D$14)","v":{"$error":"#N/A"}},{"$error":"#N/A"},{"$f":"IF(ISTEXT('S8'!$D$16),NA(),'S8'!$D$16)","v":{"$error":"#N/A"}},{"$error":"#N/A"},{"$f":"IF(ISTEXT('S8'!$D$17),NA(),'S8'!$D$17)","v":{"$error":"#N/A"}},{"$f":"ROUND(AVERAGE(F85:F87),0)","v":{"$error":"#N/A"}},{"$f":"IF(ISTEXT('S8'!$D$19),NA(),'S8'!$D$19)","v":{"$error":"#N/A"}},{"$f":"ROUND(AVERAGE(H85:H87),0)","v":{"$error":"#N/A"}},{"$f":"IF(ISTEXT('S8'!$D$20),NA(),'S8'!$D$20)","v":{"$error":"#N/A"}},{"$error":"#N/A"},{"$f":"IF(ISTEXT('S8'!$D$18),NA(),'S8'!$D$18)","v":{"$error":"#N/A"}},{"$f":"ROUND(AVERAGE(L85:L87),0)","v":{"$error":"#N/A"}}]
[{"$f":"IF(ISBLANK('S8'!E$8),\" \",'S8'!E$8)","v":" "},{"$f":"IF(ISTEXT('S8'!$F$14),NA(),'S8'!$F$14)","v":{"$error":"#N/A"}},{"$error":"#N/A"},{"$f":"IF(ISTEXT('S8'!$F$16),NA(),'S8'!$F$16)","v":{"$error":"#N/A"}},{"$error":"#N/A"},{"$f":"IF(ISTEXT('S8'!$F$17),NA(),'S8'!$F$17)","v":{"$error":"#N/A"}},{"$f":"ROUND(AVERAGE(F86:F88),0)","v":{"$error":"#N/A"}},{"$f":"IF(ISTEXT('S8'!$F$19),NA(),'S8'!$F$19)","v":{"$error":"#N/A"}},{"$f":"ROUND(AVERAGE(H86:H88),0)","v":{"$error":"#N/A"}},{"$f":"IF(ISTEXT('S8'!$F$20),NA(),'S8'!$F$20)","v":{"$error":"#N/A"}},{"$error":"#N/A"},{"$f":"IF(ISTEXT('S8'!$F$18),NA(),'S8'!$F$18)","v":{"$error":"#N/A"}},{"$f":"ROUND(AVERAGE(L86:L88),0)","v":{"$error":"#N/A"}}]
[{"$f":"IF(ISBLANK('S8'!G$8),\" \",'S8'!G$8)","v":" "},{"$f":"IF(ISTEXT('S8'!$H$14),NA(),'S8'!$H$14)","v":{"$error":"#N/A"}},{"$error":"#N/A"},{"$f":"IF(ISTEXT('S8'!$H$16),NA(),'S8'!$H$16)","v":{"$error":"#N/A"}},{"$error":"#N/A"},{"$f":"IF(ISTEXT('S8'!$H$17),NA(),'S8'!$H$17)","v":{"$error":"#N/A"}},{"$f":"ROUND(AVERAGE(F87:F89),0)","v":{"$error":"#N/A"}},{"$f":"IF(ISTEXT('S8'!$H$19),NA(),'S8'!$H$19)","v":{"$error":"#N/A"}},{"$f":"ROUND(AVERAGE(H87:H89),0)","v":{"$error":"#N/A"}},{"$f":"IF(ISTEXT('S8'!$H$20),NA(),'S8'!$H$20)","v":{"$error":"#N/A"}},{"$error":"#N/A"},{"$f":"IF(ISTEXT('S8'!$H$18),NA(),'S8'!$H$18)","v":{"$error":"#N/A"}},{"$f":"ROUND(AVERAGE(L87:L89),0)","v":{"$error":"#N/A"}}]
[{"$f":"IF(ISBLANK('S8'!I$8),\" \",'S8'!I$8)","v":" "},{"$f":"IF(ISTEXT('S8'!$J$14),NA(),'S8'!$J$14)","v":{"$error":"#N/A"}},{"$error":"#N/A"},{"$f":"IF(ISTEXT('S8'!$J$16),NA(),'S8'!$J$16)","v":{"$error":"#N/A"}},{"$error":"#N/A"},{"$f":"IF(ISTEXT('S8'!$J$17),NA(),'S8'!$J$17)","v":{"$error":"#N/A"}},{"$f":"ROUND(AVERAGE(F88:F90),0)","v":{"$error":"#N/A"}},{"$f":"IF(ISTEXT('S8'!$J$19),NA(),'S8'!$J$19)","v":{"$error":"#N/A"}},{"$f":"ROUND(AVERAGE(H88:H90),0)","v":{"$error":"#N/A"}},{"$f":"IF(ISTEXT('S8'!$J$20),NA(),'S8'!$J$20)","v":{"$error":"#N/A"}},{"$error":"#N/A"},{"$f":"IF(ISTEXT('S8'!$J$18),NA(),'S8'!$J$18)","v":{"$error":"#N/A"}},{"$f":"ROUND(AVERAGE(L88:L90),0)","v":{"$error":"#N/A"}}]
[{"$f":"IF(ISBLANK('S8'!K$8),\" \",'S8'!K$8)","v":" "},{"$f":"IF(ISTEXT('S8'!$L$14),NA(),'S8'!$L$14)","v":{"$error":"#N/A"}},{"$error":"#N/A"},{"$f":"IF(ISTEXT('S8'!$L$16),NA(),'S8'!$L$16)","v":{"$error":"#N/A"}},{"$error":"#N/A"},{"$f":"IF(ISTEXT('S8'!$L$17),NA(),'S8'!$L$17)","v":{"$error":"#N/A"}},{"$f":"ROUND(AVERAGE(F89:F91),0)","v":{"$error":"#N/A"}},{"$f":"IF(ISTEXT('S8'!$L$19),NA(),'S8'!$L$19)","v":{"$error":"#N/A"}},{"$f":"ROUND(AVERAGE(H89:H91),0)","v":{"$error":"#N/A"}},{"$f":"IF(ISTEXT('S8'!$L$20),NA(),'S8'!$L$20)","v":{"$error":"#N/A"}},{"$error":"#N/A"},{"$f":"IF(ISTEXT('S8'!$L$18),NA(),'S8'!$L$18)","v":{"$error":"#N/A"}},{"$f":"ROUND(AVERAGE(L89:L91),0)","v":{"$error":"#N/A"}}]
[{"$f":"IF(ISBLANK('S8'!M$8),\" \",'S8'!M$8)","v":" "},{"$f":"IF(ISTEXT('S8'!$N$14),NA(),'S8'!$N$14)","v":{"$error":"#N/A"}},{"$error":"#N/A"},{"$f":"IF(ISTEXT('S8'!$N$16),NA(),'S8'!$N$16)","v":{"$error":"#N/A"}},{"$error":"#N/A"},{"$f":"IF(ISTEXT('S8'!$N$17),NA(),'S8'!$N$17)","v":{"$error":"#N/A"}},{"$f":"ROUND(AVERAGE(F90:F92),0)","v":{"$error":"#N/A"}},{"$f":"IF(ISTEXT('S8'!$N$19),NA(),'S8'!$N$19)","v":{"$error":"#N/A"}},{"$f":"ROUND(AVERAGE(H90:H92),0)","v":{"$error":"#N/A"}},{"$f":"IF(ISTEXT('S8'!$N$20),NA(),'S8'!$N$20)","v":{"$error":"#N/A"}},{"$error":"#N/A"},{"$f":"IF(ISTEXT('S8'!$N$18),NA(),'S8'!$N$18)","v":{"$error":"#N/A"}},{"$f":"ROUND(AVERAGE(L90:L92),0)","v":{"$error":"#N/A"}}]
[{"$f":"IF(ISBLANK('S8'!C$26),\" \",'S8'!C$26)","v":" "},{"$f":"IF(ISTEXT('S8'!$D$33),NA(),'S8'!$D$33)","v":{"$error":"#N/A"}},{"$error":"#N/A"},{"$f":"IF(ISTEXT('S8'!$D$35),NA(),'S8'!$D$35)","v":{"$error":"#N/A"}},{"$error":"#N/A"},{"$f":"IF(ISTEXT('S8'!$D$36),NA(),'S8'!$D$36)","v":{"$error":"#N/A"}},{"$f":"ROUND(AVERAGE(F91:F93),0)","v":{"$error":"#N/A"}},{"$f":"IF(ISTEXT('S8'!$D$38),NA(),'S8'!$D$38)","v":{"$error":"#N/A"}},{"$f":"ROUND(AVERAGE(H91:H93),0)","v":{"$error":"#N/A"}},{"$f":"IF(ISTEXT('S8'!$D$39),NA(),'S8'!$D$39)","v":{"$error":"#N/A"}},{"$error":"#N/A"},{"$f":"IF(ISTEXT('S8'!$D$37),NA(),'S8'!$D$37)","v":{"$error":"#N/A"}},{"$f":"ROUND(AVERAGE(L91:L93),0)","v":{"$error":"#N/A"}}]
[{"$f":"IF(ISBLANK('S8'!E$26),\" \",'S8'!E$26)","v":" "},{"$f":"IF(ISTEXT('S8'!$F$33),NA(),'S8'!$F$33)","v":{"$error":"#N/A"}},{"$error":"#N/A"},{"$f":"IF(ISTEXT('S8'!$F$35),NA(),'S8'!$F$35)","v":{"$error":"#N/A"}},{"$error":"#N/A"},{"$f":"IF(ISTEXT('S8'!$F$36),NA(),'S8'!$F$36)","v":{"$error":"#N/A"}},{"$f":"ROUND(AVERAGE(F92:F94),0)","v":{"$error":"#N/A"}},{"$f":"IF(ISTEXT('S8'!$F$38),NA(),'S8'!$F$38)","v":{"$error":"#N/A"}},{"$f":"ROUND(AVERAGE(H92:H94),0)","v":{"$error":"#N/A"}},{"$f":"IF(ISTEXT('S8'!$F$39),NA(),'S8'!$F$39)","v":{"$error":"#N/A"}},{"$error":"#N/A"},{"$f":"IF(ISTEXT('S8'!$F$37),NA(),'S8'!$F$37)","v":{"$error":"#N/A"}},{"$f":"ROUND(AVERAGE(L92:L94),0)","v":{"$error":"#N/A"}}]
[{"$f":"IF(ISBLANK('S8'!G$26),\" \",'S8'!G$26)","v":" "},{"$f":"IF(ISTEXT('S8'!$H$33),NA(),'S8'!$H$33)","v":{"$error":"#N/A"}},{"$error":"#N/A"},{"$f":"IF(ISTEXT('S8'!$H$35),NA(),'S8'!$H$35)","v":{"$error":"#N/A"}},{"$error":"#N/A"},{"$f":"IF(ISTEXT('S8'!$H$36),NA(),'S8'!$H$36)","v":{"$error":"#N/A"}},{"$f":"ROUND(AVERAGE(F93:F95),0)","v":{"$error":"#N/A"}},{"$f":"IF(ISTEXT('S8'!$H$38),NA(),'S8'!$H$38)","v":{"$error":"#N/A"}},{"$f":"ROUND(AVERAGE(H93:H95),0)","v":{"$error":"#N/A"}},{"$f":"IF(ISTEXT('S8'!$H$39),NA(),'S8'!$H$39)","v":{"$error":"#N/A"}},{"$error":"#N/A"},{"$f":"IF(ISTEXT('S8'!$H$37),NA(),'S8'!$H$37)","v":{"$error":"#N/A"}},{"$f":"ROUND(AVERAGE(L93:L95),0)","v":{"$error":"#N/A"}}]
[{"$f":"IF(ISBLANK('S8'!I$26),\" \",'S8'!I$26)","v":" "},{"$f":"IF(ISTEXT('S8'!$J$33),NA(),'S8'!$J$33)","v":{"$error":"#N/A"}},{"$error":"#N/A"},{"$f":"IF(ISTEXT('S8'!$J$35),NA(),'S8'!$J$35)","v":{"$error":"#N/A"}},{"$error":"#N/A"},{"$f":"IF(ISTEXT('S8'!$J$36),NA(),'S8'!$J$36)","v":{"$error":"#N/A"}},{"$f":"ROUND(AVERAGE(F94:F96),0)","v":{"$error":"#N/A"}},{"$f":"IF(ISTEXT('S8'!$J$38),NA(),'S8'!$J$38)","v":{"$error":"#N/A"}},{"$f":"ROUND(AVERAGE(H94:H96),0)","v":{"$error":"#N/A"}},{"$f":"IF(ISTEXT('S8'!$J$39),NA(),'S8'!$J$39)","v":{"$error":"#N/A"}},{"$error":"#N/A"},{"$f":"IF(ISTEXT('S8'!$J$37),NA(),'S8'!$J$37)","v":{"$error":"#N/A"}},{"$f":"ROUND(AVERAGE(L94:L96),0)","v":{"$error":"#N/A"}}]
[{"$f":"IF(ISBLANK('S8'!K$26),\" \",'S8'!K$26)","v":" "},{"$f":"IF(ISTEXT('S8'!$L$33),NA(),'S8'!$L$33)","v":{"$error":"#N/A"}},{"$error":"#N/A"},{"$f":"IF(ISTEXT('S8'!$L$35),NA(),'S8'!$L$35)","v":{"$error":"#N/A"}},{"$error":"#N/A"},{"$f":"IF(ISTEXT('S8'!$L$36),NA(),'S8'!$L$36)","v":{"$error":"#N/A"}},{"$f":"ROUND(AVERAGE(F95:F97),0)","v":{"$error":"#N/A"}},{"$f":"IF(ISTEXT('S8'!$L$38),NA(),'S8'!$L$38)","v":{"$error":"#N/A"}},{"$f":"ROUND(AVERAGE(H95:H97),0)","v":{"$error":"#N/A"}},{"$f":"IF(ISTEXT('S8'!$L$39),NA(),'S8'!$L$39)","v":{"$error":"#N/A"}},{"$error":"#N/A"},{"$f":"IF(ISTEXT('S8'!$L$37),NA(),'S8'!$L$37)","v":{"$error":"#N/A"}},{"$f":"ROUND(AVERAGE(L95:L97),0)","v":{"$error":"#N/A"}}]
[{"$f":"IF(ISBLANK('S8'!M$26),\" \",'S8'!M$26)","v":" "},{"$f":"IF(ISTEXT('S8'!$N$33),NA(),'S8'!$N$33)","v":{"$error":"#N/A"}},{"$error":"#N/A"},{"$f":"IF(ISTEXT('S8'!$N$35),NA(),'S8'!$N$35)","v":{"$error":"#N/A"}},{"$error":"#N/A"},{"$f":"IF(ISTEXT('S8'!$N$36),NA(),'S8'!$N$36)","v":{"$error":"#N/A"}},{"$f":"ROUND(AVERAGE(F96:F98),0)","v":{"$error":"#N/A"}},{"$f":"IF(ISTEXT('S8'!$N$38),NA(),'S8'!$N$38)","v":{"$error":"#N/A"}},{"$f":"ROUND(AVERAGE(H96:H98),0)","v":{"$error":"#N/A"}},{"$f":"IF(ISTEXT('S8'!$N$39),NA(),'S8'!$N$39)","v":{"$error":"#N/A"}},{"$error":"#N/A"},{"$f":"IF(ISTEXT('S8'!$N$37),NA(),'S8'!$N$37)","v":{"$error":"#N/A"}},{"$f":"ROUND(AVERAGE(L96:L98),0)","v":{"$error":"#N/A"}}]
[{"$f":"IF(ISBLANK('S9'!C$8),\" \",'S9'!C$8)","v":" "},{"$f":"IF(ISTEXT('S9'!$D$14),NA(),'S9'!$D$14)","v":{"$error":"#N/A"}},{"$error":"#N/A"},{"$f":"IF(ISTEXT('S9'!$D$16),NA(),'S9'!$D$16)","v":{"$error":"#N/A"}},{"$error":"#N/A"},{"$f":"IF(ISTEXT('S9'!$D$17),NA(),'S9'!$D$17)","v":{"$error":"#N/A"}},{"$f":"ROUND(AVERAGE(F97:F99),0)","v":{"$error":"#N/A"}},{"$f":"IF(ISTEXT('S9'!$D$19),NA(),'S9'!$D$19)","v":{"$error":"#N/A"}},{"$f":"ROUND(AVERAGE(H97:H99),0)","v":{"$error":"#N/A"}},{"$f":"IF(ISTEXT('S9'!$D$20),NA(),'S9'!$D$20)","v":{"$error":"#N/A"}},{"$error":"#N/A"},{"$f":"IF(ISTEXT('S9'!$D$18),NA(),'S9'!$D$18)","v":{"$error":"#N/A"}},{"$f":"ROUND(AVERAGE(L97:L99),0)","v":{"$error":"#N/A"}}]
[{"$f":"IF(ISBLANK('S9'!E$8),\" \",'S9'!E$8)","v":" "},{"$f":"IF(ISTEXT('S9'!$F$14),NA(),'S9'!$F$14)","v":{"$error":"#N/A"}},{"$error":"#N/A"},{"$f":"IF(ISTEXT('S9'!$F$16),NA(),'S9'!$F$16)","v":{"$error":"#N/A"}},{"$error":"#N/A"},{"$f":"IF(ISTEXT('S9'!$F$17),NA(),'S9'!$F$17)","v":{"$error":"#N/A"}},{"$f":"ROUND(AVERAGE(F98:F100),0)","v":{"$error":"#N/A"}},{"$f":"IF(ISTEXT('S9'!$F$19),NA(),'S9'!$F$19)","v":{"$error":"#N/A"}},{"$f":"ROUND(AVERAGE(H98:H100),0)","v":{"$error":"#N/A"}},{"$f":"IF(ISTEXT('S9'!$F$20),NA(),'S9'!$F$20)","v":{"$error":"#N/A"}},{"$error":"#N/A"},{"$f":"IF(ISTEXT('S9'!$F$18),NA(),'S9'!$F$18)","v":{"$error":"#N/A"}},{"$f":"ROUND(AVERAGE(L98:L100),0)","v":{"$error":"#N/A"}}]
[{"$f":"IF(ISBLANK('S9'!G$8),\" \",'S9'!G$8)","v":" "},{"$f":"IF(ISTEXT('S9'!$H$14),NA(),'S9'!$H$14)","v":{"$error":"#N/A"}},{"$error":"#N/A"},{"$f":"IF(ISTEXT('S9'!$H$16),NA(),'S9'!$H$16)","v":{"$error":"#N/A"}},{"$error":"#N/A"},{"$f":"IF(ISTEXT('S9'!$H$17),NA(),'S9'!$H$17)","v":{"$error":"#N/A"}},{"$f":"ROUND(AVERAGE(F99:F101),0)","v":{"$error":"#N/A"}},{"$f":"IF(ISTEXT('S9'!$H$19),NA(),'S9'!$H$19)","v":{"$error":"#N/A"}},{"$f":"ROUND(AVERAGE(H99:H101),0)","v":{"$error":"#N/A"}},{"$f":"IF(ISTEXT('S9'!$H$20),NA(),'S9'!$H$20)","v":{"$error":"#N/A"}},{"$f":"ROUND(AVERAGE(J99:J101),2)","v":{"$error":"#N/A"}},{"$f":"IF(ISTEXT('S9'!$H$18),NA(),'S9'!$H$18)","v":{"$error":"#N/A"}},{"$f":"ROUND(AVERAGE(L99:L101),0)","v":{"$error":"#N/A"}}]
[{"$f":"IF(ISBLANK('S9'!I$8),\" \",'S9'!I$8)","v":" "},{"$f":"IF(ISTEXT('S9'!$J$14),NA(),'S9'!$J$14)","v":{"$error":"#N/A"}},{"$f":"ROUND(AVERAGE(B100:B102),0)","v":{"$error":"#N/A"}},{"$f":"IF(ISTEXT('S9'!$J$16),NA(),'S9'!$J$16)","v":{"$error":"#N/A"}},{"$f":"ROUND(AVERAGE(D100:D102),0)","v":{"$error":"#N/A"}},{"$f":"IF(ISTEXT('S9'!$J$17),NA(),'S9'!$J$17)","v":{"$error":"#N/A"}},{"$f":"ROUND(AVERAGE(F100:F102),0)","v":{"$error":"#N/A"}},{"$f":"IF(ISTEXT('S9'!$J$19),NA(),'S9'!$J$19)","v":{"$error":"#N/A"}},{"$f":"ROUND(AVERAGE(H100:H102),0)","v":{"$error":"#N/A"}},{"$f":"IF(ISTEXT('S9'!$J$20),NA(),'S9'!$J$20)","v":{"$error":"#N/A"}},{"$error":"#N/A"},{"$f":"IF(ISTEXT('S9'!$J$18),NA(),'S9'!$J$18)","v":{"$error":"#N/A"}},{"$f":"ROUND(AVERAGE(L100:L102),0)","v":{"$error":"#N/A"}}]
[{"$f":"IF(ISBLANK('S9'!K$8),\" \",'S9'!K$8)","v":" "},{"$f":"IF(ISTEXT('S9'!$L$14),NA(),'S9'!$L$14)","v":{"$error":"#N/A"}},{"$error":"#N/A"},{"$f":"IF(ISTEXT('S9'!$L$16),NA(),'S9'!$L$16)","v":{"$error":"#N/A"}},{"$error":"#N/A"},{"$f":"IF(ISTEXT('S9'!$L$17),NA(),'S9'!$L$17)","v":{"$error":"#N/A"}},{"$f":"ROUND(AVERAGE(F101:F103),0)","v":{"$error":"#N/A"}},{"$f":"IF(ISTEXT('S9'!$L$19),NA(),'S9'!$L$19)","v":{"$error":"#N/A"}},{"$f":"ROUND(AVERAGE(H101:H103),0)","v":{"$error":"#N/A"}},{"$f":"IF(ISTEXT('S9'!$L$20),NA(),'S9'!$L$20)","v":{"$error":"#N/A"}},{"$error":"#N/A"},{"$f":"IF(ISTEXT('S9'!$L$18),NA(),'S9'!$L$18)","v":{"$error":"#N/A"}},{"$f":"ROUND(AVERAGE(L101:L103),0)","v":{"$error":"#N/A"}}]
[{"$f":"IF(ISBLANK('S9'!M$8),\" \",'S9'!M$8)","v":" "},{"$f":"IF(ISTEXT('S9'!$N$14),NA(),'S9'!$N$14)","v":{"$error":"#N/A"}},{"$error":"#N/A"},{"$f":"IF(ISTEXT('S9'!$N$16),NA(),'S9'!$N$16)","v":{"$error":"#N/A"}},{"$error":"#N/A"},{"$f":"IF(ISTEXT('S9'!$N$17),NA(),'S9'!$N$17)","v":{"$error":"#N/A"}},{"$f":"ROUND(AVERAGE(F102:F104),0)","v":{"$error":"#N/A"}},{"$f":"IF(ISTEXT('S9'!$N$19),NA(),'S9'!$N$19)","v":{"$error":"#N/A"}},{"$f":"ROUND(AVERAGE(H102:H104),0)","v":{"$error":"#N/A"}},{"$f":"IF(ISTEXT('S9'!$N$20),NA(),'S9'!$N$20)","v":{"$error":"#N/A"}},{"$error":"#N/A"},{"$f":"IF(ISTEXT('S9'!$N$18),NA(),'S9'!$N$18)","v":{"$error":"#N/A"}},{"$f":"ROUND(AVERAGE(L102:L104),0)","v":{"$error":"#N/A"}}]
[{"$f":"IF(ISBLANK('S9'!C$26),\" \",'S9'!C$26)","v":" "},{"$f":"IF(ISTEXT('S9'!$D$33),NA(),'S9'!$D$33)","v":{"$error":"#N/A"}},{"$error":"#N/A"},{"$f":"IF(ISTEXT('S9'!$D$35),NA(),'S9'!$D$35)","v":{"$error":"#N/A"}},{"$error":"#N/A"},{"$f":"IF(ISTEXT('S9'!$D$36),NA(),'S9'!$D$36)","v":{"$error":"#N/A"}},{"$f":"ROUND(AVERAGE(F103:F105),0)","v":{"$error":"#N/A"}},{"$f":"IF(ISTEXT('S9'!$D$38),NA(),'S9'!$D$38)","v":{"$error":"#N/A"}},{"$f":"ROUND(AVERAGE(H103:H105),0)","v":{"$error":"#N/A"}},{"$f":"IF(ISTEXT('S9'!$D$39),NA(),'S9'!$D$39)","v":{"$error":"#N/A"}},{"$error":"#N/A"},{"$f":"IF(ISTEXT('S9'!$D$37),NA(),'S9'!$D$37)","v":{"$error":"#N/A"}},{"$f":"ROUND(AVERAGE(L103:L105),0)","v":{"$error":"#N/A"}}]
[{"$f":"IF(ISBLANK('S9'!E$26),\" \",'S9'!E$26)","v":" "},{"$f":"IF(ISTEXT('S9'!$F$33),NA(),'S9'!$F$33)","v":{"$error":"#N/A"}},{"$error":"#N/A"},{"$f":"IF(ISTEXT('S9'!$F$35),NA(),'S9'!$F$35)","v":{"$error":"#N/A"}},{"$error":"#N/A"},{"$f":"IF(ISTEXT('S9'!$F$36),NA(),'S9'!$F$36)","v":{"$error":"#N/A"}},{"$f":"ROUND(AVERAGE(F104:F106),0)","v":{"$error":"#N/A"}},{"$f":"IF(ISTEXT('S9'!$F$38),NA(),'S9'!$F$38)","v":{"$error":"#N/A"}},{"$f":"ROUND(AVERAGE(H104:H106),0)","v":{"$error":"#N/A"}},{"$f":"IF(ISTEXT('S9'!$F$39),NA(),'S9'!$F$39)","v":{"$error":"#N/A"}},{"$error":"#N/A"},{"$f":"IF(ISTEXT('S9'!$F$37),NA(),'S9'!$F$37)","v":{"$error":"#N/A"}},{"$f":"ROUND(AVERAGE(L104:L106),0)","v":{"$error":"#N/A"}}]
[{"$f":"IF(ISBLANK('S9'!G$26),\" \",'S9'!G$26)","v":" "},{"$f":"IF(ISTEXT('S9'!$H$33),NA(),'S9'!$H$33)","v":{"$error":"#N/A"}},{"$error":"#N/A"},{"$f":"IF(ISTEXT('S9'!$H$35),NA(),'S9'!$H$35)","v":{"$error":"#N/A"}},{"$error":"#N/A"},{"$f":"IF(ISTEXT('S9'!$H$36),NA(),'S9'!$H$36)","v":{"$error":"#N/A"}},{"$f":"ROUND(AVERAGE(F105:F107),0)","v":{"$error":"#N/A"}},{"$f":"IF(ISTEXT('S9'!$H$38),NA(),'S9'!$H$38)","v":{"$error":"#N/A"}},{"$f":"ROUND(AVERAGE(H105:H107),0)","v":{"$error":"#N/A"}},{"$f":"IF(ISTEXT('S9'!$H$39),NA(),'S9'!$H$39)","v":{"$error":"#N/A"}},{"$error":"#N/A"},{"$f":"IF(ISTEXT('S9'!$H$37),NA(),'S9'!$H$37)","v":{"$error":"#N/A"}},{"$f":"ROUND(AVERAGE(L105:L107),0)","v":{"$error":"#N/A"}}]
[{"$f":"IF(ISBLANK('S9'!I$26),\" \",'S9'!I$26)","v":" "},{"$f":"IF(ISTEXT('S9'!$J$33),NA(),'S9'!$J$33)","v":{"$error":"#N/A"}},{"$error":"#N/A"},{"$f":"IF(ISTEXT('S9'!$J$35),NA(),'S9'!$J$35)","v":{"$error":"#N/A"}},{"$error":"#N/A"},{"$f":"IF(ISTEXT('S9'!$J$36),NA(),'S9'!$J$36)","v":{"$error":"#N/A"}},{"$f":"ROUND(AVERAGE(F106:F108),0)","v":{"$error":"#N/A"}},{"$f":"IF(ISTEXT('S9'!$J$38),NA(),'S9'!$J$38)","v":{"$error":"#N/A"}},{"$f":"ROUND(AVERAGE(H106:H108),0)","v":{"$error":"#N/A"}},{"$f":"IF(ISTEXT('S9'!$J$39),NA(),'S9'!$J$39)","v":{"$error":"#N/A"}},{"$error":"#N/A"},{"$f":"IF(ISTEXT('S9'!$J$37),NA(),'S9'!$J$37)","v":{"$error":"#N/A"}},{"$f":"ROUND(AVERAGE(L106:L108),0)","v":{"$error":"#N/A"}}]
[{"$f":"IF(ISBLANK('S9'!K$26),\" \",'S9'!K$26)","v":" "},{"$f":"IF(ISTEXT('S9'!$L$33),NA(),'S9'!$L$33)","v":{"$error":"#N/A"}},{"$error":"#N/A"},{"$f":"IF(ISTEXT('S9'!$L$35),NA(),'S9'!$L$35)","v":{"$error":"#N/A"}},{"$error":"#N/A"},{"$f":"IF(ISTEXT('S9'!$L$36),NA(),'S9'!$L$36)","v":{"$error":"#N/A"}},{"$f":"ROUND(AVERAGE(F107:F109),0)","v":{"$error":"#N/A"}},{"$f":"IF(ISTEXT('S9'!$L$38),NA(),'S9'!$L$38)","v":{"$error":"#N/A"}},{"$f":"ROUND(AVERAGE(H107:H109),0)","v":{"$error":"#N/A"}},{"$f":"IF(ISTEXT('S9'!$L$39),NA(),'S9'!$L$39)","v":{"$error":"#N/A"}},{"$error":"#N/A"},{"$f":"IF(ISTEXT('S9'!$L$37),NA(),'S9'!$L$37)","v":{"$error":"#N/A"}},{"$f":"ROUND(AVERAGE(L107:L109),0)","v":{"$error":"#N/A"}}]
[{"$f":"IF(ISBLANK('S9'!M$26),\" \",'S9'!M$26)","v":" "},{"$f":"IF(ISTEXT('S9'!$N$33),NA(),'S9'!$N$33)","v":{"$error":"#N/A"}},{"$error":"#N/A"},{"$f":"IF(ISTEXT('S9'!$N$35),NA(),'S9'!$N$35)","v":{"$error":"#N/A"}},{"$error":"#N/A"},{"$f":"IF(ISTEXT('S9'!$N$36),NA(),'S9'!$N$36)","v":{"$error":"#N/A"}},{"$f":"ROUND(AVERAGE(F108:F110),0)","v":{"$error":"#N/A"}},{"$f":"IF(ISTEXT('S9'!$N$38),NA(),'S9'!$N$38)","v":{"$error":"#N/A"}},{"$f":"ROUND(AVERAGE(H108:H110),0)","v":{"$error":"#N/A"}},{"$f":"IF(ISTEXT('S9'!$N$39),NA(),'S9'!$N$39)","v":{"$error":"#N/A"}},{"$error":"#N/A"},{"$f":"IF(ISTEXT('S9'!$N$37),NA(),'S9'!$N$37)","v":{"$error":"#N/A"}},{"$f":"ROUND(AVERAGE(L108:L110),0)","v":{"$error":"#N/A"}}]
[{"$f":"IF(ISBLANK('S10'!C$8),\" \",'S10'!C$8)","v":" "},{"$f":"IF(ISTEXT('S10'!$D$14),NA(),'S10'!$D$14)","v":{"$error":"#N/A"}},{"$error":"#N/A"},{"$f":"IF(ISTEXT('S10'!$D$16),NA(),'S10'!$D$16)","v":{"$error":"#N/A"}},{"$error":"#N/A"},{"$f":"IF(ISTEXT('S10'!$D$17),NA(),'S10'!$D$17)","v":{"$error":"#N/A"}},{"$f":"ROUND(AVERAGE(F109:F111),0)","v":{"$error":"#N/A"}},{"$f":"IF(ISTEXT('S10'!$D$19),NA(),'S10'!$D$19)","v":{"$error":"#N/A"}},{"$f":"ROUND(AVERAGE(H109:H111),0)","v":{"$error":"#N/A"}},{"$f":"IF(ISTEXT('S10'!$D$20),NA(),'S10'!$D$20)","v":{"$error":"#N/A"}},{"$error":"#N/A"},{"$f":"IF(ISTEXT('S10'!$D$18),NA(),'S10'!$D$18)","v":{"$error":"#N/A"}},{"$f":"ROUND(AVERAGE(L109:L111),0)","v":{"$error":"#N/A"}}]
[{"$f":"IF(ISBLANK('S10'!E$8),\" \",'S10'!E$8)","v":" "},{"$f":"IF(ISTEXT('S10'!$F$14),NA(),'S10'!$F$14)","v":{"$error":"#N/A"}},{"$error":"#N/A"},{"$f":"IF(ISTEXT('S10'!$F$16),NA(),'S10'!$F$16)","v":{"$error":"#N/A"}},{"$error":"#N/A"},{"$f":"IF(ISTEXT('S10'!$F$17),NA(),'S10'!$F$17)","v":{"$error":"#N/A"}},{"$f":"ROUND(AVERAGE(F110:F112),0)","v":{"$error":"#N/A"}},{"$f":"IF(ISTEXT('S10'!$F$19),NA(),'S10'!$F$19)","v":{"$error":"#N/A"}},{"$f":"ROUND(AVERAGE(H110:H112),0)","v":{"$error":"#N/A"}},{"$f":"IF(ISTEXT('S10'!$F$20),NA(),'S10'!$F$20)","v":{"$error":"#N/A"}},{"$error":"#N/A"},{"$f":"IF(ISTEXT('S10'!$F$18),NA(),'S10'!$F$18)","v":{"$error":"#N/A"}},{"$f":"ROUND(AVERAGE(L110:L112),0)","v":{"$error":"#N/A"}}]
[{"$f":"IF(ISBLANK('S10'!G$8),\" \",'S10'!G$8)","v":" "},{"$f":"IF(ISTEXT('S10'!$H$14),NA(),'S10'!$H$14)","v":{"$error":"#N/A"}},{"$error":"#N/A"},{"$f":"IF(ISTEXT('S10'!$H$16),NA(),'S10'!$H$16)","v":{"$error":"#N/A"}},{"$error":"#N/A"},{"$f":"IF(ISTEXT('S10'!$H$17),NA(),'S10'!$H$17)","v":{"$error":"#N/A"}},{"$f":"ROUND(AVERAGE(F111:F113),0)","v":{"$error":"#N/A"}},{"$f":"IF(ISTEXT('S10'!$H$19),NA(),'S10'!$H$19)","v":{"$error":"#N/A"}},{"$f":"ROUND(AVERAGE(H111:H113),0)","v":{"$error":"#N/A"}},{"$f":"IF(ISTEXT('S10'!$H$20),NA(),'S10'!$H$20)","v":{"$error":"#N/A"}},{"$error":"#N/A"},{"$f":"IF(ISTEXT('S10'!$H$18),NA(),'S10'!$H$18)","v":{"$error":"#N/A"}},{"$f":"ROUND(AVERAGE(L111:L113),0)","v":{"$error":"#N/A"}}]
[{"$f":"IF(ISBLANK('S10'!I$8),\" \",'S10'!I$8)","v":" "},{"$f":"IF(ISTEXT('S10'!$J$14),NA(),'S10'!$J$14)","v":{"$error":"#N/A"}},{"$error":"#N/A"},{"$f":"IF(ISTEXT('S10'!$J$16),NA(),'S10'!$J$16)","v":{"$error":"#N/A"}},{"$error":"#N/A"},{"$f":"IF(ISTEXT('S10'!$J$17),NA(),'S10'!$J$17)","v":{"$error":"#N/A"}},{"$f":"ROUND(AVERAGE(F112:F114),0)","v":{"$error":"#N/A"}},{"$f":"IF(ISTEXT('S10'!$J$19),NA(),'S10'!$J$19)","v":{"$error":"#N/A"}},{"$f":"ROUND(AVERAGE(H112:H114),0)","v":{"$error":"#N/A"}},{"$f":"IF(ISTEXT('S10'!$J$20),NA(),'S10'!$J$20)","v":{"$error":"#N/A"}},{"$error":"#N/A"},{"$f":"IF(ISTEXT('S10'!$J$18),NA(),'S10'!$J$18)","v":{"$error":"#N/A"}},{"$f":"ROUND(AVERAGE(L112:L114),0)","v":{"$error":"#N/A"}}]
[{"$f":"IF(ISBLANK('S10'!K$8),\" \",'S10'!K$8)","v":" "},{"$f":"IF(ISTEXT('S10'!$L$14),NA(),'S10'!$L$14)","v":{"$error":"#N/A"}},{"$error":"#N/A"},{"$f":"IF(ISTEXT('S10'!$L$16),NA(),'S10'!$L$16)","v":{"$error":"#N/A"}},{"$error":"#N/A"},{"$f":"IF(ISTEXT('S10'!$L$17),NA(),'S10'!$L$17)","v":{"$error":"#N/A"}},{"$f":"ROUND(AVERAGE(F113:F115),0)","v":{"$error":"#N/A"}},{"$f":"IF(ISTEXT('S10'!$L$19),NA(),'S10'!$L$19)","v":{"$error":"#N/A"}},{"$f":"ROUND(AVERAGE(H113:H115),0)","v":{"$error":"#N/A"}},{"$f":"IF(ISTEXT('S10'!$L$20),NA(),'S10'!$L$20)","v":{"$error":"#N/A"}},{"$error":"#N/A"},{"$f":"IF(ISTEXT('S10'!$L$18),NA(),'S10'!$L$18)","v":{"$error":"#N/A"}},{"$f":"ROUND(AVERAGE(L113:L115),0)","v":{"$error":"#N/A"}}]
[{"$f":"IF(ISBLANK('S10'!M$8),\" \",'S10'!M$8)","v":" "},{"$f":"IF(ISTEXT('S10'!$N$14),NA(),'S10'!$N$14)","v":{"$error":"#N/A"}},{"$error":"#N/A"},{"$f":"IF(ISTEXT('S10'!$N$16),NA(),'S10'!$N$16)","v":{"$error":"#N/A"}},{"$error":"#N/A"},{"$f":"IF(ISTEXT('S10'!$N$17),NA(),'S10'!$N$17)","v":{"$error":"#N/A"}},{"$f":"ROUND(AVERAGE(F114:F116),0)","v":{"$error":"#N/A"}},{"$f":"IF(ISTEXT('S10'!$N$19),NA(),'S10'!$N$19)","v":{"$error":"#N/A"}},{"$f":"ROUND(AVERAGE(H114:H116),0)","v":{"$error":"#N/A"}},{"$f":"IF(ISTEXT('S10'!$N$20),NA(),'S10'!$N$20)","v":{"$error":"#N/A"}},{"$error":"#N/A"},{"$f":"IF(ISTEXT('S10'!$N$18),NA(),'S10'!$N$18)","v":{"$error":"#N/A"}},{"$f":"ROUND(AVERAGE(L114:L116),0)","v":{"$error":"#N/A"}}]
[{"$f":"IF(ISBLANK('S10'!C$26),\" \",'S10'!C$26)","v":" "},{"$f":"IF(ISTEXT('S10'!$D$33),NA(),'S10'!$D$33)","v":{"$error":"#N/A"}},{"$error":"#N/A"},{"$f":"IF(ISTEXT('S10'!$D$35),NA(),'S10'!$D$35)","v":{"$error":"#N/A"}},{"$error":"#N/A"},{"$f":"IF(ISTEXT('S10'!$D$36),NA(),'S10'!$D$36)","v":{"$error":"#N/A"}},{"$f":"ROUND(AVERAGE(F115:F117),0)","v":{"$error":"#N/A"}},{"$f":"IF(ISTEXT('S10'!$D$38),NA(),'S10'!$D$38)","v":{"$error":"#N/A"}},{"$f":"ROUND(AVERAGE(H115:H117),0)","v":{"$error":"#N/A"}},{"$f":"IF(ISTEXT('S10'!$D$39),NA(),'S10'!$D$39)","v":{"$error":"#N/A"}},{"$error":"#N/A"},{"$f":"IF(ISTEXT('S10'!$D$37),NA(),'S10'!$D$37)","v":{"$error":"#N/A"}},{"$f":"ROUND(AVERAGE(L115:L117),0)","v":{"$error":"#N/A"}}]
[{"$f":"IF(ISBLANK('S10'!E$26),\" \",'S10'!E$26)","v":" "},{"$f":"IF(ISTEXT('S10'!$F$33),NA(),'S10'!$F$33)","v":{"$error":"#N/A"}},{"$error":"#N/A"},{"$f":"IF(ISTEXT('S10'!$F$35),NA(),'S10'!$F$35)","v":{"$error":"#N/A"}},{"$error":"#N/A"},{"$f":"IF(ISTEXT('S10'!$F$36),NA(),'S10'!$F$36)","v":{"$error":"#N/A"}},{"$f":"ROUND(AVERAGE(F116:F118),0)","v":{"$error":"#N/A"}},{"$f":"IF(ISTEXT('S10'!$F$38),NA(),'S10'!$F$38)","v":{"$error":"#N/A"}},{"$f":"ROUND(AVERAGE(H116:H118),0)","v":{"$error":"#N/A"}},{"$f":"IF(ISTEXT('S10'!$F$39),NA(),'S10'!$F$39)","v":{"$error":"#N/A"}},{"$error":"#N/A"},{"$f":"IF(ISTEXT('S10'!$F$37),NA(),'S10'!$F$37)","v":{"$error":"#N/A"}},{"$f":"ROUND(AVERAGE(L116:L118),0)","v":{"$error":"#N/A"}}]
[{"$f":"IF(ISBLANK('S10'!G$26),\" \",'S10'!G$26)","v":" "},{"$f":"IF(ISTEXT('S10'!$H$33),NA(),'S10'!$H$33)","v":{"$error":"#N/A"}},{"$error":"#N/A"},{"$f":"IF(ISTEXT('S10'!$H$35),NA(),'S10'!$H$35)","v":{"$error":"#N/A"}},{"$error":"#N/A"},{"$f":"IF(ISTEXT('S10'!$H$36),NA(),'S10'!$H$36)","v":{"$error":"#N/A"}},{"$f":"ROUND(AVERAGE(F117:F119),0)","v":{"$error":"#N/A"}},{"$f":"IF(ISTEXT('S10'!$H$38),NA(),'S10'!$H$38)","v":{"$error":"#N/A"}},{"$f":"ROUND(AVERAGE(H117:H119),0)","v":{"$error":"#N/A"}},{"$f":"IF(ISTEXT('S10'!$H$39),NA(),'S10'!$H$39)","v":{"$error":"#N/A"}},{"$error":"#N/A"},{"$f":"IF(ISTEXT('S10'!$H$37),NA(),'S10'!$H$37)","v":{"$error":"#N/A"}},{"$f":"ROUND(AVERAGE(L117:L119),0)","v":{"$error":"#N/A"}}]
[{"$f":"IF(ISBLANK('S10'!I$26),\" \",'S10'!I$26)","v":" "},{"$f":"IF(ISTEXT('S10'!$J$33),NA(),'S10'!$J$33)","v":{"$error":"#N/A"}},{"$error":"#N/A"},{"$f":"IF(ISTEXT('S10'!$J$35),NA(),'S10'!$J$35)","v":{"$error":"#N/A"}},{"$error":"#N/A"},{"$f":"IF(ISTEXT('S10'!$J$36),NA(),'S10'!$J$36)","v":{"$error":"#N/A"}},{"$f":"ROUND(AVERAGE(F118:F120),0)","v":{"$error":"#N/A"}},{"$f":"IF(ISTEXT('S10'!$J$38),NA(),'S10'!$J$38)","v":{"$error":"#N/A"}},{"$f":"ROUND(AVERAGE(H118:H120),0)","v":{"$error":"#N/A"}},{"$f":"IF(ISTEXT('S10'!$J$39),NA(),'S10'!$J$39)","v":{"$error":"#N/A"}},{"$error":"#N/A"},{"$f":"IF(ISTEXT('S10'!$J$37),NA(),'S10'!$J$37)","v":{"$error":"#N/A"}},{"$f":"ROUND(AVERAGE(L118:L120),0)","v":{"$error":"#N/A"}}]
[{"$f":"IF(ISBLANK('S10'!K$26),\" \",'S10'!K$26)","v":" "},{"$f":"IF(ISTEXT('S10'!$L$33),NA(),'S10'!$L$33)","v":{"$error":"#N/A"}},{"$error":"#N/A"},{"$f":"IF(ISTEXT('S10'!$L$35),NA(),'S10'!$L$35)","v":{"$error":"#N/A"}},{"$error":"#N/A"},{"$f":"IF(ISTEXT('S10'!$L$36),NA(),'S10'!$L$36)","v":{"$error":"#N/A"}},{"$f":"ROUND(AVERAGE(F119:F121),0)","v":{"$error":"#N/A"}},{"$f":"IF(ISTEXT('S10'!$L$38),NA(),'S10'!$L$38)","v":{"$error":"#N/A"}},{"$f":"ROUND(AVERAGE(H119:H121),0)","v":{"$error":"#N/A"}},{"$f":"IF(ISTEXT('S10'!$L$39),NA(),'S10'!$L$39)","v":{"$error":"#N/A"}},{"$error":"#N/A"},{"$f":"IF(ISTEXT('S10'!$L$37),NA(),'S10'!$L$37)","v":{"$error":"#N/A"}},{"$f":"ROUND(AVERAGE(L119:L121),0)","v":{"$error":"#N/A"}}]
[{"$f":"IF(ISBLANK('S10'!M$26),\" \",'S10'!M$26)","v":" "},{"$f":"IF(ISTEXT('S10'!$N$33),NA(),'S10'!$N$33)","v":{"$error":"#N/A"}},{"$error":"#N/A"},{"$f":"IF(ISTEXT('S10'!$N$35),NA(),'S10'!$N$35)","v":{"$error":"#N/A"}},{"$error":"#N/A"},{"$f":"IF(ISTEXT('S10'!$N$36),NA(),'S10'!$N$36)","v":{"$error":"#N/A"}},{"$f":"ROUND(AVERAGE(F120:F122),0)","v":{"$error":"#N/A"}},{"$f":"IF(ISTEXT('S10'!$N$38),NA(),'S10'!$N$38)","v":{"$error":"#N/A"}},{"$f":"ROUND(AVERAGE(H120:H122),0)","v":{"$error":"#N/A"}},{"$f":"IF(ISTEXT('S10'!$N$39),NA(),'S10'!$N$39)","v":{"$error":"#N/A"}},{"$error":"#N/A"},{"$f":"IF(ISTEXT('S10'!$N$37),NA(),'S10'!$N$37)","v":{"$error":"#N/A"}},{"$f":"ROUND(AVERAGE(L120:L122),0)","v":{"$error":"#N/A"}}]

{"sheet":"AP","index":18,"n_rows":27,"n_cols":14,"rows_kept":27,"cut":false,"hidden":true,"merged":[[24,7,26,7],[16,7,18,7],[20,7,22,7],[4,7,6,7],[8,7,10,7],[12,7,14,7]]}
[]
[null,null,null,null,null,null,null,null,null,{"$f":"'S1'!L4","v":"#9's"}]
[]
[]
[null,null,null,null,null,null,null,0.375,"Max",105]
[]
[null,null,null,null,null,null,null,null,"Min",85]
[]
[null,null,null,null,null,null,null,4,"Max",100]
[]
[null,null,null,null,null,null,null,null,"Min",85]
[]
[null,null,null,null,null,null,null,8,"Max",40]
[]
[null,null,null,null,null,null,null,null,"Min",10]
[]
[null,null,null,null,null,null,null,50,"Max",5]
[]
[null,null,null,null,null,null,null,null,"Min",0]
[null,null,null,null,null,null,null,null,null,null,null,null,null,"`"]
[null,null,null,null,null,null,null,200,"Max",3]
[]
[null,null,null,null,null,null,null,null,"Min",0]
[]
[null,null,null,null,null,null,null,16,"Max",10]
[]
[null,null,null,null,null,null,null,null,"Min",0]