{"text_format":"1","workbook":"xlsx","n_sheets":25,"sheets":["S1","S2","S3","S4","S5","S6","S7","S8","S9","S10","S11","S12","QA Samples","Chart 1-24","Chart 25-48","Chart 49-72","Chart 73-96","Chart 97-120","Chart 121-144","200 Chart","C U Chart","S13","AP","Avg","Critical screen tolerances"],"not_rendered":{"charts":54,"images":34,"macros":1,"external_links":0,"defined_names":6,"comments":0,"pivot_tables":0},"unopened":[],"bounds":{"document_bytes":16777216,"sheet_cells":100000,"rows_first":2000,"rows_last":500,"rows_between":2000,"halvings":0,"cell_chars":16384,"cell_head_chars":4096},"cells_cut":0,"cells_raw":0,"read":"whole","date_system":"1900"}

{"sheet":"S1","index":0,"n_rows":79,"n_cols":24,"rows_kept":79,"cut":false,"hidden":false,"merged":[[0,7,3,8],[21,0,21,1],[27,0,27,1],[29,0,31,1],[1,2,1,6],[2,2,2,6],[3,2,3,6],[0,0,3,1],[10,0,10,1],[10,2,10,3],[9,0,9,1],[10,4,10,5],[28,4,28,5],[26,0,26,1],[7,5,7,6],[7,2,7,4],[34,4,34,5],[34,6,34,7],[52,8,52,9],[35,0,35,1],[50,0,50,1],[33,6,33,7],[10,8,10,9],[9,6,9,7],[29,6,31,7],[53,0,55,1],[53,2,55,3],[51,0,51,1],[52,2,52,3],[52,6,52,7],[52,0,52,1],[34,8,34,9],[44,0,44,1],[45,0,45,1],[52,4,52,5],[34,0,34,1],[36,0,36,1],[10,12,10,13],[53,10,55,11],[53,12,55,13],[52,10,52,11],[34,10,34,11],[34,12,34,13],[33,12,33,13],[33,10,33,11],[28,12,28,13],[28,10,28,11],[52,12,52,13],[29,12,31,13],[29,10,31,11],[10,10,10,11],[33,0,33,1],[28,0,28,1],[20,0,20,1],[53,8,55,9],[53,4,55,5],[53,6,55,7],[28,8,28,9],[29,4,31,5],[28,6,28,7],[28,2,28,3],[33,4,33,5],[33,2,33,3],[29,2,31,3],[34,2,34,3],[29,8,31,9],[33,8,33,9],[9,2,9,3],[5,9,5,10],[9,4,9,5],[12,0,12,1],[11,0,11,1],[10,6,10,7],[4,0,4,1],[58,3,58,13],[69,2,69,13],[1,9,1,10],[2,9,2,10],[3,9,3,10],[4,9,4,10],[1,11,1,12],[2,11,2,12],[3,11,3,12],[9,12,9,13],[4,11,4,12],[5,11,5,12],[9,8,9,9],[9,10,9,11],[5,3,5,8]]}
[]
[null,null,"COMMONWEALTH OF PENNSYLVANIA",null,null,null,null,null,null,"DISTRICT",null,null,null,null,null,null,null,"2A"]
[null,null,"DEPARTMENT OF TRANSPORTATION",null,null,null,null,null,null,"PLANT CODE",null,null,null,null,null,null,null,"OGS"]
[null,null,"PENNSYLVANIA TURNPIKE COMMISSION",null,null,null,null,null,null,"AGG SIZE",null,"2A",null,null,null,null,null,"2RC"]
["Aggregate 2023",null,null,null,null,null,null,null,null,"#4 Target Value ",null,null,null,null,null,null,null,"DSA"]
[null,null,null,{"$f":"IF(L4=\"2A\",\"Material Test Results for 2A Coarse Aggregate\",IF(L4=\"OGS\",\"Material Test Results for OGS Coarse Aggregate\",IF(L4=\"2RC\",\"Material Test Results for 2RC Coarse Aggregate\",IF(ISBLANK(L4),\"Material Test Results for 2A Coarse Aggregate\",IF(L4=\"DSA\",\"Material Test Results for DSA Coarse Aggregate\")))))","v":"Material Test Results for 2A Coarse Aggregate"},null,null,null,null,null,"#16 Target Value"]
[null,null,null,null,null,null,null,null,null,null,null,null,null,null,null,null,null,null,null,null,null,null,null,"Split sample "]
[null,null,"Select method of testing",null,null,"Split sample ",null,null,null,null,null,null,null,null,null,null,{"$f":"IF(F8=\"Complete sample\",1,2)","v":2},null,null,null,null,null,null,"Complete sample"]
[]
["Sample No."]
["Date"]
["Starting Weight",null,null,"% Loss",null,"% Loss",null,"% Loss",null,"% Loss",null,"% Loss",null,"% Loss"]
["Ending Weight",null,null,{"$f":"IF(ISBLANK(C12),\" \",IF(ISBLANK(C13),\" \",((C12-C13)/C12)*100))","v":" "},null,{"$f":"IF(ISBLANK(E12),\" \",IF(ISBLANK(E13),\" \",((E12-E13)/E12)*100))","v":" "},null,{"$f":"IF(ISBLANK(G12),\" \",IF(ISBLANK(G13),\" \",((G12-G13)/G12)*100))","v":" "},null,{"$f":"IF(ISBLANK(I12),\" \",IF(ISBLANK(I13),\" \",((I12-I13)/I12)*100))","v":" "},null,{"$f":"IF(ISBLANK(K12),\" \",IF(ISBLANK(K13),\" \",((K12-K13)/K12)*100))","v":" "},null,{"$f":"IF(ISBLANK(M12),\" \",IF(ISBLANK(M13),\" \",((M12-M13)/M12)*100))","v":" "}]
["Spec","Sieve","Wt.","% Passing","Wt.","% Passing","Wt.","% Passing","Wt.","% Passing","Wt.","% Passing","Wt.","% Passing"]
[100,2,null,{"$f":"IF(ISBLANK(C$12),\"  \",IF(ISBLANK(C$13),\" \",IF(ISBLANK(C15),\" \",IF($Q$8=2,ROUND(((C15)/C$12)*100,0),ROUND((C15/$C$12)*100,0)))))","v":"  "},null,{"$f":"IF(ISBLANK(E12),\"  \",IF(ISBLANK(E13),\" \",IF(ISBLANK(E15),\" \",IF($Q$8=2,ROUND(((E15)/E12)*100,0),ROUND((E15/E12)*100,0)))))","v":"  "},null,{"$f":"IF(ISBLANK(G12),\"  \",IF(ISBLANK(G13),\" \",IF(ISBLANK(G15),\" \",IF($Q$8=2,ROUND(((G15)/G12)*100,0),ROUND((G15/G12)*100,0)))))","v":"  "},null,{"$f":"IF(ISBLANK(I12),\"  \",IF(ISBLANK(I13),\" \",IF(ISBLANK(I15),\" \",IF($Q$8=2,ROUND(((I15)/I12)*100,0),ROUND((I15/I12)*100,0)))))","v":"  "},null,{"$f":"IF(ISBLANK(K12),\"  \",IF(ISBLANK(K13),\" \",IF(ISBLANK(K15),\" \",IF($Q$8=2,ROUND(((K15)/K12)*100,0),ROUND((K15/K12)*100,0)))))","v":"  "},null,{"$f":"IF(ISBLANK(M12),\"  \",IF(ISBLANK(M13),\" \",IF(ISBLANK(M15),\" \",IF($Q$8=2,ROUND(((M15)/M12)*100,0),ROUND((M15/M12)*100,0)))))","v":"  "}]
[{"$f":"IF(L4=\"DSA\",\"100\",\"Breaker\")","v":"Breaker"},{"$f":"IF(L4=\"DSA\",1.5,1)","v":1},null,"  ",null,{"$f":"IF(ISBLANK(E12),\"  \",IF(ISBLANK(E13),\" \",IF(ISBLANK(E16),\" \",IF($Q$8=2,ROUND(((E16)/E12)*100,0),ROUND((E16/E12)*100,0)))))","v":"  "},null,{"$f":"IF(ISBLANK(G12),\"  \",IF(ISBLANK(G13),\" \",IF(ISBLANK(G16),\" \",IF($Q$8=2,ROUND(((G16)/G12)*100,0),ROUND((G16/G12)*100,0)))))","v":"  "},null,{"$f":"IF(ISBLANK(I12),\"  \",IF(ISBLANK(I13),\" \",IF(ISBLANK(I16),\" \",IF($Q$8=2,ROUND(((I16)/I12)*100,0),ROUND((I16/I12)*100,0)))))","v":"  "},null,{"$f":"IF(ISBLANK(K12),\"  \",IF(ISBLANK(K13),\" \",IF(ISBLANK(K16),\" \",IF($Q$8=2,ROUND(((K16)/K12)*100,0),ROUND((K16/K12)*100,0)))))","v":"  "},null,{"$f":"IF(ISBLANK(M12),\"  \",IF(ISBLANK(M13),\" \",IF(ISBLANK(M16),\" \",IF($Q$8=2,ROUND(((M16)/M12)*100,0),ROUND((M16/M12)*100,0)))))","v":"  "}]
[{"$f":"IF(L4=\"2RC\",\" \",IF(L4=\"DSA\",\"65-95\",\"52-100\"))","v":"52-100"},0.75,null,"  ",null,{"$f":"IF(ISBLANK(E12),\"  \",IF(ISBLANK(E13),\" \",IF(ISBLANK(E17),\" \",IF($Q$8=2,ROUND(((E17)/E12)*100,0),ROUND((E17/E12)*100,0)))))","v":"  "},null,{"$f":"IF(ISBLANK(G12),\"  \",IF(ISBLANK(G13),\" \",IF(ISBLANK(G17),\" \",IF($Q$8=2,ROUND(((G17)/G12)*100,0),ROUND((G17/G12)*100,0)))))","v":"  "},null,{"$f":"IF(ISBLANK(I12),\"  \",IF(ISBLANK(I13),\" \",IF(ISBLANK(I17),\" \",IF($Q$8=2,ROUND(((I17)/I12)*100,0),ROUND((I17/I12)*100,0)))))","v":"  "},null,{"$f":"IF(ISBLANK(K12),\"  \",IF(ISBLANK(K13),\" \",IF(ISBLANK(K17),\" \",IF($Q$8=2,ROUND(((K17)/K12)*100,0),ROUND((K17/K12)*100,0)))))","v":"  "},null,{"$f":"IF(ISBLANK(M12),\"  \",IF(ISBLANK(M13),\" \",IF(ISBLANK(M17),\" \",IF($Q$8=2,ROUND(((M17)/M12)*100,0),ROUND((M17/M12)*100,0)))))","v":"  "}]
["Breaker",0.5,null,"  ",null,{"$f":"IF(ISBLANK(E12),\"  \",IF(ISBLANK(E13),\" \",IF(ISBLANK(E18),\" \",IF($Q$8=2,ROUND(((E18)/E12)*100,0),ROUND((E18/E12)*100,0)))))","v":"  "},null,{"$f":"IF(ISBLANK(G12),\"  \",IF(ISBLANK(G13),\" \",IF(ISBLANK(G18),\" \",IF($Q$8=2,ROUND(((G18)/G12)*100,0),ROUND((G18/G12)*100,0)))))","v":"  "},null,{"$f":"IF(ISBLANK(I12),\"  \",IF(ISBLANK(I13),\" \",IF(ISBLANK(I18),\" \",IF($Q$8=2,ROUND(((I18)/I12)*100,0),ROUND((I18/I12)*100,0)))))","v":"  "},null,{"$f":"IF(ISBLANK(K12),\"  \",IF(ISBLANK(K13),\" \",IF(ISBLANK(K18),\" \",IF($Q$8=2,ROUND(((K18)/K12)*100,0),ROUND((K18/K12)*100,0)))))","v":"  "},null,{"$f":"IF(ISBLANK(M12),\"  \",IF(ISBLANK(M13),\" \",IF(ISBLANK(M18),\" \",IF($Q$8=2,ROUND(((M18)/M12)*100,0),ROUND((M18/M12)*100,0)))))","v":"  "}]
[{"$f":"IF(L4=\"2A\",\"36-70\",IF(L4=\"DSA\",\" \",IF(L4=\"OGS\",\"36-65\",IF(L4=\"2RC\",\" \",IF(ISBLANK(L4),\"36-70\")))))","v":"36-70"},0.375,null,"  ",null,{"$f":"IF(ISBLANK(E12),\"  \",IF(ISBLANK(E13),\" \",IF(ISBLANK(E19),\" \",IF($Q$8=2,ROUND(((E19)/E12)*100,0),ROUND((E19/E12)*100,0)))))","v":"  "},null,{"$f":"IF(ISBLANK(G12),\"  \",IF(ISBLANK(G13),\" \",IF(ISBLANK(G19),\" \",IF($Q$8=2,ROUND(((G19)/G12)*100,0),ROUND((G19/G12)*100,0)))))","v":"  "},null,{"$f":"IF(ISBLANK(I12),\"  \",IF(ISBLANK(I13),\" \",IF(ISBLANK(I19),\" \",IF($Q$8=2,ROUND(((I19)/I12)*100,0),ROUND((I19/I12)*100,0)))))","v":"  "},null,{"$f":"IF(ISBLANK(K12),\"  \",IF(ISBLANK(K13),\" \",IF(ISBLANK(K19),\" \",IF($Q$8=2,ROUND(((K19)/K12)*100,0),ROUND((K19/K12)*100,0)))))","v":"  "},null,{"$f":"IF(ISBLANK(M12),\"  \",IF(ISBLANK(M13),\" \",IF(ISBLANK(M19),\" \",IF($Q$8=2,ROUND(((M19)/M12)*100,0),ROUND((M19/M12)*100,0)))))","v":"  "}]
[{"$f":"IF(L4=\"2A\",\"24-50\",IF(L4=\"DSA\",\"30-65 \",IF(L4=\"OGS\",\"8-40\",IF(L4=\"2RC\",\"15-60 \",IF(ISBLANK(L4),\"24-50\")))))","v":"24-50"},4,null,{"$f":"IF(ISBLANK(C$12),\"  \",IF(ISBLANK(C$13),\" \",IF(ISBLANK(C20),\" \",IF($Q$8=2,ROUND(((C20)/C$12)*100,0),ROUND((C20/$C$12)*100,0)))))","v":"  "},null,{"$f":"IF(ISBLANK(E12),\"  \",IF(ISBLANK(E13),\" \",IF(ISBLANK(E20),\" \",IF($Q$8=2,ROUND(((E20)/E$12)*100,0),ROUND((E20/E12)*100,0)))))","v":"  "},null,{"$f":"IF(ISBLANK(G12),\"  \",IF(ISBLANK(G13),\" \",IF(ISBLANK(G20),\" \",IF($Q$8=2,ROUND(((G20)/G$12)*100,0),ROUND((G20/G12)*100,0)))))","v":"  "},null,{"$f":"IF(ISBLANK(I12),\"  \",IF(ISBLANK(I13),\" \",IF(ISBLANK(I20),\" \",IF($Q$8=2,ROUND(((I20)/I$12)*100,0),ROUND((I20/I12)*100,0)))))","v":"  "},null,{"$f":"IF(ISBLANK(K12),\"  \",IF(ISBLANK(K13),\" \",IF(ISBLANK(K20),\" \",IF($Q$8=2,ROUND(((K20)/K$12)*100,0),ROUND((K20/K12)*100,0)))))","v":"  "},null,{"$f":"IF(ISBLANK(M12),\"  \",IF(ISBLANK(M13),\" \",IF(ISBLANK(M20),\" \",IF($Q$8=2,ROUND(((M20)/M$12)*100,0),ROUND((M20/M12)*100,0)))))","v":"  "}]
["Starting Weight",null,null,{"$f":"IF(ISBLANK(C$12),\"  \",IF(ISBLANK(C$13),\" \",IF($Q$8=2,\"% Loss\",ROUND((C21/$C$12)*100,0))))","v":"  "},null,{"$f":"IF(ISBLANK(E12),\"  \",IF(ISBLANK(E13),\" \",IF($Q$8=2,\"% Loss\",ROUND((E21/E12)*100,0))))","v":"  "},null,{"$f":"IF(ISBLANK(G12),\"  \",IF(ISBLANK(G13),\" \",IF($Q$8=2,\"% Loss\",ROUND((G21/G12)*100,0))))","v":"  "},null,{"$f":"IF(ISBLANK(I12),\"  \",IF(ISBLANK(I13),\" \",IF($Q$8=2,\"% Loss\",ROUND((I21/I12)*100,0))))","v":"  "},null,{"$f":"IF(ISBLANK(K12),\"  \",IF(ISBLANK(K13),\" \",IF($Q$8=2,\"% Loss\",ROUND((K21/K12)*100,0))))","v":"  "},null,{"$f":"IF(ISBLANK(M12),\"  \",IF(ISBLANK(M13),\" \",IF($Q$8=2,\"% Loss\",ROUND((M21/M12)*100,0))))","v":"  "}]
["Ending Weight",null,null,{"$f":"IF(ISBLANK(C$12),\"  \",IF(ISBLANK(C$13),\" \",IF(ISBLANK(C22),\" \",IF($Q$8=2,((C21-C22)/C21)*100,ROUND((C22/$C$12)*100,0)))))","v":"  "},null,{"$f":"IF(ISBLANK(E12),\"  \",IF(ISBLANK(E13),\" \",IF(ISBLANK(E22),\" \",IF($Q$8=2,((E21-E22)/E21)*100,ROUND((E22/E12)*100,0)))))","v":"  "},null,{"$f":"IF(ISBLANK(G12),\"  \",IF(ISBLANK(G13),\" \",IF(ISBLANK(G22),\" \",IF($Q$8=2,((G21-G22)/G21)*100,ROUND((G22/G12)*100,0)))))","v":"  "},null,{"$f":"IF(ISBLANK(I12),\"  \",IF(ISBLANK(I13),\" \",IF(ISBLANK(I22),\" \",IF($Q$8=2,((I21-I22)/I21)*100,ROUND((I22/I12)*100,0)))))","v":"  "},null,{"$f":"IF(ISBLANK(K12),\"  \",IF(ISBLANK(K13),\" \",IF(ISBLANK(K22),\" \",IF($Q$8=2,((K21-K22)/K21)*100,ROUND((K22/K12)*100,0)))))","v":"  "},null,{"$f":"IF(ISBLANK(M12),\"  \",IF(ISBLANK(M13),\" \",IF(ISBLANK(M22),\" \",IF($Q$8=2,((M21-M22)/M21)*100,ROUND((M22/M12)*100,0)))))","v":"  "}]
["Spec","Sieve","Wt.",{"$f":"IF(ISBLANK(C$12),\"  \",IF(ISBLANK(C$13),\" \",IF(ISBLANK(C23),\" \",IF($Q$8=2,\"% Passing\",ROUND((C23/$C$12)*100,0)))))","v":"  "},"Wt.",{"$f":"IF(ISBLANK(E12),\"  \",IF(ISBLANK(E13),\" \",IF(ISBLANK(E23),\" \",IF($Q$8=2,\"% Passing\",ROUND((E23/E12)*100,0)))))","v":"  "},"Wt.",{"$f":"IF(ISBLANK(G12),\"  \",IF(ISBLANK(G13),\" \",IF(ISBLANK(G23),\" \",IF($Q$8=2,\"% Passing\",ROUND((G23/G12)*100,0)))))","v":"  "},"Wt.",{"$f":"IF(ISBLANK(I12),\"  \",IF(ISBLANK(I13),\" \",IF(ISBLANK(I23),\" \",IF($Q$8=2,\"% Passing\",ROUND((I23/I12)*100,0)))))","v":"  "},"Wt.",{"$f":"IF(ISBLANK(K12),\"  \",IF(ISBLANK(K13),\" \",IF(ISBLANK(K23),\" \",IF($Q$8=2,\"% Passing\",ROUND((K23/K12)*100,0)))))","v":"  "},"Wt.",{"$f":"IF(ISBLANK(M12),\"  \",IF(ISBLANK(M13),\" \",IF(ISBLANK(M23),\" \",IF($Q$8=2,\"% Passing\",ROUND((M23/M12)*100,0)))))","v":"  "}]
[{"$f":"IF(L4=\"2A\",\"10-30\",IF(L4=\"DSA\",\"15-30\",IF(L4=\"OGS\",\"0-12\",IF(L4=\"2RC\",\"0-30\",IF(ISBLANK(L4),\"10-30\")))))","v":"10-30"},{"$f":"IF(L4=\"2RC\",100,16)","v":16},null,{"$f":"IF(ISBLANK(C$12),\"  \",IF(ISBLANK(C$13),\" \",IF(ISBLANK(C24),\" \",IF($Q$8=2,(C20/C21*C24)/C12*100,ROUND((C24/$C$12)*100,0)))))","v":"  "},null,{"$f":"IF(ISBLANK(E12),\"  \",IF(ISBLANK(E13),\" \",IF(ISBLANK(E24),\" \",IF($Q$8=2,(E20/E21*E24)/E12*100,ROUND((E24/E12)*100,0)))))","v":"  "},null,{"$f":"IF(ISBLANK(G12),\"  \",IF(ISBLANK(G13),\" \",IF(ISBLANK(G24),\" \",IF($Q$8=2,(G20/G21*G24)/G12*100,ROUND((G24/G12)*100,0)))))","v":"  "},null,{"$f":"IF(ISBLANK(I12),\"  \",IF(ISBLANK(I13),\" \",IF(ISBLANK(I24),\" \",IF($Q$8=2,(I20/I21*I24)/I12*100,ROUND((I24/I12)*100,0)))))","v":"  "},null,{"$f":"IF(ISBLANK(K12),\"  \",IF(ISBLANK(K13),\" \",IF(ISBLANK(K24),\" \",IF($Q$8=2,(K20/K21*K24)/K12*100,ROUND((K24/K12)*100,0)))))","v":"  "},null,{"$f":"IF(ISBLANK(M12),\"  \",IF(ISBLANK(M13),\" \",IF(ISBLANK(M24),\" \",IF($Q$8=2,(M20/M21*M24)/M12*100,ROUND((M24/M12)*100,0)))))","v":"  "}]
[{"$f":"IF(L4=\"DSA\",\"10-15\",\"Info\")","v":"Info"},200,null,{"$f":"IF(ISBLANK(C$12),\"  \",IF(ISBLANK(C$13),\" \",IF(ISBLANK(C25),\" \",IF($Q$8=2,(C20/C21*C25)/C12*100,ROUND((C25/$C$12)*100,0)))))","v":"  "},null,{"$f":"IF(ISBLANK(E12),\"  \",IF(ISBLANK(E13),\" \",IF(ISBLANK(E25),\" \",IF($Q$8=2,(E20/E21*E25)/E12*100,ROUND((E25/E12)*100,0)))))","v":"  "},null,{"$f":"IF(ISBLANK(G12),\"  \",IF(ISBLANK(G13),\" \",IF(ISBLANK(G25),\" \",IF($Q$8=2,(G20/G21*G25)/G12*100,ROUND((G25/G12)*100,0)))))","v":"  "},null,{"$f":"IF(ISBLANK(I12),\"  \",IF(ISBLANK(I13),\" \",IF(ISBLANK(I25),\" \",IF($Q$8=2,(I20/I21*I25)/I12*100,ROUND((I25/I12)*100,0)))))","v":"  "},null,{"$f":"IF(ISBLANK(K12),\"  \",IF(ISBLANK(K13),\" \",IF(ISBLANK(K25),\" \",IF($Q$8=2,(K20/K21*K25)/K12*100,ROUND((K25/K12)*100,0)))))","v":"  "},null,{"$f":"IF(ISBLANK(M12),\"  \",IF(ISBLANK(M13),\" \",IF(ISBLANK(M25),\" \",IF($Q$8=2,(M20/M21*M25)/M12*100,ROUND((M25/M12)*100,0)))))","v":"  "}]
["Wash ",{"$f":"IF(L4=\"2A\",\"0-10\",IF(L4=\"OGS\",\"0-5\",IF(L4=\"DSA\",\"10-15\",IF(L4=\"2RC\",\" \",IF(ISBLANK(L4),\"0-10\")))))","v":"0-10"},{"$f":"IF($L$4=\"OGS\",\"Coeff. Unf.\",\" \")","v":" "},{"$f":"IF(ISBLANK($L$4),\" \",IF($L$4=\"2A\",\" \",IF($L$4=\"2RC\",\" \",IF(ISERROR(D68),\" \",D68))))","v":" "},{"$f":"IF($L$4=\"OGS\",\"Coeff. Unf.\",\" \")","v":" "},{"$f":"IF(ISBLANK($L$4),\" \",IF($L$4=\"2A\",\" \",IF($L$4=\"2RC\",\" \",IF(ISERROR(F68),\" \",F68))))","v":" "},{"$f":"IF($L$4=\"OGS\",\"Coeff. Unf.\",\" \")","v":" "},{"$f":"IF(ISBLANK($L$4),\" \",IF($L$4=\"2A\",\" \",IF($L$4=\"2RC\",\" \",IF(ISERROR(H68),\" \",H68))))","v":" "},{"$f":"IF($L$4=\"OGS\",\"Coeff. Unf.\",\" \")","v":" "},{"$f":"IF(ISBLANK($L$4),\" \",IF($L$4=\"2A\",\" \",IF($L$4=\"2RC\",\" \",IF(ISERROR(J68),\" \",J68))))","v":" "},{"$f":"IF($L$4=\"OGS\",\"Coeff. Unf.\",\" \")","v":" "},{"$f":"IF(ISBLANK($L$4),\" \",IF($L$4=\"2A\",\" \",IF($L$4=\"2RC\",\" \",IF(ISERROR(L68),\" \",L68))))","v":" "},{"$f":"IF($L$4=\"OGS\",\"Coeff. Unf.\",\" \")","v":" "},{"$f":"IF(ISBLANK($L$4),\" \",IF($L$4=\"2A\",\" \",IF($L$4=\"2RC\",\" \",IF(ISERROR(N68),\" \",N68))))","v":" "}]
["St. Wt. Before Wash",null,null,"% Passing",null,"% Passing",null,"% Passing",null,"% Passing",null,"% Passing",null,"% Passing"]
["End Wt. After Wash",null,null,{"$f":"IF(ISBLANK(C27),\" \",IF(ISBLANK(C28),\" \",((C27-C28)/C27)*100))","v":" "},null,{"$f":"IF(ISBLANK(E27),\" \",IF(ISBLANK(E28),\" \",((E27-E28)/E27)*100))","v":" "},null,{"$f":"IF(ISBLANK(G27),\" \",IF(ISBLANK(G28),\" \",((G27-G28)/G27)*100))","v":" "},null,{"$f":"IF(ISBLANK(I27),\" \",IF(ISBLANK(I28),\" \",((I27-I28)/I27)*100))","v":" "},null,{"$f":"IF(ISBLANK(K27),\" \",IF(ISBLANK(K28),\" \",((K27-K28)/K27)*100))","v":" "},null,{"$f":"IF(ISBLANK(M27),\" \",IF(ISBLANK(M28),\" \",((M27-M28)/M27)*100))","v":" "}]
["Tested By"]
["Remarks"]
[]
[]
[]
["Sample No."]
["Date"]
["Starting Weight",null,null,"% Loss",null,"% Loss",null,"% Loss",null,"% Loss",null,"% Loss",null,"% Loss"]
["Ending Weight",null,null,{"$f":"IF(ISBLANK(C36),\" \",IF(ISBLANK(C37),\" \",((C36-C37)/C36)*100))","v":" "},null,{"$f":"IF(ISBLANK(E36),\" \",IF(ISBLANK(E37),\" \",((E36-E37)/E36)*100))","v":" "},null,{"$f":"IF(ISBLANK(G36),\" \",IF(ISBLANK(G37),\" \",((G36-G37)/G36)*100))","v":" "},null,{"$f":"IF(ISBLANK(I36),\" \",IF(ISBLANK(I37),\" \",((I36-I37)/I36)*100))","v":" "},null,{"$f":"IF(ISBLANK(K36),\" \",IF(ISBLANK(K37),\" \",((K36-K37)/K36)*100))","v":" "},null,{"$f":"IF(ISBLANK(M36),\" \",IF(ISBLANK(M37),\" \",((M36-M37)/M36)*100))","v":" "}]
["Spec","Sieve","Wt.","% Passing","Wt.","% Passing","Wt.","% Passing","Wt.","% Passing","Wt.","% Passing","Wt.","% Passing"]
[100,2,null,{"$f":"IF(ISBLANK(C36),\"  \",IF(ISBLANK(C37),\" \",IF(ISBLANK(C39),\" \",IF($Q$8=2,ROUND(((C39)/C36)*100,0),ROUND((C39/C36)*100,0)))))","v":"  "},null,{"$f":"IF(ISBLANK(E36),\"  \",IF(ISBLANK(E37),\" \",IF(ISBLANK(E39),\" \",IF($Q$8=2,ROUND(((E39)/E36)*100,0),ROUND((E39/E36)*100,0)))))","v":"  "},null,{"$f":"IF(ISBLANK(G36),\"  \",IF(ISBLANK(G37),\" \",IF(ISBLANK(G39),\" \",IF($Q$8=2,ROUND(((G39)/G36)*100,0),ROUND((G39/G36)*100,0)))))","v":"  "},null,{"$f":"IF(ISBLANK(I36),\"  \",IF(ISBLANK(I37),\" \",IF(ISBLANK(I39),\" \",IF($Q$8=2,ROUND(((I39)/I36)*100,0),ROUND((I39/I36)*100,0)))))","v":"  "},null,{"$f":"IF(ISBLANK(K36),\"  \",IF(ISBLANK(K37),\" \",IF(ISBLANK(K39),\" \",IF($Q$8=2,ROUND(((K39)/K36)*100,0),ROUND((K39/K36)*100,0)))))","v":"  "},null,{"$f":"IF(ISBLANK(M36),\"  \",IF(ISBLANK(M37),\" \",IF(ISBLANK(M39),\" \",IF($Q$8=2,ROUND(((M39)/M36)*100,0),ROUND((M39/M36)*100,0)))))","v":"  "}]
[{"$f":"IF(L4=\"DSA\",\"100\",\"Breaker\")","v":"Breaker"},{"$f":"IF(L4=\"DSA\",1.5,1)","v":1},null,{"$f":"IF(ISBLANK(C36),\"  \",IF(ISBLANK(C37),\" \",IF(ISBLANK(C40),\" \",IF($Q$8=2,ROUND(((C40)/C36)*100,0),ROUND((C40/C36)*100,0)))))","v":"  "},null,{"$f":"IF(ISBLANK(E36),\"  \",IF(ISBLANK(E37),\" \",IF(ISBLANK(E40),\" \",IF($Q$8=2,ROUND(((E40)/E36)*100,0),ROUND((E40/E36)*100,0)))))","v":"  "},null,{"$f":"IF(ISBLANK(G36),\"  \",IF(ISBLANK(G37),\" \",IF(ISBLANK(G40),\" \",IF($Q$8=2,ROUND(((G40)/G36)*100,0),ROUND((G40/G36)*100,0)))))","v":"  "},null,{"$f":"IF(ISBLANK(I36),\"  \",IF(ISBLANK(I37),\" \",IF(ISBLANK(I40),\" \",IF($Q$8=2,ROUND(((I40)/I36)*100,0),ROUND((I40/I36)*100,0)))))","v":"  "},null,{"$f":"IF(ISBLANK(K36),\"  \",IF(ISBLANK(K37),\" \",IF(ISBLANK(K40),\" \",IF($Q$8=2,ROUND(((K40)/K36)*100,0),ROUND((K40/K36)*100,0)))))","v":"  "},null,{"$f":"IF(ISBLANK(M36),\"  \",IF(ISBLANK(M37),\" \",IF(ISBLANK(M40),\" \",IF($Q$8=2,ROUND(((M40)/M36)*100,0),ROUND((M40/M36)*100,0)))))","v":"  "}]
[{"$f":"IF(L4=\"2RC\",\" \",IF(L4=\"DSA\",\"65-95\",\"52-100\"))","v":"52-100"},0.75,null,{"$f":"IF(ISBLANK(C36),\"  \",IF(ISBLANK(C37),\" \",IF(ISBLANK(C41),\" \",IF($Q$8=2,ROUND(((C41)/C36)*100,0),ROUND((C41/C36)*100,0)))))","v":"  "},null,{"$f":"IF(ISBLANK(E36),\"  \",IF(ISBLANK(E37),\" \",IF(ISBLANK(E41),\" \",IF($Q$8=2,ROUND(((E41)/E36)*100,0),ROUND((E41/E36)*100,0)))))","v":"  "},null,{"$f":"IF(ISBLANK(G36),\"  \",IF(ISBLANK(G37),\" \",IF(ISBLANK(G41),\" \",IF($Q$8=2,ROUND(((G41)/G36)*100,0),ROUND((G41/G36)*100,0)))))","v":"  "},null,{"$f":"IF(ISBLANK(I36),\"  \",IF(ISBLANK(I37),\" \",IF(ISBLANK(I41),\" \",IF($Q$8=2,ROUND(((I41)/I36)*100,0),ROUND((I41/I36)*100,0)))))","v":"  "},null,{"$f":"IF(ISBLANK(K36),\"  \",IF(ISBLANK(K37),\" \",IF(ISBLANK(K41),\" \",IF($Q$8=2,ROUND(((K41)/K36)*100,0),ROUND((K41/K36)*100,0)))))","v":"  "},null,{"$f":"IF(ISBLANK(M36),\"  \",IF(ISBLANK(M37),\" \",IF(ISBLANK(M41),\" \",IF($Q$8=2,ROUND(((M41)/M36)*100,0),ROUND((M41/M36)*100,0)))))","v":"  "}]
["Breaker",0.5,null,{"$f":"IF(ISBLANK(C36),\"  \",IF(ISBLANK(C37),\" \",IF(ISBLANK(C42),\" \",IF($Q$8=2,ROUND(((C42)/C36)*100,0),ROUND((C42/C36)*100,0)))))","v":"  "},null,{"$f":"IF(ISBLANK(E36),\"  \",IF(ISBLANK(E37),\" \",IF(ISBLANK(E42),\" \",IF($Q$8=2,ROUND(((E42)/E36)*100,0),ROUND((E42/E36)*100,0)))))","v":"  "},null,{"$f":"IF(ISBLANK(G36),\"  \",IF(ISBLANK(G37),\" \",IF(ISBLANK(G42),\" \",IF($Q$8=2,ROUND(((G42)/G36)*100,0),ROUND((G42/G36)*100,0)))))","v":"  "},null,{"$f":"IF(ISBLANK(I36),\"  \",IF(ISBLANK(I37),\" \",IF(ISBLANK(I42),\" \",IF($Q$8=2,ROUND(((I42)/I36)*100,0),ROUND((I42/I36)*100,0)))))","v":"  "},null,{"$f":"IF(ISBLANK(K36),\"  \",IF(ISBLANK(K37),\" \",IF(ISBLANK(K42),\" \",IF($Q$8=2,ROUND(((K42)/K36)*100,0),ROUND((K42/K36)*100,0)))))","v":"  "},null,{"$f":"IF(ISBLANK(M36),\"  \",IF(ISBLANK(M37),\" \",IF(ISBLANK(M42),\" \",IF($Q$8=2,ROUND(((M42)/M36)*100,0),ROUND((M42/M36)*100,0)))))","v":"  "}]
[{"$f":"IF(L4=\"2A\",\"36-70\",IF(L4=\"DSA\",\" \",IF(L4=\"OGS\",\"36-65\",IF(L4=\"2RC\",\" \",IF(ISBLANK(L4),\"36-70\")))))","v":"36-70"},0.375,null,{"$f":"IF(ISBLANK(C36),\"  \",IF(ISBLANK(C37),\" \",IF(ISBLANK(C43),\" \",IF($Q$8=2,ROUND(((C43)/C36)*100,0),ROUND((C43/C36)*100,0)))))","v":"  "},null,{"$f":"IF(ISBLANK(E36),\"  \",IF(ISBLANK(E37),\" \",IF(ISBLANK(E43),\" \",IF($Q$8=2,ROUND(((E43)/E36)*100,0),ROUND((E43/E36)*100,0)))))","v":"  "},null,{"$f":"IF(ISBLANK(G36),\"  \",IF(ISBLANK(G37),\" \",IF(ISBLANK(G43),\" \",IF($Q$8=2,ROUND(((G43)/G36)*100,0),ROUND((G43/G36)*100,0)))))","v":"  "},null,{"$f":"IF(ISBLANK(I36),\"  \",IF(ISBLANK(I37),\" \",IF(ISBLANK(I43),\" \",IF($Q$8=2,ROUND(((I43)/I36)*100,0),ROUND((I43/I36)*100,0)))))","v":"  "},null,{"$f":"IF(ISBLANK(K36),\"  \",IF(ISBLANK(K37),\" \",IF(ISBLANK(K43),\" \",IF($Q$8=2,ROUND(((K43)/K36)*100,0),ROUND((K43/K36)*100,0)))))","v":"  "},null,{"$f":"IF(ISBLANK(M36),\"  \",IF(ISBLANK(M37),\" \",IF(ISBLANK(M43),\" \",IF($Q$8=2,ROUND(((M43)/M36)*100,0),ROUND((M43/M36)*100,0)))))","v":"  "}]
[{"$f":"IF(L4=\"2A\",\"24-50\",IF(L4=\"DSA\",\"30-65 \",IF(L4=\"OGS\",\"8-40\",IF(L4=\"2RC\",\"15-60 \",IF(ISBLANK(4),\"24-50\")))))","v":"24-50"},4,null,{"$f":"IF(ISBLANK(C36),\"  \",IF(ISBLANK(C37),\" \",IF(ISBLANK(C44),\" \",IF($Q$8=2,ROUND(((C44)/C36)*100,0),ROUND((C44/C36)*100,0)))))","v":"  "},null,{"$f":"IF(ISBLANK(E36),\"  \",IF(ISBLANK(E37),\" \",IF(ISBLANK(E44),\" \",IF($Q$8=2,ROUND(((E44)/E36)*100,0),ROUND((E44/E36)*100,0)))))","v":"  "},null,{"$f":"IF(ISBLANK(G36),\"  \",IF(ISBLANK(G37),\" \",IF(ISBLANK(G44),\" \",IF($Q$8=2,ROUND(((G44)/G36)*100,0),ROUND((G44/G36)*100,0)))))","v":"  "},null,{"$f":"IF(ISBLANK(I36),\"  \",IF(ISBLANK(I37),\" \",IF(ISBLANK(I44),\" \",IF($Q$8=2,ROUND(((I44)/I36)*100,0),ROUND((I44/I36)*100,0)))))","v":"  "},null,{"$f":"IF(ISBLANK(K36),\"  \",IF(ISBLANK(K37),\" \",IF(ISBLANK(K44),\" \",IF($Q$8=2,ROUND(((K44)/K36)*100,0),ROUND((K44/K36)*100,0)))))","v":"  "},null,{"$f":"IF(ISBLANK(M36),\"  \",IF(ISBLANK(M37),\" \",IF(ISBLANK(M44),\" \",IF($Q$8=2,ROUND(((M44)/M36)*100,0),ROUND((M44/M36)*100,0)))))","v":"  "}]
["Starting Weight",null,null,{"$f":"IF(ISBLANK(C36),\"  \",IF(ISBLANK(C37),\" \",IF($Q$8=2,\"% Loss\",ROUND((C45/C36)*100,0))))","v":"  "},null,{"$f":"IF(ISBLANK(E36),\"  \",IF(ISBLANK(E37),\" \",IF($Q$8=2,\"% Loss\",ROUND((E45/E36)*100,0))))","v":"  "},null,{"$f":"IF(ISBLANK(G36),\"  \",IF(ISBLANK(G37),\" \",IF($Q$8=2,\"% Loss\",ROUND((G45/G36)*100,0))))","v":"  "},null,{"$f":"IF(ISBLANK(I36),\"  \",IF(ISBLANK(I37),\" \",IF($Q$8=2,\"% Loss\",ROUND((I45/I36)*100,0))))","v":"  "},null,{"$f":"IF(ISBLANK(K36),\"  \",IF(ISBLANK(K37),\" \",IF($Q$8=2,\"% Loss\",ROUND((K45/K36)*100,0))))","v":"  "},null,{"$f":"IF(ISBLANK(M36),\"  \",IF(ISBLANK(M37),\" \",IF($Q$8=2,\"% Loss\",ROUND((M45/M36)*100,0))))","v":"  "}]
["Ending Weight",null,null,{"$f":"IF(ISBLANK(C36),\"  \",IF(ISBLANK(C37),\" \",IF(ISBLANK(C46),\" \",IF($Q$8=2,((C45-C46)/C45)*100,ROUND((C46/C36)*100,0)))))","v":"  "},null,{"$f":"IF(ISBLANK(E36),\"  \",IF(ISBLANK(E37),\" \",IF(ISBLANK(E46),\" \",IF($Q$8=2,((E45-E46)/E45)*100,ROUND((E46/E36)*100,0)))))","v":"  "},null,{"$f":"IF(ISBLANK(G36),\"  \",IF(ISBLANK(G37),\" \",IF(ISBLANK(G46),\" \",IF($Q$8=2,((G45-G46)/G45)*100,ROUND((G46/G36)*100,0)))))","v":"  "},null,{"$f":"IF(ISBLANK(I36),\"  \",IF(ISBLANK(I37),\" \",IF(ISBLANK(I46),\" \",IF($Q$8=2,((I45-I46)/I45)*100,ROUND((I46/I36)*100,0)))))","v":"  "},null,{"$f":"IF(ISBLANK(K36),\"  \",IF(ISBLANK(K37),\" \",IF(ISBLANK(K46),\" \",IF($Q$8=2,((K45-K46)/K45)*100,ROUND((K46/K36)*100,0)))))","v":"  "},null,{"$f":"IF(ISBLANK(M36),\"  \",IF(ISBLANK(M37),\" \",IF(ISBLANK(M46),\" \",IF($Q$8=2,((M45-M46)/M45)*100,ROUND((M46/M36)*100,0)))))","v":"  "}]
["Spec","Sieve","Wt.",{"$f":"IF(ISBLANK(C36),\"  \",IF(ISBLANK(C37),\" \",IF(ISBLANK(C47),\" \",IF($Q$8=2,\"% Passing\",ROUND((C47/C36)*100,0)))))","v":"  "},"Wt.",{"$f":"IF(ISBLANK(E36),\"  \",IF(ISBLANK(E37),\" \",IF(ISBLANK(E47),\" \",IF($Q$8=2,\"% Passing\",ROUND((E47/E36)*100,0)))))","v":"  "},"Wt.",{"$f":"IF(ISBLANK(G36),\"  \",IF(ISBLANK(G37),\" \",IF(ISBLANK(G47),\" \",IF($Q$8=2,\"% Passing\",ROUND((G47/G36)*100,0)))))","v":"  "},"Wt.",{"$f":"IF(ISBLANK(I36),\"  \",IF(ISBLANK(I37),\" \",IF(ISBLANK(I47),\" \",IF($Q$8=2,\"% Passing\",ROUND((I47/I36)*100,0)))))","v":"  "},"Wt.",{"$f":"IF(ISBLANK(K36),\"  \",IF(ISBLANK(K37),\" \",IF(ISBLANK(K47),\" \",IF($Q$8=2,\"% Passing\",ROUND((K47/K36)*100,0)))))","v":"  "},"Wt.",{"$f":"IF(ISBLANK(M36),\"  \",IF(ISBLANK(M37),\" \",IF(ISBLANK(M47),\" \",IF($Q$8=2,\"% Passing\",ROUND((M47/M36)*100,0)))))","v":"  "}]
[{"$f":"IF(L4=\"2A\",\"10-30\",IF(L4=\"DSA\",\"15-30\",IF(L4=\"OGS\",\"0-12\",IF(L4=\"2RC\",\"0-30\",IF(ISBLANK(L4),\"10-30\")))))","v":"10-30"},{"$f":"IF(L4=\"2RC\",100,16)","v":16},null,{"$f":"IF(ISBLANK(C36),\"  \",IF(ISBLANK(C37),\" \",IF(ISBLANK(C48),\" \",IF($Q$8=2,(C44/C45*C48)/C36*100,ROUND((C48/C36)*100,0)))))","v":"  "},null,{"$f":"IF(ISBLANK(E36),\"  \",IF(ISBLANK(E37),\" \",IF(ISBLANK(E48),\" \",IF($Q$8=2,(E44/E45*E48)/E36*100,ROUND((E48/E36)*100,0)))))","v":"  "},null,{"$f":"IF(ISBLANK(G36),\"  \",IF(ISBLANK(G37),\" \",IF(ISBLANK(G48),\" \",IF($Q$8=2,(G44/G45*G48)/G36*100,ROUND((G48/G36)*100,0)))))","v":"  "},null,{"$f":"IF(ISBLANK(I36),\"  \",IF(ISBLANK(I37),\" \",IF(ISBLANK(I48),\" \",IF($Q$8=2,(I44/I45*I48)/I36*100,ROUND((I48/I36)*100,0)))))","v":"  "},null,{"$f":"IF(ISBLANK(K36),\"  \",IF(ISBLANK(K37),\" \",IF(ISBLANK(K48),\" \",IF($Q$8=2,(K44/K45*K48)/K36*100,ROUND((K48/K36)*100,0)))))","v":"  "},null,{"$f":"IF(ISBLANK(M36),\"  \",IF(ISBLANK(M37),\" \",IF(ISBLANK(M48),\" \",IF($Q$8=2,(M44/M45*M48)/M36*100,ROUND((M48/M36)*100,0)))))","v":"  "}]
[{"$f":"IF(L4=\"DSA\",\"10-15\",\"Info\")","v":"Info"},200,null,{"$f":"IF(ISBLANK(C36),\"  \",IF(ISBLANK(C37),\" \",IF(ISBLANK(C49),\" \",IF($Q$8=2,(C44/C45*C49)/C36*100,ROUND((C49/C36)*100,0)))))","v":"  "},null,{"$f":"IF(ISBLANK(E36),\"  \",IF(ISBLANK(E37),\" \",IF(ISBLANK(E49),\" \",IF($Q$8=2,(E44/E45*E49)/E36*100,ROUND((E49/E36)*100,0)))))","v":"  "},null,{"$f":"IF(ISBLANK(G36),\"  \",IF(ISBLANK(G37),\" \",IF(ISBLANK(G49),\" \",IF($Q$8=2,(G44/G45*G49)/G36*100,ROUND((G49/G36)*100,0)))))","v":"  "},null,{"$f":"IF(ISBLANK(I36),\"  \",IF(ISBLANK(I37),\" \",IF(ISBLANK(I49),\" \",IF($Q$8=2,(I44/I45*I49)/I36*100,ROUND((I49/I36)*100,0)))))","v":"  "},null,{"$f":"IF(ISBLANK(K36),\"  \",IF(ISBLANK(K37),\" \",IF(ISBLANK(K49),\" \",IF($Q$8=2,(K44/K45*K49)/K36*100,ROUND((K49/K36)*100,0)))))","v":"  "},null,{"$f":"IF(ISBLANK(M36),\"  \",IF(ISBLANK(M37),\" \",IF(ISBLANK(M49),\" \",IF($Q$8=2,(M44/M45*M49)/M36*100,ROUND((M49/M36)*100,0)))))","v":"  "}]
["Wash ",{"$f":"IF(L4=\"2A\",\"0-10\",IF(L4=\"OGS\",\"0-5\",IF(L4=\"DSA\",\"10-15\",IF(L4=\"2RC\",\" \",IF(ISBLANK(L4),\"0-10\")))))","v":"0-10"},{"$f":"IF($L$4=\"OGS\",\"Coeff. Unf.\",\" \")","v":" "},{"$f":"IF(ISBLANK($L$4),\" \",IF($L$4=\"2A\",\" \",IF($L$4=\"2RC\",\" \",IF(ISERROR(D79),\" \",D79))))","v":" "},{"$f":"IF($L$4=\"OGS\",\"Coeff. Unf.\",\" \")","v":" "},{"$f":"IF(ISBLANK($L$4),\" \",IF($L$4=\"2A\",\" \",IF($L$4=\"2RC\",\" \",IF(ISERROR(F79),\" \",F79))))","v":" "},{"$f":"IF($L$4=\"OGS\",\"Coeff. Unf.\",\" \")","v":" "},{"$f":"IF(ISBLANK($L$4),\" \",IF($L$4=\"2A\",\" \",IF($L$4=\"2RC\",\" \",IF(ISERROR(H79),\" \",H79))))","v":" "},{"$f":"IF($L$4=\"OGS\",\"Coeff. Unf.\",\" \")","v":" "},{"$f":"IF(ISBLANK($L$4),\" \",IF($L$4=\"2A\",\" \",IF($L$4=\"2RC\",\" \",IF(ISERROR(J79),\" \",J79))))","v":" "},{"$f":"IF($L$4=\"OGS\",\"Coeff. Unf.\",\" \")","v":" "},{"$f":"IF(ISBLANK($L$4),\" \",IF($L$4=\"2A\",\" \",IF($L$4=\"2RC\",\" \",IF(ISERROR(L79),\" \",L79))))","v":" "},{"$f":"IF($L$4=\"OGS\",\"Coeff. Unf.\",\" \")","v":" "},{"$f":"IF(ISBLANK($L$4),\" \",IF($L$4=\"2A\",\" \",IF($L$4=\"2RC\",\" \",IF(ISERROR(N79),\" \",N79))))","v":" "}]
["St. Wt. Before Wash",null,null,"% Passing",null,"% Passing",null,"% Passing",null,"% Passing",null,"% Passing",null,"% Passing"]
["End Wt. After Wash",null,null,{"$f":"IF(ISBLANK(C51),\" \",IF(ISBLANK(C52),\" \",((C51-C52)/C51)*100))","v":" "},null,{"$f":"IF(ISBLANK(E51),\" \",IF(ISBLANK(E52),\" \",((E51-E52)/E51)*100))","v":" "},null,{"$f":"IF(ISBLANK(G51),\" \",IF(ISBLANK(G52),\" \",((G51-G52)/G51)*100))","v":" "},null,{"$f":"IF(ISBLANK(I51),\" \",IF(ISBLANK(I52),\" \",((I51-I52)/I51)*100))","v":" "},null,{"$f":"IF(ISBLANK(K51),\" \",IF(ISBLANK(K52),\" \",((K51-K52)/K51)*100))","v":" "},null,{"$f":"IF(ISBLANK(M51),\" \",IF(ISBLANK(M52),\" \",((M51-M52)/M51)*100))","v":" "}]
["Tested By"]
["Remarks"]
[]
[]
[]
[]
[null,null,null,"Upper Coeff Unf"]
[19,null,19,{"$f":"D17","v":"  "},null,{"$f":"F17","v":"  "},null,{"$f":"H17","v":"  "},null,{"$f":"J17","v":"  "},null,{"$f":"L17","v":"  "},null,{"$f":"N17","v":"  "}]
[9.5,null,9.5,{"$f":"D19","v":"  "},null,{"$f":"F19","v":"  "},null,{"$f":"H19","v":"  "},null,{"$f":"J19","v":"  "},null,{"$f":"L19","v":"  "},null,{"$f":"N19","v":"  "}]
[null,null,"D60",{"$f":"FORECAST(60,$A$60:$A$61,D60:D61)","v":{"$error":"#DIV/0!"}},null,{"$f":"FORECAST(60,$A$60:$A$61,F60:F61)","v":{"$error":"#DIV/0!"}},null,{"$f":"FORECAST(60,$A$60:$A$61,H60:H61)","v":{"$error":"#DIV/0!"}},null,{"$f":"FORECAST(60,$A$60:$A$61,J60:J61)","v":{"$error":"#DIV/0!"}},null,{"$f":"FORECAST(60,$A$60:$A$61,L60:L61)","v":{"$error":"#DIV/0!"}},null,{"$f":"FORECAST(60,$A$60:$A$61,N60:N61)","v":{"$error":"#DIV/0!"}}]
[]
[4.75,null,4.75,{"$f":"D20","v":"  "},null,{"$f":"F20","v":"  "},null,{"$f":"H20","v":"  "},null,{"$f":"J20","v":"  "},null,{"$f":"L20","v":"  "},null,{"$f":"N20","v":"  "}]
[1.18,null,1.18,{"$f":"D24","v":"  "},null,{"$f":"F24","v":"  "},null,{"$f":"H24","v":"  "},null,{"$f":"J24","v":"  "},null,{"$f":"L24","v":"  "},null,{"$f":"N24","v":"  "}]
[null,null,"D10",{"$f":"FORECAST(10,$A$64:$A$65,D64:D65)","v":{"$error":"#DIV/0!"}},null,{"$f":"FORECAST(10,$A$64:$A$65,F64:F65)","v":{"$error":"#DIV/0!"}},null,{"$f":"FORECAST(10,$A$64:$A$65,H64:H65)","v":{"$error":"#DIV/0!"}},null,{"$f":"FORECAST(10,$A$64:$A$65,J64:J65)","v":{"$error":"#DIV/0!"}},null,{"$f":"FORECAST(10,$A$64:$A$65,L64:L65)","v":{"$error":"#DIV/0!"}},null,{"$f":"FORECAST(10,$A$64:$A$65,N64:N65)","v":{"$error":"#DIV/0!"}}]
[]
[null,null,"Coeff Unf",{"$f":"ROUND(D62/D66,1)","v":{"$error":"#DIV/0!"}},null,{"$f":"ROUND(F62/F66,1)","v":{"$error":"#DIV/0!"}},null,{"$f":"ROUND(H62/H66,1)","v":{"$error":"#DIV/0!"}},null,{"$f":"ROUND(J62/J66,1)","v":{"$error":"#DIV/0!"}},null,{"$f":"ROUND(L62/L66,1)","v":{"$error":"#DIV/0!"}},null,{"$f":"ROUND(N62/N66,1)","v":{"$error":"#DIV/0!"}}]
[]
[null,null,"Lower Coff Unf"]
[19,null,19,{"$f":"D41","v":"  "},null,{"$f":"F41","v":"  "},null,{"$f":"H41","v":"  "},null,{"$f":"J41","v":"  "},null,{"$f":"L41","v":"  "},null,{"$f":"N41","v":"  "}]
[9.5,null,9.5,{"$f":"D43","v":"  "},null,{"$f":"F43","v":"  "},null,{"$f":"H43","v":"  "},null,{"$f":"J43","v":"  "},null,{"$f":"L43","v":"  "},null,{"$f":"N43","v":"  "}]
[null,null,"D60",{"$f":"FORECAST(60,$A$71:$A$72,D71:D72)","v":{"$error":"#DIV/0!"}},null,{"$f":"FORECAST(60,$A$71:$A$72,F71:F72)","v":{"$error":"#DIV/0!"}},null,{"$f":"FORECAST(60,$A$71:$A$72,H71:H72)","v":{"$error":"#DIV/0!"}},null,{"$f":"FORECAST(60,$A$71:$A$72,J71:J72)","v":{"$error":"#DIV/0!"}},null,{"$f":"FORECAST(60,$A$71:$A$72,L71:L72)","v":{"$error":"#DIV/0!"}},null,{"$f":"FORECAST(60,$A$71:$A$72,N71:N72)","v":{"$error":"#DIV/0!"}}]
[]
[4.75,null,4.75,{"$f":"D44","v":"  "},null,{"$f":"F44","v":"  "},null,{"$f":"H44","v":"  "},null,{"$f":"J44","v":"  "},null,{"$f":"L44","v":"  "},null,{"$f":"N44","v":"  "}]
[1.18,null,1.18,{"$f":"D48","v":"  "},null,{"$f":"F48","v":"  "},null,{"$f":"H48","v":"  "},null,{"$f":"J48","v":"  "},null,{"$f":"L48","v":"  "},null,{"$f":"N48","v":"  "}]
[null,null,"D10",{"$f":"FORECAST(10,$A$75:$A$76,D75:D76)","v":{"$error":"#DIV/0!"}},null,{"$f":"FORECAST(10,$A$75:$A$76,F75:F76)","v":{"$error":"#DIV/0!"}},null,{"$f":"FORECAST(10,$A$75:$A$76,H75:H76)","v":{"$error":"#DIV/0!"}},null,{"$f":"FORECAST(10,$A$75:$A$76,J75:J76)","v":{"$error":"#DIV/0!"}},null,{"$f":"FORECAST(10,$A$75:$A$76,L75:L76)","v":{"$error":"#DIV/0!"}},null,{"$f":"FORECAST(10,$A$75:$A$76,N75:N76)","v":{"$error":"#DIV/0!"}}]
[]
[null,null,"Coeff Unf",{"$f":"ROUND(D73/D77,1)","v":{"$error":"#DIV/0!"}},null,{"$f":"ROUND(F73/F77,1)","v":{"$error":"#DIV/0!"}},null,{"$f":"ROUND(H73/H77,1)","v":{"$error":"#DIV/0!"}},null,{"$f":"ROUND(J73/J77,1)","v":{"$error":"#DIV/0!"}},null,{"$f":"ROUND(L73/L77,1)","v":{"$error":"#DIV/0!"}},null,{"$f":"ROUND(N73/N77,1)","v":{"$error":"#DIV/0!"}}]

{"sheet":"S2","index":1,"n_rows":79,"n_cols":17,"rows_kept":79,"cut":false,"hidden":true,"merged":[[53,12,55,13],[53,0,55,1],[53,2,55,3],[53,4,55,5],[53,6,55,7],[53,8,55,9],[53,10,55,11],[52,12,52,13],[36,0,36,1],[45,0,45,1],[52,8,52,9],[44,0,44,1],[52,4,52,5],[52,6,52,7],[52,10,52,11],[50,0,50,1],[51,0,51,1],[52,0,52,1],[52,2,52,3],[28,10,28,11],[28,12,28,13],[29,10,31,11],[29,12,31,13],[28,8,28,9],[29,8,31,9],[34,12,34,13],[33,8,33,9],[33,10,33,11],[34,2,34,3],[34,4,34,5],[34,6,34,7],[34,8,34,9],[34,10,34,11],[33,12,33,13],[27,0,27,1],[9,2,9,3],[29,2,31,3],[29,4,31,5],[29,6,31,7],[9,6,9,7],[35,0,35,1],[33,2,33,3],[28,6,28,7],[33,4,33,5],[33,6,33,7],[34,0,34,1],[28,4,28,5],[1,11,1,12],[2,9,2,10],[2,11,2,12],[3,9,3,10],[3,11,3,12],[1,9,1,10],[4,11,4,12],[9,12,9,13],[10,8,10,9],[10,10,10,11],[10,12,10,13],[9,10,9,11],[5,9,5,10],[4,9,4,10],[5,11,5,12],[9,8,9,9],[5,3,5,8],[10,6,10,7],[7,5,7,6],[7,2,7,4],[58,3,58,13],[69,2,69,13],[9,0,9,1],[20,0,20,1],[21,0,21,1],[26,0,26,1],[10,4,10,5],[33,0,33,1],[28,0,28,1],[28,2,28,3],[9,4,9,5],[12,0,12,1],[11,0,11,1],[10,0,10,1],[10,2,10,3],[29,0,31,1],[1,2,1,6],[2,2,2,6],[3,2,3,6],[0,7,3,8],[4,0,4,1],[0,0,3,1]]}
[]
[null,null,"COMMONWEALTH OF PENNSYLVANIA",null,null,null,null,null,null,"DISTRICT",null,{"$f":"IF(ISBLANK('S1'!L2),\" \",'S1'!L2)","v":" "}]
[null,null,"DEPARTMENT OF TRANSPORTATION",null,null,null,null,null,null,"PLANT CODE",null,{"$f":"IF(ISBLANK('S1'!L3),\" \",'S1'!L3)","v":" "}]
[null,null,"PENNSYLVANIA TURNPIKE COMMISSION",null,null,null,null,null,null,"AGG SIZE",null,{"$f":"IF(ISBLANK('S1'!L4),\" \",'S1'!L4)","v":"2A"}]
[{"$f":"'S1'!A5","v":"Aggregate 2023"},null,null,null,null,null,null,null,null,"#4 Target Value ",null,{"$f":"IF(ISBLANK('S1'!L5),\" \",'S1'!L5)","v":" "}]
[".",null,null,{"$f":"'S1'!D6","v":"Material Test Results for 2A Coarse Aggregate"},null,null,null,null,null,"#16 Target Value",null,{"$f":"IF(ISBLANK('S1'!L6),\" \",'S1'!L6)","v":" "}]
[]
[null,null,"Method of testing",null,null,{"$f":"'S1'!F8:G8","v":"Split sample "},null,null,null,null,null,null,null,null,null,null,{"$f":"IF(F8=\"Complete sample\",1,2)","v":2}]
[]
["Sample No."]
["Date"]
["Starting Weight",null,null,"% Loss",null,"% Loss",null,"% Loss",null,"% Loss",null,"% Loss",null,"% Loss"]
["Ending Weight",null,null,{"$f":"IF(ISBLANK(C12),\" \",IF(ISBLANK(C13),\" \",((C12-C13)/C12)*100))","v":" "},null,{"$f":"IF(ISBLANK(E12),\" \",IF(ISBLANK(E13),\" \",((E12-E13)/E12)*100))","v":" "},null,{"$f":"IF(ISBLANK(G12),\" \",IF(ISBLANK(G13),\" \",((G12-G13)/G12)*100))","v":" "},null,{"$f":"IF(ISBLANK(I12),\" \",IF(ISBLANK(I13),\" \",((I12-I13)/I12)*100))","v":" "},null,{"$f":"IF(ISBLANK(K12),\" \",IF(ISBLANK(K13),\" \",((K12-K13)/K12)*100))","v":" "},null,{"$f":"IF(ISBLANK(M12),\" \",IF(ISBLANK(M13),\" \",((M12-M13)/M12)*100))","v":" "}]
["Spec","Sieve","Wt.","% Passing","Wt.","% Passing","Wt.","% Passing","Wt.","% Passing","Wt.","% Passing","Wt.","% Passing"]
[100,2,null,{"$f":"IF(ISBLANK(C$12),\"  \",IF(ISBLANK(C$13),\" \",IF(ISBLANK(C15),\" \",IF($Q$8=2,ROUND(((C15)/C$12)*100,0),ROUND((C15/$C$12)*100,0)))))","v":"  "},null,{"$f":"IF(ISBLANK(E12),\"  \",IF(ISBLANK(E13),\" \",IF(ISBLANK(E15),\" \",IF($Q$8=2,ROUND(((E15)/E12)*100,0),ROUND((E15/E12)*100,0)))))","v":"  "},null,{"$f":"IF(ISBLANK(G12),\"  \",IF(ISBLANK(G13),\" \",IF(ISBLANK(G15),\" \",IF($Q$8=2,ROUND(((G15)/G12)*100,0),ROUND((G15/G12)*100,0)))))","v":"  "},null,{"$f":"IF(ISBLANK(I12),\"  \",IF(ISBLANK(I13),\" \",IF(ISBLANK(I15),\" \",IF($Q$8=2,ROUND(((I15)/I12)*100,0),ROUND((I15/I12)*100,0)))))","v":"  "},null,{"$f":"IF(ISBLANK(K12),\"  \",IF(ISBLANK(K13),\" \",IF(ISBLANK(K15),\" \",IF($Q$8=2,ROUND(((K15)/K12)*100,0),ROUND((K15/K12)*100,0)))))","v":"  "},null,{"$f":"IF(ISBLANK(M12),\"  \",IF(ISBLANK(M13),\" \",IF(ISBLANK(M15),\" \",IF($Q$8=2,ROUND(((M15)/M12)*100,0),ROUND((M15/M12)*100,0)))))","v":"  "}]
[{"$f":"IF(L4=\"DSA\",\"100\",\"Breaker\")","v":"Breaker"},{"$f":"'S1'!B16","v":1},null,"  ",null,{"$f":"IF(ISBLANK(E12),\"  \",IF(ISBLANK(E13),\" \",IF(ISBLANK(E16),\" \",IF($Q$8=2,ROUND(((E16)/E12)*100,0),ROUND((E16/E12)*100,0)))))","v":"  "},null,{"$f":"IF(ISBLANK(G12),\"  \",IF(ISBLANK(G13),\" \",IF(ISBLANK(G16),\" \",IF($Q$8=2,ROUND(((G16)/G12)*100,0),ROUND((G16/G12)*100,0)))))","v":"  "},null,{"$f":"IF(ISBLANK(I12),\"  \",IF(ISBLANK(I13),\" \",IF(ISBLANK(I16),\" \",IF($Q$8=2,ROUND(((I16)/I12)*100,0),ROUND((I16/I12)*100,0)))))","v":"  "},null,{"$f":"IF(ISBLANK(K12),\"  \",IF(ISBLANK(K13),\" \",IF(ISBLANK(K16),\" \",IF($Q$8=2,ROUND(((K16)/K12)*100,0),ROUND((K16/K12)*100,0)))))","v":"  "},null,{"$f":"IF(ISBLANK(M12),\"  \",IF(ISBLANK(M13),\" \",IF(ISBLANK(M16),\" \",IF($Q$8=2,ROUND(((M16)/M12)*100,0),ROUND((M16/M12)*100,0)))))","v":"  "}]
[{"$f":"IF(L4=\"2RC\",\" \",IF(L4=\"DSA\",\"65-95\",\"52-100\"))","v":"52-100"},0.75,null,"  ",null,{"$f":"IF(ISBLANK(E12),\"  \",IF(ISBLANK(E13),\" \",IF(ISBLANK(E17),\" \",IF($Q$8=2,ROUND(((E17)/E12)*100,0),ROUND((E17/E12)*100,0)))))","v":"  "},null,{"$f":"IF(ISBLANK(G12),\"  \",IF(ISBLANK(G13),\" \",IF(ISBLANK(G17),\" \",IF($Q$8=2,ROUND(((G17)/G12)*100,0),ROUND((G17/G12)*100,0)))))","v":"  "},null,{"$f":"IF(ISBLANK(I12),\"  \",IF(ISBLANK(I13),\" \",IF(ISBLANK(I17),\" \",IF($Q$8=2,ROUND(((I17)/I12)*100,0),ROUND((I17/I12)*100,0)))))","v":"  "},null,{"$f":"IF(ISBLANK(K12),\"  \",IF(ISBLANK(K13),\" \",IF(ISBLANK(K17),\" \",IF($Q$8=2,ROUND(((K17)/K12)*100,0),ROUND((K17/K12)*100,0)))))","v":"  "},null,{"$f":"IF(ISBLANK(M12),\"  \",IF(ISBLANK(M13),\" \",IF(ISBLANK(M17),\" \",IF($Q$8=2,ROUND(((M17)/M12)*100,0),ROUND((M17/M12)*100,0)))))","v":"  "}]
["Breaker",0.5,null,"  ",null,{"$f":"IF(ISBLANK(E12),\"  \",IF(ISBLANK(E13),\" \",IF(ISBLANK(E18),\" \",IF($Q$8=2,ROUND(((E18)/E12)*100,0),ROUND((E18/E12)*100,0)))))","v":"  "},null,{"$f":"IF(ISBLANK(G12),\"  \",IF(ISBLANK(G13),\" \",IF(ISBLANK(G18),\" \",IF($Q$8=2,ROUND(((G18)/G12)*100,0),ROUND((G18/G12)*100,0)))))","v":"  "},null,{"$f":"IF(ISBLANK(I12),\"  \",IF(ISBLANK(I13),\" \",IF(ISBLANK(I18),\" \",IF($Q$8=2,ROUND(((I18)/I12)*100,0),ROUND((I18/I12)*100,0)))))","v":"  "},null,{"$f":"IF(ISBLANK(K12),\"  \",IF(ISBLANK(K13),\" \",IF(ISBLANK(K18),\" \",IF($Q$8=2,ROUND(((K18)/K12)*100,0),ROUND((K18/K12)*100,0)))))","v":"  "},null,{"$f":"IF(ISBLANK(M12),\"  \",IF(ISBLANK(M13),\" \",IF(ISBLANK(M18),\" \",IF($Q$8=2,ROUND(((M18)/M12)*100,0),ROUND((M18/M12)*100,0)))))","v":"  "}]
[{"$f":"IF(L4=\"2A\",\"36-70\",IF(L4=\"DSA\",\" \",IF(L4=\"OGS\",\"36-65\",IF(L4=\"2RC\",\" \",IF(ISBLANK(L4),\"36-70\")))))","v":"36-70"},0.375,null,"  ",null,{"$f":"IF(ISBLANK(E12),\"  \",IF(ISBLANK(E13),\" \",IF(ISBLANK(E19),\" \",IF($Q$8=2,ROUND(((E19)/E12)*100,0),ROUND((E19/E12)*100,0)))))","v":"  "},null,{"$f":"IF(ISBLANK(G12),\"  \",IF(ISBLANK(G13),\" \",IF(ISBLANK(G19),\" \",IF($Q$8=2,ROUND(((G19)/G12)*100,0),ROUND((G19/G12)*100,0)))))","v":"  "},null,{"$f":"IF(ISBLANK(I12),\"  \",IF(ISBLANK(I13),\" \",IF(ISBLANK(I19),\" \",IF($Q$8=2,ROUND(((I19)/I12)*100,0),ROUND((I19/I12)*100,0)))))","v":"  "},null,{"$f":"IF(ISBLANK(K12),\"  \",IF(ISBLANK(K13),\" \",IF(ISBLANK(K19),\" \",IF($Q$8=2,ROUND(((K19)/K12)*100,0),ROUND((K19/K12)*100,0)))))","v":"  "},null,{"$f":"IF(ISBLANK(M12),\"  \",IF(ISBLANK(M13),\" \",IF(ISBLANK(M19),\" \",IF($Q$8=2,ROUND(((M19)/M12)*100,0),ROUND((M19/M12)*100,0)))))","v":"  "}]
[{"$f":"IF(L4=\"2A\",\"24-50\",IF(L4=\"DSA\",\"30-65 \",IF(L4=\"OGS\",\"8-40\",IF(L4=\"2RC\",\"15-60 \",IF(ISBLANK(L4),\"24-50\")))))","v":"24-50"},4,null,"  ",null,{"$f":"IF(ISBLANK(E12),\"  \",IF(ISBLANK(E13),\" \",IF(ISBLANK(E20),\" \",IF($Q$8=2,ROUND(((E20)/E$12)*100,0),ROUND((E20/E12)*100,0)))))","v":"  "},null,{"$f":"IF(ISBLANK(G12),\"  \",IF(ISBLANK(G13),\" \",IF(ISBLANK(G20),\" \",IF($Q$8=2,ROUND(((G20)/G$12)*100,0),ROUND((G20/G12)*100,0)))))","v":"  "},null,{"$f":"IF(ISBLANK(I12),\"  \",IF(ISBLANK(I13),\" \",IF(ISBLANK(I20),\" \",IF($Q$8=2,ROUND(((I20)/I$12)*100,0),ROUND((I20/I12)*100,0)))))","v":"  "},null,{"$f":"IF(ISBLANK(K12),\"  \",IF(ISBLANK(K13),\" \",IF(ISBLANK(K20),\" \",IF($Q$8=2,ROUND(((K20)/K$12)*100,0),ROUND((K20/K12)*100,0)))))","v":"  "},null,{"$f":"IF(ISBLANK(M12),\"  \",IF(ISBLANK(M13),\" \",IF(ISBLANK(M20),\" \",IF($Q$8=2,ROUND(((M20)/M$12)*100,0),ROUND((M20/M12)*100,0)))))","v":"  "}]
["Starting Weight",null,null,{"$f":"IF(ISBLANK(C$12),\"  \",IF(ISBLANK(C$13),\" \",IF($Q$8=2,\"% Loss\",ROUND((C21/$C$12)*100,0))))","v":"  "},null,{"$f":"IF(ISBLANK(E12),\"  \",IF(ISBLANK(E13),\" \",IF($Q$8=2,\"% Loss\",ROUND((E21/E12)*100,0))))","v":"  "},null,{"$f":"IF(ISBLANK(G12),\"  \",IF(ISBLANK(G13),\" \",IF($Q$8=2,\"% Loss\",ROUND((G21/G12)*100,0))))","v":"  "},null,{"$f":"IF(ISBLANK(I12),\"  \",IF(ISBLANK(I13),\" \",IF($Q$8=2,\"% Loss\",ROUND((I21/I12)*100,0))))","v":"  "},null,{"$f":"IF(ISBLANK(K12),\"  \",IF(ISBLANK(K13),\" \",IF($Q$8=2,\"% Loss\",ROUND((K21/K12)*100,0))))","v":"  "},null,{"$f":"IF(ISBLANK(M12),\"  \",IF(ISBLANK(M13),\" \",IF($Q$8=2,\"% Loss\",ROUND((M21/M12)*100,0))))","v":"  "}]
["Ending Weight",null,null,{"$f":"IF(ISBLANK(C$12),\"  \",IF(ISBLANK(C$13),\" \",IF(ISBLANK(C22),\" \",IF($Q$8=2,((C21-C22)/C21)*100,ROUND((C22/$C$12)*100,0)))))","v":"  "},null,{"$f":"IF(ISBLANK(E12),\"  \",IF(ISBLANK(E13),\" \",IF(ISBLANK(E22),\" \",IF($Q$8=2,((E21-E22)/E21)*100,ROUND((E22/E12)*100,0)))))","v":"  "},null,{"$f":"IF(ISBLANK(G12),\"  \",IF(ISBLANK(G13),\" \",IF(ISBLANK(G22),\" \",IF($Q$8=2,((G21-G22)/G21)*100,ROUND((G22/G12)*100,0)))))","v":"  "},null,{"$f":"IF(ISBLANK(I12),\"  \",IF(ISBLANK(I13),\" \",IF(ISBLANK(I22),\" \",IF($Q$8=2,((I21-I22)/I21)*100,ROUND((I22/I12)*100,0)))))","v":"  "},null,{"$f":"IF(ISBLANK(K12),\"  \",IF(ISBLANK(K13),\" \",IF(ISBLANK(K22),\" \",IF($Q$8=2,((K21-K22)/K21)*100,ROUND((K22/K12)*100,0)))))","v":"  "},null,{"$f":"IF(ISBLANK(M12),\"  \",IF(ISBLANK(M13),\" \",IF(ISBLANK(M22),\" \",IF($Q$8=2,((M21-M22)/M21)*100,ROUND((M22/M12)*100,0)))))","v":"  "}]
["Spec","Sieve","Wt.",{"$f":"IF(ISBLANK(C$12),\"  \",IF(ISBLANK(C$13),\" \",IF(ISBLANK(C23),\" \",IF($Q$8=2,\"% Passing\",ROUND((C23/$C$12)*100,0)))))","v":"  "},"Wt.",{"$f":"IF(ISBLANK(E12),\"  \",IF(ISBLANK(E13),\" \",IF(ISBLANK(E23),\" \",IF($Q$8=2,\"% Passing\",ROUND((E23/E12)*100,0)))))","v":"  "},"Wt.",{"$f":"IF(ISBLANK(G12),\"  \",IF(ISBLANK(G13),\" \",IF(ISBLANK(G23),\" \",IF($Q$8=2,\"% Passing\",ROUND((G23/G12)*100,0)))))","v":"  "},"Wt.",{"$f":"IF(ISBLANK(I12),\"  \",IF(ISBLANK(I13),\" \",IF(ISBLANK(I23),\" \",IF($Q$8=2,\"% Passing\",ROUND((I23/I12)*100,0)))))","v":"  "},"Wt.",{"$f":"IF(ISBLANK(K12),\"  \",IF(ISBLANK(K13),\" \",IF(ISBLANK(K23),\" \",IF($Q$8=2,\"% Passing\",ROUND((K23/K12)*100,0)))))","v":"  "},"Wt.",{"$f":"IF(ISBLANK(M12),\"  \",IF(ISBLANK(M13),\" \",IF(ISBLANK(M23),\" \",IF($Q$8=2,\"% Passing\",ROUND((M23/M12)*100,0)))))","v":"  "}]
[{"$f":"IF(L4=\"2A\",\"10-30\",IF(L4=\"DSA\",\"15-30\",IF(L4=\"OGS\",\"0-12\",IF(L4=\"2RC\",\"0-30\",IF(ISBLANK(L4),\"10-30\")))))","v":"10-30"},{"$f":"IF(L4=\"2RC\",100,16)","v":16},null,{"$f":"IF(ISBLANK(C$12),\"  \",IF(ISBLANK(C$13),\" \",IF(ISBLANK(C24),\" \",IF($Q$8=2,(C20/C21*C24)/C12*100,ROUND((C24/$C$12)*100,0)))))","v":"  "},null,{"$f":"IF(ISBLANK(E12),\"  \",IF(ISBLANK(E13),\" \",IF(ISBLANK(E24),\" \",IF($Q$8=2,(E20/E21*E24)/E12*100,ROUND((E24/E12)*100,0)))))","v":"  "},null,{"$f":"IF(ISBLANK(G12),\"  \",IF(ISBLANK(G13),\" \",IF(ISBLANK(G24),\" \",IF($Q$8=2,(G20/G21*G24)/G12*100,ROUND((G24/G12)*100,0)))))","v":"  "},null,{"$f":"IF(ISBLANK(I12),\"  \",IF(ISBLANK(I13),\" \",IF(ISBLANK(I24),\" \",IF($Q$8=2,(I20/I21*I24)/I12*100,ROUND((I24/I12)*100,0)))))","v":"  "},null,{"$f":"IF(ISBLANK(K12),\"  \",IF(ISBLANK(K13),\" \",IF(ISBLANK(K24),\" \",IF($Q$8=2,(K20/K21*K24)/K12*100,ROUND((K24/K12)*100,0)))))","v":"  "},null,{"$f":"IF(ISBLANK(M12),\"  \",IF(ISBLANK(M13),\" \",IF(ISBLANK(M24),\" \",IF($Q$8=2,(M20/M21*M24)/M12*100,ROUND((M24/M12)*100,0)))))","v":"  "}]
[{"$f":"IF(L4=\"DSA\",\"10-15\",\"Info\")","v":"Info"},200,null,{"$f":"IF(ISBLANK(C$12),\"  \",IF(ISBLANK(C$13),\" \",IF(ISBLANK(C25),\" \",IF($Q$8=2,(C20/C21*C25)/C12*100,ROUND((C25/$C$12)*100,0)))))","v":"  "},null,{"$f":"IF(ISBLANK(E12),\"  \",IF(ISBLANK(E13),\" \",IF(ISBLANK(E25),\" \",IF($Q$8=2,(E20/E21*E25)/E12*100,ROUND((E25/E12)*100,0)))))","v":"  "},null,{"$f":"IF(ISBLANK(G12),\"  \",IF(ISBLANK(G13),\" \",IF(ISBLANK(G25),\" \",IF($Q$8=2,(G20/G21*G25)/G12*100,ROUND((G25/G12)*100,0)))))","v":"  "},null,{"$f":"IF(ISBLANK(I12),\"  \",IF(ISBLANK(I13),\" \",IF(ISBLANK(I25),\" \",IF($Q$8=2,(I20/I21*I25)/I12*100,ROUND((I25/I12)*100,0)))))","v":"  "},null,{"$f":"IF(ISBLANK(K12),\"  \",IF(ISBLANK(K13),\" \",IF(ISBLANK(K25),\" \",IF($Q$8=2,(K20/K21*K25)/K12*100,ROUND((K25/K12)*100,0)))))","v":"  "},null,{"$f":"IF(ISBLANK(M12),\"  \",IF(ISBLANK(M13),\" \",IF(ISBLANK(M25),\" \",IF($Q$8=2,(M20/M21*M25)/M12*100,ROUND((M25/M12)*100,0)))))","v":"  "}]
["Wash ",{"$f":"IF(L4=\"2A\",\"0-10\",IF(L4=\"OGS\",\"0-5\",IF(L4=\"DSA\",\"10-15\",IF(L4=\"2RC\",\" \",IF(ISBLANK(L4),\"0-10\")))))","v":"0-10"},{"$f":"IF($L$4=\"OGS\",\"Coeff. Unf.\",\" \")","v":" "},{"$f":"IF(ISBLANK($L$4),\" \",IF($L$4=\"2A\",\" \",IF($L$4=\"2RC\",\" \",IF(ISERROR(D68),\" \",D68))))","v":" "},{"$f":"IF($L$4=\"OGS\",\"Coeff. Unf.\",\" \")","v":" "},{"$f":"IF(ISBLANK($L$4),\" \",IF($L$4=\"2A\",\" \",IF($L$4=\"2RC\",\" \",IF(ISERROR(F68),\" \",F68))))","v":" "},{"$f":"IF($L$4=\"OGS\",\"Coeff. Unf.\",\" \")","v":" "},{"$f":"IF(ISBLANK($L$4),\" \",IF($L$4=\"2A\",\" \",IF($L$4=\"2RC\",\" \",IF(ISERROR(H68),\" \",H68))))","v":" "},{"$f":"IF($L$4=\"OGS\",\"Coeff. Unf.\",\" \")","v":" "},{"$f":"IF(ISBLANK($L$4),\" \",IF($L$4=\"2A\",\" \",IF($L$4=\"2RC\",\" \",IF(ISERROR(J68),\" \",J68))))","v":" "},{"$f":"IF($L$4=\"OGS\",\"Coeff. Unf.\",\" \")","v":" "},{"$f":"IF(ISBLANK($L$4),\" \",IF($L$4=\"2A\",\" \",IF($L$4=\"2RC\",\" \",IF(ISERROR(L68),\" \",L68))))","v":" "},{"$f":"IF($L$4=\"OGS\",\"Coeff. Unf.\",\" \")","v":" "},{"$f":"IF(ISBLANK($L$4),\" \",IF($L$4=\"2A\",\" \",IF($L$4=\"2RC\",\" \",IF(ISERROR(N68),\" \",N68))))","v":" "}]
["St. Wt. Before Wash",null,null,"% Passing",null,"% Passing",null,"% Passing",null,"% Passing",null,"% Passing",null,"% Passing"]
["End Wt. After Wash",null,null,{"$f":"IF(ISBLANK(C27),\" \",IF(ISBLANK(C28),\" \",((C27-C28)/C27)*100))","v":" "},null,{"$f":"IF(ISBLANK(E27),\" \",IF(ISBLANK(E28),\" \",((E27-E28)/E27)*100))","v":" "},null,{"$f":"IF(ISBLANK(G27),\" \",IF(ISBLANK(G28),\" \",((G27-G28)/G27)*100))","v":" "},null,{"$f":"IF(ISBLANK(I27),\" \",IF(ISBLANK(I28),\" \",((I27-I28)/I27)*100))","v":" "},null,{"$f":"IF(ISBLANK(K27),\" \",IF(ISBLANK(K28),\" \",((K27-K28)/K27)*100))","v":" "},null,{"$f":"IF(ISBLANK(M27),\" \",IF(ISBLANK(M28),\" \",((M27-M28)/M27)*100))","v":" "}]
["Tested By"]
["Remarks"]
[]
[]
[]
["Sample No."]
["Date"]
["Starting Weight",null,null,"% Loss",null,"% Loss",null,"% Loss",null,"% Loss",null,"% Loss",null,"% Loss"]
["Ending Weight",null,null,{"$f":"IF(ISBLANK(C36),\" \",IF(ISBLANK(C37),\" \",((C36-C37)/C36)*100))","v":" "},null,{"$f":"IF(ISBLANK(E36),\" \",IF(ISBLANK(E37),\" \",((E36-E37)/E36)*100))","v":" "},null,{"$f":"IF(ISBLANK(G36),\" \",IF(ISBLANK(G37),\" \",((G36-G37)/G36)*100))","v":" "},null,{"$f":"IF(ISBLANK(I36),\" \",IF(ISBLANK(I37),\" \",((I36-I37)/I36)*100))","v":" "},null,{"$f":"IF(ISBLANK(K36),\" \",IF(ISBLANK(K37),\" \",((K36-K37)/K36)*100))","v":" "},null,{"$f":"IF(ISBLANK(M36),\" \",IF(ISBLANK(M37),\" \",((M36-M37)/M36)*100))","v":" "}]
["Spec","Sieve","Wt.","% Passing","Wt.","% Passing","Wt.","% Passing","Wt.","% Passing","Wt.","% Passing","Wt.","% Passing"]
[100,2,null,{"$f":"IF(ISBLANK(C36),\"  \",IF(ISBLANK(C37),\" \",IF(ISBLANK(C39),\" \",IF($Q$8=2,ROUND(((C39)/C36)*100,0),ROUND((C39/C36)*100,0)))))","v":"  "},null,{"$f":"IF(ISBLANK(E36),\"  \",IF(ISBLANK(E37),\" \",IF(ISBLANK(E39),\" \",IF($Q$8=2,ROUND(((E39)/E36)*100,0),ROUND((E39/E36)*100,0)))))","v":"  "},null,{"$f":"IF(ISBLANK(G36),\"  \",IF(ISBLANK(G37),\" \",IF(ISBLANK(G39),\" \",IF($Q$8=2,ROUND(((G39)/G36)*100,0),ROUND((G39/G36)*100,0)))))","v":"  "},null,{"$f":"IF(ISBLANK(I36),\"  \",IF(ISBLANK(I37),\" \",IF(ISBLANK(I39),\" \",IF($Q$8=2,ROUND(((I39)/I36)*100,0),ROUND((I39/I36)*100,0)))))","v":"  "},null,{"$f":"IF(ISBLANK(K36),\"  \",IF(ISBLANK(K37),\" \",IF(ISBLANK(K39),\" \",IF($Q$8=2,ROUND(((K39)/K36)*100,0),ROUND((K39/K36)*100,0)))))","v":"  "},null,{"$f":"IF(ISBLANK(M36),\"  \",IF(ISBLANK(M37),\" \",IF(ISBLANK(M39),\" \",IF($Q$8=2,ROUND(((M39)/M36)*100,0),ROUND((M39/M36)*100,0)))))","v":"  "}]
[{"$f":"IF(L4=\"DSA\",\"100\",\"Breaker\")","v":"Breaker"},{"$f":"'S1'!B40","v":1},null,{"$f":"IF(ISBLANK(C36),\"  \",IF(ISBLANK(C37),\" \",IF(ISBLANK(C40),\" \",IF($Q$8=2,ROUND(((C40)/C36)*100,0),ROUND((C40/C36)*100,0)))))","v":"  "},null,{"$f":"IF(ISBLANK(E36),\"  \",IF(ISBLANK(E37),\" \",IF(ISBLANK(E40),\" \",IF($Q$8=2,ROUND(((E40)/E36)*100,0),ROUND((E40/E36)*100,0)))))","v":"  "},null,{"$f":"IF(ISBLANK(G36),\"  \",IF(ISBLANK(G37),\" \",IF(ISBLANK(G40),\" \",IF($Q$8=2,ROUND(((G40)/G36)*100,0),ROUND((G40/G36)*100,0)))))","v":"  "},null,{"$f":"IF(ISBLANK(I36),\"  \",IF(ISBLANK(I37),\" \",IF(ISBLANK(I40),\" \",IF($Q$8=2,ROUND(((I40)/I36)*100,0),ROUND((I40/I36)*100,0)))))","v":"  "},null,{"$f":"IF(ISBLANK(K36),\"  \",IF(ISBLANK(K37),\" \",IF(ISBLANK(K40),\" \",IF($Q$8=2,ROUND(((K40)/K36)*100,0),ROUND((K40/K36)*100,0)))))","v":"  "},null,{"$f":"IF(ISBLANK(M36),\"  \",IF(ISBLANK(M37),\" \",IF(ISBLANK(M40),\" \",IF($Q$8=2,ROUND(((M40)/M36)*100,0),ROUND((M40/M36)*100,0)))))","v":"  "}]
[{"$f":"IF(L4=\"2RC\",\" \",IF(L4=\"DSA\",\"65-95\",\"52-100\"))","v":"52-100"},0.75,null,{"$f":"IF(ISBLANK(C36),\"  \",IF(ISBLANK(C37),\" \",IF(ISBLANK(C41),\" \",IF($Q$8=2,ROUND(((C41)/C36)*100,0),ROUND((C41/C36)*100,0)))))","v":"  "},null,{"$f":"IF(ISBLANK(E36),\"  \",IF(ISBLANK(E37),\" \",IF(ISBLANK(E41),\" \",IF($Q$8=2,ROUND(((E41)/E36)*100,0),ROUND((E41/E36)*100,0)))))","v":"  "},null,{"$f":"IF(ISBLANK(G36),\"  \",IF(ISBLANK(G37),\" \",IF(ISBLANK(G41),\" \",IF($Q$8=2,ROUND(((G41)/G36)*100,0),ROUND((G41/G36)*100,0)))))","v":"  "},null,{"$f":"IF(ISBLANK(I36),\"  \",IF(ISBLANK(I37),\" \",IF(ISBLANK(I41),\" \",IF($Q$8=2,ROUND(((I41)/I36)*100,0),ROUND((I41/I36)*100,0)))))","v":"  "},null,{"$f":"IF(ISBLANK(K36),\"  \",IF(ISBLANK(K37),\" \",IF(ISBLANK(K41),\" \",IF($Q$8=2,ROUND(((K41)/K36)*100,0),ROUND((K41/K36)*100,0)))))","v":"  "},null,{"$f":"IF(ISBLANK(M36),\"  \",IF(ISBLANK(M37),\" \",IF(ISBLANK(M41),\" \",IF($Q$8=2,ROUND(((M41)/M36)*100,0),ROUND((M41/M36)*100,0)))))","v":"  "}]
["Breaker",0.5,null,{"$f":"IF(ISBLANK(C36),\"  \",IF(ISBLANK(C37),\" \",IF(ISBLANK(C42),\" \",IF($Q$8=2,ROUND(((C42)/C36)*100,0),ROUND((C42/C36)*100,0)))))","v":"  "},null,{"$f":"IF(ISBLANK(E36),\"  \",IF(ISBLANK(E37),\" \",IF(ISBLANK(E42),\" \",IF($Q$8=2,ROUND(((E42)/E36)*100,0),ROUND((E42/E36)*100,0)))))","v":"  "},null,{"$f":"IF(ISBLANK(G36),\"  \",IF(ISBLANK(G37),\" \",IF(ISBLANK(G42),\" \",IF($Q$8=2,ROUND(((G42)/G36)*100,0),ROUND((G42/G36)*100,0)))))","v":"  "},null,{"$f":"IF(ISBLANK(I36),\"  \",IF(ISBLANK(I37),\" \",IF(ISBLANK(I42),\" \",IF($Q$8=2,ROUND(((I42)/I36)*100,0),ROUND((I42/I36)*100,0)))))","v":"  "},null,{"$f":"IF(ISBLANK(K36),\"  \",IF(ISBLANK(K37),\" \",IF(ISBLANK(K42),\" \",IF($Q$8=2,ROUND(((K42)/K36)*100,0),ROUND((K42/K36)*100,0)))))","v":"  "},null,{"$f":"IF(ISBLANK(M36),\"  \",IF(ISBLANK(M37),\" \",IF(ISBLANK(M42),\" \",IF($Q$8=2,ROUND(((M42)/M36)*100,0),ROUND((M42/M36)*100,0)))))","v":"  "}]
[{"$f":"IF(L4=\"2A\",\"36-70\",IF(L4=\"DSA\",\" \",IF(L4=\"OGS\",\"36-65\",IF(L4=\"2RC\",\" \",IF(ISBLANK(L4),\"36-70\")))))","v":"36-70"},0.375,null,{"$f":"IF(ISBLANK(C36),\"  \",IF(ISBLANK(C37),\" \",IF(ISBLANK(C43),\" \",IF($Q$8=2,ROUND(((C43)/C36)*100,0),ROUND((C43/C36)*100,0)))))","v":"  "},null,{"$f":"IF(ISBLANK(E36),\"  \",IF(ISBLANK(E37),\" \",IF(ISBLANK(E43),\" \",IF($Q$8=2,ROUND(((E43)/E36)*100,0),ROUND((E43/E36)*100,0)))))","v":"  "},null,{"$f":"IF(ISBLANK(G36),\"  \",IF(ISBLANK(G37),\" \",IF(ISBLANK(G43),\" \",IF($Q$8=2,ROUND(((G43)/G36)*100,0),ROUND((G43/G36)*100,0)))))","v":"  "},null,{"$f":"IF(ISBLANK(I36),\"  \",IF(ISBLANK(I37),\" \",IF(ISBLANK(I43),\" \",IF($Q$8=2,ROUND(((I43)/I36)*100,0),ROUND((I43/I36)*100,0)))))","v":"  "},null,{"$f":"IF(ISBLANK(K36),\"  \",IF(ISBLANK(K37),\" \",IF(ISBLANK(K43),\" \",IF($Q$8=2,ROUND(((K43)/K36)*100,0),ROUND((K43/K36)*100,0)))))","v":"  "},null,{"$f":"IF(ISBLANK(M36),\"  \",IF(ISBLANK(M37),\" \",IF(ISBLANK(M43),\" \",IF($Q$8=2,ROUND(((M43)/M36)*100,0),ROUND((M43/M36)*100,0)))))","v":"  "}]
[{"$f":"IF(L4=\"2A\",\"24-50\",IF(L4=\"DSA\",\"30-65 \",IF(L4=\"OGS\",\"8-40\",IF(L4=\"2RC\",\"15-60 \",IF(ISBLANK(4),\"24-50\")))))","v":"24-50"},4,null,{"$f":"IF(ISBLANK(C36),\"  \",IF(ISBLANK(C37),\" \",IF(ISBLANK(C44),\" \",IF($Q$8=2,ROUND(((C44)/C36)*100,0),ROUND((C44/C36)*100,0)))))","v":"  "},null,{"$f":"IF(ISBLANK(E36),\"  \",IF(ISBLANK(E37),\" \",IF(ISBLANK(E44),\" \",IF($Q$8=2,ROUND(((E44)/E36)*100,0),ROUND((E44/E36)*100,0)))))","v":"  "},null,{"$f":"IF(ISBLANK(G36),\"  \",IF(ISBLANK(G37),\" \",IF(ISBLANK(G44),\" \",IF($Q$8=2,ROUND(((G44)/G36)*100,0),ROUND((G44/G36)*100,0)))))","v":"  "},null,{"$f":"IF(ISBLANK(I36),\"  \",IF(ISBLANK(I37),\" \",IF(ISBLANK(I44),\" \",IF($Q$8=2,ROUND(((I44)/I36)*100,0),ROUND((I44/I36)*100,0)))))","v":"  "},null,{"$f":"IF(ISBLANK(K36),\"  \",IF(ISBLANK(K37),\" \",IF(ISBLANK(K44),\" \",IF($Q$8=2,ROUND(((K44)/K36)*100,0),ROUND((K44/K36)*100,0)))))","v":"  "},null,{"$f":"IF(ISBLANK(M36),\"  \",IF(ISBLANK(M37),\" \",IF(ISBLANK(M44),\" \",IF($Q$8=2,ROUND(((M44)/M36)*100,0),ROUND((M44/M36)*100,0)))))","v":"  "}]
["Starting Weight",null,null,{"$f":"IF(ISBLANK(C36),\"  \",IF(ISBLANK(C37),\" \",IF($Q$8=2,\"% Loss\",ROUND((C45/C36)*100,0))))","v":"  "},null,{"$f":"IF(ISBLANK(E36),\"  \",IF(ISBLANK(E37),\" \",IF($Q$8=2,\"% Loss\",ROUND((E45/E36)*100,0))))","v":"  "},null,{"$f":"IF(ISBLANK(G36),\"  \",IF(ISBLANK(G37),\" \",IF($Q$8=2,\"% Loss\",ROUND((G45/G36)*100,0))))","v":"  "},null,{"$f":"IF(ISBLANK(I36),\"  \",IF(ISBLANK(I37),\" \",IF($Q$8=2,\"% Loss\",ROUND((I45/I36)*100,0))))","v":"  "},null,{"$f":"IF(ISBLANK(K36),\"  \",IF(ISBLANK(K37),\" \",IF($Q$8=2,\"% Loss\",ROUND((K45/K36)*100,0))))","v":"  "},null,{"$f":"IF(ISBLANK(M36),\"  \",IF(ISBLANK(M37),\" \",IF($Q$8=2,\"% Loss\",ROUND((M45/M36)*100,0))))","v":"  "}]
["Ending Weight",null,null,{"$f":"IF(ISBLANK(C36),\"  \",IF(ISBLANK(C37),\" \",IF(ISBLANK(C46),\" \",IF($Q$8=2,((C45-C46)/C45)*100,ROUND((C46/C36)*100,0)))))","v":"  "},null,{"$f":"IF(ISBLANK(E36),\"  \",IF(ISBLANK(E37),\" \",IF(ISBLANK(E46),\" \",IF($Q$8=2,((E45-E46)/E45)*100,ROUND((E46/E36)*100,0)))))","v":"  "},null,{"$f":"IF(ISBLANK(G36),\"  \",IF(ISBLANK(G37),\" \",IF(ISBLANK(G46),\" \",IF($Q$8=2,((G45-G46)/G45)*100,ROUND((G46/G36)*100,0)))))","v":"  "},null,{"$f":"IF(ISBLANK(I36),\"  \",IF(ISBLANK(I37),\" \",IF(ISBLANK(I46),\" \",IF($Q$8=2,((I45-I46)/I45)*100,ROUND((I46/I36)*100,0)))))","v":"  "},null,{"$f":"IF(ISBLANK(K36),\"  \",IF(ISBLANK(K37),\" \",IF(ISBLANK(K46),\" \",IF($Q$8=2,((K45-K46)/K45)*100,ROUND((K46/K36)*100,0)))))","v":"  "},null,{"$f":"IF(ISBLANK(M36),\"  \",IF(ISBLANK(M37),\" \",IF(ISBLANK(M46),\" \",IF($Q$8=2,((M45-M46)/M45)*100,ROUND((M46/M36)*100,0)))))","v":"  "}]
["Spec","Sieve","Wt.",{"$f":"IF(ISBLANK(C36),\"  \",IF(ISBLANK(C37),\" \",IF(ISBLANK(C47),\" \",IF($Q$8=2,\"% Passing\",ROUND((C47/C36)*100,0)))))","v":"  "},"Wt.",{"$f":"IF(ISBLANK(E36),\"  \",IF(ISBLANK(E37),\" \",IF(ISBLANK(E47),\" \",IF($Q$8=2,\"% Passing\",ROUND((E47/E36)*100,0)))))","v":"  "},"Wt.",{"$f":"IF(ISBLANK(G36),\"  \",IF(ISBLANK(G37),\" \",IF(ISBLANK(G47),\" \",IF($Q$8=2,\"% Passing\",ROUND((G47/G36)*100,0)))))","v":"  "},"Wt.",{"$f":"IF(ISBLANK(I36),\"  \",IF(ISBLANK(I37),\" \",IF(ISBLANK(I47),\" \",IF($Q$8=2,\"% Passing\",ROUND((I47/I36)*100,0)))))","v":"  "},"Wt.",{"$f":"IF(ISBLANK(K36),\"  \",IF(ISBLANK(K37),\" \",IF(ISBLANK(K47),\" \",IF($Q$8=2,\"% Passing\",ROUND((K47/K36)*100,0)))))","v":"  "},"Wt.",{"$f":"IF(ISBLANK(M36),\"  \",IF(ISBLANK(M37),\" \",IF(ISBLANK(M47),\" \",IF($Q$8=2,\"% Passing\",ROUND((M47/M36)*100,0)))))","v":"  "}]
[{"$f":"IF(L4=\"2A\",\"10-30\",IF(L4=\"DSA\",\"15-30\",IF(L4=\"OGS\",\"0-12\",IF(L4=\"2RC\",\"0-30\",IF(ISBLANK(L4),\"10-30\")))))","v":"10-30"},{"$f":"IF(L4=\"2RC\",100,16)","v":16},null,{"$f":"IF(ISBLANK(C36),\"  \",IF(ISBLANK(C37),\" \",IF(ISBLANK(C48),\" \",IF($Q$8=2,(C44/C45*C48)/C36*100,ROUND((C48/C36)*100,0)))))","v":"  "},null,{"$f":"IF(ISBLANK(E36),\"  \",IF(ISBLANK(E37),\" \",IF(ISBLANK(E48),\" \",IF($Q$8=2,(E44/E45*E48)/E36*100,ROUND((E48/E36)*100,0)))))","v":"  "},null,{"$f":"IF(ISBLANK(G36),\"  \",IF(ISBLANK(G37),\" \",IF(ISBLANK(G48),\" \",IF($Q$8=2,(G44/G45*G48)/G36*100,ROUND((G48/G36)*100,0)))))","v":"  "},null,{"$f":"IF(ISBLANK(I36),\"  \",IF(ISBLANK(I37),\" \",IF(ISBLANK(I48),\" \",IF($Q$8=2,(I44/I45*I48)/I36*100,ROUND((I48/I36)*100,0)))))","v":"  "},null,{"$f":"IF(ISBLANK(K36),\"  \",IF(ISBLANK(K37),\" \",IF(ISBLANK(K48),\" \",IF($Q$8=2,(K44/K45*K48)/K36*100,ROUND((K48/K36)*100,0)))))","v":"  "},null,{"$f":"IF(ISBLANK(M36),\"  \",IF(ISBLANK(M37),\" \",IF(ISBLANK(M48),\" \",IF($Q$8=2,(M44/M45*M48)/M36*100,ROUND((M48/M36)*100,0)))))","v":"  "}]
[{"$f":"IF(L4=\"DSA\",\"10-15\",\"Info\")","v":"Info"},200,null,{"$f":"IF(ISBLANK(C36),\"  \",IF(ISBLANK(C37),\" \",IF(ISBLANK(C49),\" \",IF($Q$8=2,(C44/C45*C49)/C36*100,ROUND((C49/C36)*100,0)))))","v":"  "},null,{"$f":"IF(ISBLANK(E36),\"  \",IF(ISBLANK(E37),\" \",IF(ISBLANK(E49),\" \",IF($Q$8=2,(E44/E45*E49)/E36*100,ROUND((E49/E36)*100,0)))))","v":"  "},null,{"$f":"IF(ISBLANK(G36),\"  \",IF(ISBLANK(G37),\" \",IF(ISBLANK(G49),\" \",IF($Q$8=2,(G44/G45*G49)/G36*100,ROUND((G49/G36)*100,0)))))","v":"  "},null,{"$f":"IF(ISBLANK(I36),\"  \",IF(ISBLANK(I37),\" \",IF(ISBLANK(I49),\" \",IF($Q$8=2,(I44/I45*I49)/I36*100,ROUND((I49/I36)*100,0)))))","v":"  "},null,{"$f":"IF(ISBLANK(K36),\"  \",IF(ISBLANK(K37),\" \",IF(ISBLANK(K49),\" \",IF($Q$8=2,(K44/K45*K49)/K36*100,ROUND((K49/K36)*100,0)))))","v":"  "},null,{"$f":"IF(ISBLANK(M36),\"  \",IF(ISBLANK(M37),\" \",IF(ISBLANK(M49),\" \",IF($Q$8=2,(M44/M45*M49)/M36*100,ROUND((M49/M36)*100,0)))))","v":"  "}]
["Wash ",{"$f":"IF(L4=\"2A\",\"0-10\",IF(L4=\"OGS\",\"0-5\",IF(L4=\"DSA\",\"10-15\",IF(L4=\"2RC\",\" \",IF(ISBLANK(L4),\"0-10\")))))","v":"0-10"},{"$f":"IF($L$4=\"OGS\",\"Coeff. Unf.\",\" \")","v":" "},{"$f":"IF(ISBLANK($L$4),\" \",IF($L$4=\"2A\",\" \",IF($L$4=\"2RC\",\" \",IF(ISERROR(D79),\" \",D79))))","v":" "},{"$f":"IF($L$4=\"OGS\",\"Coeff. Unf.\",\" \")","v":" "},{"$f":"IF(ISBLANK($L$4),\" \",IF($L$4=\"2A\",\" \",IF($L$4=\"2RC\",\" \",IF(ISERROR(F79),\" \",F79))))","v":" "},{"$f":"IF($L$4=\"OGS\",\"Coeff. Unf.\",\" \")","v":" "},{"$f":"IF(ISBLANK($L$4),\" \",IF($L$4=\"2A\",\" \",IF($L$4=\"2RC\",\" \",IF(ISERROR(H79),\" \",H79))))","v":" "},{"$f":"IF($L$4=\"OGS\",\"Coeff. Unf.\",\" \")","v":" "},{"$f":"IF(ISBLANK($L$4),\" \",IF($L$4=\"2A\",\" \",IF($L$4=\"2RC\",\" \",IF(ISERROR(J79),\" \",J79))))","v":" "},{"$f":"IF($L$4=\"OGS\",\"Coeff. Unf.\",\" \")","v":" "},{"$f":"IF(ISBLANK($L$4),\" \",IF($L$4=\"2A\",\" \",IF($L$4=\"2RC\",\" \",IF(ISERROR(L79),\" \",L79))))","v":" "},{"$f":"IF($L$4=\"OGS\",\"Coeff. Unf.\",\" \")","v":" "},{"$f":"IF(ISBLANK($L$4),\" \",IF($L$4=\"2A\",\" \",IF($L$4=\"2RC\",\" \",IF(ISERROR(N79),\" \",N79))))","v":" "}]
["St. Wt. Before Wash",null,null,"% Passing",null,"% Passing",null,"% Passing",null,"% Passing",null,"% Passing",null,"% Passing"]
["End Wt. After Wash",null,null,{"$f":"IF(ISBLANK(C51),\" \",IF(ISBLANK(C52),\" \",((C51-C52)/C51)*100))","v":" "},null,{"$f":"IF(ISBLANK(E51),\" \",IF(ISBLANK(E52),\" \",((E51-E52)/E51)*100))","v":" "},null,{"$f":"IF(ISBLANK(G51),\" \",IF(ISBLANK(G52),\" \",((G51-G52)/G51)*100))","v":" "},null,{"$f":"IF(ISBLANK(I51),\" \",IF(ISBLANK(I52),\" \",((I51-I52)/I51)*100))","v":" "},null,{"$f":"IF(ISBLANK(K51),\" \",IF(ISBLANK(K52),\" \",((K51-K52)/K51)*100))","v":" "},null,{"$f":"IF(ISBLANK(M51),\" \",IF(ISBLANK(M52),\" \",((M51-M52)/M51)*100))","v":" "}]
["Tested By"]
["Remarks"]
[]
[]
[]
[]
[null,null,null,"Upper Coeff Unf"]
[19,null,19,{"$f":"D17","v":"  "},null,{"$f":"F17","v":"  "},null,{"$f":"H17","v":"  "},null,{"$f":"J17","v":"  "},null,{"$f":"L17","v":"  "},null,{"$f":"N17","v":"  "}]
[9.5,null,9.5,{"$f":"D19","v":"  "},null,{"$f":"F19","v":"  "},null,{"$f":"H19","v":"  "},null,{"$f":"J19","v":"  "},null,{"$f":"L19","v":"  "},null,{"$f":"N19","v":"  "}]
[null,null,"D60",{"$f":"FORECAST(60,$A$60:$A$61,D60:D61)","v":{"$error":"#DIV/0!"}},null,{"$f":"FORECAST(60,$A$60:$A$61,F60:F61)","v":{"$error":"#DIV/0!"}},null,{"$f":"FORECAST(60,$A$60:$A$61,H60:H61)","v":{"$error":"#DIV/0!"}},null,{"$f":"FORECAST(60,$A$60:$A$61,J60:J61)","v":{"$error":"#DIV/0!"}},null,{"$f":"FORECAST(60,$A$60:$A$61,L60:L61)","v":{"$error":"#DIV/0!"}},null,{"$f":"FORECAST(60,$A$60:$A$61,N60:N61)","v":{"$error":"#DIV/0!"}}]
[]
[4.75,null,4.75,{"$f":"D20","v":"  "},null,{"$f":"F20","v":"  "},null,{"$f":"H20","v":"  "},null,{"$f":"J20","v":"  "},null,{"$f":"L20","v":"  "},null,{"$f":"N20","v":"  "}]
[1.18,null,1.18,{"$f":"D24","v":"  "},null,{"$f":"F24","v":"  "},null,{"$f":"H24","v":"  "},null,{"$f":"J24","v":"  "},null,{"$f":"L24","v":"  "},null,{"$f":"N24","v":"  "}]
[null,null,"D10",{"$f":"FORECAST(10,$A$64:$A$65,D64:D65)","v":{"$error":"#DIV/0!"}},null,{"$f":"FORECAST(10,$A$64:$A$65,F64:F65)","v":{"$error":"#DIV/0!"}},null,{"$f":"FORECAST(10,$A$64:$A$65,H64:H65)","v":{"$error":"#DIV/0!"}},null,{"$f":"FORECAST(10,$A$64:$A$65,J64:J65)","v":{"$error":"#DIV/0!"}},null,{"$f":"FORECAST(10,$A$64:$A$65,L64:L65)","v":{"$error":"#DIV/0!"}},null,{"$f":"FORECAST(10,$A$64:$A$65,N64:N65)","v":{"$error":"#DIV/0!"}}]
[]
[null,null,"Coeff Unf",{"$f":"ROUND(D62/D66,1)","v":{"$error":"#DIV/0!"}},null,{"$f":"ROUND(F62/F66,1)","v":{"$error":"#DIV/0!"}},null,{"$f":"ROUND(H62/H66,1)","v":{"$error":"#DIV/0!"}},null,{"$f":"ROUND(J62/J66,1)","v":{"$error":"#DIV/0!"}},null,{"$f":"ROUND(L62/L66,1)","v":{"$error":"#DIV/0!"}},null,{"$f":"ROUND(N62/N66,1)","v":{"$error":"#DIV/0!"}}]
[]
[null,null,"Lower Coff Unf"]
[19,null,19,{"$f":"D41","v":"  "},null,{"$f":"F41","v":"  "},null,{"$f":"H41","v":"  "},null,{"$f":"J41","v":"  "},null,{"$f":"L41","v":"  "},null,{"$f":"N41","v":"  "}]
[9.5,null,9.5,{"$f":"D43","v":"  "},null,{"$f":"F43","v":"  "},null,{"$f":"H43","v":"  "},null,{"$f":"J43","v":"  "},null,{"$f":"L43","v":"  "},null,{"$f":"N43","v":"  "}]
[null,null,"D60",{"$f":"FORECAST(60,$A$71:$A$72,D71:D72)","v":{"$error":"#DIV/0!"}},null,{"$f":"FORECAST(60,$A$71:$A$72,F71:F72)","v":{"$error":"#DIV/0!"}},null,{"$f":"FORECAST(60,$A$71:$A$72,H71:H72)","v":{"$error":"#DIV/0!"}},null,{"$f":"FORECAST(60,$A$71:$A$72,J71:J72)","v":{"$error":"#DIV/0!"}},null,{"$f":"FORECAST(60,$A$71:$A$72,L71:L72)","v":{"$error":"#DIV/0!"}},null,{"$f":"FORECAST(60,$A$71:$A$72,N71:N72)","v":{"$error":"#DIV/0!"}}]
[]
[4.75,null,4.75,{"$f":"D44","v":"  "},null,{"$f":"F44","v":"  "},null,{"$f":"H44","v":"  "},null,{"$f":"J44","v":"  "},null,{"$f":"L44","v":"  "},null,{"$f":"N44","v":"  "}]
[1.18,null,1.18,{"$f":"D48","v":"  "},null,{"$f":"F48","v":"  "},null,{"$f":"H48","v":"  "},null,{"$f":"J48","v":"  "},null,{"$f":"L48","v":"  "},null,{"$f":"N48","v":"  "}]
[null,null,"D10",{"$f":"FORECAST(10,$A$75:$A$76,D75:D76)","v":{"$error":"#DIV/0!"}},null,{"$f":"FORECAST(10,$A$75:$A$76,F75:F76)","v":{"$error":"#DIV/0!"}},null,{"$f":"FORECAST(10,$A$75:$A$76,H75:H76)","v":{"$error":"#DIV/0!"}},null,{"$f":"FORECAST(10,$A$75:$A$76,J75:J76)","v":{"$error":"#DIV/0!"}},null,{"$f":"FORECAST(10,$A$75:$A$76,L75:L76)","v":{"$error":"#DIV/0!"}},null,{"$f":"FORECAST(10,$A$75:$A$76,N75:N76)","v":{"$error":"#DIV/0!"}}]
[]
[null,null,"Coeff Unf",{"$f":"ROUND(D73/D77,1)","v":{"$error":"#DIV/0!"}},null,{"$f":"ROUND(F73/F77,1)","v":{"$error":"#DIV/0!"}},null,{"$f":"ROUND(H73/H77,1)","v":{"$error":"#DIV/0!"}},null,{"$f":"ROUND(J73/J77,1)","v":{"$error":"#DIV/0!"}},null,{"$f":"ROUND(L73/L77,1)","v":{"$error":"#DIV/0!"}},null,{"$f":"ROUND(N73/N77,1)","v":{"$error":"#DIV/0!"}}]

{"sheet":"S3","index":2,"n_rows":79,"n_cols":17,"rows_kept":79,"cut":false,"hidden":true,"merged":[[53,12,55,13],[53,0,55,1],[53,2,55,3],[53,4,55,5],[53,6,55,7],[53,8,55,9],[53,10,55,11],[52,12,52,13],[36,0,36,1],[45,0,45,1],[52,8,52,9],[44,0,44,1],[52,4,52,5],[52,6,52,7],[52,10,52,11],[50,0,50,1],[51,0,51,1],[52,0,52,1],[52,2,52,3],[28,10,28,11],[28,12,28,13],[29,10,31,11],[29,12,31,13],[28,8,28,9],[29,8,31,9],[34,12,34,13],[33,8,33,9],[33,10,33,11],[34,2,34,3],[34,4,34,5],[34,6,34,7],[34,8,34,9],[34,10,34,11],[33,12,33,13],[27,0,27,1],[9,2,9,3],[29,2,31,3],[29,4,31,5],[29,6,31,7],[9,6,9,7],[35,0,35,1],[33,2,33,3],[28,6,28,7],[33,4,33,5],[33,6,33,7],[34,0,34,1],[28,4,28,5],[1,11,1,12],[2,9,2,10],[2,11,2,12],[3,9,3,10],[3,11,3,12],[1,9,1,10],[4,11,4,12],[9,12,9,13],[10,8,10,9],[10,10,10,11],[10,12,10,13],[9,10,9,11],[5,9,5,10],[4,9,4,10],[5,11,5,12],[9,8,9,9],[5,3,5,8],[10,6,10,7],[7,2,7,4],[7,5,7,6],[58,3,58,13],[69,2,69,13],[9,0,9,1],[20,0,20,1],[21,0,21,1],[26,0,26,1],[10,4,10,5],[33,0,33,1],[28,0,28,1],[28,2,28,3],[9,4,9,5],[12,0,12,1],[11,0,11,1],[10,0,10,1],[10,2,10,3],[29,0,31,1],[0,7,3,8],[1,2,1,6],[2,2,2,6],[3,2,3,6],[4,0,4,1],[0,0,3,1]]}
[]
[null,null,"COMMONWEALTH OF PENNSYLVANIA",null,null,null,null,null,null,"DISTRICT",null,{"$f":"IF(ISBLANK('S1'!L2),\" \",'S1'!L2)","v":" "}]
[null,null,"DEPARTMENT OF TRANSPORTATION",null,null,null,null,null,null,"PLANT CODE",null,{"$f":"IF(ISBLANK('S1'!L3),\" \",'S1'!L3)","v":" "}]
[null,null,"PENNSYLVANIA TURNPIKE COMMISSION",null,null,null,null,null,null,"AGG SIZE",null,{"$f":"IF(ISBLANK('S1'!L4),\" \",'S1'!L4)","v":"2A"}]
[{"$f":"'S1'!A5","v":"Aggregate 2023"},null,null,null,null,null,null,null,null,"#4 Target Value ",null,{"$f":"IF(ISBLANK('S1'!L5),\" \",'S1'!L5)","v":" "}]
[".",null,null,{"$f":"'S1'!D6","v":"Material Test Results for 2A Coarse Aggregate"},null,null,null,null,null,"#16 Target Value",null,{"$f":"IF(ISBLANK('S1'!L6),\" \",'S1'!L6)","v":" "}]
[]
[null,null,"Method of testing",null,null,{"$f":"'S1'!F8:G8","v":"Split sample "},null,null,null,null,null,null,null,null,null,null,{"$f":"IF(F8=\"Complete sample\",1,2)","v":2}]
[]
["Sample No."]
["Date"]
["Starting Weight",null,null,"% Loss",null,"% Loss",null,"% Loss",null,"% Loss",null,"% Loss",null,"% Loss"]
["Ending Weight",null,null,{"$f":"IF(ISBLANK(C12),\" \",IF(ISBLANK(C13),\" \",((C12-C13)/C12)*100))","v":" "},null,{"$f":"IF(ISBLANK(E12),\" \",IF(ISBLANK(E13),\" \",((E12-E13)/E12)*100))","v":" "},null,{"$f":"IF(ISBLANK(G12),\" \",IF(ISBLANK(G13),\" \",((G12-G13)/G12)*100))","v":" "},null,{"$f":"IF(ISBLANK(I12),\" \",IF(ISBLANK(I13),\" \",((I12-I13)/I12)*100))","v":" "},null,{"$f":"IF(ISBLANK(K12),\" \",IF(ISBLANK(K13),\" \",((K12-K13)/K12)*100))","v":" "},null,{"$f":"IF(ISBLANK(M12),\" \",IF(ISBLANK(M13),\" \",((M12-M13)/M12)*100))","v":" "}]
["Spec","Sieve","Wt.","% Passing","Wt.","% Passing","Wt.","% Passing","Wt.","% Passing","Wt.","% Passing","Wt.","% Passing"]
[100,2,null,{"$f":"IF(ISBLANK(C$12),\"  \",IF(ISBLANK(C$13),\" \",IF(ISBLANK(C15),\" \",IF($Q$8=2,ROUND(((C15)/C$12)*100,0),ROUND((C15/$C$12)*100,0)))))","v":"  "},null,{"$f":"IF(ISBLANK(E12),\"  \",IF(ISBLANK(E13),\" \",IF(ISBLANK(E15),\" \",IF($Q$8=2,ROUND(((E15)/E12)*100,0),ROUND((E15/E12)*100,0)))))","v":"  "},null,{"$f":"IF(ISBLANK(G12),\"  \",IF(ISBLANK(G13),\" \",IF(ISBLANK(G15),\" \",IF($Q$8=2,ROUND(((G15)/G12)*100,0),ROUND((G15/G12)*100,0)))))","v":"  "},null,{"$f":"IF(ISBLANK(I12),\"  \",IF(ISBLANK(I13),\" \",IF(ISBLANK(I15),\" \",IF($Q$8=2,ROUND(((I15)/I12)*100,0),ROUND((I15/I12)*100,0)))))","v":"  "},null,{"$f":"IF(ISBLANK(K12),\"  \",IF(ISBLANK(K13),\" \",IF(ISBLANK(K15),\" \",IF($Q$8=2,ROUND(((K15)/K12)*100,0),ROUND((K15/K12)*100,0)))))","v":"  "},null,{"$f":"IF(ISBLANK(M12),\"  \",IF(ISBLANK(M13),\" \",IF(ISBLANK(M15),\" \",IF($Q$8=2,ROUND(((M15)/M12)*100,0),ROUND((M15/M12)*100,0)))))","v":"  "}]
[{"$f":"IF(L4=\"DSA\",\"100\",\"Breaker\")","v":"Breaker"},{"$f":"'S1'!B16","v":1},null,"  ",null,{"$f":"IF(ISBLANK(E12),\"  \",IF(ISBLANK(E13),\" \",IF(ISBLANK(E16),\" \",IF($Q$8=2,ROUND(((E16)/E12)*100,0),ROUND((E16/E12)*100,0)))))","v":"  "},null,{"$f":"IF(ISBLANK(G12),\"  \",IF(ISBLANK(G13),\" \",IF(ISBLANK(G16),\" \",IF($Q$8=2,ROUND(((G16)/G12)*100,0),ROUND((G16/G12)*100,0)))))","v":"  "},null,{"$f":"IF(ISBLANK(I12),\"  \",IF(ISBLANK(I13),\" \",IF(ISBLANK(I16),\" \",IF($Q$8=2,ROUND(((I16)/I12)*100,0),ROUND((I16/I12)*100,0)))))","v":"  "},null,{"$f":"IF(ISBLANK(K12),\"  \",IF(ISBLANK(K13),\" \",IF(ISBLANK(K16),\" \",IF($Q$8=2,ROUND(((K16)/K12)*100,0),ROUND((K16/K12)*100,0)))))","v":"  "},null,{"$f":"IF(ISBLANK(M12),\"  \",IF(ISBLANK(M13),\" \",IF(ISBLANK(M16),\" \",IF($Q$8=2,ROUND(((M16)/M12)*100,0),ROUND((M16/M12)*100,0)))))","v":"  "}]
[{"$f":"IF(L4=\"2RC\",\" \",IF(L4=\"DSA\",\"65-95\",\"52-100\"))","v":"52-100"},0.75,null,"  ",null,{"$f":"IF(ISBLANK(E12),\"  \",IF(ISBLANK(E13),\" \",IF(ISBLANK(E17),\" \",IF($Q$8=2,ROUND(((E17)/E12)*100,0),ROUND((E17/E12)*100,0)))))","v":"  "},null,{"$f":"IF(ISBLANK(G12),\"  \",IF(ISBLANK(G13),\" \",IF(ISBLANK(G17),\" \",IF($Q$8=2,ROUND(((G17)/G12)*100,0),ROUND((G17/G12)*100,0)))))","v":"  "},null,{"$f":"IF(ISBLANK(I12),\"  \",IF(ISBLANK(I13),\" \",IF(ISBLANK(I17),\" \",IF($Q$8=2,ROUND(((I17)/I12)*100,0),ROUND((I17/I12)*100,0)))))","v":"  "},null,{"$f":"IF(ISBLANK(K12),\"  \",IF(ISBLANK(K13),\" \",IF(ISBLANK(K17),\" \",IF($Q$8=2,ROUND(((K17)/K12)*100,0),ROUND((K17/K12)*100,0)))))","v":"  "},null,{"$f":"IF(ISBLANK(M12),\"  \",IF(ISBLANK(M13),\" \",IF(ISBLANK(M17),\" \",IF($Q$8=2,ROUND(((M17)/M12)*100,0),ROUND((M17/M12)*100,0)))))","v":"  "}]
["Breaker",0.5,null,"  ",null,{"$f":"IF(ISBLANK(E12),\"  \",IF(ISBLANK(E13),\" \",IF(ISBLANK(E18),\" \",IF($Q$8=2,ROUND(((E18)/E12)*100,0),ROUND((E18/E12)*100,0)))))","v":"  "},null,{"$f":"IF(ISBLANK(G12),\"  \",IF(ISBLANK(G13),\" \",IF(ISBLANK(G18),\" \",IF($Q$8=2,ROUND(((G18)/G12)*100,0),ROUND((G18/G12)*100,0)))))","v":"  "},null,{"$f":"IF(ISBLANK(I12),\"  \",IF(ISBLANK(I13),\" \",IF(ISBLANK(I18),\" \",IF($Q$8=2,ROUND(((I18)/I12)*100,0),ROUND((I18/I12)*100,0)))))","v":"  "},null,{"$f":"IF(ISBLANK(K12),\"  \",IF(ISBLANK(K13),\" \",IF(ISBLANK(K18),\" \",IF($Q$8=2,ROUND(((K18)/K12)*100,0),ROUND((K18/K12)*100,0)))))","v":"  "},null,{"$f":"IF(ISBLANK(M12),\"  \",IF(ISBLANK(M13),\" \",IF(ISBLANK(M18),\" \",IF($Q$8=2,ROUND(((M18)/M12)*100,0),ROUND((M18/M12)*100,0)))))","v":"  "}]
[{"$f":"IF(L4=\"2A\",\"36-70\",IF(L4=\"DSA\",\" \",IF(L4=\"OGS\",\"36-65\",IF(L4=\"2RC\",\" \",IF(ISBLANK(L4),\"36-70\")))))","v":"36-70"},0.375,null,"  ",null,{"$f":"IF(ISBLANK(E12),\"  \",IF(ISBLANK(E13),\" \",IF(ISBLANK(E19),\" \",IF($Q$8=2,ROUND(((E19)/E12)*100,0),ROUND((E19/E12)*100,0)))))","v":"  "},null,{"$f":"IF(ISBLANK(G12),\"  \",IF(ISBLANK(G13),\" \",IF(ISBLANK(G19),\" \",IF($Q$8=2,ROUND(((G19)/G12)*100,0),ROUND((G19/G12)*100,0)))))","v":"  "},null,{"$f":"IF(ISBLANK(I12),\"  \",IF(ISBLANK(I13),\" \",IF(ISBLANK(I19),\" \",IF($Q$8=2,ROUND(((I19)/I12)*100,0),ROUND((I19/I12)*100,0)))))","v":"  "},null,{"$f":"IF(ISBLANK(K12),\"  \",IF(ISBLANK(K13),\" \",IF(ISBLANK(K19),\" \",IF($Q$8=2,ROUND(((K19)/K12)*100,0),ROUND((K19/K12)*100,0)))))","v":"  "},null,{"$f":"IF(ISBLANK(M12),\"  \",IF(ISBLANK(M13),\" \",IF(ISBLANK(M19),\" \",IF($Q$8=2,ROUND(((M19)/M12)*100,0),ROUND((M19/M12)*100,0)))))","v":"  "}]
[{"$f":"IF(L4=\"2A\",\"24-50\",IF(L4=\"DSA\",\"30-65 \",IF(L4=\"OGS\",\"8-40\",IF(L4=\"2RC\",\"15-60 \",IF(ISBLANK(L4),\"24-50\")))))","v":"24-50"},4,null,"  ",null,{"$f":"IF(ISBLANK(E12),\"  \",IF(ISBLANK(E13),\" \",IF(ISBLANK(E20),\" \",IF($Q$8=2,ROUND(((E20)/E$12)*100,0),ROUND((E20/E12)*100,0)))))","v":"  "},null,{"$f":"IF(ISBLANK(G12),\"  \",IF(ISBLANK(G13),\" \",IF(ISBLANK(G20),\" \",IF($Q$8=2,ROUND(((G20)/G$12)*100,0),ROUND((G20/G12)*100,0)))))","v":"  "},null,{"$f":"IF(ISBLANK(I12),\"  \",IF(ISBLANK(I13),\" \",IF(ISBLANK(I20),\" \",IF($Q$8=2,ROUND(((I20)/I$12)*100,0),ROUND((I20/I12)*100,0)))))","v":"  "},null,{"$f":"IF(ISBLANK(K12),\"  \",IF(ISBLANK(K13),\" \",IF(ISBLANK(K20),\" \",IF($Q$8=2,ROUND(((K20)/K$12)*100,0),ROUND((K20/K12)*100,0)))))","v":"  "},null,{"$f":"IF(ISBLANK(M12),\"  \",IF(ISBLANK(M13),\" \",IF(ISBLANK(M20),\" \",IF($Q$8=2,ROUND(((M20)/M$12)*100,0),ROUND((M20/M12)*100,0)))))","v":"  "}]
["Starting Weight",null,null,{"$f":"IF(ISBLANK(C$12),\"  \",IF(ISBLANK(C$13),\" \",IF($Q$8=2,\"% Loss\",ROUND((C21/$C$12)*100,0))))","v":"  "},null,{"$f":"IF(ISBLANK(E12),\"  \",IF(ISBLANK(E13),\" \",IF($Q$8=2,\"% Loss\",ROUND((E21/E12)*100,0))))","v":"  "},null,{"$f":"IF(ISBLANK(G12),\"  \",IF(ISBLANK(G13),\" \",IF($Q$8=2,\"% Loss\",ROUND((G21/G12)*100,0))))","v":"  "},null,{"$f":"IF(ISBLANK(I12),\"  \",IF(ISBLANK(I13),\" \",IF($Q$8=2,\"% Loss\",ROUND((I21/I12)*100,0))))","v":"  "},null,{"$f":"IF(ISBLANK(K12),\"  \",IF(ISBLANK(K13),\" \",IF($Q$8=2,\"% Loss\",ROUND((K21/K12)*100,0))))","v":"  "},null,{"$f":"IF(ISBLANK(M12),\"  \",IF(ISBLANK(M13),\" \",IF($Q$8=2,\"% Loss\",ROUND((M21/M12)*100,0))))","v":"  "}]
["Ending Weight",null,null,{"$f":"IF(ISBLANK(C$12),\"  \",IF(ISBLANK(C$13),\" \",IF(ISBLANK(C22),\" \",IF($Q$8=2,((C21-C22)/C21)*100,ROUND((C22/$C$12)*100,0)))))","v":"  "},null,{"$f":"IF(ISBLANK(E12),\"  \",IF(ISBLANK(E13),\" \",IF(ISBLANK(E22),\" \",IF($Q$8=2,((E21-E22)/E21)*100,ROUND((E22/E12)*100,0)))))","v":"  "},null,{"$f":"IF(ISBLANK(G12),\"  \",IF(ISBLANK(G13),\" \",IF(ISBLANK(G22),\" \",IF($Q$8=2,((G21-G22)/G21)*100,ROUND((G22/G12)*100,0)))))","v":"  "},null,{"$f":"IF(ISBLANK(I12),\"  \",IF(ISBLANK(I13),\" \",IF(ISBLANK(I22),\" \",IF($Q$8=2,((I21-I22)/I21)*100,ROUND((I22/I12)*100,0)))))","v":"  "},null,{"$f":"IF(ISBLANK(K12),\"  \",IF(ISBLANK(K13),\" \",IF(ISBLANK(K22),\" \",IF($Q$8=2,((K21-K22)/K21)*100,ROUND((K22/K12)*100,0)))))","v":"  "},null,{"$f":"IF(ISBLANK(M12),\"  \",IF(ISBLANK(M13),\" \",IF(ISBLANK(M22),\" \",IF($Q$8=2,((M21-M22)/M21)*100,ROUND((M22/M12)*100,0)))))","v":"  "}]
["Spec","Sieve","Wt.",{"$f":"IF(ISBLANK(C$12),\"  \",IF(ISBLANK(C$13),\" \",IF(ISBLANK(C23),\" \",IF($Q$8=2,\"% Passing\",ROUND((C23/$C$12)*100,0)))))","v":"  "},"Wt.",{"$f":"IF(ISBLANK(E12),\"  \",IF(ISBLANK(E13),\" \",IF(ISBLANK(E23),\" \",IF($Q$8=2,\"% Passing\",ROUND((E23/E12)*100,0)))))","v":"  "},"Wt.",{"$f":"IF(ISBLANK(G12),\"  \",IF(ISBLANK(G13),\" \",IF(ISBLANK(G23),\" \",IF($Q$8=2,\"% Passing\",ROUND((G23/G12)*100,0)))))","v":"  "},"Wt.",{"$f":"IF(ISBLANK(I12),\"  \",IF(ISBLANK(I13),\" \",IF(ISBLANK(I23),\" \",IF($Q$8=2,\"% Passing\",ROUND((I23/I12)*100,0)))))","v":"  "},"Wt.",{"$f":"IF(ISBLANK(K12),\"  \",IF(ISBLANK(K13),\" \",IF(ISBLANK(K23),\" \",IF($Q$8=2,\"% Passing\",ROUND((K23/K12)*100,0)))))","v":"  "},"Wt.",{"$f":"IF(ISBLANK(M12),\"  \",IF(ISBLANK(M13),\" \",IF(ISBLANK(M23),\" \",IF($Q$8=2,\"% Passing\",ROUND((M23/M12)*100,0)))))","v":"  "}]
[{"$f":"IF(L4=\"2A\",\"10-30\",IF(L4=\"DSA\",\"15-30\",IF(L4=\"OGS\",\"0-12\",IF(L4=\"2RC\",\"0-30\",IF(ISBLANK(L4),\"10-30\")))))","v":"10-30"},{"$f":"IF(L4=\"2RC\",100,16)","v":16},null,{"$f":"IF(ISBLANK(C$12),\"  \",IF(ISBLANK(C$13),\" \",IF(ISBLANK(C24),\" \",IF($Q$8=2,(C20/C21*C24)/C12*100,ROUND((C24/$C$12)*100,0)))))","v":"  "},null,{"$f":"IF(ISBLANK(E12),\"  \",IF(ISBLANK(E13),\" \",IF(ISBLANK(E24),\" \",IF($Q$8=2,(E20/E21*E24)/E12*100,ROUND((E24/E12)*100,0)))))","v":"  "},null,{"$f":"IF(ISBLANK(G12),\"  \",IF(ISBLANK(G13),\" \",IF(ISBLANK(G24),\" \",IF($Q$8=2,(G20/G21*G24)/G12*100,ROUND((G24/G12)*100,0)))))","v":"  "},null,{"$f":"IF(ISBLANK(I12),\"  \",IF(ISBLANK(I13),\" \",IF(ISBLANK(I24),\" \",IF($Q$8=2,(I20/I21*I24)/I12*100,ROUND((I24/I12)*100,0)))))","v":"  "},null,{"$f":"IF(ISBLANK(K12),\"  \",IF(ISBLANK(K13),\" \",IF(ISBLANK(K24),\" \",IF($Q$8=2,(K20/K21*K24)/K12*100,ROUND((K24/K12)*100,0)))))","v":"  "},null,{"$f":"IF(ISBLANK(M12),\"  \",IF(ISBLANK(M13),\" \",IF(ISBLANK(M24),\" \",IF($Q$8=2,(M20/M21*M24)/M12*100,ROUND((M24/M12)*100,0)))))","v":"  "}]
[{"$f":"IF(L4=\"DSA\",\"10-15\",\"Info\")","v":"Info"},200,null,{"$f":"IF(ISBLANK(C$12),\"  \",IF(ISBLANK(C$13),\" \",IF(ISBLANK(C25),\" \",IF($Q$8=2,(C20/C21*C25)/C12*100,ROUND((C25/$C$12)*100,0)))))","v":"  "},null,{"$f":"IF(ISBLANK(E12),\"  \",IF(ISBLANK(E13),\" \",IF(ISBLANK(E25),\" \",IF($Q$8=2,(E20/E21*E25)/E12*100,ROUND((E25/E12)*100,0)))))","v":"  "},null,{"$f":"IF(ISBLANK(G12),\"  \",IF(ISBLANK(G13),\" \",IF(ISBLANK(G25),\" \",IF($Q$8=2,(G20/G21*G25)/G12*100,ROUND((G25/G12)*100,0)))))","v":"  "},null,{"$f":"IF(ISBLANK(I12),\"  \",IF(ISBLANK(I13),\" \",IF(ISBLANK(I25),\" \",IF($Q$8=2,(I20/I21*I25)/I12*100,ROUND((I25/I12)*100,0)))))","v":"  "},null,{"$f":"IF(ISBLANK(K12),\"  \",IF(ISBLANK(K13),\" \",IF(ISBLANK(K25),\" \",IF($Q$8=2,(K20/K21*K25)/K12*100,ROUND((K25/K12)*100,0)))))","v":"  "},null,{"$f":"IF(ISBLANK(M12),\"  \",IF(ISBLANK(M13),\" \",IF(ISBLANK(M25),\" \",IF($Q$8=2,(M20/M21*M25)/M12*100,ROUND((M25/M12)*100,0)))))","v":"  "}]
["Wash ",{"$f":"IF(L4=\"2A\",\"0-10\",IF(L4=\"OGS\",\"0-5\",IF(L4=\"DSA\",\"10-15\",IF(L4=\"2RC\",\" \",IF(ISBLANK(L4),\"0-10\")))))","v":"0-10"},{"$f":"IF($L$4=\"OGS\",\"Coeff. Unf.\",\" \")","v":" "},{"$f":"IF(ISBLANK($L$4),\" \",IF($L$4=\"2A\",\" \",IF($L$4=\"2RC\",\" \",IF(ISERROR(D68),\" \",D68))))","v":" "},{"$f":"IF($L$4=\"OGS\",\"Coeff. Unf.\",\" \")","v":" "},{"$f":"IF(ISBLANK($L$4),\" \",IF($L$4=\"2A\",\" \",IF($L$4=\"2RC\",\" \",IF(ISERROR(F68),\" \",F68))))","v":" "},{"$f":"IF($L$4=\"OGS\",\"Coeff. Unf.\",\" \")","v":" "},{"$f":"IF(ISBLANK($L$4),\" \",IF($L$4=\"2A\",\" \",IF($L$4=\"2RC\",\" \",IF(ISERROR(H68),\" \",H68))))","v":" "},{"$f":"IF($L$4=\"OGS\",\"Coeff. Unf.\",\" \")","v":" "},{"$f":"IF(ISBLANK($L$4),\" \",IF($L$4=\"2A\",\" \",IF($L$4=\"2RC\",\" \",IF(ISERROR(J68),\" \",J68))))","v":" "},{"$f":"IF($L$4=\"OGS\",\"Coeff. Unf.\",\" \")","v":" "},{"$f":"IF(ISBLANK($L$4),\" \",IF($L$4=\"2A\",\" \",IF($L$4=\"2RC\",\" \",IF(ISERROR(L68),\" \",L68))))","v":" "},{"$f":"IF($L$4=\"OGS\",\"Coeff. Unf.\",\" \")","v":" "},{"$f":"IF(ISBLANK($L$4),\" \",IF($L$4=\"2A\",\" \",IF($L$4=\"2RC\",\" \",IF(ISERROR(N68),\" \",N68))))","v":" "}]
["St. Wt. Before Wash",null,null,"% Passing",null,"% Passing",null,"% Passing",null,"% Passing",null,"% Passing",null,"% Passing"]
["End Wt. After Wash",null,null,{"$f":"IF(ISBLANK(C27),\" \",IF(ISBLANK(C28),\" \",((C27-C28)/C27)*100))","v":" "},null,{"$f":"IF(ISBLANK(E27),\" \",IF(ISBLANK(E28),\" \",((E27-E28)/E27)*100))","v":" "},null,{"$f":"IF(ISBLANK(G27),\" \",IF(ISBLANK(G28),\" \",((G27-G28)/G27)*100))","v":" "},null,{"$f":"IF(ISBLANK(I27),\" \",IF(ISBLANK(I28),\" \",((I27-I28)/I27)*100))","v":" "},null,{"$f":"IF(ISBLANK(K27),\" \",IF(ISBLANK(K28),\" \",((K27-K28)/K27)*100))","v":" "},null,{"$f":"IF(ISBLANK(M27),\" \",IF(ISBLANK(M28),\" \",((M27-M28)/M27)*100))","v":" "}]
["Tested By"]
["Remarks"]
[]
[]
[]
["Sample No."]
["Date"]
["Starting Weight",null,null,"% Loss",null,"% Loss",null,"% Loss",null,"% Loss",null,"% Loss",null,"% Loss"]
["Ending Weight",null,null,{"$f":"IF(ISBLANK(C36),\" \",IF(ISBLANK(C37),\" \",((C36-C37)/C36)*100))","v":" "},null,{"$f":"IF(ISBLANK(E36),\" \",IF(ISBLANK(E37),\" \",((E36-E37)/E36)*100))","v":" "},null,{"$f":"IF(ISBLANK(G36),\" \",IF(ISBLANK(G37),\" \",((G36-G37)/G36)*100))","v":" "},null,{"$f":"IF(ISBLANK(I36),\" \",IF(ISBLANK(I37),\" \",((I36-I37)/I36)*100))","v":" "},null,{"$f":"IF(ISBLANK(K36),\" \",IF(ISBLANK(K37),\" \",((K36-K37)/K36)*100))","v":" "},null,{"$f":"IF(ISBLANK(M36),\" \",IF(ISBLANK(M37),\" \",((M36-M37)/M36)*100))","v":" "}]
["Spec","Sieve","Wt.","% Passing","Wt.","% Passing","Wt.","% Passing","Wt.","% Passing","Wt.","% Passing","Wt.","% Passing"]
[100,2,null,{"$f":"IF(ISBLANK(C36),\"  \",IF(ISBLANK(C37),\" \",IF(ISBLANK(C39),\" \",IF($Q$8=2,ROUND(((C39)/C36)*100,0),ROUND((C39/C36)*100,0)))))","v":"  "},null,{"$f":"IF(ISBLANK(E36),\"  \",IF(ISBLANK(E37),\" \",IF(ISBLANK(E39),\" \",IF($Q$8=2,ROUND(((E39)/E36)*100,0),ROUND((E39/E36)*100,0)))))","v":"  "},null,{"$f":"IF(ISBLANK(G36),\"  \",IF(ISBLANK(G37),\" \",IF(ISBLANK(G39),\" \",IF($Q$8=2,ROUND(((G39)/G36)*100,0),ROUND((G39/G36)*100,0)))))","v":"  "},null,{"$f":"IF(ISBLANK(I36),\"  \",IF(ISBLANK(I37),\" \",IF(ISBLANK(I39),\" \",IF($Q$8=2,ROUND(((I39)/I36)*100,0),ROUND((I39/I36)*100,0)))))","v":"  "},null,{"$f":"IF(ISBLANK(K36),\"  \",IF(ISBLANK(K37),\" \",IF(ISBLANK(K39),\" \",IF($Q$8=2,ROUND(((K39)/K36)*100,0),ROUND((K39/K36)*100,0)))))","v":"  "},null,{"$f":"IF(ISBLANK(M36),\"  \",IF(ISBLANK(M37),\" \",IF(ISBLANK(M39),\" \",IF($Q$8=2,ROUND(((M39)/M36)*100,0),ROUND((M39/M36)*100,0)))))","v":"  "}]
[{"$f":"IF(L4=\"DSA\",\"100\",\"Breaker\")","v":"Breaker"},{"$f":"'S1'!B40","v":1},null,{"$f":"IF(ISBLANK(C36),\"  \",IF(ISBLANK(C37),\" \",IF(ISBLANK(C40),\" \",IF($Q$8=2,ROUND(((C40)/C36)*100,0),ROUND((C40/C36)*100,0)))))","v":"  "},null,{"$f":"IF(ISBLANK(E36),\"  \",IF(ISBLANK(E37),\" \",IF(ISBLANK(E40),\" \",IF($Q$8=2,ROUND(((E40)/E36)*100,0),ROUND((E40/E36)*100,0)))))","v":"  "},null,{"$f":"IF(ISBLANK(G36),\"  \",IF(ISBLANK(G37),\" \",IF(ISBLANK(G40),\" \",IF($Q$8=2,ROUND(((G40)/G36)*100,0),ROUND((G40/G36)*100,0)))))","v":"  "},null,{"$f":"IF(ISBLANK(I36),\"  \",IF(ISBLANK(I37),\" \",IF(ISBLANK(I40),\" \",IF($Q$8=2,ROUND(((I40)/I36)*100,0),ROUND((I40/I36)*100,0)))))","v":"  "},null,{"$f":"IF(ISBLANK(K36),\"  \",IF(ISBLANK(K37),\" \",IF(ISBLANK(K40),\" \",IF($Q$8=2,ROUND(((K40)/K36)*100,0),ROUND((K40/K36)*100,0)))))","v":"  "},null,{"$f":"IF(ISBLANK(M36),\"  \",IF(ISBLANK(M37),\" \",IF(ISBLANK(M40),\" \",IF($Q$8=2,ROUND(((M40)/M36)*100,0),ROUND((M40/M36)*100,0)))))","v":"  "}]
[{"$f":"IF(L4=\"2RC\",\" \",IF(L4=\"DSA\",\"65-95\",\"52-100\"))","v":"52-100"},0.75,null,{"$f":"IF(ISBLANK(C36),\"  \",IF(ISBLANK(C37),\" \",IF(ISBLANK(C41),\" \",IF($Q$8=2,ROUND(((C41)/C36)*100,0),ROUND((C41/C36)*100,0)))))","v":"  "},null,{"$f":"IF(ISBLANK(E36),\"  \",IF(ISBLANK(E37),\" \",IF(ISBLANK(E41),\" \",IF($Q$8=2,ROUND(((E41)/E36)*100,0),ROUND((E41/E36)*100,0)))))","v":"  "},null,{"$f":"IF(ISBLANK(G36),\"  \",IF(ISBLANK(G37),\" \",IF(ISBLANK(G41),\" \",IF($Q$8=2,ROUND(((G41)/G36)*100,0),ROUND((G41/G36)*100,0)))))","v":"  "},null,{"$f":"IF(ISBLANK(I36),\"  \",IF(ISBLANK(I37),\" \",IF(ISBLANK(I41),\" \",IF($Q$8=2,ROUND(((I41)/I36)*100,0),ROUND((I41/I36)*100,0)))))","v":"  "},null,{"$f":"IF(ISBLANK(K36),\"  \",IF(ISBLANK(K37),\" \",IF(ISBLANK(K41),\" \",IF($Q$8=2,ROUND(((K41)/K36)*100,0),ROUND((K41/K36)*100,0)))))","v":"  "},null,{"$f":"IF(ISBLANK(M36),\"  \",IF(ISBLANK(M37),\" \",IF(ISBLANK(M41),\" \",IF($Q$8=2,ROUND(((M41)/M36)*100,0),ROUND((M41/M36)*100,0)))))","v":"  "}]
["Breaker",0.5,null,{"$f":"IF(ISBLANK(C36),\"  \",IF(ISBLANK(C37),\" \",IF(ISBLANK(C42),\" \",IF($Q$8=2,ROUND(((C42)/C36)*100,0),ROUND((C42/C36)*100,0)))))","v":"  "},null,{"$f":"IF(ISBLANK(E36),\"  \",IF(ISBLANK(E37),\" \",IF(ISBLANK(E42),\" \",IF($Q$8=2,ROUND(((E42)/E36)*100,0),ROUND((E42/E36)*100,0)))))","v":"  "},null,{"$f":"IF(ISBLANK(G36),\"  \",IF(ISBLANK(G37),\" \",IF(ISBLANK(G42),\" \",IF($Q$8=2,ROUND(((G42)/G36)*100,0),ROUND((G42/G36)*100,0)))))","v":"  "},null,{"$f":"IF(ISBLANK(I36),\"  \",IF(ISBLANK(I37),\" \",IF(ISBLANK(I42),\" \",IF($Q$8=2,ROUND(((I42)/I36)*100,0),ROUND((I42/I36)*100,0)))))","v":"  "},null,{"$f":"IF(ISBLANK(K36),\"  \",IF(ISBLANK(K37),\" \",IF(ISBLANK(K42),\" \",IF($Q$8=2,ROUND(((K42)/K36)*100,0),ROUND((K42/K36)*100,0)))))","v":"  "},null,{"$f":"IF(ISBLANK(M36),\"  \",IF(ISBLANK(M37),\" \",IF(ISBLANK(M42),\" \",IF($Q$8=2,ROUND(((M42)/M36)*100,0),ROUND((M42/M36)*100,0)))))","v":"  "}]
[{"$f":"IF(L4=\"2A\",\"36-70\",IF(L4=\"DSA\",\" \",IF(L4=\"OGS\",\"36-65\",IF(L4=\"2RC\",\" \",IF(ISBLANK(L4),\"36-70\")))))","v":"36-70"},0.375,null,{"$f":"IF(ISBLANK(C36),\"  \",IF(ISBLANK(C37),\" \",IF(ISBLANK(C43),\" \",IF($Q$8=2,ROUND(((C43)/C36)*100,0),ROUND((C43/C36)*100,0)))))","v":"  "},null,{"$f":"IF(ISBLANK(E36),\"  \",IF(ISBLANK(E37),\" \",IF(ISBLANK(E43),\" \",IF($Q$8=2,ROUND(((E43)/E36)*100,0),ROUND((E43/E36)*100,0)))))","v":"  "},null,{"$f":"IF(ISBLANK(G36),\"  \",IF(ISBLANK(G37),\" \",IF(ISBLANK(G43),\" \",IF($Q$8=2,ROUND(((G43)/G36)*100,0),ROUND((G43/G36)*100,0)))))","v":"  "},null,{"$f":"IF(ISBLANK(I36),\"  \",IF(ISBLANK(I37),\" \",IF(ISBLANK(I43),\" \",IF($Q$8=2,ROUND(((I43)/I36)*100,0),ROUND((I43/I36)*100,0)))))","v":"  "},null,{"$f":"IF(ISBLANK(K36),\"  \",IF(ISBLANK(K37),\" \",IF(ISBLANK(K43),\" \",IF($Q$8=2,ROUND(((K43)/K36)*100,0),ROUND((K43/K36)*100,0)))))","v":"  "},null,{"$f":"IF(ISBLANK(M36),\"  \",IF(ISBLANK(M37),\" \",IF(ISBLANK(M43),\" \",IF($Q$8=2,ROUND(((M43)/M36)*100,0),ROUND((M43/M36)*100,0)))))","v":"  "}]
[{"$f":"IF(L4=\"2A\",\"24-50\",IF(L4=\"DSA\",\"30-65 \",IF(L4=\"OGS\",\"8-40\",IF(L4=\"2RC\",\"15-60 \",IF(ISBLANK(4),\"24-50\")))))","v":"24-50"},4,null,{"$f":"IF(ISBLANK(C36),\"  \",IF(ISBLANK(C37),\" \",IF(ISBLANK(C44),\" \",IF($Q$8=2,ROUND(((C44)/C36)*100,0),ROUND((C44/C36)*100,0)))))","v":"  "},null,{"$f":"IF(ISBLANK(E36),\"  \",IF(ISBLANK(E37),\" \",IF(ISBLANK(E44),\" \",IF($Q$8=2,ROUND(((E44)/E36)*100,0),ROUND((E44/E36)*100,0)))))","v":"  "},null,{"$f":"IF(ISBLANK(G36),\"  \",IF(ISBLANK(G37),\" \",IF(ISBLANK(G44),\" \",IF($Q$8=2,ROUND(((G44)/G36)*100,0),ROUND((G44/G36)*100,0)))))","v":"  "},null,{"$f":"IF(ISBLANK(I36),\"  \",IF(ISBLANK(I37),\" \",IF(ISBLANK(I44),\" \",IF($Q$8=2,ROUND(((I44)/I36)*100,0),ROUND((I44/I36)*100,0)))))","v":"  "},null,{"$f":"IF(ISBLANK(K36),\"  \",IF(ISBLANK(K37),\" \",IF(ISBLANK(K44),\" \",IF($Q$8=2,ROUND(((K44)/K36)*100,0),ROUND((K44/K36)*100,0)))))","v":"  "},null,{"$f":"IF(ISBLANK(M36),\"  \",IF(ISBLANK(M37),\" \",IF(ISBLANK(M44),\" \",IF($Q$8=2,ROUND(((M44)/M36)*100,0),ROUND((M44/M36)*100,0)))))","v":"  "}]
["Starting Weight",null,null,{"$f":"IF(ISBLANK(C36),\"  \",IF(ISBLANK(C37),\" \",IF($Q$8=2,\"% Loss\",ROUND((C45/C36)*100,0))))","v":"  "},null,{"$f":"IF(ISBLANK(E36),\"  \",IF(ISBLANK(E37),\" \",IF($Q$8=2,\"% Loss\",ROUND((E45/E36)*100,0))))","v":"  "},null,{"$f":"IF(ISBLANK(G36),\"  \",IF(ISBLANK(G37),\" \",IF($Q$8=2,\"% Loss\",ROUND((G45/G36)*100,0))))","v":"  "},null,{"$f":"IF(ISBLANK(I36),\"  \",IF(ISBLANK(I37),\" \",IF($Q$8=2,\"% Loss\",ROUND((I45/I36)*100,0))))","v":"  "},null,{"$f":"IF(ISBLANK(K36),\"  \",IF(ISBLANK(K37),\" \",IF($Q$8=2,\"% Loss\",ROUND((K45/K36)*100,0))))","v":"  "},null,{"$f":"IF(ISBLANK(M36),\"  \",IF(ISBLANK(M37),\" \",IF($Q$8=2,\"% Loss\",ROUND((M45/M36)*100,0))))","v":"  "}]
["Ending Weight",null,null,{"$f":"IF(ISBLANK(C36),\"  \",IF(ISBLANK(C37),\" \",IF(ISBLANK(C46),\" \",IF($Q$8=2,((C45-C46)/C45)*100,ROUND((C46/C36)*100,0)))))","v":"  "},null,{"$f":"IF(ISBLANK(E36),\"  \",IF(ISBLANK(E37),\" \",IF(ISBLANK(E46),\" \",IF($Q$8=2,((E45-E46)/E45)*100,ROUND((E46/E36)*100,0)))))","v":"  "},null,{"$f":"IF(ISBLANK(G36),\"  \",IF(ISBLANK(G37),\" \",IF(ISBLANK(G46),\" \",IF($Q$8=2,((G45-G46)/G45)*100,ROUND((G46/G36)*100,0)))))","v":"  "},null,{"$f":"IF(ISBLANK(I36),\"  \",IF(ISBLANK(I37),\" \",IF(ISBLANK(I46),\" \",IF($Q$8=2,((I45-I46)/I45)*100,ROUND((I46/I36)*100,0)))))","v":"  "},null,{"$f":"IF(ISBLANK(K36),\"  \",IF(ISBLANK(K37),\" \",IF(ISBLANK(K46),\" \",IF($Q$8=2,((K45-K46)/K45)*100,ROUND((K46/K36)*100,0)))))","v":"  "},null,{"$f":"IF(ISBLANK(M36),\"  \",IF(ISBLANK(M37),\" \",IF(ISBLANK(M46),\" \",IF($Q$8=2,((M45-M46)/M45)*100,ROUND((M46/M36)*100,0)))))","v":"  "}]
["Spec","Sieve","Wt.",{"$f":"IF(ISBLANK(C36),\"  \",IF(ISBLANK(C37),\" \",IF(ISBLANK(C47),\" \",IF($Q$8=2,\"% Passing\",ROUND((C47/C36)*100,0)))))","v":"  "},"Wt.",{"$f":"IF(ISBLANK(E36),\"  \",IF(ISBLANK(E37),\" \",IF(ISBLANK(E47),\" \",IF($Q$8=2,\"% Passing\",ROUND((E47/E36)*100,0)))))","v":"  "},"Wt.",{"$f":"IF(ISBLANK(G36),\"  \",IF(ISBLANK(G37),\" \",IF(ISBLANK(G47),\" \",IF($Q$8=2,\"% Passing\",ROUND((G47/G36)*100,0)))))","v":"  "},"Wt.",{"$f":"IF(ISBLANK(I36),\"  \",IF(ISBLANK(I37),\" \",IF(ISBLANK(I47),\" \",IF($Q$8=2,\"% Passing\",ROUND((I47/I36)*100,0)))))","v":"  "},"Wt.",{"$f":"IF(ISBLANK(K36),\"  \",IF(ISBLANK(K37),\" \",IF(ISBLANK(K47),\" \",IF($Q$8=2,\"% Passing\",ROUND((K47/K36)*100,0)))))","v":"  "},"Wt.",{"$f":"IF(ISBLANK(M36),\"  \",IF(ISBLANK(M37),\" \",IF(ISBLANK(M47),\" \",IF($Q$8=2,\"% Passing\",ROUND((M47/M36)*100,0)))))","v":"  "}]
[{"$f":"IF(L4=\"2A\",\"10-30\",IF(L4=\"DSA\",\"15-30\",IF(L4=\"OGS\",\"0-12\",IF(L4=\"2RC\",\"0-30\",IF(ISBLANK(L4),\"10-30\")))))","v":"10-30"},{"$f":"IF(L4=\"2RC\",100,16)","v":16},null,{"$f":"IF(ISBLANK(C36),\"  \",IF(ISBLANK(C37),\" \",IF(ISBLANK(C48),\" \",IF($Q$8=2,(C44/C45*C48)/C36*100,ROUND((C48/C36)*100,0)))))","v":"  "},null,{"$f":"IF(ISBLANK(E36),\"  \",IF(ISBLANK(E37),\" \",IF(ISBLANK(E48),\" \",IF($Q$8=2,(E44/E45*E48)/E36*100,ROUND((E48/E36)*100,0)))))","v":"  "},null,{"$f":"IF(ISBLANK(G36),\"  \",IF(ISBLANK(G37),\" \",IF(ISBLANK(G48),\" \",IF($Q$8=2,(G44/G45*G48)/G36*100,ROUND((G48/G36)*100,0)))))","v":"  "},null,{"$f":"IF(ISBLANK(I36),\"  \",IF(ISBLANK(I37),\" \",IF(ISBLANK(I48),\" \",IF($Q$8=2,(I44/I45*I48)/I36*100,ROUND((I48/I36)*100,0)))))","v":"  "},null,{"$f":"IF(ISBLANK(K36),\"  \",IF(ISBLANK(K37),\" \",IF(ISBLANK(K48),\" \",IF($Q$8=2,(K44/K45*K48)/K36*100,ROUND((K48/K36)*100,0)))))","v":"  "},null,{"$f":"IF(ISBLANK(M36),\"  \",IF(ISBLANK(M37),\" \",IF(ISBLANK(M48),\" \",IF($Q$8=2,(M44/M45*M48)/M36*100,ROUND((M48/M36)*100,0)))))","v":"  "}]
[{"$f":"IF(L4=\"DSA\",\"10-15\",\"Info\")","v":"Info"},200,null,{"$f":"IF(ISBLANK(C36),\"  \",IF(ISBLANK(C37),\" \",IF(ISBLANK(C49),\" \",IF($Q$8=2,(C44/C45*C49)/C36*100,ROUND((C49/C36)*100,0)))))","v":"  "},null,{"$f":"IF(ISBLANK(E36),\"  \",IF(ISBLANK(E37),\" \",IF(ISBLANK(E49),\" \",IF($Q$8=2,(E44/E45*E49)/E36*100,ROUND((E49/E36)*100,0)))))","v":"  "},null,{"$f":"IF(ISBLANK(G36),\"  \",IF(ISBLANK(G37),\" \",IF(ISBLANK(G49),\" \",IF($Q$8=2,(G44/G45*G49)/G36*100,ROUND((G49/G36)*100,0)))))","v":"  "},null,{"$f":"IF(ISBLANK(I36),\"  \",IF(ISBLANK(I37),\" \",IF(ISBLANK(I49),\" \",IF($Q$8=2,(I44/I45*I49)/I36*100,ROUND((I49/I36)*100,0)))))","v":"  "},null,{"$f":"IF(ISBLANK(K36),\"  \",IF(ISBLANK(K37),\" \",IF(ISBLANK(K49),\" \",IF($Q$8=2,(K44/K45*K49)/K36*100,ROUND((K49/K36)*100,0)))))","v":"  "},null,{"$f":"IF(ISBLANK(M36),\"  \",IF(ISBLANK(M37),\" \",IF(ISBLANK(M49),\" \",IF($Q$8=2,(M44/M45*M49)/M36*100,ROUND((M49/M36)*100,0)))))","v":"  "}]
["Wash ",{"$f":"IF(L4=\"2A\",\"0-10\",IF(L4=\"OGS\",\"0-5\",IF(L4=\"DSA\",\"10-15\",IF(L4=\"2RC\",\" \",IF(ISBLANK(L4),\"0-10\")))))","v":"0-10"},{"$f":"IF($L$4=\"OGS\",\"Coeff. Unf.\",\" \")","v":" "},{"$f":"IF(ISBLANK($L$4),\" \",IF($L$4=\"2A\",\" \",IF($L$4=\"2RC\",\" \",IF(ISERROR(D79),\" \",D79))))","v":" "},{"$f":"IF($L$4=\"OGS\",\"Coeff. Unf.\",\" \")","v":" "},{"$f":"IF(ISBLANK($L$4),\" \",IF($L$4=\"2A\",\" \",IF($L$4=\"2RC\",\" \",IF(ISERROR(F79),\" \",F79))))","v":" "},{"$f":"IF($L$4=\"OGS\",\"Coeff. Unf.\",\" \")","v":" "},{"$f":"IF(ISBLANK($L$4),\" \",IF($L$4=\"2A\",\" \",IF($L$4=\"2RC\",\" \",IF(ISERROR(H79),\" \",H79))))","v":" "},{"$f":"IF($L$4=\"OGS\",\"Coeff. Unf.\",\" \")","v":" "},{"$f":"IF(ISBLANK($L$4),\" \",IF($L$4=\"2A\",\" \",IF($L$4=\"2RC\",\" \",IF(ISERROR(J79),\" \",J79))))","v":" "},{"$f":"IF($L$4=\"OGS\",\"Coeff. Unf.\",\" \")","v":" "},{"$f":"IF(ISBLANK($L$4),\" \",IF($L$4=\"2A\",\" \",IF($L$4=\"2RC\",\" \",IF(ISERROR(L79),\" \",L79))))","v":" "},{"$f":"IF($L$4=\"OGS\",\"Coeff. Unf.\",\" \")","v":" "},{"$f":"IF(ISBLANK($L$4),\" \",IF($L$4=\"2A\",\" \",IF($L$4=\"2RC\",\" \",IF(ISERROR(N79),\" \",N79))))","v":" "}]
["St. Wt. Before Wash",null,null,"% Passing",null,"% Passing",null,"% Passing",null,"% Passing",null,"% Passing",null,"% Passing"]
["End Wt. After Wash",null,null,{"$f":"IF(ISBLANK(C51),\" \",IF(ISBLANK(C52),\" \",((C51-C52)/C51)*100))","v":" "},null,{"$f":"IF(ISBLANK(E51),\" \",IF(ISBLANK(E52),\" \",((E51-E52)/E51)*100))","v":" "},null,{"$f":"IF(ISBLANK(G51),\" \",IF(ISBLANK(G52),\" \",((G51-G52)/G51)*100))","v":" "},null,{"$f":"IF(ISBLANK(I51),\" \",IF(ISBLANK(I52),\" \",((I51-I52)/I51)*100))","v":" "},null,{"$f":"IF(ISBLANK(K51),\" \",IF(ISBLANK(K52),\" \",((K51-K52)/K51)*100))","v":" "},null,{"$f":"IF(ISBLANK(M51),\" \",IF(ISBLANK(M52),\" \",((M51-M52)/M51)*100))","v":" "}]
["Tested By"]
["Remarks"]
[]
[]
[]
[]
[null,null,null,"Upper Coeff Unf"]
[19,null,19,{"$f":"D17","v":"  "},null,{"$f":"F17","v":"  "},null,{"$f":"H17","v":"  "},null,{"$f":"J17","v":"  "},null,{"$f":"L17","v":"  "},null,{"$f":"N17","v":"  "}]
[9.5,null,9.5,{"$f":"D19","v":"  "},null,{"$f":"F19","v":"  "},null,{"$f":"H19","v":"  "},null,{"$f":"J19","v":"  "},null,{"$f":"L19","v":"  "},null,{"$f":"N19","v":"  "}]
[null,null,"D60",{"$f":"FORECAST(60,$A$60:$A$61,D60:D61)","v":{"$error":"#DIV/0!"}},null,{"$f":"FORECAST(60,$A$60:$A$61,F60:F61)","v":{"$error":"#DIV/0!"}},null,{"$f":"FORECAST(60,$A$60:$A$61,H60:H61)","v":{"$error":"#DIV/0!"}},null,{"$f":"FORECAST(60,$A$60:$A$61,J60:J61)","v":{"$error":"#DIV/0!"}},null,{"$f":"FORECAST(60,$A$60:$A$61,L60:L61)","v":{"$error":"#DIV/0!"}},null,{"$f":"FORECAST(60,$A$60:$A$61,N60:N61)","v":{"$error":"#DIV/0!"}}]
[]
[4.75,null,4.75,{"$f":"D20","v":"  "},null,{"$f":"F20","v":"  "},null,{"$f":"H20","v":"  "},null,{"$f":"J20","v":"  "},null,{"$f":"L20","v":"  "},null,{"$f":"N20","v":"  "}]
[1.18,null,1.18,{"$f":"D24","v":"  "},null,{"$f":"F24","v":"  "},null,{"$f":"H24","v":"  "},null,{"$f":"J24","v":"  "},null,{"$f":"L24","v":"  "},null,{"$f":"N24","v":"  "}]
[null,null,"D10",{"$f":"FORECAST(10,$A$64:$A$65,D64:D65)","v":{"$error":"#DIV/0!"}},null,{"$f":"FORECAST(10,$A$64:$A$65,F64:F65)","v":{"$error":"#DIV/0!"}},null,{"$f":"FORECAST(10,$A$64:$A$65,H64:H65)","v":{"$error":"#DIV/0!"}},null,{"$f":"FORECAST(10,$A$64:$A$65,J64:J65)","v":{"$error":"#DIV/0!"}},null,{"$f":"FORECAST(10,$A$64:$A$65,L64:L65)","v":{"$error":"#DIV/0!"}},null,{"$f":"FORECAST(10,$A$64:$A$65,N64:N65)","v":{"$error":"#DIV/0!"}}]
[]
[null,null,"Coeff Unf",{"$f":"ROUND(D62/D66,1)","v":{"$error":"#DIV/0!"}},null,{"$f":"ROUND(F62/F66,1)","v":{"$error":"#DIV/0!"}},null,{"$f":"ROUND(H62/H66,1)","v":{"$error":"#DIV/0!"}},null,{"$f":"ROUND(J62/J66,1)","v":{"$error":"#DIV/0!"}},null,{"$f":"ROUND(L62/L66,1)","v":{"$error":"#DIV/0!"}},null,{"$f":"ROUND(N62/N66,1)","v":{"$error":"#DIV/0!"}}]
[]
[null,null,"Lower Coff Unf"]
[19,null,19,{"$f":"D41","v":"  "},null,{"$f":"F41","v":"  "},null,{"$f":"H41","v":"  "},null,{"$f":"J41","v":"  "},null,{"$f":"L41","v":"  "},null,{"$f":"N41","v":"  "}]
[9.5,null,9.5,{"$f":"D43","v":"  "},null,{"$f":"F43","v":"  "},null,{"$f":"H43","v":"  "},null,{"$f":"J43","v":"  "},null,{"$f":"L43","v":"  "},null,{"$f":"N43","v":"  "}]
[null,null,"D60",{"$f":"FORECAST(60,$A$71:$A$72,D71:D72)","v":{"$error":"#DIV/0!"}},null,{"$f":"FORECAST(60,$A$71:$A$72,F71:F72)","v":{"$error":"#DIV/0!"}},null,{"$f":"FORECAST(60,$A$71:$A$72,H71:H72)","v":{"$error":"#DIV/0!"}},null,{"$f":"FORECAST(60,$A$71:$A$72,J71:J72)","v":{"$error":"#DIV/0!"}},null,{"$f":"FORECAST(60,$A$71:$A$72,L71:L72)","v":{"$error":"#DIV/0!"}},null,{"$f":"FORECAST(60,$A$71:$A$72,N71:N72)","v":{"$error":"#DIV/0!"}}]
[]
[4.75,null,4.75,{"$f":"D44","v":"  "},null,{"$f":"F44","v":"  "},null,{"$f":"H44","v":"  "},null,{"$f":"J44","v":"  "},null,{"$f":"L44","v":"  "},null,{"$f":"N44","v":"  "}]
[1.18,null,1.18,{"$f":"D48","v":"  "},null,{"$f":"F48","v":"  "},null,{"$f":"H48","v":"  "},null,{"$f":"J48","v":"  "},null,{"$f":"L48","v":"  "},null,{"$f":"N48","v":"  "}]
[null,null,"D10",{"$f":"FORECAST(10,$A$75:$A$76,D75:D76)","v":{"$error":"#DIV/0!"}},null,{"$f":"FORECAST(10,$A$75:$A$76,F75:F76)","v":{"$error":"#DIV/0!"}},null,{"$f":"FORECAST(10,$A$75:$A$76,H75:H76)","v":{"$error":"#DIV/0!"}},null,{"$f":"FORECAST(10,$A$75:$A$76,J75:J76)","v":{"$error":"#DIV/0!"}},null,{"$f":"FORECAST(10,$A$75:$A$76,L75:L76)","v":{"$error":"#DIV/0!"}},null,{"$f":"FORECAST(10,$A$75:$A$76,N75:N76)","v":{"$error":"#DIV/0!"}}]
[]
[null,null,"Coeff Unf",{"$f":"ROUND(D73/D77,1)","v":{"$error":"#DIV/0!"}},null,{"$f":"ROUND(F73/F77,1)","v":{"$error":"#DIV/0!"}},null,{"$f":"ROUND(H73/H77,1)","v":{"$error":"#DIV/0!"}},null,{"$f":"ROUND(J73/J77,1)","v":{"$error":"#DIV/0!"}},null,{"$f":"ROUND(L73/L77,1)","v":{"$error":"#DIV/0!"}},null,{"$f":"ROUND(N73/N77,1)","v":{"$error":"#DIV/0!"}}]

{"sheet":"S4","index":3,"n_rows":79,"n_cols":17,"rows_kept":79,"cut":false,"hidden":true,"merged":[[53,12,55,13],[53,0,55,1],[53,2,55,3],[53,4,55,5],[53,6,55,7],[53,8,55,9],[53,10,55,11],[52,12,52,13],[36,0,36,1],[45,0,45,1],[52,8,52,9],[44,0,44,1],[52,4,52,5],[52,6,52,7],[52,10,52,11],[50,0,50,1],[51,0,51,1],[52,0,52,1],[52,2,52,3],[28,10,28,11],[28,12,28,13],[29,10,31,11],[29,12,31,13],[28,8,28,9],[29,8,31,9],[34,12,34,13],[33,8,33,9],[33,10,33,11],[34,2,34,3],[34,4,34,5],[34,6,34,7],[34,8,34,9],[34,10,34,11],[33,12,33,13],[27,0,27,1],[9,2,9,3],[29,2,31,3],[29,4,31,5],[29,6,31,7],[9,6,9,7],[35,0,35,1],[33,2,33,3],[28,6,28,7],[33,4,33,5],[33,6,33,7],[34,0,34,1],[28,4,28,5],[1,11,1,12],[2,9,2,10],[2,11,2,12],[3,9,3,10],[3,11,3,12],[1,9,1,10],[4,11,4,12],[9,12,9,13],[10,8,10,9],[10,10,10,11],[10,12,10,13],[9,10,9,11],[5,9,5,10],[4,9,4,10],[5,11,5,12],[9,8,9,9],[5,3,5,8],[10,6,10,7],[7,2,7,4],[7,5,7,6],[58,3,58,13],[69,2,69,13],[9,0,9,1],[20,0,20,1],[21,0,21,1],[26,0,26,1],[10,4,10,5],[33,0,33,1],[28,0,28,1],[28,2,28,3],[9,4,9,5],[12,0,12,1],[11,0,11,1],[10,0,10,1],[10,2,10,3],[29,0,31,1],[0,7,3,8],[1,2,1,6],[2,2,2,6],[3,2,3,6],[4,0,4,1],[0,0,3,1]]}
[]
[null,null,"COMMONWEALTH OF PENNSYLVANIA",null,null,null,null,null,null,"DISTRICT",null,{"$f":"IF(ISBLANK('S1'!L2),\" \",'S1'!L2)","v":" "}]
[null,null,"DEPARTMENT OF TRANSPORTATION",null,null,null,null,null,null,"PLANT CODE",null,{"$f":"IF(ISBLANK('S1'!L3),\" \",'S1'!L3)","v":" "}]
[null,null,"PENNSYLVANIA TURNPIKE COMMISSION",null,null,null,null,null,null,"AGG SIZE",null,{"$f":"IF(ISBLANK('S1'!L4),\" \",'S1'!L4)","v":"2A"}]
[{"$f":"'S1'!A5","v":"Aggregate 2023"},null,null,null,null,null,null,null,null,"#4 Target Value ",null,{"$f":"IF(ISBLANK('S1'!L5),\" \",'S1'!L5)","v":" "}]
[".",null,null,{"$f":"'S1'!D6","v":"Material Test Results for 2A Coarse Aggregate"},null,null,null,null,null,"#16 Target Value",null,{"$f":"IF(ISBLANK('S1'!L6),\" \",'S1'!L6)","v":" "}]
[]
[null,null,"Method of testing",null,null,{"$f":"'S1'!F8:G8","v":"Split sample "},null,null,null,null,null,null,null,null,null,null,{"$f":"IF(F8=\"Complete sample\",1,2)","v":2}]
[]
["Sample No."]
["Date"]
["Starting Weight",null,null,"% Loss",null,"% Loss",null,"% Loss",null,"% Loss",null,"% Loss",null,"% Loss"]
["Ending Weight",null,null,{"$f":"IF(ISBLANK(C12),\" \",IF(ISBLANK(C13),\" \",((C12-C13)/C12)*100))","v":" "},null,{"$f":"IF(ISBLANK(E12),\" \",IF(ISBLANK(E13),\" \",((E12-E13)/E12)*100))","v":" "},null,{"$f":"IF(ISBLANK(G12),\" \",IF(ISBLANK(G13),\" \",((G12-G13)/G12)*100))","v":" "},null,{"$f":"IF(ISBLANK(I12),\" \",IF(ISBLANK(I13),\" \",((I12-I13)/I12)*100))","v":" "},null,{"$f":"IF(ISBLANK(K12),\" \",IF(ISBLANK(K13),\" \",((K12-K13)/K12)*100))","v":" "},null,{"$f":"IF(ISBLANK(M12),\" \",IF(ISBLANK(M13),\" \",((M12-M13)/M12)*100))","v":" "}]
["Spec","Sieve","Wt.","% Passing","Wt.","% Passing","Wt.","% Passing","Wt.","% Passing","Wt.","% Passing","Wt.","% Passing"]
[100,2,null,{"$f":"IF(ISBLANK(C$12),\"  \",IF(ISBLANK(C$13),\" \",IF(ISBLANK(C15),\" \",IF($Q$8=2,ROUND(((C15)/C$12)*100,0),ROUND((C15/$C$12)*100,0)))))","v":"  "},null,{"$f":"IF(ISBLANK(E12),\"  \",IF(ISBLANK(E13),\" \",IF(ISBLANK(E15),\" \",IF($Q$8=2,ROUND(((E15)/E12)*100,0),ROUND((E15/E12)*100,0)))))","v":"  "},null,{"$f":"IF(ISBLANK(G12),\"  \",IF(ISBLANK(G13),\" \",IF(ISBLANK(G15),\" \",IF($Q$8=2,ROUND(((G15)/G12)*100,0),ROUND((G15/G12)*100,0)))))","v":"  "},null,{"$f":"IF(ISBLANK(I12),\"  \",IF(ISBLANK(I13),\" \",IF(ISBLANK(I15),\" \",IF($Q$8=2,ROUND(((I15)/I12)*100,0),ROUND((I15/I12)*100,0)))))","v":"  "},null,{"$f":"IF(ISBLANK(K12),\"  \",IF(ISBLANK(K13),\" \",IF(ISBLANK(K15),\" \",IF($Q$8=2,ROUND(((K15)/K12)*100,0),ROUND((K15/K12)*100,0)))))","v":"  "},null,{"$f":"IF(ISBLANK(M12),\"  \",IF(ISBLANK(M13),\" \",IF(ISBLANK(M15),\" \",IF($Q$8=2,ROUND(((M15)/M12)*100,0),ROUND((M15/M12)*100,0)))))","v":"  "}]
[{"$f":"IF(L4=\"DSA\",\"100\",\"Breaker\")","v":"Breaker"},null,null,"  ",null,{"$f":"IF(ISBLANK(E12),\"  \",IF(ISBLANK(E13),\" \",IF(ISBLANK(E16),\" \",IF($Q$8=2,ROUND(((E16)/E12)*100,0),ROUND((E16/E12)*100,0)))))","v":"  "},null,{"$f":"IF(ISBLANK(G12),\"  \",IF(ISBLANK(G13),\" \",IF(ISBLANK(G16),\" \",IF($Q$8=2,ROUND(((G16)/G12)*100,0),ROUND((G16/G12)*100,0)))))","v":"  "},null,{"$f":"IF(ISBLANK(I12),\"  \",IF(ISBLANK(I13),\" \",IF(ISBLANK(I16),\" \",IF($Q$8=2,ROUND(((I16)/I12)*100,0),ROUND((I16/I12)*100,0)))))","v":"  "},null,{"$f":"IF(ISBLANK(K12),\"  \",IF(ISBLANK(K13),\" \",IF(ISBLANK(K16),\" \",IF($Q$8=2,ROUND(((K16)/K12)*100,0),ROUND((K16/K12)*100,0)))))","v":"  "},null,{"$f":"IF(ISBLANK(M12),\"  \",IF(ISBLANK(M13),\" \",IF(ISBLANK(M16),\" \",IF($Q$8=2,ROUND(((M16)/M12)*100,0),ROUND((M16/M12)*100,0)))))","v":"  "}]
[{"$f":"IF(L4=\"2RC\",\" \",IF(L4=\"DSA\",\"65-95\",\"52-100\"))","v":"52-100"},0.75,null,"  ",null,{"$f":"IF(ISBLANK(E12),\"  \",IF(ISBLANK(E13),\" \",IF(ISBLANK(E17),\" \",IF($Q$8=2,ROUND(((E17)/E12)*100,0),ROUND((E17/E12)*100,0)))))","v":"  "},null,{"$f":"IF(ISBLANK(G12),\"  \",IF(ISBLANK(G13),\" \",IF(ISBLANK(G17),\" \",IF($Q$8=2,ROUND(((G17)/G12)*100,0),ROUND((G17/G12)*100,0)))))","v":"  "},null,{"$f":"IF(ISBLANK(I12),\"  \",IF(ISBLANK(I13),\" \",IF(ISBLANK(I17),\" \",IF($Q$8=2,ROUND(((I17)/I12)*100,0),ROUND((I17/I12)*100,0)))))","v":"  "},null,{"$f":"IF(ISBLANK(K12),\"  \",IF(ISBLANK(K13),\" \",IF(ISBLANK(K17),\" \",IF($Q$8=2,ROUND(((K17)/K12)*100,0),ROUND((K17/K12)*100,0)))))","v":"  "},null,{"$f":"IF(ISBLANK(M12),\"  \",IF(ISBLANK(M13),\" \",IF(ISBLANK(M17),\" \",IF($Q$8=2,ROUND(((M17)/M12)*100,0),ROUND((M17/M12)*100,0)))))","v":"  "}]
["Breaker",0.5,null,"  ",null,{"$f":"IF(ISBLANK(E12),\"  \",IF(ISBLANK(E13),\" \",IF(ISBLANK(E18),\" \",IF($Q$8=2,ROUND(((E18)/E12)*100,0),ROUND((E18/E12)*100,0)))))","v":"  "},null,{"$f":"IF(ISBLANK(G12),\"  \",IF(ISBLANK(G13),\" \",IF(ISBLANK(G18),\" \",IF($Q$8=2,ROUND(((G18)/G12)*100,0),ROUND((G18/G12)*100,0)))))","v":"  "},null,{"$f":"IF(ISBLANK(I12),\"  \",IF(ISBLANK(I13),\" \",IF(ISBLANK(I18),\" \",IF($Q$8=2,ROUND(((I18)/I12)*100,0),ROUND((I18/I12)*100,0)))))","v":"  "},null,{"$f":"IF(ISBLANK(K12),\"  \",IF(ISBLANK(K13),\" \",IF(ISBLANK(K18),\" \",IF($Q$8=2,ROUND(((K18)/K12)*100,0),ROUND((K18/K12)*100,0)))))","v":"  "},null,{"$f":"IF(ISBLANK(M12),\"  \",IF(ISBLANK(M13),\" \",IF(ISBLANK(M18),\" \",IF($Q$8=2,ROUND(((M18)/M12)*100,0),ROUND((M18/M12)*100,0)))))","v":"  "}]
[{"$f":"IF(L4=\"2A\",\"36-70\",IF(L4=\"DSA\",\" \",IF(L4=\"OGS\",\"36-65\",IF(L4=\"2RC\",\" \",IF(ISBLANK(L4),\"36-70\")))))","v":"36-70"},0.375,null,"  ",null,{"$f":"IF(ISBLANK(E12),\"  \",IF(ISBLANK(E13),\" \",IF(ISBLANK(E19),\" \",IF($Q$8=2,ROUND(((E19)/E12)*100,0),ROUND((E19/E12)*100,0)))))","v":"  "},null,{"$f":"IF(ISBLANK(G12),\"  \",IF(ISBLANK(G13),\" \",IF(ISBLANK(G19),\" \",IF($Q$8=2,ROUND(((G19)/G12)*100,0),ROUND((G19/G12)*100,0)))))","v":"  "},null,{"$f":"IF(ISBLANK(I12),\"  \",IF(ISBLANK(I13),\" \",IF(ISBLANK(I19),\" \",IF($Q$8=2,ROUND(((I19)/I12)*100,0),ROUND((I19/I12)*100,0)))))","v":"  "},null,{"$f":"IF(ISBLANK(K12),\"  \",IF(ISBLANK(K13),\" \",IF(ISBLANK(K19),\" \",IF($Q$8=2,ROUND(((K19)/K12)*100,0),ROUND((K19/K12)*100,0)))))","v":"  "},null,{"$f":"IF(ISBLANK(M12),\"  \",IF(ISBLANK(M13),\" \",IF(ISBLANK(M19),\" \",IF($Q$8=2,ROUND(((M19)/M12)*100,0),ROUND((M19/M12)*100,0)))))","v":"  "}]
[{"$f":"IF(L4=\"2A\",\"24-50\",IF(L4=\"DSA\",\"30-65 \",IF(L4=\"OGS\",\"8-40\",IF(L4=\"2RC\",\"15-60 \",IF(ISBLANK(L4),\"24-50\")))))","v":"24-50"},4,null,"  ",null,{"$f":"IF(ISBLANK(E12),\"  \",IF(ISBLANK(E13),\" \",IF(ISBLANK(E20),\" \",IF($Q$8=2,ROUND(((E20)/E$12)*100,0),ROUND((E20/E12)*100,0)))))","v":"  "},null,{"$f":"IF(ISBLANK(G12),\"  \",IF(ISBLANK(G13),\" \",IF(ISBLANK(G20),\" \",IF($Q$8=2,ROUND(((G20)/G$12)*100,0),ROUND((G20/G12)*100,0)))))","v":"  "},null,{"$f":"IF(ISBLANK(I12),\"  \",IF(ISBLANK(I13),\" \",IF(ISBLANK(I20),\" \",IF($Q$8=2,ROUND(((I20)/I$12)*100,0),ROUND((I20/I12)*100,0)))))","v":"  "},null,{"$f":"IF(ISBLANK(K12),\"  \",IF(ISBLANK(K13),\" \",IF(ISBLANK(K20),\" \",IF($Q$8=2,ROUND(((K20)/K$12)*100,0),ROUND((K20/K12)*100,0)))))","v":"  "},null,{"$f":"IF(ISBLANK(M12),\"  \",IF(ISBLANK(M13),\" \",IF(ISBLANK(M20),\" \",IF($Q$8=2,ROUND(((M20)/M$12)*100,0),ROUND((M20/M12)*100,0)))))","v":"  "}]
["Starting Weight",null,null,{"$f":"IF(ISBLANK(C$12),\"  \",IF(ISBLANK(C$13),\" \",IF($Q$8=2,\"% Loss\",ROUND((C21/$C$12)*100,0))))","v":"  "},null,{"$f":"IF(ISBLANK(E12),\"  \",IF(ISBLANK(E13),\" \",IF($Q$8=2,\"% Loss\",ROUND((E21/E12)*100,0))))","v":"  "},null,{"$f":"IF(ISBLANK(G12),\"  \",IF(ISBLANK(G13),\" \",IF($Q$8=2,\"% Loss\",ROUND((G21/G12)*100,0))))","v":"  "},null,{"$f":"IF(ISBLANK(I12),\"  \",IF(ISBLANK(I13),\" \",IF($Q$8=2,\"% Loss\",ROUND((I21/I12)*100,0))))","v":"  "},null,{"$f":"IF(ISBLANK(K12),\"  \",IF(ISBLANK(K13),\" \",IF($Q$8=2,\"% Loss\",ROUND((K21/K12)*100,0))))","v":"  "},null,{"$f":"IF(ISBLANK(M12),\"  \",IF(ISBLANK(M13),\" \",IF($Q$8=2,\"% Loss\",ROUND((M21/M12)*100,0))))","v":"  "}]
["Ending Weight",null,null,{"$f":"IF(ISBLANK(C$12),\"  \",IF(ISBLANK(C$13),\" \",IF(ISBLANK(C22),\" \",IF($Q$8=2,((C21-C22)/C21)*100,ROUND((C22/$C$12)*100,0)))))","v":"  "},null,{"$f":"IF(ISBLANK(E12),\"  \",IF(ISBLANK(E13),\" \",IF(ISBLANK(E22),\" \",IF($Q$8=2,((E21-E22)/E21)*100,ROUND((E22/E12)*100,0)))))","v":"  "},null,{"$f":"IF(ISBLANK(G12),\"  \",IF(ISBLANK(G13),\" \",IF(ISBLANK(G22),\" \",IF($Q$8=2,((G21-G22)/G21)*100,ROUND((G22/G12)*100,0)))))","v":"  "},null,{"$f":"IF(ISBLANK(I12),\"  \",IF(ISBLANK(I13),\" \",IF(ISBLANK(I22),\" \",IF($Q$8=2,((I21-I22)/I21)*100,ROUND((I22/I12)*100,0)))))","v":"  "},null,{"$f":"IF(ISBLANK(K12),\"  \",IF(ISBLANK(K13),\" \",IF(ISBLANK(K22),\" \",IF($Q$8=2,((K21-K22)/K21)*100,ROUND((K22/K12)*100,0)))))","v":"  "},null,{"$f":"IF(ISBLANK(M12),\"  \",IF(ISBLANK(M13),\" \",IF(ISBLANK(M22),\" \",IF($Q$8=2,((M21-M22)/M21)*100,ROUND((M22/M12)*100,0)))))","v":"  "}]
["Spec","Sieve","Wt.",{"$f":"IF(ISBLANK(C$12),\"  \",IF(ISBLANK(C$13),\" \",IF(ISBLANK(C23),\" \",IF($Q$8=2,\"% Passing\",ROUND((C23/$C$12)*100,0)))))","v":"  "},"Wt.",{"$f":"IF(ISBLANK(E12),\"  \",IF(ISBLANK(E13),\" \",IF(ISBLANK(E23),\" \",IF($Q$8=2,\"% Passing\",ROUND((E23/E12)*100,0)))))","v":"  "},"Wt.",{"$f":"IF(ISBLANK(G12),\"  \",IF(ISBLANK(G13),\" \",IF(ISBLANK(G23),\" \",IF($Q$8=2,\"% Passing\",ROUND((G23/G12)*100,0)))))","v":"  "},"Wt.",{"$f":"IF(ISBLANK(I12),\"  \",IF(ISBLANK(I13),\" \",IF(ISBLANK(I23),\" \",IF($Q$8=2,\"% Passing\",ROUND((I23/I12)*100,0)))))","v":"  "},"Wt.",{"$f":"IF(ISBLANK(K12),\"  \",IF(ISBLANK(K13),\" \",IF(ISBLANK(K23),\" \",IF($Q$8=2,\"% Passing\",ROUND((K23/K12)*100,0)))))","v":"  "},"Wt.",{"$f":"IF(ISBLANK(M12),\"  \",IF(ISBLANK(M13),\" \",IF(ISBLANK(M23),\" \",IF($Q$8=2,\"% Passing\",ROUND((M23/M12)*100,0)))))","v":"  "}]
[{"$f":"IF(L4=\"2A\",\"10-30\",IF(L4=\"DSA\",\"15-30\",IF(L4=\"OGS\",\"0-12\",IF(L4=\"2RC\",\"0-30\",IF(ISBLANK(L4),\"10-30\")))))","v":"10-30"},{"$f":"IF(L4=\"2RC\",100,16)","v":16},null,{"$f":"IF(ISBLANK(C$12),\"  \",IF(ISBLANK(C$13),\" \",IF(ISBLANK(C24),\" \",IF($Q$8=2,(C20/C21*C24)/C12*100,ROUND((C24/$C$12)*100,0)))))","v":"  "},null,{"$f":"IF(ISBLANK(E12),\"  \",IF(ISBLANK(E13),\" \",IF(ISBLANK(E24),\" \",IF($Q$8=2,(E20/E21*E24)/E12*100,ROUND((E24/E12)*100,0)))))","v":"  "},null,{"$f":"IF(ISBLANK(G12),\"  \",IF(ISBLANK(G13),\" \",IF(ISBLANK(G24),\" \",IF($Q$8=2,(G20/G21*G24)/G12*100,ROUND((G24/G12)*100,0)))))","v":"  "},null,{"$f":"IF(ISBLANK(I12),\"  \",IF(ISBLANK(I13),\" \",IF(ISBLANK(I24),\" \",IF($Q$8=2,(I20/I21*I24)/I12*100,ROUND((I24/I12)*100,0)))))","v":"  "},null,{"$f":"IF(ISBLANK(K12),\"  \",IF(ISBLANK(K13),\" \",IF(ISBLANK(K24),\" \",IF($Q$8=2,(K20/K21*K24)/K12*100,ROUND((K24/K12)*100,0)))))","v":"  "},null,{"$f":"IF(ISBLANK(M12),\"  \",IF(ISBLANK(M13),\" \",IF(ISBLANK(M24),\" \",IF($Q$8=2,(M20/M21*M24)/M12*100,ROUND((M24/M12)*100,0)))))","v":"  "}]
[{"$f":"IF(L4=\"DSA\",\"10-15\",\"Info\")","v":"Info"},200,null,{"$f":"IF(ISBLANK(C$12),\"  \",IF(ISBLANK(C$13),\" \",IF(ISBLANK(C25),\" \",IF($Q$8=2,(C20/C21*C25)/C12*100,ROUND((C25/$C$12)*100,0)))))","v":"  "},null,{"$f":"IF(ISBLANK(E12),\"  \",IF(ISBLANK(E13),\" \",IF(ISBLANK(E25),\" \",IF($Q$8=2,(E20/E21*E25)/E12*100,ROUND((E25/E12)*100,0)))))","v":"  "},null,{"$f":"IF(ISBLANK(G12),\"  \",IF(ISBLANK(G13),\" \",IF(ISBLANK(G25),\" \",IF($Q$8=2,(G20/G21*G25)/G12*100,ROUND((G25/G12)*100,0)))))","v":"  "},null,{"$f":"IF(ISBLANK(I12),\"  \",IF(ISBLANK(I13),\" \",IF(ISBLANK(I25),\" \",IF($Q$8=2,(I20/I21*I25)/I12*100,ROUND((I25/I12)*100,0)))))","v":"  "},null,{"$f":"IF(ISBLANK(K12),\"  \",IF(ISBLANK(K13),\" \",IF(ISBLANK(K25),\" \",IF($Q$8=2,(K20/K21*K25)/K12*100,ROUND((K25/K12)*100,0)))))","v":"  "},null,{"$f":"IF(ISBLANK(M12),\"  \",IF(ISBLANK(M13),\" \",IF(ISBLANK(M25),\" \",IF($Q$8=2,(M20/M21*M25)/M12*100,ROUND((M25/M12)*100,0)))))","v":"  "}]
["Wash ",{"$f":"IF(L4=\"2A\",\"0-10\",IF(L4=\"OGS\",\"0-5\",IF(L4=\"DSA\",\"10-15\",IF(L4=\"2RC\",\" \",IF(ISBLANK(L4),\"0-10\")))))","v":"0-10"},{"$f":"IF($L$4=\"OGS\",\"Coeff. Unf.\",\" \")","v":" "},{"$f":"IF(ISBLANK($L$4),\" \",IF($L$4=\"2A\",\" \",IF($L$4=\"2RC\",\" \",IF(ISERROR(D68),\" \",D68))))","v":" "},{"$f":"IF($L$4=\"OGS\",\"Coeff. Unf.\",\" \")","v":" "},{"$f":"IF(ISBLANK($L$4),\" \",IF($L$4=\"2A\",\" \",IF($L$4=\"2RC\",\" \",IF(ISERROR(F68),\" \",F68))))","v":" "},{"$f":"IF($L$4=\"OGS\",\"Coeff. Unf.\",\" \")","v":" "},{"$f":"IF(ISBLANK($L$4),\" \",IF($L$4=\"2A\",\" \",IF($L$4=\"2RC\",\" \",IF(ISERROR(H68),\" \",H68))))","v":" "},{"$f":"IF($L$4=\"OGS\",\"Coeff. Unf.\",\" \")","v":" "},{"$f":"IF(ISBLANK($L$4),\" \",IF($L$4=\"2A\",\" \",IF($L$4=\"2RC\",\" \",IF(ISERROR(J68),\" \",J68))))","v":" "},{"$f":"IF($L$4=\"OGS\",\"Coeff. Unf.\",\" \")","v":" "},{"$f":"IF(ISBLANK($L$4),\" \",IF($L$4=\"2A\",\" \",IF($L$4=\"2RC\",\" \",IF(ISERROR(L68),\" \",L68))))","v":" "},{"$f":"IF($L$4=\"OGS\",\"Coeff. Unf.\",\" \")","v":" "},{"$f":"IF(ISBLANK($L$4),\" \",IF($L$4=\"2A\",\" \",IF($L$4=\"2RC\",\" \",IF(ISERROR(N68),\" \",N68))))","v":" "}]
["St. Wt. Before Wash",null,null,"% Passing",null,"% Passing",null,"% Passing",null,"% Passing",null,"% Passing",null,"% Passing"]
["End Wt. After Wash",null,null,{"$f":"IF(ISBLANK(C27),\" \",IF(ISBLANK(C28),\" \",((C27-C28)/C27)*100))","v":" "},null,{"$f":"IF(ISBLANK(E27),\" \",IF(ISBLANK(E28),\" \",((E27-E28)/E27)*100))","v":" "},null,{"$f":"IF(ISBLANK(G27),\" \",IF(ISBLANK(G28),\" \",((G27-G28)/G27)*100))","v":" "},null,{"$f":"IF(ISBLANK(I27),\" \",IF(ISBLANK(I28),\" \",((I27-I28)/I27)*100))","v":" "},null,{"$f":"IF(ISBLANK(K27),\" \",IF(ISBLANK(K28),\" \",((K27-K28)/K27)*100))","v":" "},null,{"$f":"IF(ISBLANK(M27),\" \",IF(ISBLANK(M28),\" \",((M27-M28)/M27)*100))","v":" "}]
["Tested By"]
["Remarks"]
[]
[]
[]
["Sample No."]
["Date"]
["Starting Weight",null,null,"% Loss",null,"% Loss",null,"% Loss",null,"% Loss",null,"% Loss",null,"% Loss"]
["Ending Weight",null,null,{"$f":"IF(ISBLANK(C36),\" \",IF(ISBLANK(C37),\" \",((C36-C37)/C36)*100))","v":" "},null,{"$f":"IF(ISBLANK(E36),\" \",IF(ISBLANK(E37),\" \",((E36-E37)/E36)*100))","v":" "},null,{"$f":"IF(ISBLANK(G36),\" \",IF(ISBLANK(G37),\" \",((G36-G37)/G36)*100))","v":" "},null,{"$f":"IF(ISBLANK(I36),\" \",IF(ISBLANK(I37),\" \",((I36-I37)/I36)*100))","v":" "},null,{"$f":"IF(ISBLANK(K36),\" \",IF(ISBLANK(K37),\" \",((K36-K37)/K36)*100))","v":" "},null,{"$f":"IF(ISBLANK(M36),\" \",IF(ISBLANK(M37),\" \",((M36-M37)/M36)*100))","v":" "}]
["Spec","Sieve","Wt.","% Passing","Wt.","% Passing","Wt.","% Passing","Wt.","% Passing","Wt.","% Passing","Wt.","% Passing"]
[100,2,null,{"$f":"IF(ISBLANK(C36),\"  \",IF(ISBLANK(C37),\" \",IF(ISBLANK(C39),\" \",IF($Q$8=2,ROUND(((C39)/C36)*100,0),ROUND((C39/C36)*100,0)))))","v":"  "},null,{"$f":"IF(ISBLANK(E36),\"  \",IF(ISBLANK(E37),\" \",IF(ISBLANK(E39),\" \",IF($Q$8=2,ROUND(((E39)/E36)*100,0),ROUND((E39/E36)*100,0)))))","v":"  "},null,{"$f":"IF(ISBLANK(G36),\"  \",IF(ISBLANK(G37),\" \",IF(ISBLANK(G39),\" \",IF($Q$8=2,ROUND(((G39)/G36)*100,0),ROUND((G39/G36)*100,0)))))","v":"  "},null,{"$f":"IF(ISBLANK(I36),\"  \",IF(ISBLANK(I37),\" \",IF(ISBLANK(I39),\" \",IF($Q$8=2,ROUND(((I39)/I36)*100,0),ROUND((I39/I36)*100,0)))))","v":"  "},null,{"$f":"IF(ISBLANK(K36),\"  \",IF(ISBLANK(K37),\" \",IF(ISBLANK(K39),\" \",IF($Q$8=2,ROUND(((K39)/K36)*100,0),ROUND((K39/K36)*100,0)))))","v":"  "},null,{"$f":"IF(ISBLANK(M36),\"  \",IF(ISBLANK(M37),\" \",IF(ISBLANK(M39),\" \",IF($Q$8=2,ROUND(((M39)/M36)*100,0),ROUND((M39/M36)*100,0)))))","v":"  "}]
[{"$f":"IF(L4=\"DSA\",\"100\",\"Breaker\")","v":"Breaker"},{"$f":"'S1'!B16","v":1},null,{"$f":"IF(ISBLANK(C36),\"  \",IF(ISBLANK(C37),\" \",IF(ISBLANK(C40),\" \",IF($Q$8=2,ROUND(((C40)/C36)*100,0),ROUND((C40/C36)*100,0)))))","v":"  "},null,{"$f":"IF(ISBLANK(E36),\"  \",IF(ISBLANK(E37),\" \",IF(ISBLANK(E40),\" \",IF($Q$8=2,ROUND(((E40)/E36)*100,0),ROUND((E40/E36)*100,0)))))","v":"  "},null,{"$f":"IF(ISBLANK(G36),\"  \",IF(ISBLANK(G37),\" \",IF(ISBLANK(G40),\" \",IF($Q$8=2,ROUND(((G40)/G36)*100,0),ROUND((G40/G36)*100,0)))))","v":"  "},null,{"$f":"IF(ISBLANK(I36),\"  \",IF(ISBLANK(I37),\" \",IF(ISBLANK(I40),\" \",IF($Q$8=2,ROUND(((I40)/I36)*100,0),ROUND((I40/I36)*100,0)))))","v":"  "},null,{"$f":"IF(ISBLANK(K36),\"  \",IF(ISBLANK(K37),\" \",IF(ISBLANK(K40),\" \",IF($Q$8=2,ROUND(((K40)/K36)*100,0),ROUND((K40/K36)*100,0)))))","v":"  "},null,{"$f":"IF(ISBLANK(M36),\"  \",IF(ISBLANK(M37),\" \",IF(ISBLANK(M40),\" \",IF($Q$8=2,ROUND(((M40)/M36)*100,0),ROUND((M40/M36)*100,0)))))","v":"  "}]
[{"$f":"IF(L4=\"2RC\",\" \",IF(L4=\"DSA\",\"65-95\",\"52-100\"))","v":"52-100"},0.75,null,{"$f":"IF(ISBLANK(C36),\"  \",IF(ISBLANK(C37),\" \",IF(ISBLANK(C41),\" \",IF($Q$8=2,ROUND(((C41)/C36)*100,0),ROUND((C41/C36)*100,0)))))","v":"  "},null,{"$f":"IF(ISBLANK(E36),\"  \",IF(ISBLANK(E37),\" \",IF(ISBLANK(E41),\" \",IF($Q$8=2,ROUND(((E41)/E36)*100,0),ROUND((E41/E36)*100,0)))))","v":"  "},null,{"$f":"IF(ISBLANK(G36),\"  \",IF(ISBLANK(G37),\" \",IF(ISBLANK(G41),\" \",IF($Q$8=2,ROUND(((G41)/G36)*100,0),ROUND((G41/G36)*100,0)))))","v":"  "},null,{"$f":"IF(ISBLANK(I36),\"  \",IF(ISBLANK(I37),\" \",IF(ISBLANK(I41),\" \",IF($Q$8=2,ROUND(((I41)/I36)*100,0),ROUND((I41/I36)*100,0)))))","v":"  "},null,{"$f":"IF(ISBLANK(K36),\"  \",IF(ISBLANK(K37),\" \",IF(ISBLANK(K41),\" \",IF($Q$8=2,ROUND(((K41)/K36)*100,0),ROUND((K41/K36)*100,0)))))","v":"  "},null,{"$f":"IF(ISBLANK(M36),\"  \",IF(ISBLANK(M37),\" \",IF(ISBLANK(M41),\" \",IF($Q$8=2,ROUND(((M41)/M36)*100,0),ROUND((M41/M36)*100,0)))))","v":"  "}]
["Breaker",0.5,null,{"$f":"IF(ISBLANK(C36),\"  \",IF(ISBLANK(C37),\" \",IF(ISBLANK(C42),\" \",IF($Q$8=2,ROUND(((C42)/C36)*100,0),ROUND((C42/C36)*100,0)))))","v":"  "},null,{"$f":"IF(ISBLANK(E36),\"  \",IF(ISBLANK(E37),\" \",IF(ISBLANK(E42),\" \",IF($Q$8=2,ROUND(((E42)/E36)*100,0),ROUND((E42/E36)*100,0)))))","v":"  "},null,{"$f":"IF(ISBLANK(G36),\"  \",IF(ISBLANK(G37),\" \",IF(ISBLANK(G42),\" \",IF($Q$8=2,ROUND(((G42)/G36)*100,0),ROUND((G42/G36)*100,0)))))","v":"  "},null,{"$f":"IF(ISBLANK(I36),\"  \",IF(ISBLANK(I37),\" \",IF(ISBLANK(I42),\" \",IF($Q$8=2,ROUND(((I42)/I36)*100,0),ROUND((I42/I36)*100,0)))))","v":"  "},null,{"$f":"IF(ISBLANK(K36),\"  \",IF(ISBLANK(K37),\" \",IF(ISBLANK(K42),\" \",IF($Q$8=2,ROUND(((K42)/K36)*100,0),ROUND((K42/K36)*100,0)))))","v":"  "},null,{"$f":"IF(ISBLANK(M36),\"  \",IF(ISBLANK(M37),\" \",IF(ISBLANK(M42),\" \",IF($Q$8=2,ROUND(((M42)/M36)*100,0),ROUND((M42/M36)*100,0)))))","v":"  "}]
[{"$f":"IF(L4=\"2A\",\"36-70\",IF(L4=\"DSA\",\" \",IF(L4=\"OGS\",\"36-65\",IF(L4=\"2RC\",\" \",IF(ISBLANK(L4),\"36-70\")))))","v":"36-70"},0.375,null,{"$f":"IF(ISBLANK(C36),\"  \",IF(ISBLANK(C37),\" \",IF(ISBLANK(C43),\" \",IF($Q$8=2,ROUND(((C43)/C36)*100,0),ROUND((C43/C36)*100,0)))))","v":"  "},null,{"$f":"IF(ISBLANK(E36),\"  \",IF(ISBLANK(E37),\" \",IF(ISBLANK(E43),\" \",IF($Q$8=2,ROUND(((E43)/E36)*100,0),ROUND((E43/E36)*100,0)))))","v":"  "},null,{"$f":"IF(ISBLANK(G36),\"  \",IF(ISBLANK(G37),\" \",IF(ISBLANK(G43),\" \",IF($Q$8=2,ROUND(((G43)/G36)*100,0),ROUND((G43/G36)*100,0)))))","v":"  "},null,{"$f":"IF(ISBLANK(I36),\"  \",IF(ISBLANK(I37),\" \",IF(ISBLANK(I43),\" \",IF($Q$8=2,ROUND(((I43)/I36)*100,0),ROUND((I43/I36)*100,0)))))","v":"  "},null,{"$f":"IF(ISBLANK(K36),\"  \",IF(ISBLANK(K37),\" \",IF(ISBLANK(K43),\" \",IF($Q$8=2,ROUND(((K43)/K36)*100,0),ROUND((K43/K36)*100,0)))))","v":"  "},null,{"$f":"IF(ISBLANK(M36),\"  \",IF(ISBLANK(M37),\" \",IF(ISBLANK(M43),\" \",IF($Q$8=2,ROUND(((M43)/M36)*100,0),ROUND((M43/M36)*100,0)))))","v":"  "}]
[{"$f":"IF(L4=\"2A\",\"24-50\",IF(L4=\"DSA\",\"30-65 \",IF(L4=\"OGS\",\"8-40\",IF(L4=\"2RC\",\"15-60 \",IF(ISBLANK(4),\"24-50\")))))","v":"24-50"},4,null,{"$f":"IF(ISBLANK(C36),\"  \",IF(ISBLANK(C37),\" \",IF(ISBLANK(C44),\" \",IF($Q$8=2,ROUND(((C44)/C36)*100,0),ROUND((C44/C36)*100,0)))))","v":"  "},null,{"$f":"IF(ISBLANK(E36),\"  \",IF(ISBLANK(E37),\" \",IF(ISBLANK(E44),\" \",IF($Q$8=2,ROUND(((E44)/E36)*100,0),ROUND((E44/E36)*100,0)))))","v":"  "},null,{"$f":"IF(ISBLANK(G36),\"  \",IF(ISBLANK(G37),\" \",IF(ISBLANK(G44),\" \",IF($Q$8=2,ROUND(((G44)/G36)*100,0),ROUND((G44/G36)*100,0)))))","v":"  "},null,{"$f":"IF(ISBLANK(I36),\"  \",IF(ISBLANK(I37),\" \",IF(ISBLANK(I44),\" \",IF($Q$8=2,ROUND(((I44)/I36)*100,0),ROUND((I44/I36)*100,0)))))","v":"  "},null,{"$f":"IF(ISBLANK(K36),\"  \",IF(ISBLANK(K37),\" \",IF(ISBLANK(K44),\" \",IF($Q$8=2,ROUND(((K44)/K36)*100,0),ROUND((K44/K36)*100,0)))))","v":"  "},null,{"$f":"IF(ISBLANK(M36),\"  \",IF(ISBLANK(M37),\" \",IF(ISBLANK(M44),\" \",IF($Q$8=2,ROUND(((M44)/M36)*100,0),ROUND((M44/M36)*100,0)))))","v":"  "}]
["Starting Weight",null,null,{"$f":"IF(ISBLANK(C36),\"  \",IF(ISBLANK(C37),\" \",IF($Q$8=2,\"% Loss\",ROUND((C45/C36)*100,0))))","v":"  "},null,{"$f":"IF(ISBLANK(E36),\"  \",IF(ISBLANK(E37),\" \",IF($Q$8=2,\"% Loss\",ROUND((E45/E36)*100,0))))","v":"  "},null,{"$f":"IF(ISBLANK(G36),\"  \",IF(ISBLANK(G37),\" \",IF($Q$8=2,\"% Loss\",ROUND((G45/G36)*100,0))))","v":"  "},null,{"$f":"IF(ISBLANK(I36),\"  \",IF(ISBLANK(I37),\" \",IF($Q$8=2,\"% Loss\",ROUND((I45/I36)*100,0))))","v":"  "},null,{"$f":"IF(ISBLANK(K36),\"  \",IF(ISBLANK(K37),\" \",IF($Q$8=2,\"% Loss\",ROUND((K45/K36)*100,0))))","v":"  "},null,{"$f":"IF(ISBLANK(M36),\"  \",IF(ISBLANK(M37),\" \",IF($Q$8=2,\"% Loss\",ROUND((M45/M36)*100,0))))","v":"  "}]
["Ending Weight",null,null,{"$f":"IF(ISBLANK(C36),\"  \",IF(ISBLANK(C37),\" \",IF(ISBLANK(C46),\" \",IF($Q$8=2,((C45-C46)/C45)*100,ROUND((C46/C36)*100,0)))))","v":"  "},null,{"$f":"IF(ISBLANK(E36),\"  \",IF(ISBLANK(E37),\" \",IF(ISBLANK(E46),\" \",IF($Q$8=2,((E45-E46)/E45)*100,ROUND((E46/E36)*100,0)))))","v":"  "},null,{"$f":"IF(ISBLANK(G36),\"  \",IF(ISBLANK(G37),\" \",IF(ISBLANK(G46),\" \",IF($Q$8=2,((G45-G46)/G45)*100,ROUND((G46/G36)*100,0)))))","v":"  "},null,{"$f":"IF(ISBLANK(I36),\"  \",IF(ISBLANK(I37),\" \",IF(ISBLANK(I46),\" \",IF($Q$8=2,((I45-I46)/I45)*100,ROUND((I46/I36)*100,0)))))","v":"  "},null,{"$f":"IF(ISBLANK(K36),\"  \",IF(ISBLANK(K37),\" \",IF(ISBLANK(K46),\" \",IF($Q$8=2,((K45-K46)/K45)*100,ROUND((K46/K36)*100,0)))))","v":"  "},null,{"$f":"IF(ISBLANK(M36),\"  \",IF(ISBLANK(M37),\" \",IF(ISBLANK(M46),\" \",IF($Q$8=2,((M45-M46)/M45)*100,ROUND((M46/M36)*100,0)))))","v":"  "}]
["Spec","Sieve","Wt.",{"$f":"IF(ISBLANK(C36),\"  \",IF(ISBLANK(C37),\" \",IF(ISBLANK(C47),\" \",IF($Q$8=2,\"% Passing\",ROUND((C47/C36)*100,0)))))","v":"  "},"Wt.",{"$f":"IF(ISBLANK(E36),\"  \",IF(ISBLANK(E37),\" \",IF(ISBLANK(E47),\" \",IF($Q$8=2,\"% Passing\",ROUND((E47/E36)*100,0)))))","v":"  "},"Wt.",{"$f":"IF(ISBLANK(G36),\"  \",IF(ISBLANK(G37),\" \",IF(ISBLANK(G47),\" \",IF($Q$8=2,\"% Passing\",ROUND((G47/G36)*100,0)))))","v":"  "},"Wt.",{"$f":"IF(ISBLANK(I36),\"  \",IF(ISBLANK(I37),\" \",IF(ISBLANK(I47),\" \",IF($Q$8=2,\"% Passing\",ROUND((I47/I36)*100,0)))))","v":"  "},"Wt.",{"$f":"IF(ISBLANK(K36),\"  \",IF(ISBLANK(K37),\" \",IF(ISBLANK(K47),\" \",IF($Q$8=2,\"% Passing\",ROUND((K47/K36)*100,0)))))","v":"  "},"Wt.",{"$f":"IF(ISBLANK(M36),\"  \",IF(ISBLANK(M37),\" \",IF(ISBLANK(M47),\" \",IF($Q$8=2,\"% Passing\",ROUND((M47/M36)*100,0)))))","v":"  "}]
[{"$f":"IF(L4=\"2A\",\"10-30\",IF(L4=\"DSA\",\"15-30\",IF(L4=\"OGS\",\"0-12\",IF(L4=\"2RC\",\"0-30\",IF(ISBLANK(L4),\"10-30\")))))","v":"10-30"},{"$f":"IF(L4=\"2RC\",100,16)","v":16},null,{"$f":"IF(ISBLANK(C36),\"  \",IF(ISBLANK(C37),\" \",IF(ISBLANK(C48),\" \",IF($Q$8=2,(C44/C45*C48)/C36*100,ROUND((C48/C36)*100,0)))))","v":"  "},null,{"$f":"IF(ISBLANK(E36),\"  \",IF(ISBLANK(E37),\" \",IF(ISBLANK(E48),\" \",IF($Q$8=2,(E44/E45*E48)/E36*100,ROUND((E48/E36)*100,0)))))","v":"  "},null,{"$f":"IF(ISBLANK(G36),\"  \",IF(ISBLANK(G37),\" \",IF(ISBLANK(G48),\" \",IF($Q$8=2,(G44/G45*G48)/G36*100,ROUND((G48/G36)*100,0)))))","v":"  "},null,{"$f":"IF(ISBLANK(I36),\"  \",IF(ISBLANK(I37),\" \",IF(ISBLANK(I48),\" \",IF($Q$8=2,(I44/I45*I48)/I36*100,ROUND((I48/I36)*100,0)))))","v":"  "},null,{"$f":"IF(ISBLANK(K36),\"  \",IF(ISBLANK(K37),\" \",IF(ISBLANK(K48),\" \",IF($Q$8=2,(K44/K45*K48)/K36*100,ROUND((K48/K36)*100,0)))))","v":"  "},null,{"$f":"IF(ISBLANK(M36),\"  \",IF(ISBLANK(M37),\" \",IF(ISBLANK(M48),\" \",IF($Q$8=2,(M44/M45*M48)/M36*100,ROUND((M48/M36)*100,0)))))","v":"  "}]
[{"$f":"IF(L4=\"DSA\",\"10-15\",\"Info\")","v":"Info"},200,null,{"$f":"IF(ISBLANK(C36),\"  \",IF(ISBLANK(C37),\" \",IF(ISBLANK(C49),\" \",IF($Q$8=2,(C44/C45*C49)/C36*100,ROUND((C49/C36)*100,0)))))","v":"  "},null,{"$f":"IF(ISBLANK(E36),\"  \",IF(ISBLANK(E37),\" \",IF(ISBLANK(E49),\" \",IF($Q$8=2,(E44/E45*E49)/E36*100,ROUND((E49/E36)*100,0)))))","v":"  "},null,{"$f":"IF(ISBLANK(G36),\"  \",IF(ISBLANK(G37),\" \",IF(ISBLANK(G49),\" \",IF($Q$8=2,(G44/G45*G49)/G36*100,ROUND((G49/G36)*100,0)))))","v":"  "},null,{"$f":"IF(ISBLANK(I36),\"  \",IF(ISBLANK(I37),\" \",IF(ISBLANK(I49),\" \",IF($Q$8=2,(I44/I45*I49)/I36*100,ROUND((I49/I36)*100,0)))))","v":"  "},null,{"$f":"IF(ISBLANK(K36),\"  \",IF(ISBLANK(K37),\" \",IF(ISBLANK(K49),\" \",IF($Q$8=2,(K44/K45*K49)/K36*100,ROUND((K49/K36)*100,0)))))","v":"  "},null,{"$f":"IF(ISBLANK(M36),\"  \",IF(ISBLANK(M37),\" \",IF(ISBLANK(M49),\" \",IF($Q$8=2,(M44/M45*M49)/M36*100,ROUND((M49/M36)*100,0)))))","v":"  "}]
["Wash ",{"$f":"IF(L4=\"2A\",\"0-10\",IF(L4=\"OGS\",\"0-5\",IF(L4=\"DSA\",\"10-15\",IF(L4=\"2RC\",\" \",IF(ISBLANK(L4),\"0-10\")))))","v":"0-10"},{"$f":"IF($L$4=\"OGS\",\"Coeff. Unf.\",\" \")","v":" "},{"$f":"IF(ISBLANK($L$4),\" \",IF($L$4=\"2A\",\" \",IF($L$4=\"2RC\",\" \",IF(ISERROR(D79),\" \",D79))))","v":" "},{"$f":"IF($L$4=\"OGS\",\"Coeff. Unf.\",\" \")","v":" "},{"$f":"IF(ISBLANK($L$4),\" \",IF($L$4=\"2A\",\" \",IF($L$4=\"2RC\",\" \",IF(ISERROR(F79),\" \",F79))))","v":" "},{"$f":"IF($L$4=\"OGS\",\"Coeff. Unf.\",\" \")","v":" "},{"$f":"IF(ISBLANK($L$4),\" \",IF($L$4=\"2A\",\" \",IF($L$4=\"2RC\",\" \",IF(ISERROR(H79),\" \",H79))))","v":" "},{"$f":"IF($L$4=\"OGS\",\"Coeff. Unf.\",\" \")","v":" "},{"$f":"IF(ISBLANK($L$4),\" \",IF($L$4=\"2A\",\" \",IF($L$4=\"2RC\",\" \",IF(ISERROR(J79),\" \",J79))))","v":" "},{"$f":"IF($L$4=\"OGS\",\"Coeff. Unf.\",\" \")","v":" "},{"$f":"IF(ISBLANK($L$4),\" \",IF($L$4=\"2A\",\" \",IF($L$4=\"2RC\",\" \",IF(ISERROR(L79),\" \",L79))))","v":" "},{"$f":"IF($L$4=\"OGS\",\"Coeff. Unf.\",\" \")","v":" "},{"$f":"IF(ISBLANK($L$4),\" \",IF($L$4=\"2A\",\" \",IF($L$4=\"2RC\",\" \",IF(ISERROR(N79),\" \",N79))))","v":" "}]
["St. Wt. Before Wash",null,null,"% Passing",null,"% Passing",null,"% Passing",null,"% Passing",null,"% Passing",null,"% Passing"]
["End Wt. After Wash",null,null,{"$f":"IF(ISBLANK(C51),\" \",IF(ISBLANK(C52),\" \",((C51-C52)/C51)*100))","v":" "},null,{"$f":"IF(ISBLANK(E51),\" \",IF(ISBLANK(E52),\" \",((E51-E52)/E51)*100))","v":" "},null,{"$f":"IF(ISBLANK(G51),\" \",IF(ISBLANK(G52),\" \",((G51-G52)/G51)*100))","v":" "},null,{"$f":"IF(ISBLANK(I51),\" \",IF(ISBLANK(I52),\" \",((I51-I52)/I51)*100))","v":" "},null,{"$f":"IF(ISBLANK(K51),\" \",IF(ISBLANK(K52),\" \",((K51-K52)/K51)*100))","v":" "},null,{"$f":"IF(ISBLANK(M51),\" \",IF(ISBLANK(M52),\" \",((M51-M52)/M51)*100))","v":" "}]
["Tested By"]
["Remarks"]
[]
[]
[]
[]
[null,null,null,"Upper Coeff Unf"]
[19,null,19,{"$f":"D17","v":"  "},null,{"$f":"F17","v":"  "},null,{"$f":"H17","v":"  "},null,{"$f":"J17","v":"  "},null,{"$f":"L17","v":"  "},null,{"$f":"N17","v":"  "}]
[9.5,null,9.5,{"$f":"D19","v":"  "},null,{"$f":"F19","v":"  "},null,{"$f":"H19","v":"  "},null,{"$f":"J19","v":"  "},null,{"$f":"L19","v":"  "},null,{"$f":"N19","v":"  "}]
[null,null,"D60",{"$f":"FORECAST(60,$A$60:$A$61,D60:D61)","v":{"$error":"#DIV/0!"}},null,{"$f":"FORECAST(60,$A$60:$A$61,F60:F61)","v":{"$error":"#DIV/0!"}},null,{"$f":"FORECAST(60,$A$60:$A$61,H60:H61)","v":{"$error":"#DIV/0!"}},null,{"$f":"FORECAST(60,$A$60:$A$61,J60:J61)","v":{"$error":"#DIV/0!"}},null,{"$f":"FORECAST(60,$A$60:$A$61,L60:L61)","v":{"$error":"#DIV/0!"}},null,{"$f":"FORECAST(60,$A$60:$A$61,N60:N61)","v":{"$error":"#DIV/0!"}}]
[]
[4.75,null,4.75,{"$f":"D20","v":"  "},null,{"$f":"F20","v":"  "},null,{"$f":"H20","v":"  "},null,{"$f":"J20","v":"  "},null,{"$f":"L20","v":"  "},null,{"$f":"N20","v":"  "}]
[1.18,null,1.18,{"$f":"D24","v":"  "},null,{"$f":"F24","v":"  "},null,{"$f":"H24","v":"  "},null,{"$f":"J24","v":"  "},null,{"$f":"L24","v":"  "},null,{"$f":"N24","v":"  "}]
[null,null,"D10",{"$f":"FORECAST(10,$A$64:$A$65,D64:D65)","v":{"$error":"#DIV/0!"}},null,{"$f":"FORECAST(10,$A$64:$A$65,F64:F65)","v":{"$error":"#DIV/0!"}},null,{"$f":"FORECAST(10,$A$64:$A$65,H64:H65)","v":{"$error":"#DIV/0!"}},null,{"$f":"FORECAST(10,$A$64:$A$65,J64:J65)","v":{"$error":"#DIV/0!"}},null,{"$f":"FORECAST(10,$A$64:$A$65,L64:L65)","v":{"$error":"#DIV/0!"}},null,{"$f":"FORECAST(10,$A$64:$A$65,N64:N65)","v":{"$error":"#DIV/0!"}}]
[]
[null,null,"Coeff Unf",{"$f":"ROUND(D62/D66,1)","v":{"$error":"#DIV/0!"}},null,{"$f":"ROUND(F62/F66,1)","v":{"$error":"#DIV/0!"}},null,{"$f":"ROUND(H62/H66,1)","v":{"$error":"#DIV/0!"}},null,{"$f":"ROUND(J62/J66,1)","v":{"$error":"#DIV/0!"}},null,{"$f":"ROUND(L62/L66,1)","v":{"$error":"#DIV/0!"}},null,{"$f":"ROUND(N62/N66,1)","v":{"$error":"#DIV/0!"}}]
[]
[null,null,"Lower Coff Unf"]
[19,null,19,{"$f":"D41","v":"  "},null,{"$f":"F41","v":"  "},null,{"$f":"H41","v":"  "},null,{"$f":"J41","v":"  "},null,{"$f":"L41","v":"  "},null,{"$f":"N41","v":"  "}]
[9.5,null,9.5,{"$f":"D43","v":"  "},null,{"$f":"F43","v":"  "},null,{"$f":"H43","v":"  "},null,{"$f":"J43","v":"  "},null,{"$f":"L43","v":"  "},null,{"$f":"N43","v":"  "}]
[null,null,"D60",{"$f":"FORECAST(60,$A$71:$A$72,D71:D72)","v":{"$error":"#DIV/0!"}},null,{"$f":"FORECAST(60,$A$71:$A$72,F71:F72)","v":{"$error":"#DIV/0!"}},null,{"$f":"FORECAST(60,$A$71:$A$72,H71:H72)","v":{"$error":"#DIV/0!"}},null,{"$f":"FORECAST(60,$A$71:$A$72,J71:J72)","v":{"$error":"#DIV/0!"}},null,{"$f":"FORECAST(60,$A$71:$A$72,L71:L72)","v":{"$error":"#DIV/0!"}},null,{"$f":"FORECAST(60,$A$71:$A$72,N71:N72)","v":{"$error":"#DIV/0!"}}]
[]
[4.75,null,4.75,{"$f":"D44","v":"  "},null,{"$f":"F44","v":"  "},null,{"$f":"H44","v":"  "},null,{"$f":"J44","v":"  "},null,{"$f":"L44","v":"  "},null,{"$f":"N44","v":"  "}]
[1.18,null,1.18,{"$f":"D48","v":"  "},null,{"$f":"F48","v":"  "},null,{"$f":"H48","v":"  "},null,{"$f":"J48","v":"  "},null,{"$f":"L48","v":"  "},null,{"$f":"N48","v":"  "}]
[null,null,"D10",{"$f":"FORECAST(10,$A$75:$A$76,D75:D76)","v":{"$error":"#DIV/0!"}},null,{"$f":"FORECAST(10,$A$75:$A$76,F75:F76)","v":{"$error":"#DIV/0!"}},null,{"$f":"FORECAST(10,$A$75:$A$76,H75:H76)","v":{"$error":"#DIV/0!"}},null,{"$f":"FORECAST(10,$A$75:$A$76,J75:J76)","v":{"$error":"#DIV/0!"}},null,{"$f":"FORECAST(10,$A$75:$A$76,L75:L76)","v":{"$error":"#DIV/0!"}},null,{"$f":"FORECAST(10,$A$75:$A$76,N75:N76)","v":{"$error":"#DIV/0!"}}]
[]
[null,null,"Coeff Unf",{"$f":"ROUND(D73/D77,1)","v":{"$error":"#DIV/0!"}},null,{"$f":"ROUND(F73/F77,1)","v":{"$error":"#DIV/0!"}},null,{"$f":"ROUND(H73/H77,1)","v":{"$error":"#DIV/0!"}},null,{"$f":"ROUND(J73/J77,1)","v":{"$error":"#DIV/0!"}},null,{"$f":"ROUND(L73/L77,1)","v":{"$error":"#DIV/0!"}},null,{"$f":"ROUND(N73/N77,1)","v":{"$error":"#DIV/0!"}}]

{"sheet":"S5","index":4,"n_rows":79,"n_cols":17,"rows_kept":79,"cut":false,"hidden":true,"merged":[[53,12,55,13],[53,0,55,1],[53,2,55,3],[53,4,55,5],[53,6,55,7],[53,8,55,9],[53,10,55,11],[52,12,52,13],[36,0,36,1],[45,0,45,1],[52,8,52,9],[44,0,44,1],[52,4,52,5],[52,6,52,7],[52,10,52,11],[50,0,50,1],[51,0,51,1],[52,0,52,1],[52,2,52,3],[28,10,28,11],[28,12,28,13],[29,10,31,11],[29,12,31,13],[28,8,28,9],[29,8,31,9],[34,12,34,13],[33,8,33,9],[33,10,33,11],[34,2,34,3],[34,4,34,5],[34,6,34,7],[34,8,34,9],[34,10,34,11],[33,12,33,13],[27,0,27,1],[9,2,9,3],[29,2,31,3],[29,4,31,5],[29,6,31,7],[9,6,9,7],[35,0,35,1],[33,2,33,3],[28,6,28,7],[33,4,33,5],[33,6,33,7],[34,0,34,1],[28,4,28,5],[1,11,1,12],[2,9,2,10],[2,11,2,12],[3,9,3,10],[3,11,3,12],[1,9,1,10],[4,11,4,12],[9,12,9,13],[10,8,10,9],[10,10,10,11],[10,12,10,13],[9,10,9,11],[5,9,5,10],[4,9,4,10],[5,11,5,12],[9,8,9,9],[5,3,5,8],[10,6,10,7],[7,2,7,4],[7,5,7,6],[58,3,58,13],[69,2,69,13],[9,0,9,1],[20,0,20,1],[21,0,21,1],[26,0,26,1],[10,4,10,5],[33,0,33,1],[28,0,28,1],[28,2,28,3],[9,4,9,5],[12,0,12,1],[11,0,11,1],[10,0,10,1],[10,2,10,3],[29,0,31,1],[0,7,3,8],[1,2,1,6],[2,2,2,6],[3,2,3,6],[4,0,4,1],[0,0,3,1]]}
[]
[null,null,"COMMONWEALTH OF PENNSYLVANIA",null,null,null,null,null,null,"DISTRICT",null,{"$f":"IF(ISBLANK('S1'!L2),\" \",'S1'!L2)","v":" "}]
[null,null,"DEPARTMENT OF TRANSPORTATION",null,null,null,null,null,null,"PLANT CODE",null,{"$f":"IF(ISBLANK('S1'!L3),\" \",'S1'!L3)","v":" "}]
[null,null,"PENNSYLVANIA TURNPIKE COMMISSION",null,null,null,null,null,null,"AGG SIZE",null,{"$f":"IF(ISBLANK('S1'!L4),\" \",'S1'!L4)","v":"2A"}]
[{"$f":"'S1'!A5","v":"Aggregate 2023"},null,null,null,null,null,null,null,null,"#4 Target Value ",null,{"$f":"IF(ISBLANK('S1'!L5),\" \",'S1'!L5)","v":" "}]
[".",null,null,{"$f":"'S1'!D6","v":"Material Test Results for 2A Coarse Aggregate"},null,null,null,null,null,"#16 Target Value",null,{"$f":"IF(ISBLANK('S1'!L6),\" \",'S1'!L6)","v":" "}]
[]
[null,null,"Method of testing",null,null,{"$f":"'S1'!F8:G8","v":"Split sample "},null,null,null,null,null,null,null,null,null,null,{"$f":"IF(F8=\"Complete sample\",1,2)","v":2}]
[]
["Sample No."]
["Date"]
["Starting Weight",null,null,"% Loss",null,"% Loss",null,"% Loss",null,"% Loss",null,"% Loss",null,"% Loss"]
["Ending Weight",null,null,{"$f":"IF(ISBLANK(C12),\" \",IF(ISBLANK(C13),\" \",((C12-C13)/C12)*100))","v":" "},null,{"$f":"IF(ISBLANK(E12),\" \",IF(ISBLANK(E13),\" \",((E12-E13)/E12)*100))","v":" "},null,{"$f":"IF(ISBLANK(G12),\" \",IF(ISBLANK(G13),\" \",((G12-G13)/G12)*100))","v":" "},null,{"$f":"IF(ISBLANK(I12),\" \",IF(ISBLANK(I13),\" \",((I12-I13)/I12)*100))","v":" "},null,{"$f":"IF(ISBLANK(K12),\" \",IF(ISBLANK(K13),\" \",((K12-K13)/K12)*100))","v":" "},null,{"$f":"IF(ISBLANK(M12),\" \",IF(ISBLANK(M13),\" \",((M12-M13)/M12)*100))","v":" "}]
["Spec","Sieve","Wt.","% Passing","Wt.","% Passing","Wt.","% Passing","Wt.","% Passing","Wt.","% Passing","Wt.","% Passing"]
[100,2,null,{"$f":"IF(ISBLANK(C$12),\"  \",IF(ISBLANK(C$13),\" \",IF(ISBLANK(C15),\" \",IF($Q$8=2,ROUND(((C15)/C$12)*100,0),ROUND((C15/$C$12)*100,0)))))","v":"  "},null,{"$f":"IF(ISBLANK(E12),\"  \",IF(ISBLANK(E13),\" \",IF(ISBLANK(E15),\" \",IF($Q$8=2,ROUND(((E15)/E12)*100,0),ROUND((E15/E12)*100,0)))))","v":"  "},null,{"$f":"IF(ISBLANK(G12),\"  \",IF(ISBLANK(G13),\" \",IF(ISBLANK(G15),\" \",IF($Q$8=2,ROUND(((G15)/G12)*100,0),ROUND((G15/G12)*100,0)))))","v":"  "},null,{"$f":"IF(ISBLANK(I12),\"  \",IF(ISBLANK(I13),\" \",IF(ISBLANK(I15),\" \",IF($Q$8=2,ROUND(((I15)/I12)*100,0),ROUND((I15/I12)*100,0)))))","v":"  "},null,{"$f":"IF(ISBLANK(K12),\"  \",IF(ISBLANK(K13),\" \",IF(ISBLANK(K15),\" \",IF($Q$8=2,ROUND(((K15)/K12)*100,0),ROUND((K15/K12)*100,0)))))","v":"  "},null,{"$f":"IF(ISBLANK(M12),\"  \",IF(ISBLANK(M13),\" \",IF(ISBLANK(M15),\" \",IF($Q$8=2,ROUND(((M15)/M12)*100,0),ROUND((M15/M12)*100,0)))))","v":"  "}]
[{"$f":"IF(L4=\"DSA\",\"100\",\"Breaker\")","v":"Breaker"},{"$f":"'S1'!B16","v":1},null,"  ",null,{"$f":"IF(ISBLANK(E12),\"  \",IF(ISBLANK(E13),\" \",IF(ISBLANK(E16),\" \",IF($Q$8=2,ROUND(((E16)/E12)*100,0),ROUND((E16/E12)*100,0)))))","v":"  "},null,{"$f":"IF(ISBLANK(G12),\"  \",IF(ISBLANK(G13),\" \",IF(ISBLANK(G16),\" \",IF($Q$8=2,ROUND(((G16)/G12)*100,0),ROUND((G16/G12)*100,0)))))","v":"  "},null,{"$f":"IF(ISBLANK(I12),\"  \",IF(ISBLANK(I13),\" \",IF(ISBLANK(I16),\" \",IF($Q$8=2,ROUND(((I16)/I12)*100,0),ROUND((I16/I12)*100,0)))))","v":"  "},null,{"$f":"IF(ISBLANK(K12),\"  \",IF(ISBLANK(K13),\" \",IF(ISBLANK(K16),\" \",IF($Q$8=2,ROUND(((K16)/K12)*100,0),ROUND((K16/K12)*100,0)))))","v":"  "},null,{"$f":"IF(ISBLANK(M12),\"  \",IF(ISBLANK(M13),\" \",IF(ISBLANK(M16),\" \",IF($Q$8=2,ROUND(((M16)/M12)*100,0),ROUND((M16/M12)*100,0)))))","v":"  "}]
[{"$f":"IF(L4=\"2RC\",\" \",IF(L4=\"DSA\",\"65-95\",\"52-100\"))","v":"52-100"},0.75,null,"  ",null,{"$f":"IF(ISBLANK(E12),\"  \",IF(ISBLANK(E13),\" \",IF(ISBLANK(E17),\" \",IF($Q$8=2,ROUND(((E17)/E12)*100,0),ROUND((E17/E12)*100,0)))))","v":"  "},null,{"$f":"IF(ISBLANK(G12),\"  \",IF(ISBLANK(G13),\" \",IF(ISBLANK(G17),\" \",IF($Q$8=2,ROUND(((G17)/G12)*100,0),ROUND((G17/G12)*100,0)))))","v":"  "},null,{"$f":"IF(ISBLANK(I12),\"  \",IF(ISBLANK(I13),\" \",IF(ISBLANK(I17),\" \",IF($Q$8=2,ROUND(((I17)/I12)*100,0),ROUND((I17/I12)*100,0)))))","v":"  "},null,{"$f":"IF(ISBLANK(K12),\"  \",IF(ISBLANK(K13),\" \",IF(ISBLANK(K17),\" \",IF($Q$8=2,ROUND(((K17)/K12)*100,0),ROUND((K17/K12)*100,0)))))","v":"  "},null,{"$f":"IF(ISBLANK(M12),\"  \",IF(ISBLANK(M13),\" \",IF(ISBLANK(M17),\" \",IF($Q$8=2,ROUND(((M17)/M12)*100,0),ROUND((M17/M12)*100,0)))))","v":"  "}]
["Breaker",0.5,null,"  ",null,{"$f":"IF(ISBLANK(E12),\"  \",IF(ISBLANK(E13),\" \",IF(ISBLANK(E18),\" \",IF($Q$8=2,ROUND(((E18)/E12)*100,0),ROUND((E18/E12)*100,0)))))","v":"  "},null,{"$f":"IF(ISBLANK(G12),\"  \",IF(ISBLANK(G13),\" \",IF(ISBLANK(G18),\" \",IF($Q$8=2,ROUND(((G18)/G12)*100,0),ROUND((G18/G12)*100,0)))))","v":"  "},null,{"$f":"IF(ISBLANK(I12),\"  \",IF(ISBLANK(I13),\" \",IF(ISBLANK(I18),\" \",IF($Q$8=2,ROUND(((I18)/I12)*100,0),ROUND((I18/I12)*100,0)))))","v":"  "},null,{"$f":"IF(ISBLANK(K12),\"  \",IF(ISBLANK(K13),\" \",IF(ISBLANK(K18),\" \",IF($Q$8=2,ROUND(((K18)/K12)*100,0),ROUND((K18/K12)*100,0)))))","v":"  "},null,{"$f":"IF(ISBLANK(M12),\"  \",IF(ISBLANK(M13),\" \",IF(ISBLANK(M18),\" \",IF($Q$8=2,ROUND(((M18)/M12)*100,0),ROUND((M18/M12)*100,0)))))","v":"  "}]
[{"$f":"IF(L4=\"2A\",\"36-70\",IF(L4=\"DSA\",\" \",IF(L4=\"OGS\",\"36-65\",IF(L4=\"2RC\",\" \",IF(ISBLANK(L4),\"36-70\")))))","v":"36-70"},0.375,null,"  ",null,{"$f":"IF(ISBLANK(E12),\"  \",IF(ISBLANK(E13),\" \",IF(ISBLANK(E19),\" \",IF($Q$8=2,ROUND(((E19)/E12)*100,0),ROUND((E19/E12)*100,0)))))","v":"  "},null,{"$f":"IF(ISBLANK(G12),\"  \",IF(ISBLANK(G13),\" \",IF(ISBLANK(G19),\" \",IF($Q$8=2,ROUND(((G19)/G12)*100,0),ROUND((G19/G12)*100,0)))))","v":"  "},null,{"$f":"IF(ISBLANK(I12),\"  \",IF(ISBLANK(I13),\" \",IF(ISBLANK(I19),\" \",IF($Q$8=2,ROUND(((I19)/I12)*100,0),ROUND((I19/I12)*100,0)))))","v":"  "},null,{"$f":"IF(ISBLANK(K12),\"  \",IF(ISBLANK(K13),\" \",IF(ISBLANK(K19),\" \",IF($Q$8=2,ROUND(((K19)/K12)*100,0),ROUND((K19/K12)*100,0)))))","v":"  "},null,{"$f":"IF(ISBLANK(M12),\"  \",IF(ISBLANK(M13),\" \",IF(ISBLANK(M19),\" \",IF($Q$8=2,ROUND(((M19)/M12)*100,0),ROUND((M19/M12)*100,0)))))","v":"  "}]
[{"$f":"IF(L4=\"2A\",\"24-50\",IF(L4=\"DSA\",\"30-65 \",IF(L4=\"OGS\",\"8-40\",IF(L4=\"2RC\",\"15-60 \",IF(ISBLANK(L4),\"24-50\")))))","v":"24-50"},4,null,"  ",null,{"$f":"IF(ISBLANK(E12),\"  \",IF(ISBLANK(E13),\" \",IF(ISBLANK(E20),\" \",IF($Q$8=2,ROUND(((E20)/E$12)*100,0),ROUND((E20/E12)*100,0)))))","v":"  "},null,{"$f":"IF(ISBLANK(G12),\"  \",IF(ISBLANK(G13),\" \",IF(ISBLANK(G20),\" \",IF($Q$8=2,ROUND(((G20)/G$12)*100,0),ROUND((G20/G12)*100,0)))))","v":"  "},null,{"$f":"IF(ISBLANK(I12),\"  \",IF(ISBLANK(I13),\" \",IF(ISBLANK(I20),\" \",IF($Q$8=2,ROUND(((I20)/I$12)*100,0),ROUND((I20/I12)*100,0)))))","v":"  "},null,{"$f":"IF(ISBLANK(K12),\"  \",IF(ISBLANK(K13),\" \",IF(ISBLANK(K20),\" \",IF($Q$8=2,ROUND(((K20)/K$12)*100,0),ROUND((K20/K12)*100,0)))))","v":"  "},null,{"$f":"IF(ISBLANK(M12),\"  \",IF(ISBLANK(M13),\" \",IF(ISBLANK(M20),\" \",IF($Q$8=2,ROUND(((M20)/M$12)*100,0),ROUND((M20/M12)*100,0)))))","v":"  "}]
["Starting Weight",null,null,{"$f":"IF(ISBLANK(C$12),\"  \",IF(ISBLANK(C$13),\" \",IF($Q$8=2,\"% Loss\",ROUND((C21/$C$12)*100,0))))","v":"  "},null,{"$f":"IF(ISBLANK(E12),\"  \",IF(ISBLANK(E13),\" \",IF($Q$8=2,\"% Loss\",ROUND((E21/E12)*100,0))))","v":"  "},null,{"$f":"IF(ISBLANK(G12),\"  \",IF(ISBLANK(G13),\" \",IF($Q$8=2,\"% Loss\",ROUND((G21/G12)*100,0))))","v":"  "},null,{"$f":"IF(ISBLANK(I12),\"  \",IF(ISBLANK(I13),\" \",IF($Q$8=2,\"% Loss\",ROUND((I21/I12)*100,0))))","v":"  "},null,{"$f":"IF(ISBLANK(K12),\"  \",IF(ISBLANK(K13),\" \",IF($Q$8=2,\"% Loss\",ROUND((K21/K12)*100,0))))","v":"  "},null,{"$f":"IF(ISBLANK(M12),\"  \",IF(ISBLANK(M13),\" \",IF($Q$8=2,\"% Loss\",ROUND((M21/M12)*100,0))))","v":"  "}]
["Ending Weight",null,null,{"$f":"IF(ISBLANK(C$12),\"  \",IF(ISBLANK(C$13),\" \",IF(ISBLANK(C22),\" \",IF($Q$8=2,((C21-C22)/C21)*100,ROUND((C22/$C$12)*100,0)))))","v":"  "},null,{"$f":"IF(ISBLANK(E12),\"  \",IF(ISBLANK(E13),\" \",IF(ISBLANK(E22),\" \",IF($Q$8=2,((E21-E22)/E21)*100,ROUND((E22/E12)*100,0)))))","v":"  "},null,{"$f":"IF(ISBLANK(G12),\"  \",IF(ISBLANK(G13),\" \",IF(ISBLANK(G22),\" \",IF($Q$8=2,((G21-G22)/G21)*100,ROUND((G22/G12)*100,0)))))","v":"  "},null,{"$f":"IF(ISBLANK(I12),\"  \",IF(ISBLANK(I13),\" \",IF(ISBLANK(I22),\" \",IF($Q$8=2,((I21-I22)/I21)*100,ROUND((I22/I12)*100,0)))))","v":"  "},null,{"$f":"IF(ISBLANK(K12),\"  \",IF(ISBLANK(K13),\" \",IF(ISBLANK(K22),\" \",IF($Q$8=2,((K21-K22)/K21)*100,ROUND((K22/K12)*100,0)))))","v":"  "},null,{"$f":"IF(ISBLANK(M12),\"  \",IF(ISBLANK(M13),\" \",IF(ISBLANK(M22),\" \",IF($Q$8=2,((M21-M22)/M21)*100,ROUND((M22/M12)*100,0)))))","v":"  "}]
["Spec","Sieve","Wt.",{"$f":"IF(ISBLANK(C$12),\"  \",IF(ISBLANK(C$13),\" \",IF(ISBLANK(C23),\" \",IF($Q$8=2,\"% Passing\",ROUND((C23/$C$12)*100,0)))))","v":"  "},"Wt.",{"$f":"IF(ISBLANK(E12),\"  \",IF(ISBLANK(E13),\" \",IF(ISBLANK(E23),\" \",IF($Q$8=2,\"% Passing\",ROUND((E23/E12)*100,0)))))","v":"  "},"Wt.",{"$f":"IF(ISBLANK(G12),\"  \",IF(ISBLANK(G13),\" \",IF(ISBLANK(G23),\" \",IF($Q$8=2,\"% Passing\",ROUND((G23/G12)*100,0)))))","v":"  "},"Wt.",{"$f":"IF(ISBLANK(I12),\"  \",IF(ISBLANK(I13),\" \",IF(ISBLANK(I23),\" \",IF($Q$8=2,\"% Passing\",ROUND((I23/I12)*100,0)))))","v":"  "},"Wt.",{"$f":"IF(ISBLANK(K12),\"  \",IF(ISBLANK(K13),\" \",IF(ISBLANK(K23),\" \",IF($Q$8=2,\"% Passing\",ROUND((K23/K12)*100,0)))))","v":"  "},"Wt.",{"$f":"IF(ISBLANK(M12),\"  \",IF(ISBLANK(M13),\" \",IF(ISBLANK(M23),\" \",IF($Q$8=2,\"% Passing\",ROUND((M23/M12)*100,0)))))","v":"  "}]
[{"$f":"IF(L4=\"2A\",\"10-30\",IF(L4=\"DSA\",\"15-30\",IF(L4=\"OGS\",\"0-12\",IF(L4=\"2RC\",\"0-30\",IF(ISBLANK(L4),\"10-30\")))))","v":"10-30"},{"$f":"IF(L4=\"2RC\",100,16)","v":16},null,{"$f":"IF(ISBLANK(C$12),\"  \",IF(ISBLANK(C$13),\" \",IF(ISBLANK(C24),\" \",IF($Q$8=2,(C20/C21*C24)/C12*100,ROUND((C24/$C$12)*100,0)))))","v":"  "},null,{"$f":"IF(ISBLANK(E12),\"  \",IF(ISBLANK(E13),\" \",IF(ISBLANK(E24),\" \",IF($Q$8=2,(E20/E21*E24)/E12*100,ROUND((E24/E12)*100,0)))))","v":"  "},null,{"$f":"IF(ISBLANK(G12),\"  \",IF(ISBLANK(G13),\" \",IF(ISBLANK(G24),\" \",IF($Q$8=2,(G20/G21*G24)/G12*100,ROUND((G24/G12)*100,0)))))","v":"  "},null,{"$f":"IF(ISBLANK(I12),\"  \",IF(ISBLANK(I13),\" \",IF(ISBLANK(I24),\" \",IF($Q$8=2,(I20/I21*I24)/I12*100,ROUND((I24/I12)*100,0)))))","v":"  "},null,{"$f":"IF(ISBLANK(K12),\"  \",IF(ISBLANK(K13),\" \",IF(ISBLANK(K24),\" \",IF($Q$8=2,(K20/K21*K24)/K12*100,ROUND((K24/K12)*100,0)))))","v":"  "},null,{"$f":"IF(ISBLANK(M12),\"  \",IF(ISBLANK(M13),\" \",IF(ISBLANK(M24),\" \",IF($Q$8=2,(M20/M21*M24)/M12*100,ROUND((M24/M12)*100,0)))))","v":"  "}]
[{"$f":"IF(L4=\"DSA\",\"10-15\",\"Info\")","v":"Info"},200,null,{"$f":"IF(ISBLANK(C$12),\"  \",IF(ISBLANK(C$13),\" \",IF(ISBLANK(C25),\" \",IF($Q$8=2,(C20/C21*C25)/C12*100,ROUND((C25/$C$12)*100,0)))))","v":"  "},null,{"$f":"IF(ISBLANK(E12),\"  \",IF(ISBLANK(E13),\" \",IF(ISBLANK(E25),\" \",IF($Q$8=2,(E20/E21*E25)/E12*100,ROUND((E25/E12)*100,0)))))","v":"  "},null,{"$f":"IF(ISBLANK(G12),\"  \",IF(ISBLANK(G13),\" \",IF(ISBLANK(G25),\" \",IF($Q$8=2,(G20/G21*G25)/G12*100,ROUND((G25/G12)*100,0)))))","v":"  "},null,{"$f":"IF(ISBLANK(I12),\"  \",IF(ISBLANK(I13),\" \",IF(ISBLANK(I25),\" \",IF($Q$8=2,(I20/I21*I25)/I12*100,ROUND((I25/I12)*100,0)))))","v":"  "},null,{"$f":"IF(ISBLANK(K12),\"  \",IF(ISBLANK(K13),\" \",IF(ISBLANK(K25),\" \",IF($Q$8=2,(K20/K21*K25)/K12*100,ROUND((K25/K12)*100,0)))))","v":"  "},null,{"$f":"IF(ISBLANK(M12),\"  \",IF(ISBLANK(M13),\" \",IF(ISBLANK(M25),\" \",IF($Q$8=2,(M20/M21*M25)/M12*100,ROUND((M25/M12)*100,0)))))","v":"  "}]
["Wash ",{"$f":"IF(L4=\"2A\",\"0-10\",IF(L4=\"OGS\",\"0-5\",IF(L4=\"DSA\",\"10-15\",IF(L4=\"2RC\",\" \",IF(ISBLANK(L4),\"0-10\")))))","v":"0-10"},{"$f":"IF($L$4=\"OGS\",\"Coeff. Unf.\",\" \")","v":" "},{"$f":"IF(ISBLANK($L$4),\" \",IF($L$4=\"2A\",\" \",IF($L$4=\"2RC\",\" \",IF(ISERROR(D68),\" \",D68))))","v":" "},{"$f":"IF($L$4=\"OGS\",\"Coeff. Unf.\",\" \")","v":" "},{"$f":"IF(ISBLANK($L$4),\" \",IF($L$4=\"2A\",\" \",IF($L$4=\"2RC\",\" \",IF(ISERROR(F68),\" \",F68))))","v":" "},{"$f":"IF($L$4=\"OGS\",\"Coeff. Unf.\",\" \")","v":" "},{"$f":"IF(ISBLANK($L$4),\" \",IF($L$4=\"2A\",\" \",IF($L$4=\"2RC\",\" \",IF(ISERROR(H68),\" \",H68))))","v":" "},{"$f":"IF($L$4=\"OGS\",\"Coeff. Unf.\",\" \")","v":" "},{"$f":"IF(ISBLANK($L$4),\" \",IF($L$4=\"2A\",\" \",IF($L$4=\"2RC\",\" \",IF(ISERROR(J68),\" \",J68))))","v":" "},{"$f":"IF($L$4=\"OGS\",\"Coeff. Unf.\",\" \")","v":" "},{"$f":"IF(ISBLANK($L$4),\" \",IF($L$4=\"2A\",\" \",IF($L$4=\"2RC\",\" \",IF(ISERROR(L68),\" \",L68))))","v":" "},{"$f":"IF($L$4=\"OGS\",\"Coeff. Unf.\",\" \")","v":" "},{"$f":"IF(ISBLANK($L$4),\" \",IF($L$4=\"2A\",\" \",IF($L$4=\"2RC\",\" \",IF(ISERROR(N68),\" \",N68))))","v":" "}]
["St. Wt. Before Wash",null,null,"% Passing",null,"% Passing",null,"% Passing",null,"% Passing",null,"% Passing",null,"% Passing"]
["End Wt. After Wash",null,null,{"$f":"IF(ISBLANK(C27),\" \",IF(ISBLANK(C28),\" \",((C27-C28)/C27)*100))","v":" "},null,{"$f":"IF(ISBLANK(E27),\" \",IF(ISBLANK(E28),\" \",((E27-E28)/E27)*100))","v":" "},null,{"$f":"IF(ISBLANK(G27),\" \",IF(ISBLANK(G28),\" \",((G27-G28)/G27)*100))","v":" "},null,{"$f":"IF(ISBLANK(I27),\" \",IF(ISBLANK(I28),\" \",((I27-I28)/I27)*100))","v":" "},null,{"$f":"IF(ISBLANK(K27),\" \",IF(ISBLANK(K28),\" \",((K27-K28)/K27)*100))","v":" "},null,{"$f":"IF(ISBLANK(M27),\" \",IF(ISBLANK(M28),\" \",((M27-M28)/M27)*100))","v":" "}]
["Tested By"]
["Remarks"]
[]
[]
[]
["Sample No."]
["Date"]
["Starting Weight",null,null,"% Loss",null,"% Loss",null,"% Loss",null,"% Loss",null,"% Loss",null,"% Loss"]
["Ending Weight",null,null,{"$f":"IF(ISBLANK(C36),\" \",IF(ISBLANK(C37),\" \",((C36-C37)/C36)*100))","v":" "},null,{"$f":"IF(ISBLANK(E36),\" \",IF(ISBLANK(E37),\" \",((E36-E37)/E36)*100))","v":" "},null,{"$f":"IF(ISBLANK(G36),\" \",IF(ISBLANK(G37),\" \",((G36-G37)/G36)*100))","v":" "},null,{"$f":"IF(ISBLANK(I36),\" \",IF(ISBLANK(I37),\" \",((I36-I37)/I36)*100))","v":" "},null,{"$f":"IF(ISBLANK(K36),\" \",IF(ISBLANK(K37),\" \",((K36-K37)/K36)*100))","v":" "},null,{"$f":"IF(ISBLANK(M36),\" \",IF(ISBLANK(M37),\" \",((M36-M37)/M36)*100))","v":" "}]
["Spec","Sieve","Wt.","% Passing","Wt.","% Passing","Wt.","% Passing","Wt.","% Passing","Wt.","% Passing","Wt.","% Passing"]
[100,2,null,{"$f":"IF(ISBLANK(C36),\"  \",IF(ISBLANK(C37),\" \",IF(ISBLANK(C39),\" \",IF($Q$8=2,ROUND(((C39)/C36)*100,0),ROUND((C39/C36)*100,0)))))","v":"  "},null,{"$f":"IF(ISBLANK(E36),\"  \",IF(ISBLANK(E37),\" \",IF(ISBLANK(E39),\" \",IF($Q$8=2,ROUND(((E39)/E36)*100,0),ROUND((E39/E36)*100,0)))))","v":"  "},null,{"$f":"IF(ISBLANK(G36),\"  \",IF(ISBLANK(G37),\" \",IF(ISBLANK(G39),\" \",IF($Q$8=2,ROUND(((G39)/G36)*100,0),ROUND((G39/G36)*100,0)))))","v":"  "},null,{"$f":"IF(ISBLANK(I36),\"  \",IF(ISBLANK(I37),\" \",IF(ISBLANK(I39),\" \",IF($Q$8=2,ROUND(((I39)/I36)*100,0),ROUND((I39/I36)*100,0)))))","v":"  "},null,{"$f":"IF(ISBLANK(K36),\"  \",IF(ISBLANK(K37),\" \",IF(ISBLANK(K39),\" \",IF($Q$8=2,ROUND(((K39)/K36)*100,0),ROUND((K39/K36)*100,0)))))","v":"  "},null,{"$f":"IF(ISBLANK(M36),\"  \",IF(ISBLANK(M37),\" \",IF(ISBLANK(M39),\" \",IF($Q$8=2,ROUND(((M39)/M36)*100,0),ROUND((M39/M36)*100,0)))))","v":"  "}]
[{"$f":"IF(L4=\"DSA\",\"100\",\"Breaker\")","v":"Breaker"},{"$f":"'S1'!B40","v":1},null,{"$f":"IF(ISBLANK(C36),\"  \",IF(ISBLANK(C37),\" \",IF(ISBLANK(C40),\" \",IF($Q$8=2,ROUND(((C40)/C36)*100,0),ROUND((C40/C36)*100,0)))))","v":"  "},null,{"$f":"IF(ISBLANK(E36),\"  \",IF(ISBLANK(E37),\" \",IF(ISBLANK(E40),\" \",IF($Q$8=2,ROUND(((E40)/E36)*100,0),ROUND((E40/E36)*100,0)))))","v":"  "},null,{"$f":"IF(ISBLANK(G36),\"  \",IF(ISBLANK(G37),\" \",IF(ISBLANK(G40),\" \",IF($Q$8=2,ROUND(((G40)/G36)*100,0),ROUND((G40/G36)*100,0)))))","v":"  "},null,{"$f":"IF(ISBLANK(I36),\"  \",IF(ISBLANK(I37),\" \",IF(ISBLANK(I40),\" \",IF($Q$8=2,ROUND(((I40)/I36)*100,0),ROUND((I40/I36)*100,0)))))","v":"  "},null,{"$f":"IF(ISBLANK(K36),\"  \",IF(ISBLANK(K37),\" \",IF(ISBLANK(K40),\" \",IF($Q$8=2,ROUND(((K40)/K36)*100,0),ROUND((K40/K36)*100,0)))))","v":"  "},null,{"$f":"IF(ISBLANK(M36),\"  \",IF(ISBLANK(M37),\" \",IF(ISBLANK(M40),\" \",IF($Q$8=2,ROUND(((M40)/M36)*100,0),ROUND((M40/M36)*100,0)))))","v":"  "}]
[{"$f":"IF(L4=\"2RC\",\" \",IF(L4=\"DSA\",\"65-95\",\"52-100\"))","v":"52-100"},0.75,null,{"$f":"IF(ISBLANK(C36),\"  \",IF(ISBLANK(C37),\" \",IF(ISBLANK(C41),\" \",IF($Q$8=2,ROUND(((C41)/C36)*100,0),ROUND((C41/C36)*100,0)))))","v":"  "},null,{"$f":"IF(ISBLANK(E36),\"  \",IF(ISBLANK(E37),\" \",IF(ISBLANK(E41),\" \",IF($Q$8=2,ROUND(((E41)/E36)*100,0),ROUND((E41/E36)*100,0)))))","v":"  "},null,{"$f":"IF(ISBLANK(G36),\"  \",IF(ISBLANK(G37),\" \",IF(ISBLANK(G41),\" \",IF($Q$8=2,ROUND(((G41)/G36)*100,0),ROUND((G41/G36)*100,0)))))","v":"  "},null,{"$f":"IF(ISBLANK(I36),\"  \",IF(ISBLANK(I37),\" \",IF(ISBLANK(I41),\" \",IF($Q$8=2,ROUND(((I41)/I36)*100,0),ROUND((I41/I36)*100,0)))))","v":"  "},null,{"$f":"IF(ISBLANK(K36),\"  \",IF(ISBLANK(K37),\" \",IF(ISBLANK(K41),\" \",IF($Q$8=2,ROUND(((K41)/K36)*100,0),ROUND((K41/K36)*100,0)))))","v":"  "},null,{"$f":"IF(ISBLANK(M36),\"  \",IF(ISBLANK(M37),\" \",IF(ISBLANK(M41),\" \",IF($Q$8=2,ROUND(((M41)/M36)*100,0),ROUND((M41/M36)*100,0)))))","v":"  "}]
["Breaker",0.5,null,{"$f":"IF(ISBLANK(C36),\"  \",IF(ISBLANK(C37),\" \",IF(ISBLANK(C42),\" \",IF($Q$8=2,ROUND(((C42)/C36)*100,0),ROUND((C42/C36)*100,0)))))","v":"  "},null,{"$f":"IF(ISBLANK(E36),\"  \",IF(ISBLANK(E37),\" \",IF(ISBLANK(E42),\" \",IF($Q$8=2,ROUND(((E42)/E36)*100,0),ROUND((E42/E36)*100,0)))))","v":"  "},null,{"$f":"IF(ISBLANK(G36),\"  \",IF(ISBLANK(G37),\" \",IF(ISBLANK(G42),\" \",IF($Q$8=2,ROUND(((G42)/G36)*100,0),ROUND((G42/G36)*100,0)))))","v":"  "},null,{"$f":"IF(ISBLANK(I36),\"  \",IF(ISBLANK(I37),\" \",IF(ISBLANK(I42),\" \",IF($Q$8=2,ROUND(((I42)/I36)*100,0),ROUND((I42/I36)*100,0)))))","v":"  "},null,{"$f":"IF(ISBLANK(K36),\"  \",IF(ISBLANK(K37),\" \",IF(ISBLANK(K42),\" \",IF($Q$8=2,ROUND(((K42)/K36)*100,0),ROUND((K42/K36)*100,0)))))","v":"  "},null,{"$f":"IF(ISBLANK(M36),\"  \",IF(ISBLANK(M37),\" \",IF(ISBLANK(M42),\" \",IF($Q$8=2,ROUND(((M42)/M36)*100,0),ROUND((M42/M36)*100,0)))))","v":"  "}]
[{"$f":"IF(L4=\"2A\",\"36-70\",IF(L4=\"DSA\",\" \",IF(L4=\"OGS\",\"36-65\",IF(L4=\"2RC\",\" \",IF(ISBLANK(L4),\"36-70\")))))","v":"36-70"},0.375,null,{"$f":"IF(ISBLANK(C36),\"  \",IF(ISBLANK(C37),\" \",IF(ISBLANK(C43),\" \",IF($Q$8=2,ROUND(((C43)/C36)*100,0),ROUND((C43/C36)*100,0)))))","v":"  "},null,{"$f":"IF(ISBLANK(E36),\"  \",IF(ISBLANK(E37),\" \",IF(ISBLANK(E43),\" \",IF($Q$8=2,ROUND(((E43)/E36)*100,0),ROUND((E43/E36)*100,0)))))","v":"  "},null,{"$f":"IF(ISBLANK(G36),\"  \",IF(ISBLANK(G37),\" \",IF(ISBLANK(G43),\" \",IF($Q$8=2,ROUND(((G43)/G36)*100,0),ROUND((G43/G36)*100,0)))))","v":"  "},null,{"$f":"IF(ISBLANK(I36),\"  \",IF(ISBLANK(I37),\" \",IF(ISBLANK(I43),\" \",IF($Q$8=2,ROUND(((I43)/I36)*100,0),ROUND((I43/I36)*100,0)))))","v":"  "},null,{"$f":"IF(ISBLANK(K36),\"  \",IF(ISBLANK(K37),\" \",IF(ISBLANK(K43),\" \",IF($Q$8=2,ROUND(((K43)/K36)*100,0),ROUND((K43/K36)*100,0)))))","v":"  "},null,{"$f":"IF(ISBLANK(M36),\"  \",IF(ISBLANK(M37),\" \",IF(ISBLANK(M43),\" \",IF($Q$8=2,ROUND(((M43)/M36)*100,0),ROUND((M43/M36)*100,0)))))","v":"  "}]
[{"$f":"IF(L4=\"2A\",\"24-50\",IF(L4=\"DSA\",\"30-65 \",IF(L4=\"OGS\",\"8-40\",IF(L4=\"2RC\",\"15-60 \",IF(ISBLANK(4),\"24-50\")))))","v":"24-50"},4,null,{"$f":"IF(ISBLANK(C36),\"  \",IF(ISBLANK(C37),\" \",IF(ISBLANK(C44),\" \",IF($Q$8=2,ROUND(((C44)/C36)*100,0),ROUND((C44/C36)*100,0)))))","v":"  "},null,{"$f":"IF(ISBLANK(E36),\"  \",IF(ISBLANK(E37),\" \",IF(ISBLANK(E44),\" \",IF($Q$8=2,ROUND(((E44)/E36)*100,0),ROUND((E44/E36)*100,0)))))","v":"  "},null,{"$f":"IF(ISBLANK(G36),\"  \",IF(ISBLANK(G37),\" \",IF(ISBLANK(G44),\" \",IF($Q$8=2,ROUND(((G44)/G36)*100,0),ROUND((G44/G36)*100,0)))))","v":"  "},null,{"$f":"IF(ISBLANK(I36),\"  \",IF(ISBLANK(I37),\" \",IF(ISBLANK(I44),\" \",IF($Q$8=2,ROUND(((I44)/I36)*100,0),ROUND((I44/I36)*100,0)))))","v":"  "},null,{"$f":"IF(ISBLANK(K36),\"  \",IF(ISBLANK(K37),\" \",IF(ISBLANK(K44),\" \",IF($Q$8=2,ROUND(((K44)/K36)*100,0),ROUND((K44/K36)*100,0)))))","v":"  "},null,{"$f":"IF(ISBLANK(M36),\"  \",IF(ISBLANK(M37),\" \",IF(ISBLANK(M44),\" \",IF($Q$8=2,ROUND(((M44)/M36)*100,0),ROUND((M44/M36)*100,0)))))","v":"  "}]
["Starting Weight",null,null,{"$f":"IF(ISBLANK(C36),\"  \",IF(ISBLANK(C37),\" \",IF($Q$8=2,\"% Loss\",ROUND((C45/C36)*100,0))))","v":"  "},null,{"$f":"IF(ISBLANK(E36),\"  \",IF(ISBLANK(E37),\" \",IF($Q$8=2,\"% Loss\",ROUND((E45/E36)*100,0))))","v":"  "},null,{"$f":"IF(ISBLANK(G36),\"  \",IF(ISBLANK(G37),\" \",IF($Q$8=2,\"% Loss\",ROUND((G45/G36)*100,0))))","v":"  "},null,{"$f":"IF(ISBLANK(I36),\"  \",IF(ISBLANK(I37),\" \",IF($Q$8=2,\"% Loss\",ROUND((I45/I36)*100,0))))","v":"  "},null,{"$f":"IF(ISBLANK(K36),\"  \",IF(ISBLANK(K37),\" \",IF($Q$8=2,\"% Loss\",ROUND((K45/K36)*100,0))))","v":"  "},null,{"$f":"IF(ISBLANK(M36),\"  \",IF(ISBLANK(M37),\" \",IF($Q$8=2,\"% Loss\",ROUND((M45/M36)*100,0))))","v":"  "}]
["Ending Weight",null,null,{"$f":"IF(ISBLANK(C36),\"  \",IF(ISBLANK(C37),\" \",IF(ISBLANK(C46),\" \",IF($Q$8=2,((C45-C46)/C45)*100,ROUND((C46/C36)*100,0)))))","v":"  "},null,{"$f":"IF(ISBLANK(E36),\"  \",IF(ISBLANK(E37),\" \",IF(ISBLANK(E46),\" \",IF($Q$8=2,((E45-E46)/E45)*100,ROUND((E46/E36)*100,0)))))","v":"  "},null,{"$f":"IF(ISBLANK(G36),\"  \",IF(ISBLANK(G37),\" \",IF(ISBLANK(G46),\" \",IF($Q$8=2,((G45-G46)/G45)*100,ROUND((G46/G36)*100,0)))))","v":"  "},null,{"$f":"IF(ISBLANK(I36),\"  \",IF(ISBLANK(I37),\" \",IF(ISBLANK(I46),\" \",IF($Q$8=2,((I45-I46)/I45)*100,ROUND((I46/I36)*100,0)))))","v":"  "},null,{"$f":"IF(ISBLANK(K36),\"  \",IF(ISBLANK(K37),\" \",IF(ISBLANK(K46),\" \",IF($Q$8=2,((K45-K46)/K45)*100,ROUND((K46/K36)*100,0)))))","v":"  "},null,{"$f":"IF(ISBLANK(M36),\"  \",IF(ISBLANK(M37),\" \",IF(ISBLANK(M46),\" \",IF($Q$8=2,((M45-M46)/M45)*100,ROUND((M46/M36)*100,0)))))","v":"  "}]
["Spec","Sieve","Wt.",{"$f":"IF(ISBLANK(C36),\"  \",IF(ISBLANK(C37),\" \",IF(ISBLANK(C47),\" \",IF($Q$8=2,\"% Passing\",ROUND((C47/C36)*100,0)))))","v":"  "},"Wt.",{"$f":"IF(ISBLANK(E36),\"  \",IF(ISBLANK(E37),\" \",IF(ISBLANK(E47),\" \",IF($Q$8=2,\"% Passing\",ROUND((E47/E36)*100,0)))))","v":"  "},"Wt.",{"$f":"IF(ISBLANK(G36),\"  \",IF(ISBLANK(G37),\" \",IF(ISBLANK(G47),\" \",IF($Q$8=2,\"% Passing\",ROUND((G47/G36)*100,0)))))","v":"  "},"Wt.",{"$f":"IF(ISBLANK(I36),\"  \",IF(ISBLANK(I37),\" \",IF(ISBLANK(I47),\" \",IF($Q$8=2,\"% Passing\",ROUND((I47/I36)*100,0)))))","v":"  "},"Wt.",{"$f":"IF(ISBLANK(K36),\"  \",IF(ISBLANK(K37),\" \",IF(ISBLANK(K47),\" \",IF($Q$8=2,\"% Passing\",ROUND((K47/K36)*100,0)))))","v":"  "},"Wt.",{"$f":"IF(ISBLANK(M36),\"  \",IF(ISBLANK(M37),\" \",IF(ISBLANK(M47),\" \",IF($Q$8=2,\"% Passing\",ROUND((M47/M36)*100,0)))))","v":"  "}]
[{"$f":"IF(L4=\"2A\",\"10-30\",IF(L4=\"DSA\",\"15-30\",IF(L4=\"OGS\",\"0-12\",IF(L4=\"2RC\",\"0-30\",IF(ISBLANK(L4),\"10-30\")))))","v":"10-30"},{"$f":"IF(L4=\"2RC\",100,16)","v":16},null,{"$f":"IF(ISBLANK(C36),\"  \",IF(ISBLANK(C37),\" \",IF(ISBLANK(C48),\" \",IF($Q$8=2,(C44/C45*C48)/C36*100,ROUND((C48/C36)*100,0)))))","v":"  "},null,{"$f":"IF(ISBLANK(E36),\"  \",IF(ISBLANK(E37),\" \",IF(ISBLANK(E48),\" \",IF($Q$8=2,(E44/E45*E48)/E36*100,ROUND((E48/E36)*100,0)))))","v":"  "},null,{"$f":"IF(ISBLANK(G36),\"  \",IF(ISBLANK(G37),\" \",IF(ISBLANK(G48),\" \",IF($Q$8=2,(G44/G45*G48)/G36*100,ROUND((G48/G36)*100,0)))))","v":"  "},null,{"$f":"IF(ISBLANK(I36),\"  \",IF(ISBLANK(I37),\" \",IF(ISBLANK(I48),\" \",IF($Q$8=2,(I44/I45*I48)/I36*100,ROUND((I48/I36)*100,0)))))","v":"  "},null,{"$f":"IF(ISBLANK(K36),\"  \",IF(ISBLANK(K37),\" \",IF(ISBLANK(K48),\" \",IF($Q$8=2,(K44/K45*K48)/K36*100,ROUND((K48/K36)*100,0)))))","v":"  "},null,{"$f":"IF(ISBLANK(M36),\"  \",IF(ISBLANK(M37),\" \",IF(ISBLANK(M48),\" \",IF($Q$8=2,(M44/M45*M48)/M36*100,ROUND((M48/M36)*100,0)))))","v":"  "}]
[{"$f":"IF(L4=\"DSA\",\"10-15\",\"Info\")","v":"Info"},200,null,{"$f":"IF(ISBLANK(C36),\"  \",IF(ISBLANK(C37),\" \",IF(ISBLANK(C49),\" \",IF($Q$8=2,(C44/C45*C49)/C36*100,ROUND((C49/C36)*100,0)))))","v":"  "},null,{"$f":"IF(ISBLANK(E36),\"  \",IF(ISBLANK(E37),\" \",IF(ISBLANK(E49),\" \",IF($Q$8=2,(E44/E45*E49)/E36*100,ROUND((E49/E36)*100,0)))))","v":"  "},null,{"$f":"IF(ISBLANK(G36),\"  \",IF(ISBLANK(G37),\" \",IF(ISBLANK(G49),\" \",IF($Q$8=2,(G44/G45*G49)/G36*100,ROUND((G49/G36)*100,0)))))","v":"  "},null,{"$f":"IF(ISBLANK(I36),\"  \",IF(ISBLANK(I37),\" \",IF(ISBLANK(I49),\" \",IF($Q$8=2,(I44/I45*I49)/I36*100,ROUND((I49/I36)*100,0)))))","v":"  "},null,{"$f":"IF(ISBLANK(K36),\"  \",IF(ISBLANK(K37),\" \",IF(ISBLANK(K49),\" \",IF($Q$8=2,(K44/K45*K49)/K36*100,ROUND((K49/K36)*100,0)))))","v":"  "},null,{"$f":"IF(ISBLANK(M36),\"  \",IF(ISBLANK(M37),\" \",IF(ISBLANK(M49),\" \",IF($Q$8=2,(M44/M45*M49)/M36*100,ROUND((M49/M36)*100,0)))))","v":"  "}]
["Wash ",{"$f":"IF(L4=\"2A\",\"0-10\",IF(L4=\"OGS\",\"0-5\",IF(L4=\"DSA\",\"10-15\",IF(L4=\"2RC\",\" \",IF(ISBLANK(L4),\"0-10\")))))","v":"0-10"},{"$f":"IF($L$4=\"OGS\",\"Coeff. Unf.\",\" \")","v":" "},{"$f":"IF(ISBLANK($L$4),\" \",IF($L$4=\"2A\",\" \",IF($L$4=\"2RC\",\" \",IF(ISERROR(D79),\" \",D79))))","v":" "},{"$f":"IF($L$4=\"OGS\",\"Coeff. Unf.\",\" \")","v":" "},{"$f":"IF(ISBLANK($L$4),\" \",IF($L$4=\"2A\",\" \",IF($L$4=\"2RC\",\" \",IF(ISERROR(F79),\" \",F79))))","v":" "},{"$f":"IF($L$4=\"OGS\",\"Coeff. Unf.\",\" \")","v":" "},{"$f":"IF(ISBLANK($L$4),\" \",IF($L$4=\"2A\",\" \",IF($L$4=\"2RC\",\" \",IF(ISERROR(H79),\" \",H79))))","v":" "},{"$f":"IF($L$4=\"OGS\",\"Coeff. Unf.\",\" \")","v":" "},{"$f":"IF(ISBLANK($L$4),\" \",IF($L$4=\"2A\",\" \",IF($L$4=\"2RC\",\" \",IF(ISERROR(J79),\" \",J79))))","v":" "},{"$f":"IF($L$4=\"OGS\",\"Coeff. Unf.\",\" \")","v":" "},{"$f":"IF(ISBLANK($L$4),\" \",IF($L$4=\"2A\",\" \",IF($L$4=\"2RC\",\" \",IF(ISERROR(L79),\" \",L79))))","v":" "},{"$f":"IF($L$4=\"OGS\",\"Coeff. Unf.\",\" \")","v":" "},{"$f":"IF(ISBLANK($L$4),\" \",IF($L$4=\"2A\",\" \",IF($L$4=\"2RC\",\" \",IF(ISERROR(N79),\" \",N79))))","v":" "}]
["St. Wt. Before Wash",null,null,"% Passing",null,"% Passing",null,"% Passing",null,"% Passing",null,"% Passing",null,"% Passing"]
["End Wt. After Wash",null,null,{"$f":"IF(ISBLANK(C51),\" \",IF(ISBLANK(C52),\" \",((C51-C52)/C51)*100))","v":" "},null,{"$f":"IF(ISBLANK(E51),\" \",IF(ISBLANK(E52),\" \",((E51-E52)/E51)*100))","v":" "},null,{"$f":"IF(ISBLANK(G51),\" \",IF(ISBLANK(G52),\" \",((G51-G52)/G51)*100))","v":" "},null,{"$f":"IF(ISBLANK(I51),\" \",IF(ISBLANK(I52),\" \",((I51-I52)/I51)*100))","v":" "},null,{"$f":"IF(ISBLANK(K51),\" \",IF(ISBLANK(K52),\" \",((K51-K52)/K51)*100))","v":" "},null,{"$f":"IF(ISBLANK(M51),\" \",IF(ISBLANK(M52),\" \",((M51-M52)/M51)*100))","v":" "}]
["Tested By"]
["Remarks"]
[]
[]
[]
[]
[null,null,null,"Upper Coeff Unf"]
[19,null,19,{"$f":"D17","v":"  "},null,{"$f":"F17","v":"  "},null,{"$f":"H17","v":"  "},null,{"$f":"J17","v":"  "},null,{"$f":"L17","v":"  "},null,{"$f":"N17","v":"  "}]
[9.5,null,9.5,{"$f":"D19","v":"  "},null,{"$f":"F19","v":"  "},null,{"$f":"H19","v":"  "},null,{"$f":"J19","v":"  "},null,{"$f":"L19","v":"  "},null,{"$f":"N19","v":"  "}]
[null,null,"D60",{"$f":"FORECAST(60,$A$60:$A$61,D60:D61)","v":{"$error":"#DIV/0!"}},null,{"$f":"FORECAST(60,$A$60:$A$61,F60:F61)","v":{"$error":"#DIV/0!"}},null,{"$f":"FORECAST(60,$A$60:$A$61,H60:H61)","v":{"$error":"#DIV/0!"}},null,{"$f":"FORECAST(60,$A$60:$A$61,J60:J61)","v":{"$error":"#DIV/0!"}},null,{"$f":"FORECAST(60,$A$60:$A$61,L60:L61)","v":{"$error":"#DIV/0!"}},null,{"$f":"FORECAST(60,$A$60:$A$61,N60:N61)","v":{"$error":"#DIV/0!"}}]
[]
[4.75,null,4.75,{"$f":"D20","v":"  "},null,{"$f":"F20","v":"  "},null,{"$f":"H20","v":"  "},null,{"$f":"J20","v":"  "},null,{"$f":"L20","v":"  "},null,{"$f":"N20","v":"  "}]
[1.18,null,1.18,{"$f":"D24","v":"  "},null,{"$f":"F24","v":"  "},null,{"$f":"H24","v":"  "},null,{"$f":"J24","v":"  "},null,{"$f":"L24","v":"  "},null,{"$f":"N24","v":"  "}]
[null,null,"D10",{"$f":"FORECAST(10,$A$64:$A$65,D64:D65)","v":{"$error":"#DIV/0!"}},null,{"$f":"FORECAST(10,$A$64:$A$65,F64:F65)","v":{"$error":"#DIV/0!"}},null,{"$f":"FORECAST(10,$A$64:$A$65,H64:H65)","v":{"$error":"#DIV/0!"}},null,{"$f":"FORECAST(10,$A$64:$A$65,J64:J65)","v":{"$error":"#DIV/0!"}},null,{"$f":"FORECAST(10,$A$64:$A$65,L64:L65)","v":{"$error":"#DIV/0!"}},null,{"$f":"FORECAST(10,$A$64:$A$65,N64:N65)","v":{"$error":"#DIV/0!"}}]
[]
[null,null,"Coeff Unf",{"$f":"ROUND(D62/D66,1)","v":{"$error":"#DIV/0!"}},null,{"$f":"ROUND(F62/F66,1)","v":{"$error":"#DIV/0!"}},null,{"$f":"ROUND(H62/H66,1)","v":{"$error":"#DIV/0!"}},null,{"$f":"ROUND(J62/J66,1)","v":{"$error":"#DIV/0!"}},null,{"$f":"ROUND(L62/L66,1)","v":{"$error":"#DIV/0!"}},null,{"$f":"ROUND(N62/N66,1)","v":{"$error":"#DIV/0!"}}]
[]
[null,null,"Lower Coff Unf"]
[19,null,19,{"$f":"D41","v":"  "},null,{"$f":"F41","v":"  "},null,{"$f":"H41","v":"  "},null,{"$f":"J41","v":"  "},null,{"$f":"L41","v":"  "},null,{"$f":"N41","v":"  "}]
[9.5,null,9.5,{"$f":"D43","v":"  "},null,{"$f":"F43","v":"  "},null,{"$f":"H43","v":"  "},null,{"$f":"J43","v":"  "},null,{"$f":"L43","v":"  "},null,{"$f":"N43","v":"  "}]
[null,null,"D60",{"$f":"FORECAST(60,$A$71:$A$72,D71:D72)","v":{"$error":"#DIV/0!"}},null,{"$f":"FORECAST(60,$A$71:$A$72,F71:F72)","v":{"$error":"#DIV/0!"}},null,{"$f":"FORECAST(60,$A$71:$A$72,H71:H72)","v":{"$error":"#DIV/0!"}},null,{"$f":"FORECAST(60,$A$71:$A$72,J71:J72)","v":{"$error":"#DIV/0!"}},null,{"$f":"FORECAST(60,$A$71:$A$72,L71:L72)","v":{"$error":"#DIV/0!"}},null,{"$f":"FORECAST(60,$A$71:$A$72,N71:N72)","v":{"$error":"#DIV/0!"}}]
[]
[4.75,null,4.75,{"$f":"D44","v":"  "},null,{"$f":"F44","v":"  "},null,{"$f":"H44","v":"  "},null,{"$f":"J44","v":"  "},null,{"$f":"L44","v":"  "},null,{"$f":"N44","v":"  "}]
[1.18,null,1.18,{"$f":"D48","v":"  "},null,{"$f":"F48","v":"  "},null,{"$f":"H48","v":"  "},null,{"$f":"J48","v":"  "},null,{"$f":"L48","v":"  "},null,{"$f":"N48","v":"  "}]
[null,null,"D10",{"$f":"FORECAST(10,$A$75:$A$76,D75:D76)","v":{"$error":"#DIV/0!"}},null,{"$f":"FORECAST(10,$A$75:$A$76,F75:F76)","v":{"$error":"#DIV/0!"}},null,{"$f":"FORECAST(10,$A$75:$A$76,H75:H76)","v":{"$error":"#DIV/0!"}},null,{"$f":"FORECAST(10,$A$75:$A$76,J75:J76)","v":{"$error":"#DIV/0!"}},null,{"$f":"FORECAST(10,$A$75:$A$76,L75:L76)","v":{"$error":"#DIV/0!"}},null,{"$f":"FORECAST(10,$A$75:$A$76,N75:N76)","v":{"$error":"#DIV/0!"}}]
[]
[null,null,"Coeff Unf",{"$f":"ROUND(D73/D77,1)","v":{"$error":"#DIV/0!"}},null,{"$f":"ROUND(F73/F77,1)","v":{"$error":"#DIV/0!"}},null,{"$f":"ROUND(H73/H77,1)","v":{"$error":"#DIV/0!"}},null,{"$f":"ROUND(J73/J77,1)","v":{"$error":"#DIV/0!"}},null,{"$f":"ROUND(L73/L77,1)","v":{"$error":"#DIV/0!"}},null,{"$f":"ROUND(N73/N77,1)","v":{"$error":"#DIV/0!"}}]

{"sheet":"S6","index":5,"n_rows":79,"n_cols":17,"rows_kept":79,"cut":false,"hidden":true,"merged":[[53,12,55,13],[53,0,55,1],[53,2,55,3],[53,4,55,5],[53,6,55,7],[53,8,55,9],[53,10,55,11],[52,12,52,13],[36,0,36,1],[45,0,45,1],[52,8,52,9],[44,0,44,1],[52,4,52,5],[52,6,52,7],[52,10,52,11],[50,0,50,1],[51,0,51,1],[52,0,52,1],[52,2,52,3],[28,10,28,11],[28,12,28,13],[29,10,31,11],[29,12,31,13],[28,8,28,9],[29,8,31,9],[34,12,34,13],[33,8,33,9],[33,10,33,11],[34,2,34,3],[34,4,34,5],[34,6,34,7],[34,8,34,9],[34,10,34,11],[33,12,33,13],[27,0,27,1],[9,2,9,3],[29,2,31,3],[29,4,31,5],[29,6,31,7],[9,6,9,7],[35,0,35,1],[33,2,33,3],[28,6,28,7],[33,4,33,5],[33,6,33,7],[34,0,34,1],[28,4,28,5],[1,11,1,12],[2,9,2,10],[2,11,2,12],[3,9,3,10],[3,11,3,12],[1,9,1,10],[4,11,4,12],[9,12,9,13],[10,8,10,9],[10,10,10,11],[10,12,10,13],[9,10,9,11],[5,9,5,10],[4,9,4,10],[5,11,5,12],[9,8,9,9],[5,3,5,8],[10,6,10,7],[7,2,7,4],[7,5,7,6],[58,3,58,13],[69,2,69,13],[9,0,9,1],[20,0,20,1],[21,0,21,1],[26,0,26,1],[10,4,10,5],[33,0,33,1],[28,0,28,1],[28,2,28,3],[9,4,9,5],[12,0,12,1],[11,0,11,1],[10,0,10,1],[10,2,10,3],[29,0,31,1],[0,7,3,8],[1,2,1,6],[2,2,2,6],[3,2,3,6],[4,0,4,1],[0,0,3,1]]}
[]
[null,null,"COMMONWEALTH OF PENNSYLVANIA",null,null,null,null,null,null,"DISTRICT",null,{"$f":"IF(ISBLANK('S1'!L2),\" \",'S1'!L2)","v":" "}]
[null,null,"DEPARTMENT OF TRANSPORTATION",null,null,null,null,null,null,"PLANT CODE",null,{"$f":"IF(ISBLANK('S1'!L3),\" \",'S1'!L3)","v":" "}]
[null,null,"PENNSYLVANIA TURNPIKE COMMISSION",null,null,null,null,null,null,"AGG SIZE",null,{"$f":"IF(ISBLANK('S1'!L4),\" \",'S1'!L4)","v":"2A"}]
[{"$f":"'S1'!A5","v":"Aggregate 2023"},null,null,null,null,null,null,null,null,"#4 Target Value ",null,{"$f":"IF(ISBLANK('S1'!L5),\" \",'S1'!L5)","v":" "}]
[".",null,null,{"$f":"'S1'!D6","v":"Material Test Results for 2A Coarse Aggregate"},null,null,null,null,null,"#16 Target Value",null,{"$f":"IF(ISBLANK('S1'!L6),\" \",'S1'!L6)","v":" "}]
[]
[null,null,"Method of testing",null,null,{"$f":"'S1'!F8:G8","v":"Split sample "},null,null,null,null,null,null,null,null,null,null,{"$f":"IF(F8=\"Complete sample\",1,2)","v":2}]
[]
["Sample No."]
["Date"]
["Starting Weight",null,null,"% Loss",null,"% Loss",null,"% Loss",null,"% Loss",null,"% Loss",null,"% Loss"]
["Ending Weight",null,null,{"$f":"IF(ISBLANK(C12),\" \",IF(ISBLANK(C13),\" \",((C12-C13)/C12)*100))","v":" "},null,{"$f":"IF(ISBLANK(E12),\" \",IF(ISBLANK(E13),\" \",((E12-E13)/E12)*100))","v":" "},null,{"$f":"IF(ISBLANK(G12),\" \",IF(ISBLANK(G13),\" \",((G12-G13)/G12)*100))","v":" "},null,{"$f":"IF(ISBLANK(I12),\" \",IF(ISBLANK(I13),\" \",((I12-I13)/I12)*100))","v":" "},null,{"$f":"IF(ISBLANK(K12),\" \",IF(ISBLANK(K13),\" \",((K12-K13)/K12)*100))","v":" "},null,{"$f":"IF(ISBLANK(M12),\" \",IF(ISBLANK(M13),\" \",((M12-M13)/M12)*100))","v":" "}]
["Spec","Sieve","Wt.","% Passing","Wt.","% Passing","Wt.","% Passing","Wt.","% Passing","Wt.","% Passing","Wt.","% Passing"]
[100,2,null,{"$f":"IF(ISBLANK(C$12),\"  \",IF(ISBLANK(C$13),\" \",IF(ISBLANK(C15),\" \",IF($Q$8=2,ROUND(((C15)/C$12)*100,0),ROUND((C15/$C$12)*100,0)))))","v":"  "},null,{"$f":"IF(ISBLANK(E12),\"  \",IF(ISBLANK(E13),\" \",IF(ISBLANK(E15),\" \",IF($Q$8=2,ROUND(((E15)/E12)*100,0),ROUND((E15/E12)*100,0)))))","v":"  "},null,{"$f":"IF(ISBLANK(G12),\"  \",IF(ISBLANK(G13),\" \",IF(ISBLANK(G15),\" \",IF($Q$8=2,ROUND(((G15)/G12)*100,0),ROUND((G15/G12)*100,0)))))","v":"  "},null,{"$f":"IF(ISBLANK(I12),\"  \",IF(ISBLANK(I13),\" \",IF(ISBLANK(I15),\" \",IF($Q$8=2,ROUND(((I15)/I12)*100,0),ROUND((I15/I12)*100,0)))))","v":"  "},null,{"$f":"IF(ISBLANK(K12),\"  \",IF(ISBLANK(K13),\" \",IF(ISBLANK(K15),\" \",IF($Q$8=2,ROUND(((K15)/K12)*100,0),ROUND((K15/K12)*100,0)))))","v":"  "},null,{"$f":"IF(ISBLANK(M12),\"  \",IF(ISBLANK(M13),\" \",IF(ISBLANK(M15),\" \",IF($Q$8=2,ROUND(((M15)/M12)*100,0),ROUND((M15/M12)*100,0)))))","v":"  "}]
[{"$f":"IF(L4=\"DSA\",\"100\",\"Breaker\")","v":"Breaker"},{"$f":"'S1'!B16","v":1},null,"  ",null,{"$f":"IF(ISBLANK(E12),\"  \",IF(ISBLANK(E13),\" \",IF(ISBLANK(E16),\" \",IF($Q$8=2,ROUND(((E16)/E12)*100,0),ROUND((E16/E12)*100,0)))))","v":"  "},null,{"$f":"IF(ISBLANK(G12),\"  \",IF(ISBLANK(G13),\" \",IF(ISBLANK(G16),\" \",IF($Q$8=2,ROUND(((G16)/G12)*100,0),ROUND((G16/G12)*100,0)))))","v":"  "},null,{"$f":"IF(ISBLANK(I12),\"  \",IF(ISBLANK(I13),\" \",IF(ISBLANK(I16),\" \",IF($Q$8=2,ROUND(((I16)/I12)*100,0),ROUND((I16/I12)*100,0)))))","v":"  "},null,{"$f":"IF(ISBLANK(K12),\"  \",IF(ISBLANK(K13),\" \",IF(ISBLANK(K16),\" \",IF($Q$8=2,ROUND(((K16)/K12)*100,0),ROUND((K16/K12)*100,0)))))","v":"  "},null,{"$f":"IF(ISBLANK(M12),\"  \",IF(ISBLANK(M13),\" \",IF(ISBLANK(M16),\" \",IF($Q$8=2,ROUND(((M16)/M12)*100,0),ROUND((M16/M12)*100,0)))))","v":"  "}]
[{"$f":"IF(L4=\"2RC\",\" \",IF(L4=\"DSA\",\"65-95\",\"52-100\"))","v":"52-100"},0.75,null,"  ",null,{"$f":"IF(ISBLANK(E12),\"  \",IF(ISBLANK(E13),\" \",IF(ISBLANK(E17),\" \",IF($Q$8=2,ROUND(((E17)/E12)*100,0),ROUND((E17/E12)*100,0)))))","v":"  "},null,{"$f":"IF(ISBLANK(G12),\"  \",IF(ISBLANK(G13),\" \",IF(ISBLANK(G17),\" \",IF($Q$8=2,ROUND(((G17)/G12)*100,0),ROUND((G17/G12)*100,0)))))","v":"  "},null,{"$f":"IF(ISBLANK(I12),\"  \",IF(ISBLANK(I13),\" \",IF(ISBLANK(I17),\" \",IF($Q$8=2,ROUND(((I17)/I12)*100,0),ROUND((I17/I12)*100,0)))))","v":"  "},null,{"$f":"IF(ISBLANK(K12),\"  \",IF(ISBLANK(K13),\" \",IF(ISBLANK(K17),\" \",IF($Q$8=2,ROUND(((K17)/K12)*100,0),ROUND((K17/K12)*100,0)))))","v":"  "},null,{"$f":"IF(ISBLANK(M12),\"  \",IF(ISBLANK(M13),\" \",IF(ISBLANK(M17),\" \",IF($Q$8=2,ROUND(((M17)/M12)*100,0),ROUND((M17/M12)*100,0)))))","v":"  "}]
["Breaker",0.5,null,"  ",null,{"$f":"IF(ISBLANK(E12),\"  \",IF(ISBLANK(E13),\" \",IF(ISBLANK(E18),\" \",IF($Q$8=2,ROUND(((E18)/E12)*100,0),ROUND((E18/E12)*100,0)))))","v":"  "},null,{"$f":"IF(ISBLANK(G12),\"  \",IF(ISBLANK(G13),\" \",IF(ISBLANK(G18),\" \",IF($Q$8=2,ROUND(((G18)/G12)*100,0),ROUND((G18/G12)*100,0)))))","v":"  "},null,{"$f":"IF(ISBLANK(I12),\"  \",IF(ISBLANK(I13),\" \",IF(ISBLANK(I18),\" \",IF($Q$8=2,ROUND(((I18)/I12)*100,0),ROUND((I18/I12)*100,0)))))","v":"  "},null,{"$f":"IF(ISBLANK(K12),\"  \",IF(ISBLANK(K13),\" \",IF(ISBLANK(K18),\" \",IF($Q$8=2,ROUND(((K18)/K12)*100,0),ROUND((K18/K12)*100,0)))))","v":"  "},null,{"$f":"IF(ISBLANK(M12),\"  \",IF(ISBLANK(M13),\" \",IF(ISBLANK(M18),\" \",IF($Q$8=2,ROUND(((M18)/M12)*100,0),ROUND((M18/M12)*100,0)))))","v":"  "}]
[{"$f":"IF(L4=\"2A\",\"36-70\",IF(L4=\"DSA\",\" \",IF(L4=\"OGS\",\"36-65\",IF(L4=\"2RC\",\" \",IF(ISBLANK(L4),\"36-70\")))))","v":"36-70"},0.375,null,"  ",null,{"$f":"IF(ISBLANK(E12),\"  \",IF(ISBLANK(E13),\" \",IF(ISBLANK(E19),\" \",IF($Q$8=2,ROUND(((E19)/E12)*100,0),ROUND((E19/E12)*100,0)))))","v":"  "},null,{"$f":"IF(ISBLANK(G12),\"  \",IF(ISBLANK(G13),\" \",IF(ISBLANK(G19),\" \",IF($Q$8=2,ROUND(((G19)/G12)*100,0),ROUND((G19/G12)*100,0)))))","v":"  "},null,{"$f":"IF(ISBLANK(I12),\"  \",IF(ISBLANK(I13),\" \",IF(ISBLANK(I19),\" \",IF($Q$8=2,ROUND(((I19)/I12)*100,0),ROUND((I19/I12)*100,0)))))","v":"  "},null,{"$f":"IF(ISBLANK(K12),\"  \",IF(ISBLANK(K13),\" \",IF(ISBLANK(K19),\" \",IF($Q$8=2,ROUND(((K19)/K12)*100,0),ROUND((K19/K12)*100,0)))))","v":"  "},null,{"$f":"IF(ISBLANK(M12),\"  \",IF(ISBLANK(M13),\" \",IF(ISBLANK(M19),\" \",IF($Q$8=2,ROUND(((M19)/M12)*100,0),ROUND((M19/M12)*100,0)))))","v":"  "}]
[{"$f":"IF(L4=\"2A\",\"24-50\",IF(L4=\"DSA\",\"30-65 \",IF(L4=\"OGS\",\"8-40\",IF(L4=\"2RC\",\"15-60 \",IF(ISBLANK(L4),\"24-50\")))))","v":"24-50"},4,null,"  ",null,{"$f":"IF(ISBLANK(E12),\"  \",IF(ISBLANK(E13),\" \",IF(ISBLANK(E20),\" \",IF($Q$8=2,ROUND(((E20)/E$12)*100,0),ROUND((E20/E12)*100,0)))))","v":"  "},null,{"$f":"IF(ISBLANK(G12),\"  \",IF(ISBLANK(G13),\" \",IF(ISBLANK(G20),\" \",IF($Q$8=2,ROUND(((G20)/G$12)*100,0),ROUND((G20/G12)*100,0)))))","v":"  "},null,{"$f":"IF(ISBLANK(I12),\"  \",IF(ISBLANK(I13),\" \",IF(ISBLANK(I20),\" \",IF($Q$8=2,ROUND(((I20)/I$12)*100,0),ROUND((I20/I12)*100,0)))))","v":"  "},null,{"$f":"IF(ISBLANK(K12),\"  \",IF(ISBLANK(K13),\" \",IF(ISBLANK(K20),\" \",IF($Q$8=2,ROUND(((K20)/K$12)*100,0),ROUND((K20/K12)*100,0)))))","v":"  "},null,{"$f":"IF(ISBLANK(M12),\"  \",IF(ISBLANK(M13),\" \",IF(ISBLANK(M20),\" \",IF($Q$8=2,ROUND(((M20)/M$12)*100,0),ROUND((M20/M12)*100,0)))))","v":"  "}]
["Starting Weight",null,null,{"$f":"IF(ISBLANK(C$12),\"  \",IF(ISBLANK(C$13),\" \",IF($Q$8=2,\"% Loss\",ROUND((C21/$C$12)*100,0))))","v":"  "},null,{"$f":"IF(ISBLANK(E12),\"  \",IF(ISBLANK(E13),\" \",IF($Q$8=2,\"% Loss\",ROUND((E21/E12)*100,0))))","v":"  "},null,{"$f":"IF(ISBLANK(G12),\"  \",IF(ISBLANK(G13),\" \",IF($Q$8=2,\"% Loss\",ROUND((G21/G12)*100,0))))","v":"  "},null,{"$f":"IF(ISBLANK(I12),\"  \",IF(ISBLANK(I13),\" \",IF($Q$8=2,\"% Loss\",ROUND((I21/I12)*100,0))))","v":"  "},null,{"$f":"IF(ISBLANK(K12),\"  \",IF(ISBLANK(K13),\" \",IF($Q$8=2,\"% Loss\",ROUND((K21/K12)*100,0))))","v":"  "},null,{"$f":"IF(ISBLANK(M12),\"  \",IF(ISBLANK(M13),\" \",IF($Q$8=2,\"% Loss\",ROUND((M21/M12)*100,0))))","v":"  "}]
["Ending Weight",null,null,{"$f":"IF(ISBLANK(C$12),\"  \",IF(ISBLANK(C$13),\" \",IF(ISBLANK(C22),\" \",IF($Q$8=2,((C21-C22)/C21)*100,ROUND((C22/$C$12)*100,0)))))","v":"  "},null,{"$f":"IF(ISBLANK(E12),\"  \",IF(ISBLANK(E13),\" \",IF(ISBLANK(E22),\" \",IF($Q$8=2,((E21-E22)/E21)*100,ROUND((E22/E12)*100,0)))))","v":"  "},null,{"$f":"IF(ISBLANK(G12),\"  \",IF(ISBLANK(G13),\" \",IF(ISBLANK(G22),\" \",IF($Q$8=2,((G21-G22)/G21)*100,ROUND((G22/G12)*100,0)))))","v":"  "},null,{"$f":"IF(ISBLANK(I12),\"  \",IF(ISBLANK(I13),\" \",IF(ISBLANK(I22),\" \",IF($Q$8=2,((I21-I22)/I21)*100,ROUND((I22/I12)*100,0)))))","v":"  "},null,{"$f":"IF(ISBLANK(K12),\"  \",IF(ISBLANK(K13),\" \",IF(ISBLANK(K22),\" \",IF($Q$8=2,((K21-K22)/K21)*100,ROUND((K22/K12)*100,0)))))","v":"  "},null,{"$f":"IF(ISBLANK(M12),\"  \",IF(ISBLANK(M13),\" \",IF(ISBLANK(M22),\" \",IF($Q$8=2,((M21-M22)/M21)*100,ROUND((M22/M12)*100,0)))))","v":"  "}]
["Spec","Sieve","Wt.",{"$f":"IF(ISBLANK(C$12),\"  \",IF(ISBLANK(C$13),\" \",IF(ISBLANK(C23),\" \",IF($Q$8=2,\"% Passing\",ROUND((C23/$C$12)*100,0)))))","v":"  "},"Wt.",{"$f":"IF(ISBLANK(E12),\"  \",IF(ISBLANK(E13),\" \",IF(ISBLANK(E23),\" \",IF($Q$8=2,\"% Passing\",ROUND((E23/E12)*100,0)))))","v":"  "},"Wt.",{"$f":"IF(ISBLANK(G12),\"  \",IF(ISBLANK(G13),\" \",IF(ISBLANK(G23),\" \",IF($Q$8=2,\"% Passing\",ROUND((G23/G12)*100,0)))))","v":"  "},"Wt.",{"$f":"IF(ISBLANK(I12),\"  \",IF(ISBLANK(I13),\" \",IF(ISBLANK(I23),\" \",IF($Q$8=2,\"% Passing\",ROUND((I23/I12)*100,0)))))","v":"  "},"Wt.",{"$f":"IF(ISBLANK(K12),\"  \",IF(ISBLANK(K13),\" \",IF(ISBLANK(K23),\" \",IF($Q$8=2,\"% Passing\",ROUND((K23/K12)*100,0)))))","v":"  "},"Wt.",{"$f":"IF(ISBLANK(M12),\"  \",IF(ISBLANK(M13),\" \",IF(ISBLANK(M23),\" \",IF($Q$8=2,\"% Passing\",ROUND((M23/M12)*100,0)))))","v":"  "}]
[{"$f":"IF(L4=\"2A\",\"10-30\",IF(L4=\"DSA\",\"15-30\",IF(L4=\"OGS\",\"0-12\",IF(L4=\"2RC\",\"0-30\",IF(ISBLANK(L4),\"10-30\")))))","v":"10-30"},{"$f":"IF(L4=\"2RC\",100,16)","v":16},null,{"$f":"IF(ISBLANK(C$12),\"  \",IF(ISBLANK(C$13),\" \",IF(ISBLANK(C24),\" \",IF($Q$8=2,(C20/C21*C24)/C12*100,ROUND((C24/$C$12)*100,0)))))","v":"  "},null,{"$f":"IF(ISBLANK(E12),\"  \",IF(ISBLANK(E13),\" \",IF(ISBLANK(E24),\" \",IF($Q$8=2,(E20/E21*E24)/E12*100,ROUND((E24/E12)*100,0)))))","v":"  "},null,{"$f":"IF(ISBLANK(G12),\"  \",IF(ISBLANK(G13),\" \",IF(ISBLANK(G24),\" \",IF($Q$8=2,(G20/G21*G24)/G12*100,ROUND((G24/G12)*100,0)))))","v":"  "},null,{"$f":"IF(ISBLANK(I12),\"  \",IF(ISBLANK(I13),\" \",IF(ISBLANK(I24),\" \",IF($Q$8=2,(I20/I21*I24)/I12*100,ROUND((I24/I12)*100,0)))))","v":"  "},null,{"$f":"IF(ISBLANK(K12),\"  \",IF(ISBLANK(K13),\" \",IF(ISBLANK(K24),\" \",IF($Q$8=2,(K20/K21*K24)/K12*100,ROUND((K24/K12)*100,0)))))","v":"  "},null,{"$f":"IF(ISBLANK(M12),\"  \",IF(ISBLANK(M13),\" \",IF(ISBLANK(M24),\" \",IF($Q$8=2,(M20/M21*M24)/M12*100,ROUND((M24/M12)*100,0)))))","v":"  "}]
[{"$f":"IF(L4=\"DSA\",\"10-15\",\"Info\")","v":"Info"},200,null,{"$f":"IF(ISBLANK(C$12),\"  \",IF(ISBLANK(C$13),\" \",IF(ISBLANK(C25),\" \",IF($Q$8=2,(C20/C21*C25)/C12*100,ROUND((C25/$C$12)*100,0)))))","v":"  "},null,{"$f":"IF(ISBLANK(E12),\"  \",IF(ISBLANK(E13),\" \",IF(ISBLANK(E25),\" \",IF($Q$8=2,(E20/E21*E25)/E12*100,ROUND((E25/E12)*100,0)))))","v":"  "},null,{"$f":"IF(ISBLANK(G12),\"  \",IF(ISBLANK(G13),\" \",IF(ISBLANK(G25),\" \",IF($Q$8=2,(G20/G21*G25)/G12*100,ROUND((G25/G12)*100,0)))))","v":"  "},null,{"$f":"IF(ISBLANK(I12),\"  \",IF(ISBLANK(I13),\" \",IF(ISBLANK(I25),\" \",IF($Q$8=2,(I20/I21*I25)/I12*100,ROUND((I25/I12)*100,0)))))","v":"  "},null,{"$f":"IF(ISBLANK(K12),\"  \",IF(ISBLANK(K13),\" \",IF(ISBLANK(K25),\" \",IF($Q$8=2,(K20/K21*K25)/K12*100,ROUND((K25/K12)*100,0)))))","v":"  "},null,{"$f":"IF(ISBLANK(M12),\"  \",IF(ISBLANK(M13),\" \",IF(ISBLANK(M25),\" \",IF($Q$8=2,(M20/M21*M25)/M12*100,ROUND((M25/M12)*100,0)))))","v":"  "}]
["Wash ",{"$f":"IF(L4=\"2A\",\"0-10\",IF(L4=\"OGS\",\"0-5\",IF(L4=\"DSA\",\"10-15\",IF(L4=\"2RC\",\" \",IF(ISBLANK(L4),\"0-10\")))))","v":"0-10"},{"$f":"IF($L$4=\"OGS\",\"Coeff. Unf.\",\" \")","v":" "},{"$f":"IF(ISBLANK($L$4),\" \",IF($L$4=\"2A\",\" \",IF($L$4=\"2RC\",\" \",IF(ISERROR(D68),\" \",D68))))","v":" "},{"$f":"IF($L$4=\"OGS\",\"Coeff. Unf.\",\" \")","v":" "},{"$f":"IF(ISBLANK($L$4),\" \",IF($L$4=\"2A\",\" \",IF($L$4=\"2RC\",\" \",IF(ISERROR(F68),\" \",F68))))","v":" "},{"$f":"IF($L$4=\"OGS\",\"Coeff. Unf.\",\" \")","v":" "},{"$f":"IF(ISBLANK($L$4),\" \",IF($L$4=\"2A\",\" \",IF($L$4=\"2RC\",\" \",IF(ISERROR(H68),\" \",H68))))","v":" "},{"$f":"IF($L$4=\"OGS\",\"Coeff. Unf.\",\" \")","v":" "},{"$f":"IF(ISBLANK($L$4),\" \",IF($L$4=\"2A\",\" \",IF($L$4=\"2RC\",\" \",IF(ISERROR(J68),\" \",J68))))","v":" "},{"$f":"IF($L$4=\"OGS\",\"Coeff. Unf.\",\" \")","v":" "},{"$f":"IF(ISBLANK($L$4),\" \",IF($L$4=\"2A\",\" \",IF($L$4=\"2RC\",\" \",IF(ISERROR(L68),\" \",L68))))","v":" "},{"$f":"IF($L$4=\"OGS\",\"Coeff. Unf.\",\" \")","v":" "},{"$f":"IF(ISBLANK($L$4),\" \",IF($L$4=\"2A\",\" \",IF($L$4=\"2RC\",\" \",IF(ISERROR(N68),\" \",N68))))","v":" "}]
["St. Wt. Before Wash",null,null,"% Passing",null,"% Passing",null,"% Passing",null,"% Passing",null,"% Passing",null,"% Passing"]
["End Wt. After Wash",null,null,{"$f":"IF(ISBLANK(C27),\" \",IF(ISBLANK(C28),\" \",((C27-C28)/C27)*100))","v":" "},null,{"$f":"IF(ISBLANK(E27),\" \",IF(ISBLANK(E28),\" \",((E27-E28)/E27)*100))","v":" "},null,{"$f":"IF(ISBLANK(G27),\" \",IF(ISBLANK(G28),\" \",((G27-G28)/G27)*100))","v":" "},null,{"$f":"IF(ISBLANK(I27),\" \",IF(ISBLANK(I28),\" \",((I27-I28)/I27)*100))","v":" "},null,{"$f":"IF(ISBLANK(K27),\" \",IF(ISBLANK(K28),\" \",((K27-K28)/K27)*100))","v":" "},null,{"$f":"IF(ISBLANK(M27),\" \",IF(ISBLANK(M28),\" \",((M27-M28)/M27)*100))","v":" "}]
["Tested By"]
["Remarks"]
[]
[]
[]
["Sample No."]
["Date"]
["Starting Weight",null,null,"% Loss",null,"% Loss",null,"% Loss",null,"% Loss",null,"% Loss",null,"% Loss"]
["Ending Weight",null,null,{"$f":"IF(ISBLANK(C36),\" \",IF(ISBLANK(C37),\" \",((C36-C37)/C36)*100))","v":" "},null,{"$f":"IF(ISBLANK(E36),\" \",IF(ISBLANK(E37),\" \",((E36-E37)/E36)*100))","v":" "},null,{"$f":"IF(ISBLANK(G36),\" \",IF(ISBLANK(G37),\" \",((G36-G37)/G36)*100))","v":" "},null,{"$f":"IF(ISBLANK(I36),\" \",IF(ISBLANK(I37),\" \",((I36-I37)/I36)*100))","v":" "},null,{"$f":"IF(ISBLANK(K36),\" \",IF(ISBLANK(K37),\" \",((K36-K37)/K36)*100))","v":" "},null,{"$f":"IF(ISBLANK(M36),\" \",IF(ISBLANK(M37),\" \",((M36-M37)/M36)*100))","v":" "}]
["Spec","Sieve","Wt.","% Passing","Wt.","% Passing","Wt.","% Passing","Wt.","% Passing","Wt.","% Passing","Wt.","% Passing"]
[100,2,null,{"$f":"IF(ISBLANK(C36),\"  \",IF(ISBLANK(C37),\" \",IF(ISBLANK(C39),\" \",IF($Q$8=2,ROUND(((C39)/C36)*100,0),ROUND((C39/C36)*100,0)))))","v":"  "},null,{"$f":"IF(ISBLANK(E36),\"  \",IF(ISBLANK(E37),\" \",IF(ISBLANK(E39),\" \",IF($Q$8=2,ROUND(((E39)/E36)*100,0),ROUND((E39/E36)*100,0)))))","v":"  "},null,{"$f":"IF(ISBLANK(G36),\"  \",IF(ISBLANK(G37),\" \",IF(ISBLANK(G39),\" \",IF($Q$8=2,ROUND(((G39)/G36)*100,0),ROUND((G39/G36)*100,0)))))","v":"  "},null,{"$f":"IF(ISBLANK(I36),\"  \",IF(ISBLANK(I37),\" \",IF(ISBLANK(I39),\" \",IF($Q$8=2,ROUND(((I39)/I36)*100,0),ROUND((I39/I36)*100,0)))))","v":"  "},null,{"$f":"IF(ISBLANK(K36),\"  \",IF(ISBLANK(K37),\" \",IF(ISBLANK(K39),\" \",IF($Q$8=2,ROUND(((K39)/K36)*100,0),ROUND((K39/K36)*100,0)))))","v":"  "},null,{"$f":"IF(ISBLANK(M36),\"  \",IF(ISBLANK(M37),\" \",IF(ISBLANK(M39),\" \",IF($Q$8=2,ROUND(((M39)/M36)*100,0),ROUND((M39/M36)*100,0)))))","v":"  "}]
[{"$f":"IF(L4=\"DSA\",\"100\",\"Breaker\")","v":"Breaker"},{"$f":"'S1'!B40","v":1},null,{"$f":"IF(ISBLANK(C36),\"  \",IF(ISBLANK(C37),\" \",IF(ISBLANK(C40),\" \",IF($Q$8=2,ROUND(((C40)/C36)*100,0),ROUND((C40/C36)*100,0)))))","v":"  "},null,{"$f":"IF(ISBLANK(E36),\"  \",IF(ISBLANK(E37),\" \",IF(ISBLANK(E40),\" \",IF($Q$8=2,ROUND(((E40)/E36)*100,0),ROUND((E40/E36)*100,0)))))","v":"  "},null,{"$f":"IF(ISBLANK(G36),\"  \",IF(ISBLANK(G37),\" \",IF(ISBLANK(G40),\" \",IF($Q$8=2,ROUND(((G40)/G36)*100,0),ROUND((G40/G36)*100,0)))))","v":"  "},null,{"$f":"IF(ISBLANK(I36),\"  \",IF(ISBLANK(I37),\" \",IF(ISBLANK(I40),\" \",IF($Q$8=2,ROUND(((I40)/I36)*100,0),ROUND((I40/I36)*100,0)))))","v":"  "},null,{"$f":"IF(ISBLANK(K36),\"  \",IF(ISBLANK(K37),\" \",IF(ISBLANK(K40),\" \",IF($Q$8=2,ROUND(((K40)/K36)*100,0),ROUND((K40/K36)*100,0)))))","v":"  "},null,{"$f":"IF(ISBLANK(M36),\"  \",IF(ISBLANK(M37),\" \",IF(ISBLANK(M40),\" \",IF($Q$8=2,ROUND(((M40)/M36)*100,0),ROUND((M40/M36)*100,0)))))","v":"  "}]
[{"$f":"IF(L4=\"2RC\",\" \",IF(L4=\"DSA\",\"65-95\",\"52-100\"))","v":"52-100"},0.75,null,{"$f":"IF(ISBLANK(C36),\"  \",IF(ISBLANK(C37),\" \",IF(ISBLANK(C41),\" \",IF($Q$8=2,ROUND(((C41)/C36)*100,0),ROUND((C41/C36)*100,0)))))","v":"  "},null,{"$f":"IF(ISBLANK(E36),\"  \",IF(ISBLANK(E37),\" \",IF(ISBLANK(E41),\" \",IF($Q$8=2,ROUND(((E41)/E36)*100,0),ROUND((E41/E36)*100,0)))))","v":"  "},null,{"$f":"IF(ISBLANK(G36),\"  \",IF(ISBLANK(G37),\" \",IF(ISBLANK(G41),\" \",IF($Q$8=2,ROUND(((G41)/G36)*100,0),ROUND((G41/G36)*100,0)))))","v":"  "},null,{"$f":"IF(ISBLANK(I36),\"  \",IF(ISBLANK(I37),\" \",IF(ISBLANK(I41),\" \",IF($Q$8=2,ROUND(((I41)/I36)*100,0),ROUND((I41/I36)*100,0)))))","v":"  "},null,{"$f":"IF(ISBLANK(K36),\"  \",IF(ISBLANK(K37),\" \",IF(ISBLANK(K41),\" \",IF($Q$8=2,ROUND(((K41)/K36)*100,0),ROUND((K41/K36)*100,0)))))","v":"  "},null,{"$f":"IF(ISBLANK(M36),\"  \",IF(ISBLANK(M37),\" \",IF(ISBLANK(M41),\" \",IF($Q$8=2,ROUND(((M41)/M36)*100,0),ROUND((M41/M36)*100,0)))))","v":"  "}]
["Breaker",0.5,null,{"$f":"IF(ISBLANK(C36),\"  \",IF(ISBLANK(C37),\" \",IF(ISBLANK(C42),\" \",IF($Q$8=2,ROUND(((C42)/C36)*100,0),ROUND((C42/C36)*100,0)))))","v":"  "},null,{"$f":"IF(ISBLANK(E36),\"  \",IF(ISBLANK(E37),\" \",IF(ISBLANK(E42),\" \",IF($Q$8=2,ROUND(((E42)/E36)*100,0),ROUND((E42/E36)*100,0)))))","v":"  "},null,{"$f":"IF(ISBLANK(G36),\"  \",IF(ISBLANK(G37),\" \",IF(ISBLANK(G42),\" \",IF($Q$8=2,ROUND(((G42)/G36)*100,0),ROUND((G42/G36)*100,0)))))","v":"  "},null,{"$f":"IF(ISBLANK(I36),\"  \",IF(ISBLANK(I37),\" \",IF(ISBLANK(I42),\" \",IF($Q$8=2,ROUND(((I42)/I36)*100,0),ROUND((I42/I36)*100,0)))))","v":"  "},null,{"$f":"IF(ISBLANK(K36),\"  \",IF(ISBLANK(K37),\" \",IF(ISBLANK(K42),\" \",IF($Q$8=2,ROUND(((K42)/K36)*100,0),ROUND((K42/K36)*100,0)))))","v":"  "},null,{"$f":"IF(ISBLANK(M36),\"  \",IF(ISBLANK(M37),\" \",IF(ISBLANK(M42),\" \",IF($Q$8=2,ROUND(((M42)/M36)*100,0),ROUND((M42/M36)*100,0)))))","v":"  "}]
[{"$f":"IF(L4=\"2A\",\"36-70\",IF(L4=\"DSA\",\" \",IF(L4=\"OGS\",\"36-65\",IF(L4=\"2RC\",\" \",IF(ISBLANK(L4),\"36-70\")))))","v":"36-70"},0.375,null,{"$f":"IF(ISBLANK(C36),\"  \",IF(ISBLANK(C37),\" \",IF(ISBLANK(C43),\" \",IF($Q$8=2,ROUND(((C43)/C36)*100,0),ROUND((C43/C36)*100,0)))))","v":"  "},null,{"$f":"IF(ISBLANK(E36),\"  \",IF(ISBLANK(E37),\" \",IF(ISBLANK(E43),\" \",IF($Q$8=2,ROUND(((E43)/E36)*100,0),ROUND((E43/E36)*100,0)))))","v":"  "},null,{"$f":"IF(ISBLANK(G36),\"  \",IF(ISBLANK(G37),\" \",IF(ISBLANK(G43),\" \",IF($Q$8=2,ROUND(((G43)/G36)*100,0),ROUND((G43/G36)*100,0)))))","v":"  "},null,{"$f":"IF(ISBLANK(I36),\"  \",IF(ISBLANK(I37),\" \",IF(ISBLANK(I43),\" \",IF($Q$8=2,ROUND(((I43)/I36)*100,0),ROUND((I43/I36)*100,0)))))","v":"  "},null,{"$f":"IF(ISBLANK(K36),\"  \",IF(ISBLANK(K37),\" \",IF(ISBLANK(K43),\" \",IF($Q$8=2,ROUND(((K43)/K36)*100,0),ROUND((K43/K36)*100,0)))))","v":"  "},null,{"$f":"IF(ISBLANK(M36),\"  \",IF(ISBLANK(M37),\" \",IF(ISBLANK(M43),\" \",IF($Q$8=2,ROUND(((M43)/M36)*100,0),ROUND((M43/M36)*100,0)))))","v":"  "}]
[{"$f":"IF(L4=\"2A\",\"24-50\",IF(L4=\"DSA\",\"30-65 \",IF(L4=\"OGS\",\"8-40\",IF(L4=\"2RC\",\"15-60 \",IF(ISBLANK(4),\"24-50\")))))","v":"24-50"},4,null,{"$f":"IF(ISBLANK(C36),\"  \",IF(ISBLANK(C37),\" \",IF(ISBLANK(C44),\" \",IF($Q$8=2,ROUND(((C44)/C36)*100,0),ROUND((C44/C36)*100,0)))))","v":"  "},null,{"$f":"IF(ISBLANK(E36),\"  \",IF(ISBLANK(E37),\" \",IF(ISBLANK(E44),\" \",IF($Q$8=2,ROUND(((E44)/E36)*100,0),ROUND((E44/E36)*100,0)))))","v":"  "},null,{"$f":"IF(ISBLANK(G36),\"  \",IF(ISBLANK(G37),\" \",IF(ISBLANK(G44),\" \",IF($Q$8=2,ROUND(((G44)/G36)*100,0),ROUND((G44/G36)*100,0)))))","v":"  "},null,{"$f":"IF(ISBLANK(I36),\"  \",IF(ISBLANK(I37),\" \",IF(ISBLANK(I44),\" \",IF($Q$8=2,ROUND(((I44)/I36)*100,0),ROUND((I44/I36)*100,0)))))","v":"  "},null,{"$f":"IF(ISBLANK(K36),\"  \",IF(ISBLANK(K37),\" \",IF(ISBLANK(K44),\" \",IF($Q$8=2,ROUND(((K44)/K36)*100,0),ROUND((K44/K36)*100,0)))))","v":"  "},null,{"$f":"IF(ISBLANK(M36),\"  \",IF(ISBLANK(M37),\" \",IF(ISBLANK(M44),\" \",IF($Q$8=2,ROUND(((M44)/M36)*100,0),ROUND((M44/M36)*100,0)))))","v":"  "}]
["Starting Weight",null,null,{"$f":"IF(ISBLANK(C36),\"  \",IF(ISBLANK(C37),\" \",IF($Q$8=2,\"% Loss\",ROUND((C45/C36)*100,0))))","v":"  "},null,{"$f":"IF(ISBLANK(E36),\"  \",IF(ISBLANK(E37),\" \",IF($Q$8=2,\"% Loss\",ROUND((E45/E36)*100,0))))","v":"  "},null,{"$f":"IF(ISBLANK(G36),\"  \",IF(ISBLANK(G37),\" \",IF($Q$8=2,\"% Loss\",ROUND((G45/G36)*100,0))))","v":"  "},null,{"$f":"IF(ISBLANK(I36),\"  \",IF(ISBLANK(I37),\" \",IF($Q$8=2,\"% Loss\",ROUND((I45/I36)*100,0))))","v":"  "},null,{"$f":"IF(ISBLANK(K36),\"  \",IF(ISBLANK(K37),\" \",IF($Q$8=2,\"% Loss\",ROUND((K45/K36)*100,0))))","v":"  "},null,{"$f":"IF(ISBLANK(M36),\"  \",IF(ISBLANK(M37),\" \",IF($Q$8=2,\"% Loss\",ROUND((M45/M36)*100,0))))","v":"  "}]
["Ending Weight",null,null,{"$f":"IF(ISBLANK(C36),\"  \",IF(ISBLANK(C37),\" \",IF(ISBLANK(C46),\" \",IF($Q$8=2,((C45-C46)/C45)*100,ROUND((C46/C36)*100,0)))))","v":"  "},null,{"$f":"IF(ISBLANK(E36),\"  \",IF(ISBLANK(E37),\" \",IF(ISBLANK(E46),\" \",IF($Q$8=2,((E45-E46)/E45)*100,ROUND((E46/E36)*100,0)))))","v":"  "},null,{"$f":"IF(ISBLANK(G36),\"  \",IF(ISBLANK(G37),\" \",IF(ISBLANK(G46),\" \",IF($Q$8=2,((G45-G46)/G45)*100,ROUND((G46/G36)*100,0)))))","v":"  "},null,{"$f":"IF(ISBLANK(I36),\"  \",IF(ISBLANK(I37),\" \",IF(ISBLANK(I46),\" \",IF($Q$8=2,((I45-I46)/I45)*100,ROUND((I46/I36)*100,0)))))","v":"  "},null,{"$f":"IF(ISBLANK(K36),\"  \",IF(ISBLANK(K37),\" \",IF(ISBLANK(K46),\" \",IF($Q$8=2,((K45-K46)/K45)*100,ROUND((K46/K36)*100,0)))))","v":"  "},null,{"$f":"IF(ISBLANK(M36),\"  \",IF(ISBLANK(M37),\" \",IF(ISBLANK(M46),\" \",IF($Q$8=2,((M45-M46)/M45)*100,ROUND((M46/M36)*100,0)))))","v":"  "}]
["Spec","Sieve","Wt.",{"$f":"IF(ISBLANK(C36),\"  \",IF(ISBLANK(C37),\" \",IF(ISBLANK(C47),\" \",IF($Q$8=2,\"% Passing\",ROUND((C47/C36)*100,0)))))","v":"  "},"Wt.",{"$f":"IF(ISBLANK(E36),\"  \",IF(ISBLANK(E37),\" \",IF(ISBLANK(E47),\" \",IF($Q$8=2,\"% Passing\",ROUND((E47/E36)*100,0)))))","v":"  "},"Wt.",{"$f":"IF(ISBLANK(G36),\"  \",IF(ISBLANK(G37),\" \",IF(ISBLANK(G47),\" \",IF($Q$8=2,\"% Passing\",ROUND((G47/G36)*100,0)))))","v":"  "},"Wt.",{"$f":"IF(ISBLANK(I36),\"  \",IF(ISBLANK(I37),\" \",IF(ISBLANK(I47),\" \",IF($Q$8=2,\"% Passing\",ROUND((I47/I36)*100,0)))))","v":"  "},"Wt.",{"$f":"IF(ISBLANK(K36),\"  \",IF(ISBLANK(K37),\" \",IF(ISBLANK(K47),\" \",IF($Q$8=2,\"% Passing\",ROUND((K47/K36)*100,0)))))","v":"  "},"Wt.",{"$f":"IF(ISBLANK(M36),\"  \",IF(ISBLANK(M37),\" \",IF(ISBLANK(M47),\" \",IF($Q$8=2,\"% Passing\",ROUND((M47/M36)*100,0)))))","v":"  "}]
[{"$f":"IF(L4=\"2A\",\"10-30\",IF(L4=\"DSA\",\"15-30\",IF(L4=\"OGS\",\"0-12\",IF(L4=\"2RC\",\"0-30\",IF(ISBLANK(L4),\"10-30\")))))","v":"10-30"},{"$f":"IF(L4=\"2RC\",100,16)","v":16},null,{"$f":"IF(ISBLANK(C36),\"  \",IF(ISBLANK(C37),\" \",IF(ISBLANK(C48),\" \",IF($Q$8=2,(C44/C45*C48)/C36*100,ROUND((C48/C36)*100,0)))))","v":"  "},null,{"$f":"IF(ISBLANK(E36),\"  \",IF(ISBLANK(E37),\" \",IF(ISBLANK(E48),\" \",IF($Q$8=2,(E44/E45*E48)/E36*100,ROUND((E48/E36)*100,0)))))","v":"  "},null,{"$f":"IF(ISBLANK(G36),\"  \",IF(ISBLANK(G37),\" \",IF(ISBLANK(G48),\" \",IF($Q$8=2,(G44/G45*G48)/G36*100,ROUND((G48/G36)*100,0)))))","v":"  "},null,{"$f":"IF(ISBLANK(I36),\"  \",IF(ISBLANK(I37),\" \",IF(ISBLANK(I48),\" \",IF($Q$8=2,(I44/I45*I48)/I36*100,ROUND((I48/I36)*100,0)))))","v":"  "},null,{"$f":"IF(ISBLANK(K36),\"  \",IF(ISBLANK(K37),\" \",IF(ISBLANK(K48),\" \",IF($Q$8=2,(K44/K45*K48)/K36*100,ROUND((K48/K36)*100,0)))))","v":"  "},null,{"$f":"IF(ISBLANK(M36),\"  \",IF(ISBLANK(M37),\" \",IF(ISBLANK(M48),\" \",IF($Q$8=2,(M44/M45*M48)/M36*100,ROUND((M48/M36)*100,0)))))","v":"  "}]
[{"$f":"IF(L4=\"DSA\",\"10-15\",\"Info\")","v":"Info"},200,null,{"$f":"IF(ISBLANK(C36),\"  \",IF(ISBLANK(C37),\" \",IF(ISBLANK(C49),\" \",IF($Q$8=2,(C44/C45*C49)/C36*100,ROUND((C49/C36)*100,0)))))","v":"  "},null,{"$f":"IF(ISBLANK(E36),\"  \",IF(ISBLANK(E37),\" \",IF(ISBLANK(E49),\" \",IF($Q$8=2,(E44/E45*E49)/E36*100,ROUND((E49/E36)*100,0)))))","v":"  "},null,{"$f":"IF(ISBLANK(G36),\"  \",IF(ISBLANK(G37),\" \",IF(ISBLANK(G49),\" \",IF($Q$8=2,(G44/G45*G49)/G36*100,ROUND((G49/G36)*100,0)))))","v":"  "},null,{"$f":"IF(ISBLANK(I36),\"  \",IF(ISBLANK(I37),\" \",IF(ISBLANK(I49),\" \",IF($Q$8=2,(I44/I45*I49)/I36*100,ROUND((I49/I36)*100,0)))))","v":"  "},null,{"$f":"IF(ISBLANK(K36),\"  \",IF(ISBLANK(K37),\" \",IF(ISBLANK(K49),\" \",IF($Q$8=2,(K44/K45*K49)/K36*100,ROUND((K49/K36)*100,0)))))","v":"  "},null,{"$f":"IF(ISBLANK(M36),\"  \",IF(ISBLANK(M37),\" \",IF(ISBLANK(M49),\" \",IF($Q$8=2,(M44/M45*M49)/M36*100,ROUND((M49/M36)*100,0)))))","v":"  "}]
["Wash ",{"$f":"IF(L4=\"2A\",\"0-10\",IF(L4=\"OGS\",\"0-5\",IF(L4=\"DSA\",\"10-15\",IF(L4=\"2RC\",\" \",IF(ISBLANK(L4),\"0-10\")))))","v":"0-10"},{"$f":"IF($L$4=\"OGS\",\"Coeff. Unf.\",\" \")","v":" "},{"$f":"IF(ISBLANK($L$4),\" \",IF($L$4=\"2A\",\" \",IF($L$4=\"2RC\",\" \",IF(ISERROR(D79),\" \",D79))))","v":" "},{"$f":"IF($L$4=\"OGS\",\"Coeff. Unf.\",\" \")","v":" "},{"$f":"IF(ISBLANK($L$4),\" \",IF($L$4=\"2A\",\" \",IF($L$4=\"2RC\",\" \",IF(ISERROR(F79),\" \",F79))))","v":" "},{"$f":"IF($L$4=\"OGS\",\"Coeff. Unf.\",\" \")","v":" "},{"$f":"IF(ISBLANK($L$4),\" \",IF($L$4=\"2A\",\" \",IF($L$4=\"2RC\",\" \",IF(ISERROR(H79),\" \",H79))))","v":" "},{"$f":"IF($L$4=\"OGS\",\"Coeff. Unf.\",\" \")","v":" "},{"$f":"IF(ISBLANK($L$4),\" \",IF($L$4=\"2A\",\" \",IF($L$4=\"2RC\",\" \",IF(ISERROR(J79),\" \",J79))))","v":" "},{"$f":"IF($L$4=\"OGS\",\"Coeff. Unf.\",\" \")","v":" "},{"$f":"IF(ISBLANK($L$4),\" \",IF($L$4=\"2A\",\" \",IF($L$4=\"2RC\",\" \",IF(ISERROR(L79),\" \",L79))))","v":" "},{"$f":"IF($L$4=\"OGS\",\"Coeff. Unf.\",\" \")","v":" "},{"$f":"IF(ISBLANK($L$4),\" \",IF($L$4=\"2A\",\" \",IF($L$4=\"2RC\",\" \",IF(ISERROR(N79),\" \",N79))))","v":" "}]
["St. Wt. Before Wash",null,null,"% Passing",null,"% Passing",null,"% Passing",null,"% Passing",null,"% Passing",null,"% Passing"]
["End Wt. After Wash",null,null,{"$f":"IF(ISBLANK(C51),\" \",IF(ISBLANK(C52),\" \",((C51-C52)/C51)*100))","v":" "},null,{"$f":"IF(ISBLANK(E51),\" \",IF(ISBLANK(E52),\" \",((E51-E52)/E51)*100))","v":" "},null,{"$f":"IF(ISBLANK(G51),\" \",IF(ISBLANK(G52),\" \",((G51-G52)/G51)*100))","v":" "},null,{"$f":"IF(ISBLANK(I51),\" \",IF(ISBLANK(I52),\" \",((I51-I52)/I51)*100))","v":" "},null,{"$f":"IF(ISBLANK(K51),\" \",IF(ISBLANK(K52),\" \",((K51-K52)/K51)*100))","v":" "},null,{"$f":"IF(ISBLANK(M51),\" \",IF(ISBLANK(M52),\" \",((M51-M52)/M51)*100))","v":" "}]
["Tested By"]
["Remarks"]
[]
[]
[]
[]
[null,null,null,"Upper Coeff Unf"]
[19,null,19,{"$f":"D17","v":"  "},null,{"$f":"F17","v":"  "},null,{"$f":"H17","v":"  "},null,{"$f":"J17","v":"  "},null,{"$f":"L17","v":"  "},null,{"$f":"N17","v":"  "}]
[9.5,null,9.5,{"$f":"D19","v":"  "},null,{"$f":"F19","v":"  "},null,{"$f":"H19","v":"  "},null,{"$f":"J19","v":"  "},null,{"$f":"L19","v":"  "},null,{"$f":"N19","v":"  "}]
[null,null,"D60",{"$f":"FORECAST(60,$A$60:$A$61,D60:D61)","v":{"$error":"#DIV/0!"}},null,{"$f":"FORECAST(60,$A$60:$A$61,F60:F61)","v":{"$error":"#DIV/0!"}},null,{"$f":"FORECAST(60,$A$60:$A$61,H60:H61)","v":{"$error":"#DIV/0!"}},null,{"$f":"FORECAST(60,$A$60:$A$61,J60:J61)","v":{"$error":"#DIV/0!"}},null,{"$f":"FORECAST(60,$A$60:$A$61,L60:L61)","v":{"$error":"#DIV/0!"}},null,{"$f":"FORECAST(60,$A$60:$A$61,N60:N61)","v":{"$error":"#DIV/0!"}}]
[]
[4.75,null,4.75,{"$f":"D20","v":"  "},null,{"$f":"F20","v":"  "},null,{"$f":"H20","v":"  "},null,{"$f":"J20","v":"  "},null,{"$f":"L20","v":"  "},null,{"$f":"N20","v":"  "}]
[1.18,null,1.18,{"$f":"D24","v":"  "},null,{"$f":"F24","v":"  "},null,{"$f":"H24","v":"  "},null,{"$f":"J24","v":"  "},null,{"$f":"L24","v":"  "},null,{"$f":"N24","v":"  "}]
[null,null,"D10",{"$f":"FORECAST(10,$A$64:$A$65,D64:D65)","v":{"$error":"#DIV/0!"}},null,{"$f":"FORECAST(10,$A$64:$A$65,F64:F65)","v":{"$error":"#DIV/0!"}},null,{"$f":"FORECAST(10,$A$64:$A$65,H64:H65)","v":{"$error":"#DIV/0!"}},null,{"$f":"FORECAST(10,$A$64:$A$65,J64:J65)","v":{"$error":"#DIV/0!"}},null,{"$f":"FORECAST(10,$A$64:$A$65,L64:L65)","v":{"$error":"#DIV/0!"}},null,{"$f":"FORECAST(10,$A$64:$A$65,N64:N65)","v":{"$error":"#DIV/0!"}}]
[]
[null,null,"Coeff Unf",{"$f":"ROUND(D62/D66,1)","v":{"$error":"#DIV/0!"}},null,{"$f":"ROUND(F62/F66,1)","v":{"$error":"#DIV/0!"}},null,{"$f":"ROUND(H62/H66,1)","v":{"$error":"#DIV/0!"}},null,{"$f":"ROUND(J62/J66,1)","v":{"$error":"#DIV/0!"}},null,{"$f":"ROUND(L62/L66,1)","v":{"$error":"#DIV/0!"}},null,{"$f":"ROUND(N62/N66,1)","v":{"$error":"#DIV/0!"}}]
[]
[null,null,"Lower Coff Unf"]
[19,null,19,{"$f":"D41","v":"  "},null,{"$f":"F41","v":"  "},null,{"$f":"H41","v":"  "},null,{"$f":"J41","v":"  "},null,{"$f":"L41","v":"  "},null,{"$f":"N41","v":"  "}]
[9.5,null,9.5,{"$f":"D43","v":"  "},null,{"$f":"F43","v":"  "},null,{"$f":"H43","v":"  "},null,{"$f":"J43","v":"  "},null,{"$f":"L43","v":"  "},null,{"$f":"N43","v":"  "}]
[null,null,"D60",{"$f":"FORECAST(60,$A$71:$A$72,D71:D72)","v":{"$error":"#DIV/0!"}},null,{"$f":"FORECAST(60,$A$71:$A$72,F71:F72)","v":{"$error":"#DIV/0!"}},null,{"$f":"FORECAST(60,$A$71:$A$72,H71:H72)","v":{"$error":"#DIV/0!"}},null,{"$f":"FORECAST(60,$A$71:$A$72,J71:J72)","v":{"$error":"#DIV/0!"}},null,{"$f":"FORECAST(60,$A$71:$A$72,L71:L72)","v":{"$error":"#DIV/0!"}},null,{"$f":"FORECAST(60,$A$71:$A$72,N71:N72)","v":{"$error":"#DIV/0!"}}]
[]
[4.75,null,4.75,{"$f":"D44","v":"  "},null,{"$f":"F44","v":"  "},null,{"$f":"H44","v":"  "},null,{"$f":"J44","v":"  "},null,{"$f":"L44","v":"  "},null,{"$f":"N44","v":"  "}]
[1.18,null,1.18,{"$f":"D48","v":"  "},null,{"$f":"F48","v":"  "},null,{"$f":"H48","v":"  "},null,{"$f":"J48","v":"  "},null,{"$f":"L48","v":"  "},null,{"$f":"N48","v":"  "}]
[null,null,"D10",{"$f":"FORECAST(10,$A$75:$A$76,D75:D76)","v":{"$error":"#DIV/0!"}},null,{"$f":"FORECAST(10,$A$75:$A$76,F75:F76)","v":{"$error":"#DIV/0!"}},null,{"$f":"FORECAST(10,$A$75:$A$76,H75:H76)","v":{"$error":"#DIV/0!"}},null,{"$f":"FORECAST(10,$A$75:$A$76,J75:J76)","v":{"$error":"#DIV/0!"}},null,{"$f":"FORECAST(10,$A$75:$A$76,L75:L76)","v":{"$error":"#DIV/0!"}},null,{"$f":"FORECAST(10,$A$75:$A$76,N75:N76)","v":{"$error":"#DIV/0!"}}]
[]
[null,null,"Coeff Unf",{"$f":"ROUND(D73/D77,1)","v":{"$error":"#DIV/0!"}},null,{"$f":"ROUND(F73/F77,1)","v":{"$error":"#DIV/0!"}},null,{"$f":"ROUND(H73/H77,1)","v":{"$error":"#DIV/0!"}},null,{"$f":"ROUND(J73/J77,1)","v":{"$error":"#DIV/0!"}},null,{"$f":"ROUND(L73/L77,1)","v":{"$error":"#DIV/0!"}},null,{"$f":"ROUND(N73/N77,1)","v":{"$error":"#DIV/0!"}}]

{"sheet":"S7","index":6,"n_rows":79,"n_cols":17,"rows_kept":79,"cut":false,"hidden":true,"merged":[[53,12,55,13],[53,0,55,1],[53,2,55,3],[53,4,55,5],[53,6,55,7],[53,8,55,9],[53,10,55,11],[52,12,52,13],[36,0,36,1],[45,0,45,1],[52,8,52,9],[44,0,44,1],[52,4,52,5],[52,6,52,7],[52,10,52,11],[50,0,50,1],[51,0,51,1],[52,0,52,1],[52,2,52,3],[28,10,28,11],[28,12,28,13],[29,10,31,11],[29,12,31,13],[28,8,28,9],[29,8,31,9],[34,12,34,13],[33,8,33,9],[33,10,33,11],[34,2,34,3],[34,4,34,5],[34,6,34,7],[34,8,34,9],[34,10,34,11],[33,12,33,13],[27,0,27,1],[9,2,9,3],[29,2,31,3],[29,4,31,5],[29,6,31,7],[9,6,9,7],[35,0,35,1],[33,2,33,3],[28,6,28,7],[33,4,33,5],[33,6,33,7],[34,0,34,1],[28,4,28,5],[1,11,1,12],[2,9,2,10],[2,11,2,12],[3,9,3,10],[3,11,3,12],[1,9,1,10],[4,11,4,12],[9,12,9,13],[10,8,10,9],[10,10,10,11],[10,12,10,13],[9,10,9,11],[5,9,5,10],[4,9,4,10],[5,11,5,12],[9,8,9,9],[5,3,5,8],[10,6,10,7],[7,2,7,4],[7,5,7,6],[58,3,58,13],[69,2,69,13],[9,0,9,1],[20,0,20,1],[21,0,21,1],[26,0,26,1],[10,4,10,5],[33,0,33,1],[28,0,28,1],[28,2,28,3],[9,4,9,5],[12,0,12,1],[11,0,11,1],[10,0,10,1],[10,2,10,3],[29,0,31,1],[0,7,3,8],[1,2,1,6],[2,2,2,6],[3,2,3,6],[4,0,4,1],[0,0,3,1]]}
[]
[null,null,"COMMONWEALTH OF PENNSYLVANIA",null,null,null,null,null,null,"DISTRICT",null,{"$f":"IF(ISBLANK('S1'!L2),\" \",'S1'!L2)","v":" "}]
[null,null,"DEPARTMENT OF TRANSPORTATION",null,null,null,null,null,null,"PLANT CODE",null,{"$f":"IF(ISBLANK('S1'!L3),\" \",'S1'!L3)","v":" "}]
[null,null,"PENNSYLVANIA TURNPIKE COMMISSION",null,null,null,null,null,null,"AGG SIZE",null,{"$f":"IF(ISBLANK('S1'!L4),\" \",'S1'!L4)","v":"2A"}]
[{"$f":"'S1'!A5","v":"Aggregate 2023"},null,null,null,null,null,null,null,null,"#4 Target Value ",null,{"$f":"IF(ISBLANK('S1'!L5),\" \",'S1'!L5)","v":" "}]
[".",null,null,{"$f":"'S1'!D6","v":"Material Test Results for 2A Coarse Aggregate"},null,null,null,null,null,"#16 Target Value",null,{"$f":"IF(ISBLANK('S1'!L6),\" \",'S1'!L6)","v":" "}]
[]
[null,null,"Method of testing",null,null,{"$f":"'S1'!F8:G8","v":"Split sample "},null,null,null,null,null,null,null,null,null,null,{"$f":"IF(F8=\"Complete sample\",1,2)","v":2}]
[]
["Sample No."]
["Date"]
["Starting Weight",null,null,"% Loss",null,"% Loss",null,"% Loss",null,"% Loss",null,"% Loss",null,"% Loss"]
["Ending Weight",null,null,{"$f":"IF(ISBLANK(C12),\" \",IF(ISBLANK(C13),\" \",((C12-C13)/C12)*100))","v":" "},null,{"$f":"IF(ISBLANK(E12),\" \",IF(ISBLANK(E13),\" \",((E12-E13)/E12)*100))","v":" "},null,{"$f":"IF(ISBLANK(G12),\" \",IF(ISBLANK(G13),\" \",((G12-G13)/G12)*100))","v":" "},null,{"$f":"IF(ISBLANK(I12),\" \",IF(ISBLANK(I13),\" \",((I12-I13)/I12)*100))","v":" "},null,{"$f":"IF(ISBLANK(K12),\" \",IF(ISBLANK(K13),\" \",((K12-K13)/K12)*100))","v":" "},null,{"$f":"IF(ISBLANK(M12),\" \",IF(ISBLANK(M13),\" \",((M12-M13)/M12)*100))","v":" "}]
["Spec","Sieve","Wt.","% Passing","Wt.","% Passing","Wt.","% Passing","Wt.","% Passing","Wt.","% Passing","Wt.","% Passing"]
[100,2,null,{"$f":"IF(ISBLANK(C$12),\"  \",IF(ISBLANK(C$13),\" \",IF(ISBLANK(C15),\" \",IF($Q$8=2,ROUND(((C15)/C$12)*100,0),ROUND((C15/$C$12)*100,0)))))","v":"  "},null,{"$f":"IF(ISBLANK(E12),\"  \",IF(ISBLANK(E13),\" \",IF(ISBLANK(E15),\" \",IF($Q$8=2,ROUND(((E15)/E12)*100,0),ROUND((E15/E12)*100,0)))))","v":"  "},null,{"$f":"IF(ISBLANK(G12),\"  \",IF(ISBLANK(G13),\" \",IF(ISBLANK(G15),\" \",IF($Q$8=2,ROUND(((G15)/G12)*100,0),ROUND((G15/G12)*100,0)))))","v":"  "},null,{"$f":"IF(ISBLANK(I12),\"  \",IF(ISBLANK(I13),\" \",IF(ISBLANK(I15),\" \",IF($Q$8=2,ROUND(((I15)/I12)*100,0),ROUND((I15/I12)*100,0)))))","v":"  "},null,{"$f":"IF(ISBLANK(K12),\"  \",IF(ISBLANK(K13),\" \",IF(ISBLANK(K15),\" \",IF($Q$8=2,ROUND(((K15)/K12)*100,0),ROUND((K15/K12)*100,0)))))","v":"  "},null,{"$f":"IF(ISBLANK(M12),\"  \",IF(ISBLANK(M13),\" \",IF(ISBLANK(M15),\" \",IF($Q$8=2,ROUND(((M15)/M12)*100,0),ROUND((M15/M12)*100,0)))))","v":"  "}]
[{"$f":"IF(L4=\"DSA\",\"100\",\"Breaker\")","v":"Breaker"},{"$f":"'S1'!B16","v":1},null,"  ",null,{"$f":"IF(ISBLANK(E12),\"  \",IF(ISBLANK(E13),\" \",IF(ISBLANK(E16),\" \",IF($Q$8=2,ROUND(((E16)/E12)*100,0),ROUND((E16/E12)*100,0)))))","v":"  "},null,{"$f":"IF(ISBLANK(G12),\"  \",IF(ISBLANK(G13),\" \",IF(ISBLANK(G16),\" \",IF($Q$8=2,ROUND(((G16)/G12)*100,0),ROUND((G16/G12)*100,0)))))","v":"  "},null,{"$f":"IF(ISBLANK(I12),\"  \",IF(ISBLANK(I13),\" \",IF(ISBLANK(I16),\" \",IF($Q$8=2,ROUND(((I16)/I12)*100,0),ROUND((I16/I12)*100,0)))))","v":"  "},null,{"$f":"IF(ISBLANK(K12),\"  \",IF(ISBLANK(K13),\" \",IF(ISBLANK(K16),\" \",IF($Q$8=2,ROUND(((K16)/K12)*100,0),ROUND((K16/K12)*100,0)))))","v":"  "},null,{"$f":"IF(ISBLANK(M12),\"  \",IF(ISBLANK(M13),\" \",IF(ISBLANK(M16),\" \",IF($Q$8=2,ROUND(((M16)/M12)*100,0),ROUND((M16/M12)*100,0)))))","v":"  "}]
[{"$f":"IF(L4=\"2RC\",\" \",IF(L4=\"DSA\",\"65-95\",\"52-100\"))","v":"52-100"},0.75,null,"  ",null,{"$f":"IF(ISBLANK(E12),\"  \",IF(ISBLANK(E13),\" \",IF(ISBLANK(E17),\" \",IF($Q$8=2,ROUND(((E17)/E12)*100,0),ROUND((E17/E12)*100,0)))))","v":"  "},null,{"$f":"IF(ISBLANK(G12),\"  \",IF(ISBLANK(G13),\" \",IF(ISBLANK(G17),\" \",IF($Q$8=2,ROUND(((G17)/G12)*100,0),ROUND((G17/G12)*100,0)))))","v":"  "},null,{"$f":"IF(ISBLANK(I12),\"  \",IF(ISBLANK(I13),\" \",IF(ISBLANK(I17),\" \",IF($Q$8=2,ROUND(((I17)/I12)*100,0),ROUND((I17/I12)*100,0)))))","v":"  "},null,{"$f":"IF(ISBLANK(K12),\"  \",IF(ISBLANK(K13),\" \",IF(ISBLANK(K17),\" \",IF($Q$8=2,ROUND(((K17)/K12)*100,0),ROUND((K17/K12)*100,0)))))","v":"  "},null,{"$f":"IF(ISBLANK(M12),\"  \",IF(ISBLANK(M13),\" \",IF(ISBLANK(M17),\" \",IF($Q$8=2,ROUND(((M17)/M12)*100,0),ROUND((M17/M12)*100,0)))))","v":"  "}]
["Breaker",0.5,null,"  ",null,{"$f":"IF(ISBLANK(E12),\"  \",IF(ISBLANK(E13),\" \",IF(ISBLANK(E18),\" \",IF($Q$8=2,ROUND(((E18)/E12)*100,0),ROUND((E18/E12)*100,0)))))","v":"  "},null,{"$f":"IF(ISBLANK(G12),\"  \",IF(ISBLANK(G13),\" \",IF(ISBLANK(G18),\" \",IF($Q$8=2,ROUND(((G18)/G12)*100,0),ROUND((G18/G12)*100,0)))))","v":"  "},null,{"$f":"IF(ISBLANK(I12),\"  \",IF(ISBLANK(I13),\" \",IF(ISBLANK(I18),\" \",IF($Q$8=2,ROUND(((I18)/I12)*100,0),ROUND((I18/I12)*100,0)))))","v":"  "},null,{"$f":"IF(ISBLANK(K12),\"  \",IF(ISBLANK(K13),\" \",IF(ISBLANK(K18),\" \",IF($Q$8=2,ROUND(((K18)/K12)*100,0),ROUND((K18/K12)*100,0)))))","v":"  "},null,{"$f":"IF(ISBLANK(M12),\"  \",IF(ISBLANK(M13),\" \",IF(ISBLANK(M18),\" \",IF($Q$8=2,ROUND(((M18)/M12)*100,0),ROUND((M18/M12)*100,0)))))","v":"  "}]
[{"$f":"IF(L4=\"2A\",\"36-70\",IF(L4=\"DSA\",\" \",IF(L4=\"OGS\",\"36-65\",IF(L4=\"2RC\",\" \",IF(ISBLANK(L4),\"36-70\")))))","v":"36-70"},0.375,null,"  ",null,{"$f":"IF(ISBLANK(E12),\"  \",IF(ISBLANK(E13),\" \",IF(ISBLANK(E19),\" \",IF($Q$8=2,ROUND(((E19)/E12)*100,0),ROUND((E19/E12)*100,0)))))","v":"  "},null,{"$f":"IF(ISBLANK(G12),\"  \",IF(ISBLANK(G13),\" \",IF(ISBLANK(G19),\" \",IF($Q$8=2,ROUND(((G19)/G12)*100,0),ROUND((G19/G12)*100,0)))))","v":"  "},null,{"$f":"IF(ISBLANK(I12),\"  \",IF(ISBLANK(I13),\" \",IF(ISBLANK(I19),\" \",IF($Q$8=2,ROUND(((I19)/I12)*100,0),ROUND((I19/I12)*100,0)))))","v":"  "},null,{"$f":"IF(ISBLANK(K12),\"  \",IF(ISBLANK(K13),\" \",IF(ISBLANK(K19),\" \",IF($Q$8=2,ROUND(((K19)/K12)*100,0),ROUND((K19/K12)*100,0)))))","v":"  "},null,{"$f":"IF(ISBLANK(M12),\"  \",IF(ISBLANK(M13),\" \",IF(ISBLANK(M19),\" \",IF($Q$8=2,ROUND(((M19)/M12)*100,0),ROUND((M19/M12)*100,0)))))","v":"  "}]
[{"$f":"IF(L4=\"2A\",\"24-50\",IF(L4=\"DSA\",\"30-65 \",IF(L4=\"OGS\",\"8-40\",IF(L4=\"2RC\",\"15-60 \",IF(ISBLANK(L4),\"24-50\")))))","v":"24-50"},4,null,"  ",null,{"$f":"IF(ISBLANK(E12),\"  \",IF(ISBLANK(E13),\" \",IF(ISBLANK(E20),\" \",IF($Q$8=2,ROUND(((E20)/E$12)*100,0),ROUND((E20/E12)*100,0)))))","v":"  "},null,{"$f":"IF(ISBLANK(G12),\"  \",IF(ISBLANK(G13),\" \",IF(ISBLANK(G20),\" \",IF($Q$8=2,ROUND(((G20)/G$12)*100,0),ROUND((G20/G12)*100,0)))))","v":"  "},null,{"$f":"IF(ISBLANK(I12),\"  \",IF(ISBLANK(I13),\" \",IF(ISBLANK(I20),\" \",IF($Q$8=2,ROUND(((I20)/I$12)*100,0),ROUND((I20/I12)*100,0)))))","v":"  "},null,{"$f":"IF(ISBLANK(K12),\"  \",IF(ISBLANK(K13),\" \",IF(ISBLANK(K20),\" \",IF($Q$8=2,ROUND(((K20)/K$12)*100,0),ROUND((K20/K12)*100,0)))))","v":"  "},null,{"$f":"IF(ISBLANK(M12),\"  \",IF(ISBLANK(M13),\" \",IF(ISBLANK(M20),\" \",IF($Q$8=2,ROUND(((M20)/M$12)*100,0),ROUND((M20/M12)*100,0)))))","v":"  "}]
["Starting Weight",null,null,{"$f":"IF(ISBLANK(C$12),\"  \",IF(ISBLANK(C$13),\" \",IF($Q$8=2,\"% Loss\",ROUND((C21/$C$12)*100,0))))","v":"  "},null,{"$f":"IF(ISBLANK(E12),\"  \",IF(ISBLANK(E13),\" \",IF($Q$8=2,\"% Loss\",ROUND((E21/E12)*100,0))))","v":"  "},null,{"$f":"IF(ISBLANK(G12),\"  \",IF(ISBLANK(G13),\" \",IF($Q$8=2,\"% Loss\",ROUND((G21/G12)*100,0))))","v":"  "},null,{"$f":"IF(ISBLANK(I12),\"  \",IF(ISBLANK(I13),\" \",IF($Q$8=2,\"% Loss\",ROUND((I21/I12)*100,0))))","v":"  "},null,{"$f":"IF(ISBLANK(K12),\"  \",IF(ISBLANK(K13),\" \",IF($Q$8=2,\"% Loss\",ROUND((K21/K12)*100,0))))","v":"  "},null,{"$f":"IF(ISBLANK(M12),\"  \",IF(ISBLANK(M13),\" \",IF($Q$8=2,\"% Loss\",ROUND((M21/M12)*100,0))))","v":"  "}]
["Ending Weight",null,null,{"$f":"IF(ISBLANK(C$12),\"  \",IF(ISBLANK(C$13),\" \",IF(ISBLANK(C22),\" \",IF($Q$8=2,((C21-C22)/C21)*100,ROUND((C22/$C$12)*100,0)))))","v":"  "},null,{"$f":"IF(ISBLANK(E12),\"  \",IF(ISBLANK(E13),\" \",IF(ISBLANK(E22),\" \",IF($Q$8=2,((E21-E22)/E21)*100,ROUND((E22/E12)*100,0)))))","v":"  "},null,{"$f":"IF(ISBLANK(G12),\"  \",IF(ISBLANK(G13),\" \",IF(ISBLANK(G22),\" \",IF($Q$8=2,((G21-G22)/G21)*100,ROUND((G22/G12)*100,0)))))","v":"  "},null,{"$f":"IF(ISBLANK(I12),\"  \",IF(ISBLANK(I13),\" \",IF(ISBLANK(I22),\" \",IF($Q$8=2,((I21-I22)/I21)*100,ROUND((I22/I12)*100,0)))))","v":"  "},null,{"$f":"IF(ISBLANK(K12),\"  \",IF(ISBLANK(K13),\" \",IF(ISBLANK(K22),\" \",IF($Q$8=2,((K21-K22)/K21)*100,ROUND((K22/K12)*100,0)))))","v":"  "},null,{"$f":"IF(ISBLANK(M12),\"  \",IF(ISBLANK(M13),\" \",IF(ISBLANK(M22),\" \",IF($Q$8=2,((M21-M22)/M21)*100,ROUND((M22/M12)*100,0)))))","v":"  "}]
["Spec","Sieve","Wt.",{"$f":"IF(ISBLANK(C$12),\"  \",IF(ISBLANK(C$13),\" \",IF(ISBLANK(C23),\" \",IF($Q$8=2,\"% Passing\",ROUND((C23/$C$12)*100,0)))))","v":"  "},"Wt.",{"$f":"IF(ISBLANK(E12),\"  \",IF(ISBLANK(E13),\" \",IF(ISBLANK(E23),\" \",IF($Q$8=2,\"% Passing\",ROUND((E23/E12)*100,0)))))","v":"  "},"Wt.",{"$f":"IF(ISBLANK(G12),\"  \",IF(ISBLANK(G13),\" \",IF(ISBLANK(G23),\" \",IF($Q$8=2,\"% Passing\",ROUND((G23/G12)*100,0)))))","v":"  "},"Wt.",{"$f":"IF(ISBLANK(I12),\"  \",IF(ISBLANK(I13),\" \",IF(ISBLANK(I23),\" \",IF($Q$8=2,\"% Passing\",ROUND((I23/I12)*100,0)))))","v":"  "},"Wt.",{"$f":"IF(ISBLANK(K12),\"  \",IF(ISBLANK(K13),\" \",IF(ISBLANK(K23),\" \",IF($Q$8=2,\"% Passing\",ROUND((K23/K12)*100,0)))))","v":"  "},"Wt.",{"$f":"IF(ISBLANK(M12),\"  \",IF(ISBLANK(M13),\" \",IF(ISBLANK(M23),\" \",IF($Q$8=2,\"% Passing\",ROUND((M23/M12)*100,0)))))","v":"  "}]
[{"$f":"IF(L4=\"2A\",\"10-30\",IF(L4=\"DSA\",\"15-30\",IF(L4=\"OGS\",\"0-12\",IF(L4=\"2RC\",\"0-30\",IF(ISBLANK(L4),\"10-30\")))))","v":"10-30"},{"$f":"IF(L4=\"2RC\",100,16)","v":16},null,{"$f":"IF(ISBLANK(C$12),\"  \",IF(ISBLANK(C$13),\" \",IF(ISBLANK(C24),\" \",IF($Q$8=2,(C20/C21*C24)/C12*100,ROUND((C24/$C$12)*100,0)))))","v":"  "},null,{"$f":"IF(ISBLANK(E12),\"  \",IF(ISBLANK(E13),\" \",IF(ISBLANK(E24),\" \",IF($Q$8=2,(E20/E21*E24)/E12*100,ROUND((E24/E12)*100,0)))))","v":"  "},null,{"$f":"IF(ISBLANK(G12),\"  \",IF(ISBLANK(G13),\" \",IF(ISBLANK(G24),\" \",IF($Q$8=2,(G20/G21*G24)/G12*100,ROUND((G24/G12)*100,0)))))","v":"  "},null,{"$f":"IF(ISBLANK(I12),\"  \",IF(ISBLANK(I13),\" \",IF(ISBLANK(I24),\" \",IF($Q$8=2,(I20/I21*I24)/I12*100,ROUND((I24/I12)*100,0)))))","v":"  "},null,{"$f":"IF(ISBLANK(K12),\"  \",IF(ISBLANK(K13),\" \",IF(ISBLANK(K24),\" \",IF($Q$8=2,(K20/K21*K24)/K12*100,ROUND((K24/K12)*100,0)))))","v":"  "},null,{"$f":"IF(ISBLANK(M12),\"  \",IF(ISBLANK(M13),\" \",IF(ISBLANK(M24),\" \",IF($Q$8=2,(M20/M21*M24)/M12*100,ROUND((M24/M12)*100,0)))))","v":"  "}]
[{"$f":"IF(L4=\"DSA\",\"10-15\",\"Info\")","v":"Info"},200,null,{"$f":"IF(ISBLANK(C$12),\"  \",IF(ISBLANK(C$13),\" \",IF(ISBLANK(C25),\" \",IF($Q$8=2,(C20/C21*C25)/C12*100,ROUND((C25/$C$12)*100,0)))))","v":"  "},null,{"$f":"IF(ISBLANK(E12),\"  \",IF(ISBLANK(E13),\" \",IF(ISBLANK(E25),\" \",IF($Q$8=2,(E20/E21*E25)/E12*100,ROUND((E25/E12)*100,0)))))","v":"  "},null,{"$f":"IF(ISBLANK(G12),\"  \",IF(ISBLANK(G13),\" \",IF(ISBLANK(G25),\" \",IF($Q$8=2,(G20/G21*G25)/G12*100,ROUND((G25/G12)*100,0)))))","v":"  "},null,{"$f":"IF(ISBLANK(I12),\"  \",IF(ISBLANK(I13),\" \",IF(ISBLANK(I25),\" \",IF($Q$8=2,(I20/I21*I25)/I12*100,ROUND((I25/I12)*100,0)))))","v":"  "},null,{"$f":"IF(ISBLANK(K12),\"  \",IF(ISBLANK(K13),\" \",IF(ISBLANK(K25),\" \",IF($Q$8=2,(K20/K21*K25)/K12*100,ROUND((K25/K12)*100,0)))))","v":"  "},null,{"$f":"IF(ISBLANK(M12),\"  \",IF(ISBLANK(M13),\" \",IF(ISBLANK(M25),\" \",IF($Q$8=2,(M20/M21*M25)/M12*100,ROUND((M25/M12)*100,0)))))","v":"  "}]
["Wash ",{"$f":"IF(L4=\"2A\",\"0-10\",IF(L4=\"OGS\",\"0-5\",IF(L4=\"DSA\",\"10-15\",IF(L4=\"2RC\",\" \",IF(ISBLANK(L4),\"0-10\")))))","v":"0-10"},{"$f":"IF($L$4=\"OGS\",\"Coeff. Unf.\",\" \")","v":" "},{"$f":"IF(ISBLANK($L$4),\" \",IF($L$4=\"2A\",\" \",IF($L$4=\"2RC\",\" \",IF(ISERROR(D68),\" \",D68))))","v":" "},{"$f":"IF($L$4=\"OGS\",\"Coeff. Unf.\",\" \")","v":" "},{"$f":"IF(ISBLANK($L$4),\" \",IF($L$4=\"2A\",\" \",IF($L$4=\"2RC\",\" \",IF(ISERROR(F68),\" \",F68))))","v":" "},{"$f":"IF($L$4=\"OGS\",\"Coeff. Unf.\",\" \")","v":" "},{"$f":"IF(ISBLANK($L$4),\" \",IF($L$4=\"2A\",\" \",IF($L$4=\"2RC\",\" \",IF(ISERROR(H68),\" \",H68))))","v":" "},{"$f":"IF($L$4=\"OGS\",\"Coeff. Unf.\",\" \")","v":" "},{"$f":"IF(ISBLANK($L$4),\" \",IF($L$4=\"2A\",\" \",IF($L$4=\"2RC\",\" \",IF(ISERROR(J68),\" \",J68))))","v":" "},{"$f":"IF($L$4=\"OGS\",\"Coeff. Unf.\",\" \")","v":" "},{"$f":"IF(ISBLANK($L$4),\" \",IF($L$4=\"2A\",\" \",IF($L$4=\"2RC\",\" \",IF(ISERROR(L68),\" \",L68))))","v":" "},{"$f":"IF($L$4=\"OGS\",\"Coeff. Unf.\",\" \")","v":" "},{"$f":"IF(ISBLANK($L$4),\" \",IF($L$4=\"2A\",\" \",IF($L$4=\"2RC\",\" \",IF(ISERROR(N68),\" \",N68))))","v":" "}]
["St. Wt. Before Wash",null,null,"% Passing",null,"% Passing",null,"% Passing",null,"% Passing",null,"% Passing",null,"% Passing"]
["End Wt. After Wash",null,null,{"$f":"IF(ISBLANK(C27),\" \",IF(ISBLANK(C28),\" \",((C27-C28)/C27)*100))","v":" "},null,{"$f":"IF(ISBLANK(E27),\" \",IF(ISBLANK(E28),\" \",((E27-E28)/E27)*100))","v":" "},null,{"$f":"IF(ISBLANK(G27),\" \",IF(ISBLANK(G28),\" \",((G27-G28)/G27)*100))","v":" "},null,{"$f":"IF(ISBLANK(I27),\" \",IF(ISBLANK(I28),\" \",((I27-I28)/I27)*100))","v":" "},null,{"$f":"IF(ISBLANK(K27),\" \",IF(ISBLANK(K28),\" \",((K27-K28)/K27)*100))","v":" "},null,{"$f":"IF(ISBLANK(M27),\" \",IF(ISBLANK(M28),\" \",((M27-M28)/M27)*100))","v":" "}]
["Tested By"]
["Remarks"]
[]
[]
[]
["Sample No."]
["Date"]
["Starting Weight",null,null,"% Loss",null,"% Loss",null,"% Loss",null,"% Loss",null,"% Loss",null,"% Loss"]
["Ending Weight",null,null,{"$f":"IF(ISBLANK(C36),\" \",IF(ISBLANK(C37),\" \",((C36-C37)/C36)*100))","v":" "},null,{"$f":"IF(ISBLANK(E36),\" \",IF(ISBLANK(E37),\" \",((E36-E37)/E36)*100))","v":" "},null,{"$f":"IF(ISBLANK(G36),\" \",IF(ISBLANK(G37),\" \",((G36-G37)/G36)*100))","v":" "},null,{"$f":"IF(ISBLANK(I36),\" \",IF(ISBLANK(I37),\" \",((I36-I37)/I36)*100))","v":" "},null,{"$f":"IF(ISBLANK(K36),\" \",IF(ISBLANK(K37),\" \",((K36-K37)/K36)*100))","v":" "},null,{"$f":"IF(ISBLANK(M36),\" \",IF(ISBLANK(M37),\" \",((M36-M37)/M36)*100))","v":" "}]
["Spec","Sieve","Wt.","% Passing","Wt.","% Passing","Wt.","% Passing","Wt.","% Passing","Wt.","% Passing","Wt.","% Passing"]
[100,2,null,{"$f":"IF(ISBLANK(C36),\"  \",IF(ISBLANK(C37),\" \",IF(ISBLANK(C39),\" \",IF($Q$8=2,ROUND(((C39)/C36)*100,0),ROUND((C39/C36)*100,0)))))","v":"  "},null,{"$f":"IF(ISBLANK(E36),\"  \",IF(ISBLANK(E37),\" \",IF(ISBLANK(E39),\" \",IF($Q$8=2,ROUND(((E39)/E36)*100,0),ROUND((E39/E36)*100,0)))))","v":"  "},null,{"$f":"IF(ISBLANK(G36),\"  \",IF(ISBLANK(G37),\" \",IF(ISBLANK(G39),\" \",IF($Q$8=2,ROUND(((G39)/G36)*100,0),ROUND((G39/G36)*100,0)))))","v":"  "},null,{"$f":"IF(ISBLANK(I36),\"  \",IF(ISBLANK(I37),\" \",IF(ISBLANK(I39),\" \",IF($Q$8=2,ROUND(((I39)/I36)*100,0),ROUND((I39/I36)*100,0)))))","v":"  "},null,{"$f":"IF(ISBLANK(K36),\"  \",IF(ISBLANK(K37),\" \",IF(ISBLANK(K39),\" \",IF($Q$8=2,ROUND(((K39)/K36)*100,0),ROUND((K39/K36)*100,0)))))","v":"  "},null,{"$f":"IF(ISBLANK(M36),\"  \",IF(ISBLANK(M37),\" \",IF(ISBLANK(M39),\" \",IF($Q$8=2,ROUND(((M39)/M36)*100,0),ROUND((M39/M36)*100,0)))))","v":"  "}]
[{"$f":"IF(L4=\"DSA\",\"100\",\"Breaker\")","v":"Breaker"},{"$f":"'S1'!B40","v":1},null,{"$f":"IF(ISBLANK(C36),\"  \",IF(ISBLANK(C37),\" \",IF(ISBLANK(C40),\" \",IF($Q$8=2,ROUND(((C40)/C36)*100,0),ROUND((C40/C36)*100,0)))))","v":"  "},null,{"$f":"IF(ISBLANK(E36),\"  \",IF(ISBLANK(E37),\" \",IF(ISBLANK(E40),\" \",IF($Q$8=2,ROUND(((E40)/E36)*100,0),ROUND((E40/E36)*100,0)))))","v":"  "},null,{"$f":"IF(ISBLANK(G36),\"  \",IF(ISBLANK(G37),\" \",IF(ISBLANK(G40),\" \",IF($Q$8=2,ROUND(((G40)/G36)*100,0),ROUND((G40/G36)*100,0)))))","v":"  "},null,{"$f":"IF(ISBLANK(I36),\"  \",IF(ISBLANK(I37),\" \",IF(ISBLANK(I40),\" \",IF($Q$8=2,ROUND(((I40)/I36)*100,0),ROUND((I40/I36)*100,0)))))","v":"  "},null,{"$f":"IF(ISBLANK(K36),\"  \",IF(ISBLANK(K37),\" \",IF(ISBLANK(K40),\" \",IF($Q$8=2,ROUND(((K40)/K36)*100,0),ROUND((K40/K36)*100,0)))))","v":"  "},null,{"$f":"IF(ISBLANK(M36),\"  \",IF(ISBLANK(M37),\" \",IF(ISBLANK(M40),\" \",IF($Q$8=2,ROUND(((M40)/M36)*100,0),ROUND((M40/M36)*100,0)))))","v":"  "}]
[{"$f":"IF(L4=\"2RC\",\" \",IF(L4=\"DSA\",\"65-95\",\"52-100\"))","v":"52-100"},0.75,null,{"$f":"IF(ISBLANK(C36),\"  \",IF(ISBLANK(C37),\" \",IF(ISBLANK(C41),\" \",IF($Q$8=2,ROUND(((C41)/C36)*100,0),ROUND((C41/C36)*100,0)))))","v":"  "},null,{"$f":"IF(ISBLANK(E36),\"  \",IF(ISBLANK(E37),\" \",IF(ISBLANK(E41),\" \",IF($Q$8=2,ROUND(((E41)/E36)*100,0),ROUND((E41/E36)*100,0)))))","v":"  "},null,{"$f":"IF(ISBLANK(G36),\"  \",IF(ISBLANK(G37),\" \",IF(ISBLANK(G41),\" \",IF($Q$8=2,ROUND(((G41)/G36)*100,0),ROUND((G41/G36)*100,0)))))","v":"  "},null,{"$f":"IF(ISBLANK(I36),\"  \",IF(ISBLANK(I37),\" \",IF(ISBLANK(I41),\" \",IF($Q$8=2,ROUND(((I41)/I36)*100,0),ROUND((I41/I36)*100,0)))))","v":"  "},null,{"$f":"IF(ISBLANK(K36),\"  \",IF(ISBLANK(K37),\" \",IF(ISBLANK(K41),\" \",IF($Q$8=2,ROUND(((K41)/K36)*100,0),ROUND((K41/K36)*100,0)))))","v":"  "},null,{"$f":"IF(ISBLANK(M36),\"  \",IF(ISBLANK(M37),\" \",IF(ISBLANK(M41),\" \",IF($Q$8=2,ROUND(((M41)/M36)*100,0),ROUND((M41/M36)*100,0)))))","v":"  "}]
["Breaker",0.5,null,{"$f":"IF(ISBLANK(C36),\"  \",IF(ISBLANK(C37),\" \",IF(ISBLANK(C42),\" \",IF($Q$8=2,ROUND(((C42)/C36)*100,0),ROUND((C42/C36)*100,0)))))","v":"  "},null,{"$f":"IF(ISBLANK(E36),\"  \",IF(ISBLANK(E37),\" \",IF(ISBLANK(E42),\" \",IF($Q$8=2,ROUND(((E42)/E36)*100,0),ROUND((E42/E36)*100,0)))))","v":"  "},null,{"$f":"IF(ISBLANK(G36),\"  \",IF(ISBLANK(G37),\" \",IF(ISBLANK(G42),\" \",IF($Q$8=2,ROUND(((G42)/G36)*100,0),ROUND((G42/G36)*100,0)))))","v":"  "},null,{"$f":"IF(ISBLANK(I36),\"  \",IF(ISBLANK(I37),\" \",IF(ISBLANK(I42),\" \",IF($Q$8=2,ROUND(((I42)/I36)*100,0),ROUND((I42/I36)*100,0)))))","v":"  "},null,{"$f":"IF(ISBLANK(K36),\"  \",IF(ISBLANK(K37),\" \",IF(ISBLANK(K42),\" \",IF($Q$8=2,ROUND(((K42)/K36)*100,0),ROUND((K42/K36)*100,0)))))","v":"  "},null,{"$f":"IF(ISBLANK(M36),\"  \",IF(ISBLANK(M37),\" \",IF(ISBLANK(M42),\" \",IF($Q$8=2,ROUND(((M42)/M36)*100,0),ROUND((M42/M36)*100,0)))))","v":"  "}]
[{"$f":"IF(L4=\"2A\",\"36-70\",IF(L4=\"DSA\",\" \",IF(L4=\"OGS\",\"36-65\",IF(L4=\"2RC\",\" \",IF(ISBLANK(L4),\"36-70\")))))","v":"36-70"},0.375,null,{"$f":"IF(ISBLANK(C36),\"  \",IF(ISBLANK(C37),\" \",IF(ISBLANK(C43),\" \",IF($Q$8=2,ROUND(((C43)/C36)*100,0),ROUND((C43/C36)*100,0)))))","v":"  "},null,{"$f":"IF(ISBLANK(E36),\"  \",IF(ISBLANK(E37),\" \",IF(ISBLANK(E43),\" \",IF($Q$8=2,ROUND(((E43)/E36)*100,0),ROUND((E43/E36)*100,0)))))","v":"  "},null,{"$f":"IF(ISBLANK(G36),\"  \",IF(ISBLANK(G37),\" \",IF(ISBLANK(G43),\" \",IF($Q$8=2,ROUND(((G43)/G36)*100,0),ROUND((G43/G36)*100,0)))))","v":"  "},null,{"$f":"IF(ISBLANK(I36),\"  \",IF(ISBLANK(I37),\" \",IF(ISBLANK(I43),\" \",IF($Q$8=2,ROUND(((I43)/I36)*100,0),ROUND((I43/I36)*100,0)))))","v":"  "},null,{"$f":"IF(ISBLANK(K36),\"  \",IF(ISBLANK(K37),\" \",IF(ISBLANK(K43),\" \",IF($Q$8=2,ROUND(((K43)/K36)*100,0),ROUND((K43/K36)*100,0)))))","v":"  "},null,{"$f":"IF(ISBLANK(M36),\"  \",IF(ISBLANK(M37),\" \",IF(ISBLANK(M43),\" \",IF($Q$8=2,ROUND(((M43)/M36)*100,0),ROUND((M43/M36)*100,0)))))","v":"  "}]
[{"$f":"IF(L4=\"2A\",\"24-50\",IF(L4=\"DSA\",\"30-65 \",IF(L4=\"OGS\",\"8-40\",IF(L4=\"2RC\",\"15-60 \",IF(ISBLANK(4),\"24-50\")))))","v":"24-50"},4,null,{"$f":"IF(ISBLANK(C36),\"  \",IF(ISBLANK(C37),\" \",IF(ISBLANK(C44),\" \",IF($Q$8=2,ROUND(((C44)/C36)*100,0),ROUND((C44/C36)*100,0)))))","v":"  "},null,{"$f":"IF(ISBLANK(E36),\"  \",IF(ISBLANK(E37),\" \",IF(ISBLANK(E44),\" \",IF($Q$8=2,ROUND(((E44)/E36)*100,0),ROUND((E44/E36)*100,0)))))","v":"  "},null,{"$f":"IF(ISBLANK(G36),\"  \",IF(ISBLANK(G37),\" \",IF(ISBLANK(G44),\" \",IF($Q$8=2,ROUND(((G44)/G36)*100,0),ROUND((G44/G36)*100,0)))))","v":"  "},null,{"$f":"IF(ISBLANK(I36),\"  \",IF(ISBLANK(I37),\" \",IF(ISBLANK(I44),\" \",IF($Q$8=2,ROUND(((I44)/I36)*100,0),ROUND((I44/I36)*100,0)))))","v":"  "},null,{"$f":"IF(ISBLANK(K36),\"  \",IF(ISBLANK(K37),\" \",IF(ISBLANK(K44),\" \",IF($Q$8=2,ROUND(((K44)/K36)*100,0),ROUND((K44/K36)*100,0)))))","v":"  "},null,{"$f":"IF(ISBLANK(M36),\"  \",IF(ISBLANK(M37),\" \",IF(ISBLANK(M44),\" \",IF($Q$8=2,ROUND(((M44)/M36)*100,0),ROUND((M44/M36)*100,0)))))","v":"  "}]
["Starting Weight",null,null,{"$f":"IF(ISBLANK(C36),\"  \",IF(ISBLANK(C37),\" \",IF($Q$8=2,\"% Loss\",ROUND((C45/C36)*100,0))))","v":"  "},null,{"$f":"IF(ISBLANK(E36),\"  \",IF(ISBLANK(E37),\" \",IF($Q$8=2,\"% Loss\",ROUND((E45/E36)*100,0))))","v":"  "},null,{"$f":"IF(ISBLANK(G36),\"  \",IF(ISBLANK(G37),\" \",IF($Q$8=2,\"% Loss\",ROUND((G45/G36)*100,0))))","v":"  "},null,{"$f":"IF(ISBLANK(I36),\"  \",IF(ISBLANK(I37),\" \",IF($Q$8=2,\"% Loss\",ROUND((I45/I36)*100,0))))","v":"  "},null,{"$f":"IF(ISBLANK(K36),\"  \",IF(ISBLANK(K37),\" \",IF($Q$8=2,\"% Loss\",ROUND((K45/K36)*100,0))))","v":"  "},null,{"$f":"IF(ISBLANK(M36),\"  \",IF(ISBLANK(M37),\" \",IF($Q$8=2,\"% Loss\",ROUND((M45/M36)*100,0))))","v":"  "}]
["Ending Weight",null,null,{"$f":"IF(ISBLANK(C36),\"  \",IF(ISBLANK(C37),\" \",IF(ISBLANK(C46),\" \",IF($Q$8=2,((C45-C46)/C45)*100,ROUND((C46/C36)*100,0)))))","v":"  "},null,{"$f":"IF(ISBLANK(E36),\"  \",IF(ISBLANK(E37),\" \",IF(ISBLANK(E46),\" \",IF($Q$8=2,((E45-E46)/E45)*100,ROUND((E46/E36)*100,0)))))","v":"  "},null,{"$f":"IF(ISBLANK(G36),\"  \",IF(ISBLANK(G37),\" \",IF(ISBLANK(G46),\" \",IF($Q$8=2,((G45-G46)/G45)*100,ROUND((G46/G36)*100,0)))))","v":"  "},null,{"$f":"IF(ISBLANK(I36),\"  \",IF(ISBLANK(I37),\" \",IF(ISBLANK(I46),\" \",IF($Q$8=2,((I45-I46)/I45)*100,ROUND((I46/I36)*100,0)))))","v":"  "},null,{"$f":"IF(ISBLANK(K36),\"  \",IF(ISBLANK(K37),\" \",IF(ISBLANK(K46),\" \",IF($Q$8=2,((K45-K46)/K45)*100,ROUND((K46/K36)*100,0)))))","v":"  "},null,{"$f":"IF(ISBLANK(M36),\"  \",IF(ISBLANK(M37),\" \",IF(ISBLANK(M46),\" \",IF($Q$8=2,((M45-M46)/M45)*100,ROUND((M46/M36)*100,0)))))","v":"  "}]
["Spec","Sieve","Wt.",{"$f":"IF(ISBLANK(C36),\"  \",IF(ISBLANK(C37),\" \",IF(ISBLANK(C47),\" \",IF($Q$8=2,\"% Passing\",ROUND((C47/C36)*100,0)))))","v":"  "},"Wt.",{"$f":"IF(ISBLANK(E36),\"  \",IF(ISBLANK(E37),\" \",IF(ISBLANK(E47),\" \",IF($Q$8=2,\"% Passing\",ROUND((E47/E36)*100,0)))))","v":"  "},"Wt.",{"$f":"IF(ISBLANK(G36),\"  \",IF(ISBLANK(G37),\" \",IF(ISBLANK(G47),\" \",IF($Q$8=2,\"% Passing\",ROUND((G47/G36)*100,0)))))","v":"  "},"Wt.",{"$f":"IF(ISBLANK(I36),\"  \",IF(ISBLANK(I37),\" \",IF(ISBLANK(I47),\" \",IF($Q$8=2,\"% Passing\",ROUND((I47/I36)*100,0)))))","v":"  "},"Wt.",{"$f":"IF(ISBLANK(K36),\"  \",IF(ISBLANK(K37),\" \",IF(ISBLANK(K47),\" \",IF($Q$8=2,\"% Passing\",ROUND((K47/K36)*100,0)))))","v":"  "},"Wt.",{"$f":"IF(ISBLANK(M36),\"  \",IF(ISBLANK(M37),\" \",IF(ISBLANK(M47),\" \",IF($Q$8=2,\"% Passing\",ROUND((M47/M36)*100,0)))))","v":"  "}]
[{"$f":"IF(L4=\"2A\",\"10-30\",IF(L4=\"DSA\",\"15-30\",IF(L4=\"OGS\",\"0-12\",IF(L4=\"2RC\",\"0-30\",IF(ISBLANK(L4),\"10-30\")))))","v":"10-30"},{"$f":"IF(L4=\"2RC\",100,16)","v":16},null,{"$f":"IF(ISBLANK(C36),\"  \",IF(ISBLANK(C37),\" \",IF(ISBLANK(C48),\" \",IF($Q$8=2,(C44/C45*C48)/C36*100,ROUND((C48/C36)*100,0)))))","v":"  "},null,{"$f":"IF(ISBLANK(E36),\"  \",IF(ISBLANK(E37),\" \",IF(ISBLANK(E48),\" \",IF($Q$8=2,(E44/E45*E48)/E36*100,ROUND((E48/E36)*100,0)))))","v":"  "},null,{"$f":"IF(ISBLANK(G36),\"  \",IF(ISBLANK(G37),\" \",IF(ISBLANK(G48),\" \",IF($Q$8=2,(G44/G45*G48)/G36*100,ROUND((G48/G36)*100,0)))))","v":"  "},null,{"$f":"IF(ISBLANK(I36),\"  \",IF(ISBLANK(I37),\" \",IF(ISBLANK(I48),\" \",IF($Q$8=2,(I44/I45*I48)/I36*100,ROUND((I48/I36)*100,0)))))","v":"  "},null,{"$f":"IF(ISBLANK(K36),\"  \",IF(ISBLANK(K37),\" \",IF(ISBLANK(K48),\" \",IF($Q$8=2,(K44/K45*K48)/K36*100,ROUND((K48/K36)*100,0)))))","v":"  "},null,{"$f":"IF(ISBLANK(M36),\"  \",IF(ISBLANK(M37),\" \",IF(ISBLANK(M48),\" \",IF($Q$8=2,(M44/M45*M48)/M36*100,ROUND((M48/M36)*100,0)))))","v":"  "}]
[{"$f":"IF(L4=\"DSA\",\"10-15\",\"Info\")","v":"Info"},200,null,{"$f":"IF(ISBLANK(C36),\"  \",IF(ISBLANK(C37),\" \",IF(ISBLANK(C49),\" \",IF($Q$8=2,(C44/C45*C49)/C36*100,ROUND((C49/C36)*100,0)))))","v":"  "},null,{"$f":"IF(ISBLANK(E36),\"  \",IF(ISBLANK(E37),\" \",IF(ISBLANK(E49),\" \",IF($Q$8=2,(E44/E45*E49)/E36*100,ROUND((E49/E36)*100,0)))))","v":"  "},null,{"$f":"IF(ISBLANK(G36),\"  \",IF(ISBLANK(G37),\" \",IF(ISBLANK(G49),\" \",IF($Q$8=2,(G44/G45*G49)/G36*100,ROUND((G49/G36)*100,0)))))","v":"  "},null,{"$f":"IF(ISBLANK(I36),\"  \",IF(ISBLANK(I37),\" \",IF(ISBLANK(I49),\" \",IF($Q$8=2,(I44/I45*I49)/I36*100,ROUND((I49/I36)*100,0)))))","v":"  "},null,{"$f":"IF(ISBLANK(K36),\"  \",IF(ISBLANK(K37),\" \",IF(ISBLANK(K49),\" \",IF($Q$8=2,(K44/K45*K49)/K36*100,ROUND((K49/K36)*100,0)))))","v":"  "},null,{"$f":"IF(ISBLANK(M36),\"  \",IF(ISBLANK(M37),\" \",IF(ISBLANK(M49),\" \",IF($Q$8=2,(M44/M45*M49)/M36*100,ROUND((M49/M36)*100,0)))))","v":"  "}]
["Wash ",{"$f":"IF(L4=\"2A\",\"0-10\",IF(L4=\"OGS\",\"0-5\",IF(L4=\"DSA\",\"10-15\",IF(L4=\"2RC\",\" \",IF(ISBLANK(L4),\"0-10\")))))","v":"0-10"},{"$f":"IF($L$4=\"OGS\",\"Coeff. Unf.\",\" \")","v":" "},{"$f":"IF(ISBLANK($L$4),\" \",IF($L$4=\"2A\",\" \",IF($L$4=\"2RC\",\" \",IF(ISERROR(D79),\" \",D79))))","v":" "},{"$f":"IF($L$4=\"OGS\",\"Coeff. Unf.\",\" \")","v":" "},{"$f":"IF(ISBLANK($L$4),\" \",IF($L$4=\"2A\",\" \",IF($L$4=\"2RC\",\" \",IF(ISERROR(F79),\" \",F79))))","v":" "},{"$f":"IF($L$4=\"OGS\",\"Coeff. Unf.\",\" \")","v":" "},{"$f":"IF(ISBLANK($L$4),\" \",IF($L$4=\"2A\",\" \",IF($L$4=\"2RC\",\" \",IF(ISERROR(H79),\" \",H79))))","v":" "},{"$f":"IF($L$4=\"OGS\",\"Coeff. Unf.\",\" \")","v":" "},{"$f":"IF(ISBLANK($L$4),\" \",IF($L$4=\"2A\",\" \",IF($L$4=\"2RC\",\" \",IF(ISERROR(J79),\" \",J79))))","v":" "},{"$f":"IF($L$4=\"OGS\",\"Coeff. Unf.\",\" \")","v":" "},{"$f":"IF(ISBLANK($L$4),\" \",IF($L$4=\"2A\",\" \",IF($L$4=\"2RC\",\" \",IF(ISERROR(L79),\" \",L79))))","v":" "},{"$f":"IF($L$4=\"OGS\",\"Coeff. Unf.\",\" \")","v":" "},{"$f":"IF(ISBLANK($L$4),\" \",IF($L$4=\"2A\",\" \",IF($L$4=\"2RC\",\" \",IF(ISERROR(N79),\" \",N79))))","v":" "}]
["St. Wt. Before Wash",null,null,"% Passing",null,"% Passing",null,"% Passing",null,"% Passing",null,"% Passing",null,"% Passing"]
["End Wt. After Wash",null,null,{"$f":"IF(ISBLANK(C51),\" \",IF(ISBLANK(C52),\" \",((C51-C52)/C51)*100))","v":" "},null,{"$f":"IF(ISBLANK(E51),\" \",IF(ISBLANK(E52),\" \",((E51-E52)/E51)*100))","v":" "},null,{"$f":"IF(ISBLANK(G51),\" \",IF(ISBLANK(G52),\" \",((G51-G52)/G51)*100))","v":" "},null,{"$f":"IF(ISBLANK(I51),\" \",IF(ISBLANK(I52),\" \",((I51-I52)/I51)*100))","v":" "},null,{"$f":"IF(ISBLANK(K51),\" \",IF(ISBLANK(K52),\" \",((K51-K52)/K51)*100))","v":" "},null,{"$f":"IF(ISBLANK(M51),\" \",IF(ISBLANK(M52),\" \",((M51-M52)/M51)*100))","v":" "}]
["Tested By"]
["Remarks"]
[]
[]
[]
[]
[null,null,null,"Upper Coeff Unf"]
[19,null,19,{"$f":"D17","v":"  "},null,{"$f":"F17","v":"  "},null,{"$f":"H17","v":"  "},null,{"$f":"J17","v":"  "},null,{"$f":"L17","v":"  "},null,{"$f":"N17","v":"  "}]
[9.5,null,9.5,{"$f":"D19","v":"  "},null,{"$f":"F19","v":"  "},null,{"$f":"H19","v":"  "},null,{"$f":"J19","v":"  "},null,{"$f":"L19","v":"  "},null,{"$f":"N19","v":"  "}]
[null,null,"D60",{"$f":"FORECAST(60,$A$60:$A$61,D60:D61)","v":{"$error":"#DIV/0!"}},null,{"$f":"FORECAST(60,$A$60:$A$61,F60:F61)","v":{"$error":"#DIV/0!"}},null,{"$f":"FORECAST(60,$A$60:$A$61,H60:H61)","v":{"$error":"#DIV/0!"}},null,{"$f":"FORECAST(60,$A$60:$A$61,J60:J61)","v":{"$error":"#DIV/0!"}},null,{"$f":"FORECAST(60,$A$60:$A$61,L60:L61)","v":{"$error":"#DIV/0!"}},null,{"$f":"FORECAST(60,$A$60:$A$61,N60:N61)","v":{"$error":"#DIV/0!"}}]
[]
[4.75,null,4.75,{"$f":"D20","v":"  "},null,{"$f":"F20","v":"  "},null,{"$f":"H20","v":"  "},null,{"$f":"J20","v":"  "},null,{"$f":"L20","v":"  "},null,{"$f":"N20","v":"  "}]
[1.18,null,1.18,{"$f":"D24","v":"  "},null,{"$f":"F24","v":"  "},null,{"$f":"H24","v":"  "},null,{"$f":"J24","v":"  "},null,{"$f":"L24","v":"  "},null,{"$f":"N24","v":"  "}]
[null,null,"D10",{"$f":"FORECAST(10,$A$64:$A$65,D64:D65)","v":{"$error":"#DIV/0!"}},null,{"$f":"FORECAST(10,$A$64:$A$65,F64:F65)","v":{"$error":"#DIV/0!"}},null,{"$f":"FORECAST(10,$A$64:$A$65,H64:H65)","v":{"$error":"#DIV/0!"}},null,{"$f":"FORECAST(10,$A$64:$A$65,J64:J65)","v":{"$error":"#DIV/0!"}},null,{"$f":"FORECAST(10,$A$64:$A$65,L64:L65)","v":{"$error":"#DIV/0!"}},null,{"$f":"FORECAST(10,$A$64:$A$65,N64:N65)","v":{"$error":"#DIV/0!"}}]
[]
[null,null,"Coeff Unf",{"$f":"ROUND(D62/D66,1)","v":{"$error":"#DIV/0!"}},null,{"$f":"ROUND(F62/F66,1)","v":{"$error":"#DIV/0!"}},null,{"$f":"ROUND(H62/H66,1)","v":{"$error":"#DIV/0!"}},null,{"$f":"ROUND(J62/J66,1)","v":{"$error":"#DIV/0!"}},null,{"$f":"ROUND(L62/L66,1)","v":{"$error":"#DIV/0!"}},null,{"$f":"ROUND(N62/N66,1)","v":{"$error":"#DIV/0!"}}]
[]
[null,null,"Lower Coff Unf"]
[19,null,19,{"$f":"D41","v":"  "},null,{"$f":"F41","v":"  "},null,{"$f":"H41","v":"  "},null,{"$f":"J41","v":"  "},null,{"$f":"L41","v":"  "},null,{"$f":"N41","v":"  "}]
[9.5,null,9.5,{"$f":"D43","v":"  "},null,{"$f":"F43","v":"  "},null,{"$f":"H43","v":"  "},null,{"$f":"J43","v":"  "},null,{"$f":"L43","v":"  "},null,{"$f":"N43","v":"  "}]
[null,null,"D60",{"$f":"FORECAST(60,$A$71:$A$72,D71:D72)","v":{"$error":"#DIV/0!"}},null,{"$f":"FORECAST(60,$A$71:$A$72,F71:F72)","v":{"$error":"#DIV/0!"}},null,{"$f":"FORECAST(60,$A$71:$A$72,H71:H72)","v":{"$error":"#DIV/0!"}},null,{"$f":"FORECAST(60,$A$71:$A$72,J71:J72)","v":{"$error":"#DIV/0!"}},null,{"$f":"FORECAST(60,$A$71:$A$72,L71:L72)","v":{"$error":"#DIV/0!"}},null,{"$f":"FORECAST(60,$A$71:$A$72,N71:N72)","v":{"$error":"#DIV/0!"}}]
[]
[4.75,null,4.75,{"$f":"D44","v":"  "},null,{"$f":"F44","v":"  "},null,{"$f":"H44","v":"  "},null,{"$f":"J44","v":"  "},null,{"$f":"L44","v":"  "},null,{"$f":"N44","v":"  "}]
[1.18,null,1.18,{"$f":"D48","v":"  "},null,{"$f":"F48","v":"  "},null,{"$f":"H48","v":"  "},null,{"$f":"J48","v":"  "},null,{"$f":"L48","v":"  "},null,{"$f":"N48","v":"  "}]
[null,null,"D10",{"$f":"FORECAST(10,$A$75:$A$76,D75:D76)","v":{"$error":"#DIV/0!"}},null,{"$f":"FORECAST(10,$A$75:$A$76,F75:F76)","v":{"$error":"#DIV/0!"}},null,{"$f":"FORECAST(10,$A$75:$A$76,H75:H76)","v":{"$error":"#DIV/0!"}},null,{"$f":"FORECAST(10,$A$75:$A$76,J75:J76)","v":{"$error":"#DIV/0!"}},null,{"$f":"FORECAST(10,$A$75:$A$76,L75:L76)","v":{"$error":"#DIV/0!"}},null,{"$f":"FORECAST(10,$A$75:$A$76,N75:N76)","v":{"$error":"#DIV/0!"}}]
[]
[null,null,"Coeff Unf",{"$f":"ROUND(D73/D77,1)","v":{"$error":"#DIV/0!"}},null,{"$f":"ROUND(F73/F77,1)","v":{"$error":"#DIV/0!"}},null,{"$f":"ROUND(H73/H77,1)","v":{"$error":"#DIV/0!"}},null,{"$f":"ROUND(J73/J77,1)","v":{"$error":"#DIV/0!"}},null,{"$f":"ROUND(L73/L77,1)","v":{"$error":"#DIV/0!"}},null,{"$f":"ROUND(N73/N77,1)","v":{"$error":"#DIV/0!"}}]

{"sheet":"S8","index":7,"n_rows":79,"n_cols":17,"rows_kept":79,"cut":false,"hidden":true,"merged":[[53,12,55,13],[53,0,55,1],[53,2,55,3],[53,4,55,5],[53,6,55,7],[53,8,55,9],[53,10,55,11],[52,12,52,13],[36,0,36,1],[45,0,45,1],[52,8,52,9],[44,0,44,1],[52,4,52,5],[52,6,52,7],[52,10,52,11],[50,0,50,1],[51,0,51,1],[52,0,52,1],[52,2,52,3],[28,10,28,11],[28,12,28,13],[29,10,31,11],[29,12,31,13],[28,8,28,9],[29,8,31,9],[34,12,34,13],[33,8,33,9],[33,10,33,11],[34,2,34,3],[34,4,34,5],[34,6,34,7],[34,8,34,9],[34,10,34,11],[33,12,33,13],[27,0,27,1],[9,2,9,3],[29,2,31,3],[29,4,31,5],[29,6,31,7],[9,6,9,7],[35,0,35,1],[33,2,33,3],[28,6,28,7],[33,4,33,5],[33,6,33,7],[34,0,34,1],[28,4,28,5],[1,11,1,12],[2,9,2,10],[2,11,2,12],[3,9,3,10],[3,11,3,12],[1,9,1,10],[4,11,4,12],[9,12,9,13],[10,8,10,9],[10,10,10,11],[10,12,10,13],[9,10,9,11],[5,9,5,10],[4,9,4,10],[5,11,5,12],[9,8,9,9],[5,3,5,8],[10,6,10,7],[7,2,7,4],[7,5,7,6],[58,3,58,13],[69,2,69,13],[9,0,9,1],[20,0,20,1],[21,0,21,1],[26,0,26,1],[10,4,10,5],[33,0,33,1],[28,0,28,1],[28,2,28,3],[9,4,9,5],[12,0,12,1],[11,0,11,1],[10,0,10,1],[10,2,10,3],[29,0,31,1],[0,7,3,8],[1,2,1,6],[2,2,2,6],[3,2,3,6],[4,0,4,1],[0,0,3,1]]}
[]
[null,null,"COMMONWEALTH OF PENNSYLVANIA",null,null,null,null,null,null,"DISTRICT",null,{"$f":"IF(ISBLANK('S1'!L2),\" \",'S1'!L2)","v":" "}]
[null,null,"DEPARTMENT OF TRANSPORTATION",null,null,null,null,null,null,"PLANT CODE",null,{"$f":"IF(ISBLANK('S1'!L3),\" \",'S1'!L3)","v":" "}]
[null,null,"PENNSYLVANIA TURNPIKE COMMISSION",null,null,null,null,null,null,"AGG SIZE",null,{"$f":"IF(ISBLANK('S1'!L4),\" \",'S1'!L4)","v":"2A"}]
[{"$f":"'S1'!A5","v":"Aggregate 2023"},null,null,null,null,null,null,null,null,"#4 Target Value ",null,{"$f":"IF(ISBLANK('S1'!L5),\" \",'S1'!L5)","v":" "}]
[".",null,null,{"$f":"'S1'!D6","v":"Material Test Results for 2A Coarse Aggregate"},null,null,null,null,null,"#16 Target Value",null,{"$f":"IF(ISBLANK('S1'!L6),\" \",'S1'!L6)","v":" "}]
[]
[null,null,"Method of testing",null,null,{"$f":"'S1'!F8:G8","v":"Split sample "},null,null,null,null,null,null,null,null,null,null,{"$f":"IF(F8=\"Complete sample\",1,2)","v":2}]
[]
["Sample No."]
["Date"]
["Starting Weight",null,null,"% Loss",null,"% Loss",null,"% Loss",null,"% Loss",null,"% Loss",null,"% Loss"]
["Ending Weight",null,null,{"$f":"IF(ISBLANK(C12),\" \",IF(ISBLANK(C13),\" \",((C12-C13)/C12)*100))","v":" "},null,{"$f":"IF(ISBLANK(E12),\" \",IF(ISBLANK(E13),\" \",((E12-E13)/E12)*100))","v":" "},null,{"$f":"IF(ISBLANK(G12),\" \",IF(ISBLANK(G13),\" \",((G12-G13)/G12)*100))","v":" "},null,{"$f":"IF(ISBLANK(I12),\" \",IF(ISBLANK(I13),\" \",((I12-I13)/I12)*100))","v":" "},null,{"$f":"IF(ISBLANK(K12),\" \",IF(ISBLANK(K13),\" \",((K12-K13)/K12)*100))","v":" "},null,{"$f":"IF(ISBLANK(M12),\" \",IF(ISBLANK(M13),\" \",((M12-M13)/M12)*100))","v":" "}]
["Spec","Sieve","Wt.","% Passing","Wt.","% Passing","Wt.","% Passing","Wt.","% Passing","Wt.","% Passing","Wt.","% Passing"]
[100,2,null,{"$f":"IF(ISBLANK(C$12),\"  \",IF(ISBLANK(C$13),\" \",IF(ISBLANK(C15),\" \",IF($Q$8=2,ROUND(((C15)/C$12)*100,0),ROUND((C15/$C$12)*100,0)))))","v":"  "},null,{"$f":"IF(ISBLANK(E12),\"  \",IF(ISBLANK(E13),\" \",IF(ISBLANK(E15),\" \",IF($Q$8=2,ROUND(((E15)/E12)*100,0),ROUND((E15/E12)*100,0)))))","v":"  "},null,{"$f":"IF(ISBLANK(G12),\"  \",IF(ISBLANK(G13),\" \",IF(ISBLANK(G15),\" \",IF($Q$8=2,ROUND(((G15)/G12)*100,0),ROUND((G15/G12)*100,0)))))","v":"  "},null,{"$f":"IF(ISBLANK(I12),\"  \",IF(ISBLANK(I13),\" \",IF(ISBLANK(I15),\" \",IF($Q$8=2,ROUND(((I15)/I12)*100,0),ROUND((I15/I12)*100,0)))))","v":"  "},null,{"$f":"IF(ISBLANK(K12),\"  \",IF(ISBLANK(K13),\" \",IF(ISBLANK(K15),\" \",IF($Q$8=2,ROUND(((K15)/K12)*100,0),ROUND((K15/K12)*100,0)))))","v":"  "},null,{"$f":"IF(ISBLANK(M12),\"  \",IF(ISBLANK(M13),\" \",IF(ISBLANK(M15),\" \",IF($Q$8=2,ROUND(((M15)/M12)*100,0),ROUND((M15/M12)*100,0)))))","v":"  "}]
[{"$f":"IF(L4=\"DSA\",\"100\",\"Breaker\")","v":"Breaker"},{"$f":"'S1'!B16","v":1},null,"  ",null,{"$f":"IF(ISBLANK(E12),\"  \",IF(ISBLANK(E13),\" \",IF(ISBLANK(E16),\" \",IF($Q$8=2,ROUND(((E16)/E12)*100,0),ROUND((E16/E12)*100,0)))))","v":"  "},null,{"$f":"IF(ISBLANK(G12),\"  \",IF(ISBLANK(G13),\" \",IF(ISBLANK(G16),\" \",IF($Q$8=2,ROUND(((G16)/G12)*100,0),ROUND((G16/G12)*100,0)))))","v":"  "},null,{"$f":"IF(ISBLANK(I12),\"  \",IF(ISBLANK(I13),\" \",IF(ISBLANK(I16),\" \",IF($Q$8=2,ROUND(((I16)/I12)*100,0),ROUND((I16/I12)*100,0)))))","v":"  "},null,{"$f":"IF(ISBLANK(K12),\"  \",IF(ISBLANK(K13),\" \",IF(ISBLANK(K16),\" \",IF($Q$8=2,ROUND(((K16)/K12)*100,0),ROUND((K16/K12)*100,0)))))","v":"  "},null,{"$f":"IF(ISBLANK(M12),\"  \",IF(ISBLANK(M13),\" \",IF(ISBLANK(M16),\" \",IF($Q$8=2,ROUND(((M16)/M12)*100,0),ROUND((M16/M12)*100,0)))))","v":"  "}]
[{"$f":"IF(L4=\"2RC\",\" \",IF(L4=\"DSA\",\"65-95\",\"52-100\"))","v":"52-100"},0.75,null,"  ",null,{"$f":"IF(ISBLANK(E12),\"  \",IF(ISBLANK(E13),\" \",IF(ISBLANK(E17),\" \",IF($Q$8=2,ROUND(((E17)/E12)*100,0),ROUND((E17/E12)*100,0)))))","v":"  "},null,{"$f":"IF(ISBLANK(G12),\"  \",IF(ISBLANK(G13),\" \",IF(ISBLANK(G17),\" \",IF($Q$8=2,ROUND(((G17)/G12)*100,0),ROUND((G17/G12)*100,0)))))","v":"  "},null,{"$f":"IF(ISBLANK(I12),\"  \",IF(ISBLANK(I13),\" \",IF(ISBLANK(I17),\" \",IF($Q$8=2,ROUND(((I17)/I12)*100,0),ROUND((I17/I12)*100,0)))))","v":"  "},null,{"$f":"IF(ISBLANK(K12),\"  \",IF(ISBLANK(K13),\" \",IF(ISBLANK(K17),\" \",IF($Q$8=2,ROUND(((K17)/K12)*100,0),ROUND((K17/K12)*100,0)))))","v":"  "},null,{"$f":"IF(ISBLANK(M12),\"  \",IF(ISBLANK(M13),\" \",IF(ISBLANK(M17),\" \",IF($Q$8=2,ROUND(((M17)/M12)*100,0),ROUND((M17/M12)*100,0)))))","v":"  "}]
["Breaker",0.5,null,"  ",null,{"$f":"IF(ISBLANK(E12),\"  \",IF(ISBLANK(E13),\" \",IF(ISBLANK(E18),\" \",IF($Q$8=2,ROUND(((E18)/E12)*100,0),ROUND((E18/E12)*100,0)))))","v":"  "},null,{"$f":"IF(ISBLANK(G12),\"  \",IF(ISBLANK(G13),\" \",IF(ISBLANK(G18),\" \",IF($Q$8=2,ROUND(((G18)/G12)*100,0),ROUND((G18/G12)*100,0)))))","v":"  "},null,{"$f":"IF(ISBLANK(I12),\"  \",IF(ISBLANK(I13),\" \",IF(ISBLANK(I18),\" \",IF($Q$8=2,ROUND(((I18)/I12)*100,0),ROUND((I18/I12)*100,0)))))","v":"  "},null,{"$f":"IF(ISBLANK(K12),\"  \",IF(ISBLANK(K13),\" \",IF(ISBLANK(K18),\" \",IF($Q$8=2,ROUND(((K18)/K12)*100,0),ROUND((K18/K12)*100,0)))))","v":"  "},null,{"$f":"IF(ISBLANK(M12),\"  \",IF(ISBLANK(M13),\" \",IF(ISBLANK(M18),\" \",IF($Q$8=2,ROUND(((M18)/M12)*100,0),ROUND((M18/M12)*100,0)))))","v":"  "}]
[{"$f":"IF(L4=\"2A\",\"36-70\",IF(L4=\"DSA\",\" \",IF(L4=\"OGS\",\"36-65\",IF(L4=\"2RC\",\" \",IF(ISBLANK(L4),\"36-70\")))))","v":"36-70"},0.375,null,"  ",null,{"$f":"IF(ISBLANK(E12),\"  \",IF(ISBLANK(E13),\" \",IF(ISBLANK(E19),\" \",IF($Q$8=2,ROUND(((E19)/E12)*100,0),ROUND((E19/E12)*100,0)))))","v":"  "},null,{"$f":"IF(ISBLANK(G12),\"  \",IF(ISBLANK(G13),\" \",IF(ISBLANK(G19),\" \",IF($Q$8=2,ROUND(((G19)/G12)*100,0),ROUND((G19/G12)*100,0)))))","v":"  "},null,{"$f":"IF(ISBLANK(I12),\"  \",IF(ISBLANK(I13),\" \",IF(ISBLANK(I19),\" \",IF($Q$8=2,ROUND(((I19)/I12)*100,0),ROUND((I19/I12)*100,0)))))","v":"  "},null,{"$f":"IF(ISBLANK(K12),\"  \",IF(ISBLANK(K13),\" \",IF(ISBLANK(K19),\" \",IF($Q$8=2,ROUND(((K19)/K12)*100,0),ROUND((K19/K12)*100,0)))))","v":"  "},null,{"$f":"IF(ISBLANK(M12),\"  \",IF(ISBLANK(M13),\" \",IF(ISBLANK(M19),\" \",IF($Q$8=2,ROUND(((M19)/M12)*100,0),ROUND((M19/M12)*100,0)))))","v":"  "}]
[{"$f":"IF(L4=\"2A\",\"24-50\",IF(L4=\"DSA\",\"30-65 \",IF(L4=\"OGS\",\"8-40\",IF(L4=\"2RC\",\"15-60 \",IF(ISBLANK(L4),\"24-50\")))))","v":"24-50"},4,null,"  ",null,{"$f":"IF(ISBLANK(E12),\"  \",IF(ISBLANK(E13),\" \",IF(ISBLANK(E20),\" \",IF($Q$8=2,ROUND(((E20)/E$12)*100,0),ROUND((E20/E12)*100,0)))))","v":"  "},null,{"$f":"IF(ISBLANK(G12),\"  \",IF(ISBLANK(G13),\" \",IF(ISBLANK(G20),\" \",IF($Q$8=2,ROUND(((G20)/G$12)*100,0),ROUND((G20/G12)*100,0)))))","v":"  "},null,{"$f":"IF(ISBLANK(I12),\"  \",IF(ISBLANK(I13),\" \",IF(ISBLANK(I20),\" \",IF($Q$8=2,ROUND(((I20)/I$12)*100,0),ROUND((I20/I12)*100,0)))))","v":"  "},null,{"$f":"IF(ISBLANK(K12),\"  \",IF(ISBLANK(K13),\" \",IF(ISBLANK(K20),\" \",IF($Q$8=2,ROUND(((K20)/K$12)*100,0),ROUND((K20/K12)*100,0)))))","v":"  "},null,{"$f":"IF(ISBLANK(M12),\"  \",IF(ISBLANK(M13),\" \",IF(ISBLANK(M20),\" \",IF($Q$8=2,ROUND(((M20)/M$12)*100,0),ROUND((M20/M12)*100,0)))))","v":"  "}]
["Starting Weight",null,null,{"$f":"IF(ISBLANK(C$12),\"  \",IF(ISBLANK(C$13),\" \",IF($Q$8=2,\"% Loss\",ROUND((C21/$C$12)*100,0))))","v":"  "},null,{"$f":"IF(ISBLANK(E12),\"  \",IF(ISBLANK(E13),\" \",IF($Q$8=2,\"% Loss\",ROUND((E21/E12)*100,0))))","v":"  "},null,{"$f":"IF(ISBLANK(G12),\"  \",IF(ISBLANK(G13),\" \",IF($Q$8=2,\"% Loss\",ROUND((G21/G12)*100,0))))","v":"  "},null,{"$f":"IF(ISBLANK(I12),\"  \",IF(ISBLANK(I13),\" \",IF($Q$8=2,\"% Loss\",ROUND((I21/I12)*100,0))))","v":"  "},null,{"$f":"IF(ISBLANK(K12),\"  \",IF(ISBLANK(K13),\" \",IF($Q$8=2,\"% Loss\",ROUND((K21/K12)*100,0))))","v":"  "},null,{"$f":"IF(ISBLANK(M12),\"  \",IF(ISBLANK(M13),\" \",IF($Q$8=2,\"% Loss\",ROUND((M21/M12)*100,0))))","v":"  "}]
["Ending Weight",null,null,{"$f":"IF(ISBLANK(C$12),\"  \",IF(ISBLANK(C$13),\" \",IF(ISBLANK(C22),\" \",IF($Q$8=2,((C21-C22)/C21)*100,ROUND((C22/$C$12)*100,0)))))","v":"  "},null,{"$f":"IF(ISBLANK(E12),\"  \",IF(ISBLANK(E13),\" \",IF(ISBLANK(E22),\" \",IF($Q$8=2,((E21-E22)/E21)*100,ROUND((E22/E12)*100,0)))))","v":"  "},null,{"$f":"IF(ISBLANK(G12),\"  \",IF(ISBLANK(G13),\" \",IF(ISBLANK(G22),\" \",IF($Q$8=2,((G21-G22)/G21)*100,ROUND((G22/G12)*100,0)))))","v":"  "},null,{"$f":"IF(ISBLANK(I12),\"  \",IF(ISBLANK(I13),\" \",IF(ISBLANK(I22),\" \",IF($Q$8=2,((I21-I22)/I21)*100,ROUND((I22/I12)*100,0)))))","v":"  "},null,{"$f":"IF(ISBLANK(K12),\"  \",IF(ISBLANK(K13),\" \",IF(ISBLANK(K22),\" \",IF($Q$8=2,((K21-K22)/K21)*100,ROUND((K22/K12)*100,0)))))","v":"  "},null,{"$f":"IF(ISBLANK(M12),\"  \",IF(ISBLANK(M13),\" \",IF(ISBLANK(M22),\" \",IF($Q$8=2,((M21-M22)/M21)*100,ROUND((M22/M12)*100,0)))))","v":"  "}]
["Spec","Sieve","Wt.",{"$f":"IF(ISBLANK(C$12),\"  \",IF(ISBLANK(C$13),\" \",IF(ISBLANK(C23),\" \",IF($Q$8=2,\"% Passing\",ROUND((C23/$C$12)*100,0)))))","v":"  "},"Wt.",{"$f":"IF(ISBLANK(E12),\"  \",IF(ISBLANK(E13),\" \",IF(ISBLANK(E23),\" \",IF($Q$8=2,\"% Passing\",ROUND((E23/E12)*100,0)))))","v":"  "},"Wt.",{"$f":"IF(ISBLANK(G12),\"  \",IF(ISBLANK(G13),\" \",IF(ISBLANK(G23),\" \",IF($Q$8=2,\"% Passing\",ROUND((G23/G12)*100,0)))))","v":"  "},"Wt.",{"$f":"IF(ISBLANK(I12),\"  \",IF(ISBLANK(I13),\" \",IF(ISBLANK(I23),\" \",IF($Q$8=2,\"% Passing\",ROUND((I23/I12)*100,0)))))","v":"  "},"Wt.",{"$f":"IF(ISBLANK(K12),\"  \",IF(ISBLANK(K13),\" \",IF(ISBLANK(K23),\" \",IF($Q$8=2,\"% Passing\",ROUND((K23/K12)*100,0)))))","v":"  "},"Wt.",{"$f":"IF(ISBLANK(M12),\"  \",IF(ISBLANK(M13),\" \",IF(ISBLANK(M23),\" \",IF($Q$8=2,\"% Passing\",ROUND((M23/M12)*100,0)))))","v":"  "}]
[{"$f":"IF(L4=\"2A\",\"10-30\",IF(L4=\"DSA\",\"15-30\",IF(L4=\"OGS\",\"0-12\",IF(L4=\"2RC\",\"0-30\",IF(ISBLANK(L4),\"10-30\")))))","v":"10-30"},{"$f":"IF(L4=\"2RC\",100,16)","v":16},null,{"$f":"IF(ISBLANK(C$12),\"  \",IF(ISBLANK(C$13),\" \",IF(ISBLANK(C24),\" \",IF($Q$8=2,(C20/C21*C24)/C12*100,ROUND((C24/$C$12)*100,0)))))","v":"  "},null,{"$f":"IF(ISBLANK(E12),\"  \",IF(ISBLANK(E13),\" \",IF(ISBLANK(E24),\" \",IF($Q$8=2,(E20/E21*E24)/E12*100,ROUND((E24/E12)*100,0)))))","v":"  "},null,{"$f":"IF(ISBLANK(G12),\"  \",IF(ISBLANK(G13),\" \",IF(ISBLANK(G24),\" \",IF($Q$8=2,(G20/G21*G24)/G12*100,ROUND((G24/G12)*100,0)))))","v":"  "},null,{"$f":"IF(ISBLANK(I12),\"  \",IF(ISBLANK(I13),\" \",IF(ISBLANK(I24),\" \",IF($Q$8=2,(I20/I21*I24)/I12*100,ROUND((I24/I12)*100,0)))))","v":"  "},null,{"$f":"IF(ISBLANK(K12),\"  \",IF(ISBLANK(K13),\" \",IF(ISBLANK(K24),\" \",IF($Q$8=2,(K20/K21*K24)/K12*100,ROUND((K24/K12)*100,0)))))","v":"  "},null,{"$f":"IF(ISBLANK(M12),\"  \",IF(ISBLANK(M13),\" \",IF(ISBLANK(M24),\" \",IF($Q$8=2,(M20/M21*M24)/M12*100,ROUND((M24/M12)*100,0)))))","v":"  "}]
[{"$f":"IF(L4=\"DSA\",\"10-15\",\"Info\")","v":"Info"},200,null,{"$f":"IF(ISBLANK(C$12),\"  \",IF(ISBLANK(C$13),\" \",IF(ISBLANK(C25),\" \",IF($Q$8=2,(C20/C21*C25)/C12*100,ROUND((C25/$C$12)*100,0)))))","v":"  "},null,{"$f":"IF(ISBLANK(E12),\"  \",IF(ISBLANK(E13),\" \",IF(ISBLANK(E25),\" \",IF($Q$8=2,(E20/E21*E25)/E12*100,ROUND((E25/E12)*100,0)))))","v":"  "},null,{"$f":"IF(ISBLANK(G12),\"  \",IF(ISBLANK(G13),\" \",IF(ISBLANK(G25),\" \",IF($Q$8=2,(G20/G21*G25)/G12*100,ROUND((G25/G12)*100,0)))))","v":"  "},null,{"$f":"IF(ISBLANK(I12),\"  \",IF(ISBLANK(I13),\" \",IF(ISBLANK(I25),\" \",IF($Q$8=2,(I20/I21*I25)/I12*100,ROUND((I25/I12)*100,0)))))","v":"  "},null,{"$f":"IF(ISBLANK(K12),\"  \",IF(ISBLANK(K13),\" \",IF(ISBLANK(K25),\" \",IF($Q$8=2,(K20/K21*K25)/K12*100,ROUND((K25/K12)*100,0)))))","v":"  "},null,{"$f":"IF(ISBLANK(M12),\"  \",IF(ISBLANK(M13),\" \",IF(ISBLANK(M25),\" \",IF($Q$8=2,(M20/M21*M25)/M12*100,ROUND((M25/M12)*100,0)))))","v":"  "}]
["Wash ",{"$f":"IF(L4=\"2A\",\"0-10\",IF(L4=\"OGS\",\"0-5\",IF(L4=\"DSA\",\"10-15\",IF(L4=\"2RC\",\" \",IF(ISBLANK(L4),\"0-10\")))))","v":"0-10"},{"$f":"IF($L$4=\"OGS\",\"Coeff. Unf.\",\" \")","v":" "},{"$f":"IF(ISBLANK($L$4),\" \",IF($L$4=\"2A\",\" \",IF($L$4=\"2RC\",\" \",IF(ISERROR(D68),\" \",D68))))","v":" "},{"$f":"IF($L$4=\"OGS\",\"Coeff. Unf.\",\" \")","v":" "},{"$f":"IF(ISBLANK($L$4),\" \",IF($L$4=\"2A\",\" \",IF($L$4=\"2RC\",\" \",IF(ISERROR(F68),\" \",F68))))","v":" "},{"$f":"IF($L$4=\"OGS\",\"Coeff. Unf.\",\" \")","v":" "},{"$f":"IF(ISBLANK($L$4),\" \",IF($L$4=\"2A\",\" \",IF($L$4=\"2RC\",\" \",IF(ISERROR(H68),\" \",H68))))","v":" "},{"$f":"IF($L$4=\"OGS\",\"Coeff. Unf.\",\" \")","v":" "},{"$f":"IF(ISBLANK($L$4),\" \",IF($L$4=\"2A\",\" \",IF($L$4=\"2RC\",\" \",IF(ISERROR(J68),\" \",J68))))","v":" "},{"$f":"IF($L$4=\"OGS\",\"Coeff. Unf.\",\" \")","v":" "},{"$f":"IF(ISBLANK($L$4),\" \",IF($L$4=\"2A\",\" \",IF($L$4=\"2RC\",\" \",IF(ISERROR(L68),\" \",L68))))","v":" "},{"$f":"IF($L$4=\"OGS\",\"Coeff. Unf.\",\" \")","v":" "},{"$f":"IF(ISBLANK($L$4),\" \",IF($L$4=\"2A\",\" \",IF($L$4=\"2RC\",\" \",IF(ISERROR(N68),\" \",N68))))","v":" "}]
["St. Wt. Before Wash",null,null,"% Passing",null,"% Passing",null,"% Passing",null,"% Passing",null,"% Passing",null,"% Passing"]
["End Wt. After Wash",null,null,{"$f":"IF(ISBLANK(C27),\" \",IF(ISBLANK(C28),\" \",((C27-C28)/C27)*100))","v":" "},null,{"$f":"IF(ISBLANK(E27),\" \",IF(ISBLANK(E28),\" \",((E27-E28)/E27)*100))","v":" "},null,{"$f":"IF(ISBLANK(G27),\" \",IF(ISBLANK(G28),\" \",((G27-G28)/G27)*100))","v":" "},null,{"$f":"IF(ISBLANK(I27),\" \",IF(ISBLANK(I28),\" \",((I27-I28)/I27)*100))","v":" "},null,{"$f":"IF(ISBLANK(K27),\" \",IF(ISBLANK(K28),\" \",((K27-K28)/K27)*100))","v":" "},null,{"$f":"IF(ISBLANK(M27),\" \",IF(ISBLANK(M28),\" \",((M27-M28)/M27)*100))","v":" "}]
["Tested By"]
["Remarks"]
[]
[]
[]
["Sample No."]
["Date"]
["Starting Weight",null,null,"% Loss",null,"% Loss",null,"% Loss",null,"% Loss",null,"% Loss",null,"% Loss"]
["Ending Weight",null,null,{"$f":"IF(ISBLANK(C36),\" \",IF(ISBLANK(C37),\" \",((C36-C37)/C36)*100))","v":" "},null,{"$f":"IF(ISBLANK(E36),\" \",IF(ISBLANK(E37),\" \",((E36-E37)/E36)*100))","v":" "},null,{"$f":"IF(ISBLANK(G36),\" \",IF(ISBLANK(G37),\" \",((G36-G37)/G36)*100))","v":" "},null,{"$f":"IF(ISBLANK(I36),\" \",IF(ISBLANK(I37),\" \",((I36-I37)/I36)*100))","v":" "},null,{"$f":"IF(ISBLANK(K36),\" \",IF(ISBLANK(K37),\" \",((K36-K37)/K36)*100))","v":" "},null,{"$f":"IF(ISBLANK(M36),\" \",IF(ISBLANK(M37),\" \",((M36-M37)/M36)*100))","v":" "}]
["Spec","Sieve","Wt.","% Passing","Wt.","% Passing","Wt.","% Passing","Wt.","% Passing","Wt.","% Passing","Wt.","% Passing"]
[100,2,null,{"$f":"IF(ISBLANK(C36),\"  \",IF(ISBLANK(C37),\" \",IF(ISBLANK(C39),\" \",IF($Q$8=2,ROUND(((C39)/C36)*100,0),ROUND((C39/C36)*100,0)))))","v":"  "},null,{"$f":"IF(ISBLANK(E36),\"  \",IF(ISBLANK(E37),\" \",IF(ISBLANK(E39),\" \",IF($Q$8=2,ROUND(((E39)/E36)*100,0),ROUND((E39/E36)*100,0)))))","v":"  "},null,{"$f":"IF(ISBLANK(G36),\"  \",IF(ISBLANK(G37),\" \",IF(ISBLANK(G39),\" \",IF($Q$8=2,ROUND(((G39)/G36)*100,0),ROUND((G39/G36)*100,0)))))","v":"  "},null,{"$f":"IF(ISBLANK(I36),\"  \",IF(ISBLANK(I37),\" \",IF(ISBLANK(I39),\" \",IF($Q$8=2,ROUND(((I39)/I36)*100,0),ROUND((I39/I36)*100,0)))))","v":"  "},null,{"$f":"IF(ISBLANK(K36),\"  \",IF(ISBLANK(K37),\" \",IF(ISBLANK(K39),\" \",IF($Q$8=2,ROUND(((K39)/K36)*100,0),ROUND((K39/K36)*100,0)))))","v":"  "},null,{"$f":"IF(ISBLANK(M36),\"  \",IF(ISBLANK(M37),\" \",IF(ISBLANK(M39),\" \",IF($Q$8=2,ROUND(((M39)/M36)*100,0),ROUND((M39/M36)*100,0)))))","v":"  "}]
[{"$f":"IF(L4=\"DSA\",\"100\",\"Breaker\")","v":"Breaker"},{"$f":"'S1'!B40","v":1},null,{"$f":"IF(ISBLANK(C36),\"  \",IF(ISBLANK(C37),\" \",IF(ISBLANK(C40),\" \",IF($Q$8=2,ROUND(((C40)/C36)*100,0),ROUND((C40/C36)*100,0)))))","v":"  "},null,{"$f":"IF(ISBLANK(E36),\"  \",IF(ISBLANK(E37),\" \",IF(ISBLANK(E40),\" \",IF($Q$8=2,ROUND(((E40)/E36)*100,0),ROUND((E40/E36)*100,0)))))","v":"  "},null,{"$f":"IF(ISBLANK(G36),\"  \",IF(ISBLANK(G37),\" \",IF(ISBLANK(G40),\" \",IF($Q$8=2,ROUND(((G40)/G36)*100,0),ROUND((G40/G36)*100,0)))))","v":"  "},null,{"$f":"IF(ISBLANK(I36),\"  \",IF(ISBLANK(I37),\" \",IF(ISBLANK(I40),\" \",IF($Q$8=2,ROUND(((I40)/I36)*100,0),ROUND((I40/I36)*100,0)))))","v":"  "},null,{"$f":"IF(ISBLANK(K36),\"  \",IF(ISBLANK(K37),\" \",IF(ISBLANK(K40),\" \",IF($Q$8=2,ROUND(((K40)/K36)*100,0),ROUND((K40/K36)*100,0)))))","v":"  "},null,{"$f":"IF(ISBLANK(M36),\"  \",IF(ISBLANK(M37),\" \",IF(ISBLANK(M40),\" \",IF($Q$8=2,ROUND(((M40)/M36)*100,0),ROUND((M40/M36)*100,0)))))","v":"  "}]
[{"$f":"IF(L4=\"2RC\",\" \",IF(L4=\"DSA\",\"65-95\",\"52-100\"))","v":"52-100"},0.75,null,{"$f":"IF(ISBLANK(C36),\"  \",IF(ISBLANK(C37),\" \",IF(ISBLANK(C41),\" \",IF($Q$8=2,ROUND(((C41)/C36)*100,0),ROUND((C41/C36)*100,0)))))","v":"  "},null,{"$f":"IF(ISBLANK(E36),\"  \",IF(ISBLANK(E37),\" \",IF(ISBLANK(E41),\" \",IF($Q$8=2,ROUND(((E41)/E36)*100,0),ROUND((E41/E36)*100,0)))))","v":"  "},null,{"$f":"IF(ISBLANK(G36),\"  \",IF(ISBLANK(G37),\" \",IF(ISBLANK(G41),\" \",IF($Q$8=2,ROUND(((G41)/G36)*100,0),ROUND((G41/G36)*100,0)))))","v":"  "},null,{"$f":"IF(ISBLANK(I36),\"  \",IF(ISBLANK(I37),\" \",IF(ISBLANK(I41),\" \",IF($Q$8=2,ROUND(((I41)/I36)*100,0),ROUND((I41/I36)*100,0)))))","v":"  "},null,{"$f":"IF(ISBLANK(K36),\"  \",IF(ISBLANK(K37),\" \",IF(ISBLANK(K41),\" \",IF($Q$8=2,ROUND(((K41)/K36)*100,0),ROUND((K41/K36)*100,0)))))","v":"  "},null,{"$f":"IF(ISBLANK(M36),\"  \",IF(ISBLANK(M37),\" \",IF(ISBLANK(M41),\" \",IF($Q$8=2,ROUND(((M41)/M36)*100,0),ROUND((M41/M36)*100,0)))))","v":"  "}]
["Breaker",0.5,null,{"$f":"IF(ISBLANK(C36),\"  \",IF(ISBLANK(C37),\" \",IF(ISBLANK(C42),\" \",IF($Q$8=2,ROUND(((C42)/C36)*100,0),ROUND((C42/C36)*100,0)))))","v":"  "},null,{"$f":"IF(ISBLANK(E36),\"  \",IF(ISBLANK(E37),\" \",IF(ISBLANK(E42),\" \",IF($Q$8=2,ROUND(((E42)/E36)*100,0),ROUND((E42/E36)*100,0)))))","v":"  "},null,{"$f":"IF(ISBLANK(G36),\"  \",IF(ISBLANK(G37),\" \",IF(ISBLANK(G42),\" \",IF($Q$8=2,ROUND(((G42)/G36)*100,0),ROUND((G42/G36)*100,0)))))","v":"  "},null,{"$f":"IF(ISBLANK(I36),\"  \",IF(ISBLANK(I37),\" \",IF(ISBLANK(I42),\" \",IF($Q$8=2,ROUND(((I42)/I36)*100,0),ROUND((I42/I36)*100,0)))))","v":"  "},null,{"$f":"IF(ISBLANK(K36),\"  \",IF(ISBLANK(K37),\" \",IF(ISBLANK(K42),\" \",IF($Q$8=2,ROUND(((K42)/K36)*100,0),ROUND((K42/K36)*100,0)))))","v":"  "},null,{"$f":"IF(ISBLANK(M36),\"  \",IF(ISBLANK(M37),\" \",IF(ISBLANK(M42),\" \",IF($Q$8=2,ROUND(((M42)/M36)*100,0),ROUND((M42/M36)*100,0)))))","v":"  "}]
[{"$f":"IF(L4=\"2A\",\"36-70\",IF(L4=\"DSA\",\" \",IF(L4=\"OGS\",\"36-65\",IF(L4=\"2RC\",\" \",IF(ISBLANK(L4),\"36-70\")))))","v":"36-70"},0.375,null,{"$f":"IF(ISBLANK(C36),\"  \",IF(ISBLANK(C37),\" \",IF(ISBLANK(C43),\" \",IF($Q$8=2,ROUND(((C43)/C36)*100,0),ROUND((C43/C36)*100,0)))))","v":"  "},null,{"$f":"IF(ISBLANK(E36),\"  \",IF(ISBLANK(E37),\" \",IF(ISBLANK(E43),\" \",IF($Q$8=2,ROUND(((E43)/E36)*100,0),ROUND((E43/E36)*100,0)))))","v":"  "},null,{"$f":"IF(ISBLANK(G36),\"  \",IF(ISBLANK(G37),\" \",IF(ISBLANK(G43),\" \",IF($Q$8=2,ROUND(((G43)/G36)*100,0),ROUND((G43/G36)*100,0)))))","v":"  "},null,{"$f":"IF(ISBLANK(I36),\"  \",IF(ISBLANK(I37),\" \",IF(ISBLANK(I43),\" \",IF($Q$8=2,ROUND(((I43)/I36)*100,0),ROUND((I43/I36)*100,0)))))","v":"  "},null,{"$f":"IF(ISBLANK(K36),\"  \",IF(ISBLANK(K37),\" \",IF(ISBLANK(K43),\" \",IF($Q$8=2,ROUND(((K43)/K36)*100,0),ROUND((K43/K36)*100,0)))))","v":"  "},null,{"$f":"IF(ISBLANK(M36),\"  \",IF(ISBLANK(M37),\" \",IF(ISBLANK(M43),\" \",IF($Q$8=2,ROUND(((M43)/M36)*100,0),ROUND((M43/M36)*100,0)))))","v":"  "}]
[{"$f":"IF(L4=\"2A\",\"24-50\",IF(L4=\"DSA\",\"30-65 \",IF(L4=\"OGS\",\"8-40\",IF(L4=\"2RC\",\"15-60 \",IF(ISBLANK(4),\"24-50\")))))","v":"24-50"},4,null,{"$f":"IF(ISBLANK(C36),\"  \",IF(ISBLANK(C37),\" \",IF(ISBLANK(C44),\" \",IF($Q$8=2,ROUND(((C44)/C36)*100,0),ROUND((C44/C36)*100,0)))))","v":"  "},null,{"$f":"IF(ISBLANK(E36),\"  \",IF(ISBLANK(E37),\" \",IF(ISBLANK(E44),\" \",IF($Q$8=2,ROUND(((E44)/E36)*100,0),ROUND((E44/E36)*100,0)))))","v":"  "},null,{"$f":"IF(ISBLANK(G36),\"  \",IF(ISBLANK(G37),\" \",IF(ISBLANK(G44),\" \",IF($Q$8=2,ROUND(((G44)/G36)*100,0),ROUND((G44/G36)*100,0)))))","v":"  "},null,{"$f":"IF(ISBLANK(I36),\"  \",IF(ISBLANK(I37),\" \",IF(ISBLANK(I44),\" \",IF($Q$8=2,ROUND(((I44)/I36)*100,0),ROUND((I44/I36)*100,0)))))","v":"  "},null,{"$f":"IF(ISBLANK(K36),\"  \",IF(ISBLANK(K37),\" \",IF(ISBLANK(K44),\" \",IF($Q$8=2,ROUND(((K44)/K36)*100,0),ROUND((K44/K36)*100,0)))))","v":"  "},null,{"$f":"IF(ISBLANK(M36),\"  \",IF(ISBLANK(M37),\" \",IF(ISBLANK(M44),\" \",IF($Q$8=2,ROUND(((M44)/M36)*100,0),ROUND((M44/M36)*100,0)))))","v":"  "}]
["Starting Weight",null,null,{"$f":"IF(ISBLANK(C36),\"  \",IF(ISBLANK(C37),\" \",IF($Q$8=2,\"% Loss\",ROUND((C45/C36)*100,0))))","v":"  "},null,{"$f":"IF(ISBLANK(E36),\"  \",IF(ISBLANK(E37),\" \",IF($Q$8=2,\"% Loss\",ROUND((E45/E36)*100,0))))","v":"  "},null,{"$f":"IF(ISBLANK(G36),\"  \",IF(ISBLANK(G37),\" \",IF($Q$8=2,\"% Loss\",ROUND((G45/G36)*100,0))))","v":"  "},null,{"$f":"IF(ISBLANK(I36),\"  \",IF(ISBLANK(I37),\" \",IF($Q$8=2,\"% Loss\",ROUND((I45/I36)*100,0))))","v":"  "},null,{"$f":"IF(ISBLANK(K36),\"  \",IF(ISBLANK(K37),\" \",IF($Q$8=2,\"% Loss\",ROUND((K45/K36)*100,0))))","v":"  "},null,{"$f":"IF(ISBLANK(M36),\"  \",IF(ISBLANK(M37),\" \",IF($Q$8=2,\"% Loss\",ROUND((M45/M36)*100,0))))","v":"  "}]
["Ending Weight",null,null,{"$f":"IF(ISBLANK(C36),\"  \",IF(ISBLANK(C37),\" \",IF(ISBLANK(C46),\" \",IF($Q$8=2,((C45-C46)/C45)*100,ROUND((C46/C36)*100,0)))))","v":"  "},null,{"$f":"IF(ISBLANK(E36),\"  \",IF(ISBLANK(E37),\" \",IF(ISBLANK(E46),\" \",IF($Q$8=2,((E45-E46)/E45)*100,ROUND((E46/E36)*100,0)))))","v":"  "},null,{"$f":"IF(ISBLANK(G36),\"  \",IF(ISBLANK(G37),\" \",IF(ISBLANK(G46),\" \",IF($Q$8=2,((G45-G46)/G45)*100,ROUND((G46/G36)*100,0)))))","v":"  "},null,{"$f":"IF(ISBLANK(I36),\"  \",IF(ISBLANK(I37),\" \",IF(ISBLANK(I46),\" \",IF($Q$8=2,((I45-I46)/I45)*100,ROUND((I46/I36)*100,0)))))","v":"  "},null,{"$f":"IF(ISBLANK(K36),\"  \",IF(ISBLANK(K37),\" \",IF(ISBLANK(K46),\" \",IF($Q$8=2,((K45-K46)/K45)*100,ROUND((K46/K36)*100,0)))))","v":"  "},null,{"$f":"IF(ISBLANK(M36),\"  \",IF(ISBLANK(M37),\" \",IF(ISBLANK(M46),\" \",IF($Q$8=2,((M45-M46)/M45)*100,ROUND((M46/M36)*100,0)))))","v":"  "}]
["Spec","Sieve","Wt.",{"$f":"IF(ISBLANK(C36),\"  \",IF(ISBLANK(C37),\" \",IF(ISBLANK(C47),\" \",IF($Q$8=2,\"% Passing\",ROUND((C47/C36)*100,0)))))","v":"  "},"Wt.",{"$f":"IF(ISBLANK(E36),\"  \",IF(ISBLANK(E37),\" \",IF(ISBLANK(E47),\" \",IF($Q$8=2,\"% Passing\",ROUND((E47/E36)*100,0)))))","v":"  "},"Wt.",{"$f":"IF(ISBLANK(G36),\"  \",IF(ISBLANK(G37),\" \",IF(ISBLANK(G47),\" \",IF($Q$8=2,\"% Passing\",ROUND((G47/G36)*100,0)))))","v":"  "},"Wt.",{"$f":"IF(ISBLANK(I36),\"  \",IF(ISBLANK(I37),\" \",IF(ISBLANK(I47),\" \",IF($Q$8=2,\"% Passing\",ROUND((I47/I36)*100,0)))))","v":"  "},"Wt.",{"$f":"IF(ISBLANK(K36),\"  \",IF(ISBLANK(K37),\" \",IF(ISBLANK(K47),\" \",IF($Q$8=2,\"% Passing\",ROUND((K47/K36)*100,0)))))","v":"  "},"Wt.",{"$f":"IF(ISBLANK(M36),\"  \",IF(ISBLANK(M37),\" \",IF(ISBLANK(M47),\" \",IF($Q$8=2,\"% Passing\",ROUND((M47/M36)*100,0)))))","v":"  "}]
[{"$f":"IF(L4=\"2A\",\"10-30\",IF(L4=\"DSA\",\"15-30\",IF(L4=\"OGS\",\"0-12\",IF(L4=\"2RC\",\"0-30\",IF(ISBLANK(L4),\"10-30\")))))","v":"10-30"},{"$f":"IF(L4=\"2RC\",100,16)","v":16},null,{"$f":"IF(ISBLANK(C36),\"  \",IF(ISBLANK(C37),\" \",IF(ISBLANK(C48),\" \",IF($Q$8=2,(C44/C45*C48)/C36*100,ROUND((C48/C36)*100,0)))))","v":"  "},null,{"$f":"IF(ISBLANK(E36),\"  \",IF(ISBLANK(E37),\" \",IF(ISBLANK(E48),\" \",IF($Q$8=2,(E44/E45*E48)/E36*100,ROUND((E48/E36)*100,0)))))","v":"  "},null,{"$f":"IF(ISBLANK(G36),\"  \",IF(ISBLANK(G37),\" \",IF(ISBLANK(G48),\" \",IF($Q$8=2,(G44/G45*G48)/G36*100,ROUND((G48/G36)*100,0)))))","v":"  "},null,{"$f":"IF(ISBLANK(I36),\"  \",IF(ISBLANK(I37),\" \",IF(ISBLANK(I48),\" \",IF($Q$8=2,(I44/I45*I48)/I36*100,ROUND((I48/I36)*100,0)))))","v":"  "},null,{"$f":"IF(ISBLANK(K36),\"  \",IF(ISBLANK(K37),\" \",IF(ISBLANK(K48),\" \",IF($Q$8=2,(K44/K45*K48)/K36*100,ROUND((K48/K36)*100,0)))))","v":"  "},null,{"$f":"IF(ISBLANK(M36),\"  \",IF(ISBLANK(M37),\" \",IF(ISBLANK(M48),\" \",IF($Q$8=2,(M44/M45*M48)/M36*100,ROUND((M48/M36)*100,0)))))","v":"  "}]
[{"$f":"IF(L4=\"DSA\",\"10-15\",\"Info\")","v":"Info"},200,null,{"$f":"IF(ISBLANK(C36),\"  \",IF(ISBLANK(C37),\" \",IF(ISBLANK(C49),\" \",IF($Q$8=2,(C44/C45*C49)/C36*100,ROUND((C49/C36)*100,0)))))","v":"  "},null,{"$f":"IF(ISBLANK(E36),\"  \",IF(ISBLANK(E37),\" \",IF(ISBLANK(E49),\" \",IF($Q$8=2,(E44/E45*E49)/E36*100,ROUND((E49/E36)*100,0)))))","v":"  "},null,{"$f":"IF(ISBLANK(G36),\"  \",IF(ISBLANK(G37),\" \",IF(ISBLANK(G49),\" \",IF($Q$8=2,(G44/G45*G49)/G36*100,ROUND((G49/G36)*100,0)))))","v":"  "},null,{"$f":"IF(ISBLANK(I36),\"  \",IF(ISBLANK(I37),\" \",IF(ISBLANK(I49),\" \",IF($Q$8=2,(I44/I45*I49)/I36*100,ROUND((I49/I36)*100,0)))))","v":"  "},null,{"$f":"IF(ISBLANK(K36),\"  \",IF(ISBLANK(K37),\" \",IF(ISBLANK(K49),\" \",IF($Q$8=2,(K44/K45*K49)/K36*100,ROUND((K49/K36)*100,0)))))","v":"  "},null,{"$f":"IF(ISBLANK(M36),\"  \",IF(ISBLANK(M37),\" \",IF(ISBLANK(M49),\" \",IF($Q$8=2,(M44/M45*M49)/M36*100,ROUND((M49/M36)*100,0)))))","v":"  "}]
["Wash ",{"$f":"IF(L4=\"2A\",\"0-10\",IF(L4=\"OGS\",\"0-5\",IF(L4=\"DSA\",\"10-15\",IF(L4=\"2RC\",\" \",IF(ISBLANK(L4),\"0-10\")))))","v":"0-10"},{"$f":"IF($L$4=\"OGS\",\"Coeff. Unf.\",\" \")","v":" "},{"$f":"IF(ISBLANK($L$4),\" \",IF($L$4=\"2A\",\" \",IF($L$4=\"2RC\",\" \",IF(ISERROR(D79),\" \",D79))))","v":" "},{"$f":"IF($L$4=\"OGS\",\"Coeff. Unf.\",\" \")","v":" "},{"$f":"IF(ISBLANK($L$4),\" \",IF($L$4=\"2A\",\" \",IF($L$4=\"2RC\",\" \",IF(ISERROR(F79),\" \",F79))))","v":" "},{"$f":"IF($L$4=\"OGS\",\"Coeff. Unf.\",\" \")","v":" "},{"$f":"IF(ISBLANK($L$4),\" \",IF($L$4=\"2A\",\" \",IF($L$4=\"2RC\",\" \",IF(ISERROR(H79),\" \",H79))))","v":" "},{"$f":"IF($L$4=\"OGS\",\"Coeff. Unf.\",\" \")","v":" "},{"$f":"IF(ISBLANK($L$4),\" \",IF($L$4=\"2A\",\" \",IF($L$4=\"2RC\",\" \",IF(ISERROR(J79),\" \",J79))))","v":" "},{"$f":"IF($L$4=\"OGS\",\"Coeff. Unf.\",\" \")","v":" "},{"$f":"IF(ISBLANK($L$4),\" \",IF($L$4=\"2A\",\" \",IF($L$4=\"2RC\",\" \",IF(ISERROR(L79),\" \",L79))))","v":" "},{"$f":"IF($L$4=\"OGS\",\"Coeff. Unf.\",\" \")","v":" "},{"$f":"IF(ISBLANK($L$4),\" \",IF($L$4=\"2A\",\" \",IF($L$4=\"2RC\",\" \",IF(ISERROR(N79),\" \",N79))))","v":" "}]
["St. Wt. Before Wash",null,null,"% Passing",null,"% Passing",null,"% Passing",null,"% Passing",null,"% Passing",null,"% Passing"]
["End Wt. After Wash",null,null,{"$f":"IF(ISBLANK(C51),\" \",IF(ISBLANK(C52),\" \",((C51-C52)/C51)*100))","v":" "},null,{"$f":"IF(ISBLANK(E51),\" \",IF(ISBLANK(E52),\" \",((E51-E52)/E51)*100))","v":" "},null,{"$f":"IF(ISBLANK(G51),\" \",IF(ISBLANK(G52),\" \",((G51-G52)/G51)*100))","v":" "},null,{"$f":"IF(ISBLANK(I51),\" \",IF(ISBLANK(I52),\" \",((I51-I52)/I51)*100))","v":" "},null,{"$f":"IF(ISBLANK(K51),\" \",IF(ISBLANK(K52),\" \",((K51-K52)/K51)*100))","v":" "},null,{"$f":"IF(ISBLANK(M51),\" \",IF(ISBLANK(M52),\" \",((M51-M52)/M51)*100))","v":" "}]
["Tested By"]
["Remarks"]
[]
[]
[]
[]
[null,null,null,"Upper Coeff Unf"]
[19,null,19,{"$f":"D17","v":"  "},null,{"$f":"F17","v":"  "},null,{"$f":"H17","v":"  "},null,{"$f":"J17","v":"  "},null,{"$f":"L17","v":"  "},null,{"$f":"N17","v":"  "}]
[9.5,null,9.5,{"$f":"D19","v":"  "},null,{"$f":"F19","v":"  "},null,{"$f":"H19","v":"  "},null,{"$f":"J19","v":"  "},null,{"$f":"L19","v":"  "},null,{"$f":"N19","v":"  "}]
[null,null,"D60",{"$f":"FORECAST(60,$A$60:$A$61,D60:D61)","v":{"$error":"#DIV/0!"}},null,{"$f":"FORECAST(60,$A$60:$A$61,F60:F61)","v":{"$error":"#DIV/0!"}},null,{"$f":"FORECAST(60,$A$60:$A$61,H60:H61)","v":{"$error":"#DIV/0!"}},null,{"$f":"FORECAST(60,$A$60:$A$61,J60:J61)","v":{"$error":"#DIV/0!"}},null,{"$f":"FORECAST(60,$A$60:$A$61,L60:L61)","v":{"$error":"#DIV/0!"}},null,{"$f":"FORECAST(60,$A$60:$A$61,N60:N61)","v":{"$error":"#DIV/0!"}}]
[]
[4.75,null,4.75,{"$f":"D20","v":"  "},null,{"$f":"F20","v":"  "},null,{"$f":"H20","v":"  "},null,{"$f":"J20","v":"  "},null,{"$f":"L20","v":"  "},null,{"$f":"N20","v":"  "}]
[1.18,null,1.18,{"$f":"D24","v":"  "},null,{"$f":"F24","v":"  "},null,{"$f":"H24","v":"  "},null,{"$f":"J24","v":"  "},null,{"$f":"L24","v":"  "},null,{"$f":"N24","v":"  "}]
[null,null,"D10",{"$f":"FORECAST(10,$A$64:$A$65,D64:D65)","v":{"$error":"#DIV/0!"}},null,{"$f":"FORECAST(10,$A$64:$A$65,F64:F65)","v":{"$error":"#DIV/0!"}},null,{"$f":"FORECAST(10,$A$64:$A$65,H64:H65)","v":{"$error":"#DIV/0!"}},null,{"$f":"FORECAST(10,$A$64:$A$65,J64:J65)","v":{"$error":"#DIV/0!"}},null,{"$f":"FORECAST(10,$A$64:$A$65,L64:L65)","v":{"$error":"#DIV/0!"}},null,{"$f":"FORECAST(10,$A$64:$A$65,N64:N65)","v":{"$error":"#DIV/0!"}}]
[]
[null,null,"Coeff Unf",{"$f":"ROUND(D62/D66,1)","v":{"$error":"#DIV/0!"}},null,{"$f":"ROUND(F62/F66,1)","v":{"$error":"#DIV/0!"}},null,{"$f":"ROUND(H62/H66,1)","v":{"$error":"#DIV/0!"}},null,{"$f":"ROUND(J62/J66,1)","v":{"$error":"#DIV/0!"}},null,{"$f":"ROUND(L62/L66,1)","v":{"$error":"#DIV/0!"}},null,{"$f":"ROUND(N62/N66,1)","v":{"$error":"#DIV/0!"}}]
[]
[null,null,"Lower Coff Unf"]
[19,null,19,{"$f":"D41","v":"  "},null,{"$f":"F41","v":"  "},null,{"$f":"H41","v":"  "},null,{"$f":"J41","v":"  "},null,{"$f":"L41","v":"  "},null,{"$f":"N41","v":"  "}]
[9.5,null,9.5,{"$f":"D43","v":"  "},null,{"$f":"F43","v":"  "},null,{"$f":"H43","v":"  "},null,{"$f":"J43","v":"  "},null,{"$f":"L43","v":"  "},null,{"$f":"N43","v":"  "}]
[null,null,"D60",{"$f":"FORECAST(60,$A$71:$A$72,D71:D72)","v":{"$error":"#DIV/0!"}},null,{"$f":"FORECAST(60,$A$71:$A$72,F71:F72)","v":{"$error":"#DIV/0!"}},null,{"$f":"FORECAST(60,$A$71:$A$72,H71:H72)","v":{"$error":"#DIV/0!"}},null,{"$f":"FORECAST(60,$A$71:$A$72,J71:J72)","v":{"$error":"#DIV/0!"}},null,{"$f":"FORECAST(60,$A$71:$A$72,L71:L72)","v":{"$error":"#DIV/0!"}},null,{"$f":"FORECAST(60,$A$71:$A$72,N71:N72)","v":{"$error":"#DIV/0!"}}]
[]
[4.75,null,4.75,{"$f":"D44","v":"  "},null,{"$f":"F44","v":"  "},null,{"$f":"H44","v":"  "},null,{"$f":"J44","v":"  "},null,{"$f":"L44","v":"  "},null,{"$f":"N44","v":"  "}]
[1.18,null,1.18,{"$f":"D48","v":"  "},null,{"$f":"F48","v":"  "},null,{"$f":"H48","v":"  "},null,{"$f":"J48","v":"  "},null,{"$f":"L48","v":"  "},null,{"$f":"N48","v":"  "}]
[null,null,"D10",{"$f":"FORECAST(10,$A$75:$A$76,D75:D76)","v":{"$error":"#DIV/0!"}},null,{"$f":"FORECAST(10,$A$75:$A$76,F75:F76)","v":{"$error":"#DIV/0!"}},null,{"$f":"FORECAST(10,$A$75:$A$76,H75:H76)","v":{"$error":"#DIV/0!"}},null,{"$f":"FORECAST(10,$A$75:$A$76,J75:J76)","v":{"$error":"#DIV/0!"}},null,{"$f":"FORECAST(10,$A$75:$A$76,L75:L76)","v":{"$error":"#DIV/0!"}},null,{"$f":"FORECAST(10,$A$75:$A$76,N75:N76)","v":{"$error":"#DIV/0!"}}]
[]
[null,null,"Coeff Unf",{"$f":"ROUND(D73/D77,1)","v":{"$error":"#DIV/0!"}},null,{"$f":"ROUND(F73/F77,1)","v":{"$error":"#DIV/0!"}},null,{"$f":"ROUND(H73/H77,1)","v":{"$error":"#DIV/0!"}},null,{"$f":"ROUND(J73/J77,1)","v":{"$error":"#DIV/0!"}},null,{"$f":"ROUND(L73/L77,1)","v":{"$error":"#DIV/0!"}},null,{"$f":"ROUND(N73/N77,1)","v":{"$error":"#DIV/0!"}}]

{"sheet":"S9","index":8,"n_rows":79,"n_cols":17,"rows_kept":79,"cut":false,"hidden":true,"merged":[[53,12,55,13],[53,0,55,1],[53,2,55,3],[53,4,55,5],[53,6,55,7],[53,8,55,9],[53,10,55,11],[52,12,52,13],[36,0,36,1],[45,0,45,1],[52,8,52,9],[44,0,44,1],[52,4,52,5],[52,6,52,7],[52,10,52,11],[50,0,50,1],[51,0,51,1],[52,0,52,1],[52,2,52,3],[28,10,28,11],[28,12,28,13],[29,10,31,11],[29,12,31,13],[28,8,28,9],[29,8,31,9],[34,12,34,13],[33,8,33,9],[33,10,33,11],[34,2,34,3],[34,4,34,5],[34,6,34,7],[34,8,34,9],[34,10,34,11],[33,12,33,13],[27,0,27,1],[9,2,9,3],[29,2,31,3],[29,4,31,5],[29,6,31,7],[9,6,9,7],[35,0,35,1],[33,2,33,3],[28,6,28,7],[33,4,33,5],[33,6,33,7],[34,0,34,1],[28,4,28,5],[1,11,1,12],[2,9,2,10],[2,11,2,12],[3,9,3,10],[3,11,3,12],[1,9,1,10],[4,11,4,12],[9,12,9,13],[10,8,10,9],[10,10,10,11],[10,12,10,13],[9,10,9,11],[5,9,5,10],[4,9,4,10],[5,11,5,12],[9,8,9,9],[5,3,5,8],[10,6,10,7],[7,2,7,4],[7,5,7,6],[58,3,58,13],[69,2,69,13],[9,0,9,1],[20,0,20,1],[21,0,21,1],[26,0,26,1],[10,4,10,5],[33,0,33,1],[28,0,28,1],[28,2,28,3],[9,4,9,5],[12,0,12,1],[11,0,11,1],[10,0,10,1],[10,2,10,3],[29,0,31,1],[0,7,3,8],[1,2,1,6],[2,2,2,6],[3,2,3,6],[4,0,4,1],[0,0,3,1]]}
[]
[null,null,"COMMONWEALTH OF PENNSYLVANIA",null,null,null,null,null,null,"DISTRICT",null,{"$f":"IF(ISBLANK('S1'!L2),\" \",'S1'!L2)","v":" "}]
[null,null,"DEPARTMENT OF TRANSPORTATION",null,null,null,null,null,null,"PLANT CODE",null,{"$f":"IF(ISBLANK('S1'!L3),\" \",'S1'!L3)","v":" "}]
[null,null,"PENNSYLVANIA TURNPIKE COMMISSION",null,null,null,null,null,null,"AGG SIZE",null,{"$f":"IF(ISBLANK('S1'!L4),\" \",'S1'!L4)","v":"2A"}]
[{"$f":"'S1'!A5","v":"Aggregate 2023"},null,null,null,null,null,null,null,null,"#4 Target Value ",null,{"$f":"IF(ISBLANK('S1'!L5),\" \",'S1'!L5)","v":" "}]
[".",null,null,{"$f":"'S1'!D6","v":"Material Test Results for 2A Coarse Aggregate"},null,null,null,null,null,"#16 Target Value",null,{"$f":"IF(ISBLANK('S1'!L6),\" \",'S1'!L6)","v":" "}]
[]
[null,null,"Method of testing",null,null,{"$f":"'S1'!F8:G8","v":"Split sample "},null,null,null,null,null,null,null,null,null,null,{"$f":"IF(F8=\"Complete sample\",1,2)","v":2}]
[]
["Sample No."]
["Date"]
["Starting Weight",null,null,"% Loss",null,"% Loss",null,"% Loss",null,"% Loss",null,"% Loss",null,"% Loss"]
["Ending Weight",null,null,{"$f":"IF(ISBLANK(C12),\" \",IF(ISBLANK(C13),\" \",((C12-C13)/C12)*100))","v":" "},null,{"$f":"IF(ISBLANK(E12),\" \",IF(ISBLANK(E13),\" \",((E12-E13)/E12)*100))","v":" "},null,{"$f":"IF(ISBLANK(G12),\" \",IF(ISBLANK(G13),\" \",((G12-G13)/G12)*100))","v":" "},null,{"$f":"IF(ISBLANK(I12),\" \",IF(ISBLANK(I13),\" \",((I12-I13)/I12)*100))","v":" "},null,{"$f":"IF(ISBLANK(K12),\" \",IF(ISBLANK(K13),\" \",((K12-K13)/K12)*100))","v":" "},null,{"$f":"IF(ISBLANK(M12),\" \",IF(ISBLANK(M13),\" \",((M12-M13)/M12)*100))","v":" "}]
["Spec","Sieve","Wt.","% Passing","Wt.","% Passing","Wt.","% Passing","Wt.","% Passing","Wt.","% Passing","Wt.","% Passing"]
[100,2,null,{"$f":"IF(ISBLANK(C$12),\"  \",IF(ISBLANK(C$13),\" \",IF(ISBLANK(C15),\" \",IF($Q$8=2,ROUND(((C15)/C$12)*100,0),ROUND((C15/$C$12)*100,0)))))","v":"  "},null,{"$f":"IF(ISBLANK(E12),\"  \",IF(ISBLANK(E13),\" \",IF(ISBLANK(E15),\" \",IF($Q$8=2,ROUND(((E15)/E12)*100,0),ROUND((E15/E12)*100,0)))))","v":"  "},null,{"$f":"IF(ISBLANK(G12),\"  \",IF(ISBLANK(G13),\" \",IF(ISBLANK(G15),\" \",IF($Q$8=2,ROUND(((G15)/G12)*100,0),ROUND((G15/G12)*100,0)))))","v":"  "},null,{"$f":"IF(ISBLANK(I12),\"  \",IF(ISBLANK(I13),\" \",IF(ISBLANK(I15),\" \",IF($Q$8=2,ROUND(((I15)/I12)*100,0),ROUND((I15/I12)*100,0)))))","v":"  "},null,{"$f":"IF(ISBLANK(K12),\"  \",IF(ISBLANK(K13),\" \",IF(ISBLANK(K15),\" \",IF($Q$8=2,ROUND(((K15)/K12)*100,0),ROUND((K15/K12)*100,0)))))","v":"  "},null,{"$f":"IF(ISBLANK(M12),\"  \",IF(ISBLANK(M13),\" \",IF(ISBLANK(M15),\" \",IF($Q$8=2,ROUND(((M15)/M12)*100,0),ROUND((M15/M12)*100,0)))))","v":"  "}]
[{"$f":"IF(L4=\"DSA\",\"100\",\"Breaker\")","v":"Breaker"},{"$f":"'S1'!B16","v":1},null,"  ",null,{"$f":"IF(ISBLANK(E12),\"  \",IF(ISBLANK(E13),\" \",IF(ISBLANK(E16),\" \",IF($Q$8=2,ROUND(((E16)/E12)*100,0),ROUND((E16/E12)*100,0)))))","v":"  "},null,{"$f":"IF(ISBLANK(G12),\"  \",IF(ISBLANK(G13),\" \",IF(ISBLANK(G16),\" \",IF($Q$8=2,ROUND(((G16)/G12)*100,0),ROUND((G16/G12)*100,0)))))","v":"  "},null,{"$f":"IF(ISBLANK(I12),\"  \",IF(ISBLANK(I13),\" \",IF(ISBLANK(I16),\" \",IF($Q$8=2,ROUND(((I16)/I12)*100,0),ROUND((I16/I12)*100,0)))))","v":"  "},null,{"$f":"IF(ISBLANK(K12),\"  \",IF(ISBLANK(K13),\" \",IF(ISBLANK(K16),\" \",IF($Q$8=2,ROUND(((K16)/K12)*100,0),ROUND((K16/K12)*100,0)))))","v":"  "},null,{"$f":"IF(ISBLANK(M12),\"  \",IF(ISBLANK(M13),\" \",IF(ISBLANK(M16),\" \",IF($Q$8=2,ROUND(((M16)/M12)*100,0),ROUND((M16/M12)*100,0)))))","v":"  "}]
[{"$f":"IF(L4=\"2RC\",\" \",IF(L4=\"DSA\",\"65-95\",\"52-100\"))","v":"52-100"},0.75,null,"  ",null,{"$f":"IF(ISBLANK(E12),\"  \",IF(ISBLANK(E13),\" \",IF(ISBLANK(E17),\" \",IF($Q$8=2,ROUND(((E17)/E12)*100,0),ROUND((E17/E12)*100,0)))))","v":"  "},null,{"$f":"IF(ISBLANK(G12),\"  \",IF(ISBLANK(G13),\" \",IF(ISBLANK(G17),\" \",IF($Q$8=2,ROUND(((G17)/G12)*100,0),ROUND((G17/G12)*100,0)))))","v":"  "},null,{"$f":"IF(ISBLANK(I12),\"  \",IF(ISBLANK(I13),\" \",IF(ISBLANK(I17),\" \",IF($Q$8=2,ROUND(((I17)/I12)*100,0),ROUND((I17/I12)*100,0)))))","v":"  "},null,{"$f":"IF(ISBLANK(K12),\"  \",IF(ISBLANK(K13),\" \",IF(ISBLANK(K17),\" \",IF($Q$8=2,ROUND(((K17)/K12)*100,0),ROUND((K17/K12)*100,0)))))","v":"  "},null,{"$f":"IF(ISBLANK(M12),\"  \",IF(ISBLANK(M13),\" \",IF(ISBLANK(M17),\" \",IF($Q$8=2,ROUND(((M17)/M12)*100,0),ROUND((M17/M12)*100,0)))))","v":"  "}]
["Breaker",0.5,null,"  ",null,{"$f":"IF(ISBLANK(E12),\"  \",IF(ISBLANK(E13),\" \",IF(ISBLANK(E18),\" \",IF($Q$8=2,ROUND(((E18)/E12)*100,0),ROUND((E18/E12)*100,0)))))","v":"  "},null,{"$f":"IF(ISBLANK(G12),\"  \",IF(ISBLANK(G13),\" \",IF(ISBLANK(G18),\" \",IF($Q$8=2,ROUND(((G18)/G12)*100,0),ROUND((G18/G12)*100,0)))))","v":"  "},null,{"$f":"IF(ISBLANK(I12),\"  \",IF(ISBLANK(I13),\" \",IF(ISBLANK(I18),\" \",IF($Q$8=2,ROUND(((I18)/I12)*100,0),ROUND((I18/I12)*100,0)))))","v":"  "},null,{"$f":"IF(ISBLANK(K12),\"  \",IF(ISBLANK(K13),\" \",IF(ISBLANK(K18),\" \",IF($Q$8=2,ROUND(((K18)/K12)*100,0),ROUND((K18/K12)*100,0)))))","v":"  "},null,{"$f":"IF(ISBLANK(M12),\"  \",IF(ISBLANK(M13),\" \",IF(ISBLANK(M18),\" \",IF($Q$8=2,ROUND(((M18)/M12)*100,0),ROUND((M18/M12)*100,0)))))","v":"  "}]
[{"$f":"IF(L4=\"2A\",\"36-70\",IF(L4=\"DSA\",\" \",IF(L4=\"OGS\",\"36-65\",IF(L4=\"2RC\",\" \",IF(ISBLANK(L4),\"36-70\")))))","v":"36-70"},0.375,null,"  ",null,{"$f":"IF(ISBLANK(E12),\"  \",IF(ISBLANK(E13),\" \",IF(ISBLANK(E19),\" \",IF($Q$8=2,ROUND(((E19)/E12)*100,0),ROUND((E19/E12)*100,0)))))","v":"  "},null,{"$f":"IF(ISBLANK(G12),\"  \",IF(ISBLANK(G13),\" \",IF(ISBLANK(G19),\" \",IF($Q$8=2,ROUND(((G19)/G12)*100,0),ROUND((G19/G12)*100,0)))))","v":"  "},null,{"$f":"IF(ISBLANK(I12),\"  \",IF(ISBLANK(I13),\" \",IF(ISBLANK(I19),\" \",IF($Q$8=2,ROUND(((I19)/I12)*100,0),ROUND((I19/I12)*100,0)))))","v":"  "},null,{"$f":"IF(ISBLANK(K12),\"  \",IF(ISBLANK(K13),\" \",IF(ISBLANK(K19),\" \",IF($Q$8=2,ROUND(((K19)/K12)*100,0),ROUND((K19/K12)*100,0)))))","v":"  "},null,{"$f":"IF(ISBLANK(M12),\"  \",IF(ISBLANK(M13),\" \",IF(ISBLANK(M19),\" \",IF($Q$8=2,ROUND(((M19)/M12)*100,0),ROUND((M19/M12)*100,0)))))","v":"  "}]
[{"$f":"IF(L4=\"2A\",\"24-50\",IF(L4=\"DSA\",\"30-65 \",IF(L4=\"OGS\",\"8-40\",IF(L4=\"2RC\",\"15-60 \",IF(ISBLANK(L4),\"24-50\")))))","v":"24-50"},4,null,"  ",null,{"$f":"IF(ISBLANK(E12),\"  \",IF(ISBLANK(E13),\" \",IF(ISBLANK(E20),\" \",IF($Q$8=2,ROUND(((E20)/E$12)*100,0),ROUND((E20/E12)*100,0)))))","v":"  "},null,{"$f":"IF(ISBLANK(G12),\"  \",IF(ISBLANK(G13),\" \",IF(ISBLANK(G20),\" \",IF($Q$8=2,ROUND(((G20)/G$12)*100,0),ROUND((G20/G12)*100,0)))))","v":"  "},null,{"$f":"IF(ISBLANK(I12),\"  \",IF(ISBLANK(I13),\" \",IF(ISBLANK(I20),\" \",IF($Q$8=2,ROUND(((I20)/I$12)*100,0),ROUND((I20/I12)*100,0)))))","v":"  "},null,{"$f":"IF(ISBLANK(K12),\"  \",IF(ISBLANK(K13),\" \",IF(ISBLANK(K20),\" \",IF($Q$8=2,ROUND(((K20)/K$12)*100,0),ROUND((K20/K12)*100,0)))))","v":"  "},null,{"$f":"IF(ISBLANK(M12),\"  \",IF(ISBLANK(M13),\" \",IF(ISBLANK(M20),\" \",IF($Q$8=2,ROUND(((M20)/M$12)*100,0),ROUND((M20/M12)*100,0)))))","v":"  "}]
["Starting Weight",null,null,{"$f":"IF(ISBLANK(C$12),\"  \",IF(ISBLANK(C$13),\" \",IF($Q$8=2,\"% Loss\",ROUND((C21/$C$12)*100,0))))","v":"  "},null,{"$f":"IF(ISBLANK(E12),\"  \",IF(ISBLANK(E13),\" \",IF($Q$8=2,\"% Loss\",ROUND((E21/E12)*100,0))))","v":"  "},null,{"$f":"IF(ISBLANK(G12),\"  \",IF(ISBLANK(G13),\" \",IF($Q$8=2,\"% Loss\",ROUND((G21/G12)*100,0))))","v":"  "},null,{"$f":"IF(ISBLANK(I12),\"  \",IF(ISBLANK(I13),\" \",IF($Q$8=2,\"% Loss\",ROUND((I21/I12)*100,0))))","v":"  "},null,{"$f":"IF(ISBLANK(K12),\"  \",IF(ISBLANK(K13),\" \",IF($Q$8=2,\"% Loss\",ROUND((K21/K12)*100,0))))","v":"  "},null,{"$f":"IF(ISBLANK(M12),\"  \",IF(ISBLANK(M13),\" \",IF($Q$8=2,\"% Loss\",ROUND((M21/M12)*100,0))))","v":"  "}]
["Ending Weight",null,null,{"$f":"IF(ISBLANK(C$12),\"  \",IF(ISBLANK(C$13),\" \",IF(ISBLANK(C22),\" \",IF($Q$8=2,((C21-C22)/C21)*100,ROUND((C22/$C$12)*100,0)))))","v":"  "},null,{"$f":"IF(ISBLANK(E12),\"  \",IF(ISBLANK(E13),\" \",IF(ISBLANK(E22),\" \",IF($Q$8=2,((E21-E22)/E21)*100,ROUND((E22/E12)*100,0)))))","v":"  "},null,{"$f":"IF(ISBLANK(G12),\"  \",IF(ISBLANK(G13),\" \",IF(ISBLANK(G22),\" \",IF($Q$8=2,((G21-G22)/G21)*100,ROUND((G22/G12)*100,0)))))","v":"  "},null,{"$f":"IF(ISBLANK(I12),\"  \",IF(ISBLANK(I13),\" \",IF(ISBLANK(I22),\" \",IF($Q$8=2,((I21-I22)/I21)*100,ROUND((I22/I12)*100,0)))))","v":"  "},null,{"$f":"IF(ISBLANK(K12),\"  \",IF(ISBLANK(K13),\" \",IF(ISBLANK(K22),\" \",IF($Q$8=2,((K21-K22)/K21)*100,ROUND((K22/K12)*100,0)))))","v":"  "},null,{"$f":"IF(ISBLANK(M12),\"  \",IF(ISBLANK(M13),\" \",IF(ISBLANK(M22),\" \",IF($Q$8=2,((M21-M22)/M21)*100,ROUND((M22/M12)*100,0)))))","v":"  "}]
["Spec","Sieve","Wt.",{"$f":"IF(ISBLANK(C$12),\"  \",IF(ISBLANK(C$13),\" \",IF(ISBLANK(C23),\" \",IF($Q$8=2,\"% Passing\",ROUND((C23/$C$12)*100,0)))))","v":"  "},"Wt.",{"$f":"IF(ISBLANK(E12),\"  \",IF(ISBLANK(E13),\" \",IF(ISBLANK(E23),\" \",IF($Q$8=2,\"% Passing\",ROUND((E23/E12)*100,0)))))","v":"  "},"Wt.",{"$f":"IF(ISBLANK(G12),\"  \",IF(ISBLANK(G13),\" \",IF(ISBLANK(G23),\" \",IF($Q$8=2,\"% Passing\",ROUND((G23/G12)*100,0)))))","v":"  "},"Wt.",{"$f":"IF(ISBLANK(I12),\"  \",IF(ISBLANK(I13),\" \",IF(ISBLANK(I23),\" \",IF($Q$8=2,\"% Passing\",ROUND((I23/I12)*100,0)))))","v":"  "},"Wt.",{"$f":"IF(ISBLANK(K12),\"  \",IF(ISBLANK(K13),\" \",IF(ISBLANK(K23),\" \",IF($Q$8=2,\"% Passing\",ROUND((K23/K12)*100,0)))))","v":"  "},"Wt.",{"$f":"IF(ISBLANK(M12),\"  \",IF(ISBLANK(M13),\" \",IF(ISBLANK(M23),\" \",IF($Q$8=2,\"% Passing\",ROUND((M23/M12)*100,0)))))","v":"  "}]
[{"$f":"IF(L4=\"2A\",\"10-30\",IF(L4=\"DSA\",\"15-30\",IF(L4=\"OGS\",\"0-12\",IF(L4=\"2RC\",\"0-30\",IF(ISBLANK(L4),\"10-30\")))))","v":"10-30"},{"$f":"IF(L4=\"2RC\",100,16)","v":16},null,{"$f":"IF(ISBLANK(C$12),\"  \",IF(ISBLANK(C$13),\" \",IF(ISBLANK(C24),\" \",IF($Q$8=2,(C20/C21*C24)/C12*100,ROUND((C24/$C$12)*100,0)))))","v":"  "},null,{"$f":"IF(ISBLANK(E12),\"  \",IF(ISBLANK(E13),\" \",IF(ISBLANK(E24),\" \",IF($Q$8=2,(E20/E21*E24)/E12*100,ROUND((E24/E12)*100,0)))))","v":"  "},null,{"$f":"IF(ISBLANK(G12),\"  \",IF(ISBLANK(G13),\" \",IF(ISBLANK(G24),\" \",IF($Q$8=2,(G20/G21*G24)/G12*100,ROUND((G24/G12)*100,0)))))","v":"  "},null,{"$f":"IF(ISBLANK(I12),\"  \",IF(ISBLANK(I13),\" \",IF(ISBLANK(I24),\" \",IF($Q$8=2,(I20/I21*I24)/I12*100,ROUND((I24/I12)*100,0)))))","v":"  "},null,{"$f":"IF(ISBLANK(K12),\"  \",IF(ISBLANK(K13),\" \",IF(ISBLANK(K24),\" \",IF($Q$8=2,(K20/K21*K24)/K12*100,ROUND((K24/K12)*100,0)))))","v":"  "},null,{"$f":"IF(ISBLANK(M12),\"  \",IF(ISBLANK(M13),\" \",IF(ISBLANK(M24),\" \",IF($Q$8=2,(M20/M21*M24)/M12*100,ROUND((M24/M12)*100,0)))))","v":"  "}]
[{"$f":"IF(L4=\"DSA\",\"10-15\",\"Info\")","v":"Info"},200,null,{"$f":"IF(ISBLANK(C$12),\"  \",IF(ISBLANK(C$13),\" \",IF(ISBLANK(C25),\" \",IF($Q$8=2,(C20/C21*C25)/C12*100,ROUND((C25/$C$12)*100,0)))))","v":"  "},null,{"$f":"IF(ISBLANK(E12),\"  \",IF(ISBLANK(E13),\" \",IF(ISBLANK(E25),\" \",IF($Q$8=2,(E20/E21*E25)/E12*100,ROUND((E25/E12)*100,0)))))","v":"  "},null,{"$f":"IF(ISBLANK(G12),\"  \",IF(ISBLANK(G13),\" \",IF(ISBLANK(G25),\" \",IF($Q$8=2,(G20/G21*G25)/G12*100,ROUND((G25/G12)*100,0)))))","v":"  "},null,{"$f":"IF(ISBLANK(I12),\"  \",IF(ISBLANK(I13),\" \",IF(ISBLANK(I25),\" \",IF($Q$8=2,(I20/I21*I25)/I12*100,ROUND((I25/I12)*100,0)))))","v":"  "},null,{"$f":"IF(ISBLANK(K12),\"  \",IF(ISBLANK(K13),\" \",IF(ISBLANK(K25),\" \",IF($Q$8=2,(K20/K21*K25)/K12*100,ROUND((K25/K12)*100,0)))))","v":"  "},null,{"$f":"IF(ISBLANK(M12),\"  \",IF(ISBLANK(M13),\" \",IF(ISBLANK(M25),\" \",IF($Q$8=2,(M20/M21*M25)/M12*100,ROUND((M25/M12)*100,0)))))","v":"  "}]
["Wash ",{"$f":"IF(L4=\"2A\",\"0-10\",IF(L4=\"OGS\",\"0-5\",IF(L4=\"DSA\",\"10-15\",IF(L4=\"2RC\",\" \",IF(ISBLANK(L4),\"0-10\")))))","v":"0-10"},{"$f":"IF($L$4=\"OGS\",\"Coeff. Unf.\",\" \")","v":" "},{"$f":"IF(ISBLANK($L$4),\" \",IF($L$4=\"2A\",\" \",IF($L$4=\"2RC\",\" \",IF(ISERROR(D68),\" \",D68))))","v":" "},{"$f":"IF($L$4=\"OGS\",\"Coeff. Unf.\",\" \")","v":" "},{"$f":"IF(ISBLANK($L$4),\" \",IF($L$4=\"2A\",\" \",IF($L$4=\"2RC\",\" \",IF(ISERROR(F68),\" \",F68))))","v":" "},{"$f":"IF($L$4=\"OGS\",\"Coeff. Unf.\",\" \")","v":" "},{"$f":"IF(ISBLANK($L$4),\" \",IF($L$4=\"2A\",\" \",IF($L$4=\"2RC\",\" \",IF(ISERROR(H68),\" \",H68))))","v":" "},{"$f":"IF($L$4=\"OGS\",\"Coeff. Unf.\",\" \")","v":" "},{"$f":"IF(ISBLANK($L$4),\" \",IF($L$4=\"2A\",\" \",IF($L$4=\"2RC\",\" \",IF(ISERROR(J68),\" \",J68))))","v":" "},{"$f":"IF($L$4=\"OGS\",\"Coeff. Unf.\",\" \")","v":" "},{"$f":"IF(ISBLANK($L$4),\" \",IF($L$4=\"2A\",\" \",IF($L$4=\"2RC\",\" \",IF(ISERROR(L68),\" \",L68))))","v":" "},{"$f":"IF($L$4=\"OGS\",\"Coeff. Unf.\",\" \")","v":" "},{"$f":"IF(ISBLANK($L$4),\" \",IF($L$4=\"2A\",\" \",IF($L$4=\"2RC\",\" \",IF(ISERROR(N68),\" \",N68))))","v":" "}]
["St. Wt. Before Wash",null,null,"% Passing",null,"% Passing",null,"% Passing",null,"% Passing",null,"% Passing",null,"% Passing"]
["End Wt. After Wash",null,null,{"$f":"IF(ISBLANK(C27),\" \",IF(ISBLANK(C28),\" \",((C27-C28)/C27)*100))","v":" "},null,{"$f":"IF(ISBLANK(E27),\" \",IF(ISBLANK(E28),\" \",((E27-E28)/E27)*100))","v":" "},null,{"$f":"IF(ISBLANK(G27),\" \",IF(ISBLANK(G28),\" \",((G27-G28)/G27)*100))","v":" "},null,{"$f":"IF(ISBLANK(I27),\" \",IF(ISBLANK(I28),\" \",((I27-I28)/I27)*100))","v":" "},null,{"$f":"IF(ISBLANK(K27),\" \",IF(ISBLANK(K28),\" \",((K27-K28)/K27)*100))","v":" "},null,{"$f":"IF(ISBLANK(M27),\" \",IF(ISBLANK(M28),\" \",((M27-M28)/M27)*100))","v":" "}]
["Tested By"]
["Remarks"]
[]
[]
[]
["Sample No."]
["Date"]
["Starting Weight",null,null,"% Loss",null,"% Loss",null,"% Loss",null,"% Loss",null,"% Loss",null,"% Loss"]
["Ending Weight",null,null,{"$f":"IF(ISBLANK(C36),\" \",IF(ISBLANK(C37),\" \",((C36-C37)/C36)*100))","v":" "},null,{"$f":"IF(ISBLANK(E36),\" \",IF(ISBLANK(E37),\" \",((E36-E37)/E36)*100))","v":" "},null,{"$f":"IF(ISBLANK(G36),\" \",IF(ISBLANK(G37),\" \",((G36-G37)/G36)*100))","v":" "},null,{"$f":"IF(ISBLANK(I36),\" \",IF(ISBLANK(I37),\" \",((I36-I37)/I36)*100))","v":" "},null,{"$f":"IF(ISBLANK(K36),\" \",IF(ISBLANK(K37),\" \",((K36-K37)/K36)*100))","v":" "},null,{"$f":"IF(ISBLANK(M36),\" \",IF(ISBLANK(M37),\" \",((M36-M37)/M36)*100))","v":" "}]
["Spec","Sieve","Wt.","% Passing","Wt.","% Passing","Wt.","% Passing","Wt.","% Passing","Wt.","% Passing","Wt.","% Passing"]
[100,2,null,{"$f":"IF(ISBLANK(C36),\"  \",IF(ISBLANK(C37),\" \",IF(ISBLANK(C39),\" \",IF($Q$8=2,ROUND(((C39)/C36)*100,0),ROUND((C39/C36)*100,0)))))","v":"  "},null,{"$f":"IF(ISBLANK(E36),\"  \",IF(ISBLANK(E37),\" \",IF(ISBLANK(E39),\" \",IF($Q$8=2,ROUND(((E39)/E36)*100,0),ROUND((E39/E36)*100,0)))))","v":"  "},null,{"$f":"IF(ISBLANK(G36),\"  \",IF(ISBLANK(G37),\" \",IF(ISBLANK(G39),\" \",IF($Q$8=2,ROUND(((G39)/G36)*100,0),ROUND((G39/G36)*100,0)))))","v":"  "},null,{"$f":"IF(ISBLANK(I36),\"  \",IF(ISBLANK(I37),\" \",IF(ISBLANK(I39),\" \",IF($Q$8=2,ROUND(((I39)/I36)*100,0),ROUND((I39/I36)*100,0)))))","v":"  "},null,{"$f":"IF(ISBLANK(K36),\"  \",IF(ISBLANK(K37),\" \",IF(ISBLANK(K39),\" \",IF($Q$8=2,ROUND(((K39)/K36)*100,0),ROUND((K39/K36)*100,0)))))","v":"  "},null,{"$f":"IF(ISBLANK(M36),\"  \",IF(ISBLANK(M37),\" \",IF(ISBLANK(M39),\" \",IF($Q$8=2,ROUND(((M39)/M36)*100,0),ROUND((M39/M36)*100,0)))))","v":"  "}]
[{"$f":"IF(L4=\"DSA\",\"100\",\"Breaker\")","v":"Breaker"},{"$f":"'S1'!B40","v":1},null,{"$f":"IF(ISBLANK(C36),\"  \",IF(ISBLANK(C37),\" \",IF(ISBLANK(C40),\" \",IF($Q$8=2,ROUND(((C40)/C36)*100,0),ROUND((C40/C36)*100,0)))))","v":"  "},null,{"$f":"IF(ISBLANK(E36),\"  \",IF(ISBLANK(E37),\" \",IF(ISBLANK(E40),\" \",IF($Q$8=2,ROUND(((E40)/E36)*100,0),ROUND((E40/E36)*100,0)))))","v":"  "},null,{"$f":"IF(ISBLANK(G36),\"  \",IF(ISBLANK(G37),\" \",IF(ISBLANK(G40),\" \",IF($Q$8=2,ROUND(((G40)/G36)*100,0),ROUND((G40/G36)*100,0)))))","v":"  "},null,{"$f":"IF(ISBLANK(I36),\"  \",IF(ISBLANK(I37),\" \",IF(ISBLANK(I40),\" \",IF($Q$8=2,ROUND(((I40)/I36)*100,0),ROUND((I40/I36)*100,0)))))","v":"  "},null,{"$f":"IF(ISBLANK(K36),\"  \",IF(ISBLANK(K37),\" \",IF(ISBLANK(K40),\" \",IF($Q$8=2,ROUND(((K40)/K36)*100,0),ROUND((K40/K36)*100,0)))))","v":"  "},null,{"$f":"IF(ISBLANK(M36),\"  \",IF(ISBLANK(M37),\" \",IF(ISBLANK(M40),\" \",IF($Q$8=2,ROUND(((M40)/M36)*100,0),ROUND((M40/M36)*100,0)))))","v":"  "}]
[{"$f":"IF(L4=\"2RC\",\" \",IF(L4=\"DSA\",\"65-95\",\"52-100\"))","v":"52-100"},0.75,null,{"$f":"IF(ISBLANK(C36),\"  \",IF(ISBLANK(C37),\" \",IF(ISBLANK(C41),\" \",IF($Q$8=2,ROUND(((C41)/C36)*100,0),ROUND((C41/C36)*100,0)))))","v":"  "},null,{"$f":"IF(ISBLANK(E36),\"  \",IF(ISBLANK(E37),\" \",IF(ISBLANK(E41),\" \",IF($Q$8=2,ROUND(((E41)/E36)*100,0),ROUND((E41/E36)*100,0)))))","v":"  "},null,{"$f":"IF(ISBLANK(G36),\"  \",IF(ISBLANK(G37),\" \",IF(ISBLANK(G41),\" \",IF($Q$8=2,ROUND(((G41)/G36)*100,0),ROUND((G41/G36)*100,0)))))","v":"  "},null,{"$f":"IF(ISBLANK(I36),\"  \",IF(ISBLANK(I37),\" \",IF(ISBLANK(I41),\" \",IF($Q$8=2,ROUND(((I41)/I36)*100,0),ROUND((I41/I36)*100,0)))))","v":"  "},null,{"$f":"IF(ISBLANK(K36),\"  \",IF(ISBLANK(K37),\" \",IF(ISBLANK(K41),\" \",IF($Q$8=2,ROUND(((K41)/K36)*100,0),ROUND((K41/K36)*100,0)))))","v":"  "},null,{"$f":"IF(ISBLANK(M36),\"  \",IF(ISBLANK(M37),\" \",IF(ISBLANK(M41),\" \",IF($Q$8=2,ROUND(((M41)/M36)*100,0),ROUND((M41/M36)*100,0)))))","v":"  "}]
["Breaker",0.5,null,{"$f":"IF(ISBLANK(C36),\"  \",IF(ISBLANK(C37),\" \",IF(ISBLANK(C42),\" \",IF($Q$8=2,ROUND(((C42)/C36)*100,0),ROUND((C42/C36)*100,0)))))","v":"  "},null,{"$f":"IF(ISBLANK(E36),\"  \",IF(ISBLANK(E37),\" \",IF(ISBLANK(E42),\" \",IF($Q$8=2,ROUND(((E42)/E36)*100,0),ROUND((E42/E36)*100,0)))))","v":"  "},null,{"$f":"IF(ISBLANK(G36),\"  \",IF(ISBLANK(G37),\" \",IF(ISBLANK(G42),\" \",IF($Q$8=2,ROUND(((G42)/G36)*100,0),ROUND((G42/G36)*100,0)))))","v":"  "},null,{"$f":"IF(ISBLANK(I36),\"  \",IF(ISBLANK(I37),\" \",IF(ISBLANK(I42),\" \",IF($Q$8=2,ROUND(((I42)/I36)*100,0),ROUND((I42/I36)*100,0)))))","v":"  "},null,{"$f":"IF(ISBLANK(K36),\"  \",IF(ISBLANK(K37),\" \",IF(ISBLANK(K42),\" \",IF($Q$8=2,ROUND(((K42)/K36)*100,0),ROUND((K42/K36)*100,0)))))","v":"  "},null,{"$f":"IF(ISBLANK(M36),\"  \",IF(ISBLANK(M37),\" \",IF(ISBLANK(M42),\" \",IF($Q$8=2,ROUND(((M42)/M36)*100,0),ROUND((M42/M36)*100,0)))))","v":"  "}]
[{"$f":"IF(L4=\"2A\",\"36-70\",IF(L4=\"DSA\",\" \",IF(L4=\"OGS\",\"36-65\",IF(L4=\"2RC\",\" \",IF(ISBLANK(L4),\"36-70\")))))","v":"36-70"},0.375,null,{"$f":"IF(ISBLANK(C36),\"  \",IF(ISBLANK(C37),\" \",IF(ISBLANK(C43),\" \",IF($Q$8=2,ROUND(((C43)/C36)*100,0),ROUND((C43/C36)*100,0)))))","v":"  "},null,{"$f":"IF(ISBLANK(E36),\"  \",IF(ISBLANK(E37),\" \",IF(ISBLANK(E43),\" \",IF($Q$8=2,ROUND(((E43)/E36)*100,0),ROUND((E43/E36)*100,0)))))","v":"  "},null,{"$f":"IF(ISBLANK(G36),\"  \",IF(ISBLANK(G37),\" \",IF(ISBLANK(G43),\" \",IF($Q$8=2,ROUND(((G43)/G36)*100,0),ROUND((G43/G36)*100,0)))))","v":"  "},null,{"$f":"IF(ISBLANK(I36),\"  \",IF(ISBLANK(I37),\" \",IF(ISBLANK(I43),\" \",IF($Q$8=2,ROUND(((I43)/I36)*100,0),ROUND((I43/I36)*100,0)))))","v":"  "},null,{"$f":"IF(ISBLANK(K36),\"  \",IF(ISBLANK(K37),\" \",IF(ISBLANK(K43),\" \",IF($Q$8=2,ROUND(((K43)/K36)*100,0),ROUND((K43/K36)*100,0)))))","v":"  "},null,{"$f":"IF(ISBLANK(M36),\"  \",IF(ISBLANK(M37),\" \",IF(ISBLANK(M43),\" \",IF($Q$8=2,ROUND(((M43)/M36)*100,0),ROUND((M43/M36)*100,0)))))","v":"  "}]
[{"$f":"IF(L4=\"2A\",\"24-50\",IF(L4=\"DSA\",\"30-65 \",IF(L4=\"OGS\",\"8-40\",IF(L4=\"2RC\",\"15-60 \",IF(ISBLANK(4),\"24-50\")))))","v":"24-50"},4,null,{"$f":"IF(ISBLANK(C36),\"  \",IF(ISBLANK(C37),\" \",IF(ISBLANK(C44),\" \",IF($Q$8=2,ROUND(((C44)/C36)*100,0),ROUND((C44/C36)*100,0)))))","v":"  "},null,{"$f":"IF(ISBLANK(E36),\"  \",IF(ISBLANK(E37),\" \",IF(ISBLANK(E44),\" \",IF($Q$8=2,ROUND(((E44)/E36)*100,0),ROUND((E44/E36)*100,0)))))","v":"  "},null,{"$f":"IF(ISBLANK(G36),\"  \",IF(ISBLANK(G37),\" \",IF(ISBLANK(G44),\" \",IF($Q$8=2,ROUND(((G44)/G36)*100,0),ROUND((G44/G36)*100,0)))))","v":"  "},null,{"$f":"IF(ISBLANK(I36),\"  \",IF(ISBLANK(I37),\" \",IF(ISBLANK(I44),\" \",IF($Q$8=2,ROUND(((I44)/I36)*100,0),ROUND((I44/I36)*100,0)))))","v":"  "},null,{"$f":"IF(ISBLANK(K36),\"  \",IF(ISBLANK(K37),\" \",IF(ISBLANK(K44),\" \",IF($Q$8=2,ROUND(((K44)/K36)*100,0),ROUND((K44/K36)*100,0)))))","v":"  "},null,{"$f":"IF(ISBLANK(M36),\"  \",IF(ISBLANK(M37),\" \",IF(ISBLANK(M44),\" \",IF($Q$8=2,ROUND(((M44)/M36)*100,0),ROUND((M44/M36)*100,0)))))","v":"  "}]
["Starting Weight",null,null,{"$f":"IF(ISBLANK(C36),\"  \",IF(ISBLANK(C37),\" \",IF($Q$8=2,\"% Loss\",ROUND((C45/C36)*100,0))))","v":"  "},null,{"$f":"IF(ISBLANK(E36),\"  \",IF(ISBLANK(E37),\" \",IF($Q$8=2,\"% Loss\",ROUND((E45/E36)*100,0))))","v":"  "},null,{"$f":"IF(ISBLANK(G36),\"  \",IF(ISBLANK(G37),\" \",IF($Q$8=2,\"% Loss\",ROUND((G45/G36)*100,0))))","v":"  "},null,{"$f":"IF(ISBLANK(I36),\"  \",IF(ISBLANK(I37),\" \",IF($Q$8=2,\"% Loss\",ROUND((I45/I36)*100,0))))","v":"  "},null,{"$f":"IF(ISBLANK(K36),\"  \",IF(ISBLANK(K37),\" \",IF($Q$8=2,\"% Loss\",ROUND((K45/K36)*100,0))))","v":"  "},null,{"$f":"IF(ISBLANK(M36),\"  \",IF(ISBLANK(M37),\" \",IF($Q$8=2,\"% Loss\",ROUND((M45/M36)*100,0))))","v":"  "}]
["Ending Weight",null,null,{"$f":"IF(ISBLANK(C36),\"  \",IF(ISBLANK(C37),\" \",IF(ISBLANK(C46),\" \",IF($Q$8=2,((C45-C46)/C45)*100,ROUND((C46/C36)*100,0)))))","v":"  "},null,{"$f":"IF(ISBLANK(E36),\"  \",IF(ISBLANK(E37),\" \",IF(ISBLANK(E46),\" \",IF($Q$8=2,((E45-E46)/E45)*100,ROUND((E46/E36)*100,0)))))","v":"  "},null,{"$f":"IF(ISBLANK(G36),\"  \",IF(ISBLANK(G37),\" \",IF(ISBLANK(G46),\" \",IF($Q$8=2,((G45-G46)/G45)*100,ROUND((G46/G36)*100,0)))))","v":"  "},null,{"$f":"IF(ISBLANK(I36),\"  \",IF(ISBLANK(I37),\" \",IF(ISBLANK(I46),\" \",IF($Q$8=2,((I45-I46)/I45)*100,ROUND((I46/I36)*100,0)))))","v":"  "},null,{"$f":"IF(ISBLANK(K36),\"  \",IF(ISBLANK(K37),\" \",IF(ISBLANK(K46),\" \",IF($Q$8=2,((K45-K46)/K45)*100,ROUND((K46/K36)*100,0)))))","v":"  "},null,{"$f":"IF(ISBLANK(M36),\"  \",IF(ISBLANK(M37),\" \",IF(ISBLANK(M46),\" \",IF($Q$8=2,((M45-M46)/M45)*100,ROUND((M46/M36)*100,0)))))","v":"  "}]
["Spec","Sieve","Wt.",{"$f":"IF(ISBLANK(C36),\"  \",IF(ISBLANK(C37),\" \",IF(ISBLANK(C47),\" \",IF($Q$8=2,\"% Passing\",ROUND((C47/C36)*100,0)))))","v":"  "},"Wt.",{"$f":"IF(ISBLANK(E36),\"  \",IF(ISBLANK(E37),\" \",IF(ISBLANK(E47),\" \",IF($Q$8=2,\"% Passing\",ROUND((E47/E36)*100,0)))))","v":"  "},"Wt.",{"$f":"IF(ISBLANK(G36),\"  \",IF(ISBLANK(G37),\" \",IF(ISBLANK(G47),\" \",IF($Q$8=2,\"% Passing\",ROUND((G47/G36)*100,0)))))","v":"  "},"Wt.",{"$f":"IF(ISBLANK(I36),\"  \",IF(ISBLANK(I37),\" \",IF(ISBLANK(I47),\" \",IF($Q$8=2,\"% Passing\",ROUND((I47/I36)*100,0)))))","v":"  "},"Wt.",{"$f":"IF(ISBLANK(K36),\"  \",IF(ISBLANK(K37),\" \",IF(ISBLANK(K47),\" \",IF($Q$8=2,\"% Passing\",ROUND((K47/K36)*100,0)))))","v":"  "},"Wt.",{"$f":"IF(ISBLANK(M36),\"  \",IF(ISBLANK(M37),\" \",IF(ISBLANK(M47),\" \",IF($Q$8=2,\"% Passing\",ROUND((M47/M36)*100,0)))))","v":"  "}]
[{"$f":"IF(L4=\"2A\",\"10-30\",IF(L4=\"DSA\",\"15-30\",IF(L4=\"OGS\",\"0-12\",IF(L4=\"2RC\",\"0-30\",IF(ISBLANK(L4),\"10-30\")))))","v":"10-30"},{"$f":"IF(L4=\"2RC\",100,16)","v":16},null,{"$f":"IF(ISBLANK(C36),\"  \",IF(ISBLANK(C37),\" \",IF(ISBLANK(C48),\" \",IF($Q$8=2,(C44/C45*C48)/C36*100,ROUND((C48/C36)*100,0)))))","v":"  "},null,{"$f":"IF(ISBLANK(E36),\"  \",IF(ISBLANK(E37),\" \",IF(ISBLANK(E48),\" \",IF($Q$8=2,(E44/E45*E48)/E36*100,ROUND((E48/E36)*100,0)))))","v":"  "},null,{"$f":"IF(ISBLANK(G36),\"  \",IF(ISBLANK(G37),\" \",IF(ISBLANK(G48),\" \",IF($Q$8=2,(G44/G45*G48)/G36*100,ROUND((G48/G36)*100,0)))))","v":"  "},null,{"$f":"IF(ISBLANK(I36),\"  \",IF(ISBLANK(I37),\" \",IF(ISBLANK(I48),\" \",IF($Q$8=2,(I44/I45*I48)/I36*100,ROUND((I48/I36)*100,0)))))","v":"  "},null,{"$f":"IF(ISBLANK(K36),\"  \",IF(ISBLANK(K37),\" \",IF(ISBLANK(K48),\" \",IF($Q$8=2,(K44/K45*K48)/K36*100,ROUND((K48/K36)*100,0)))))","v":"  "},null,{"$f":"IF(ISBLANK(M36),\"  \",IF(ISBLANK(M37),\" \",IF(ISBLANK(M48),\" \",IF($Q$8=2,(M44/M45*M48)/M36*100,ROUND((M48/M36)*100,0)))))","v":"  "}]
[{"$f":"IF(L4=\"DSA\",\"10-15\",\"Info\")","v":"Info"},200,null,{"$f":"IF(ISBLANK(C36),\"  \",IF(ISBLANK(C37),\" \",IF(ISBLANK(C49),\" \",IF($Q$8=2,(C44/C45*C49)/C36*100,ROUND((C49/C36)*100,0)))))","v":"  "},null,{"$f":"IF(ISBLANK(E36),\"  \",IF(ISBLANK(E37),\" \",IF(ISBLANK(E49),\" \",IF($Q$8=2,(E44/E45*E49)/E36*100,ROUND((E49/E36)*100,0)))))","v":"  "},null,{"$f":"IF(ISBLANK(G36),\"  \",IF(ISBLANK(G37),\" \",IF(ISBLANK(G49),\" \",IF($Q$8=2,(G44/G45*G49)/G36*100,ROUND((G49/G36)*100,0)))))","v":"  "},null,{"$f":"IF(ISBLANK(I36),\"  \",IF(ISBLANK(I37),\" \",IF(ISBLANK(I49),\" \",IF($Q$8=2,(I44/I45*I49)/I36*100,ROUND((I49/I36)*100,0)))))","v":"  "},null,{"$f":"IF(ISBLANK(K36),\"  \",IF(ISBLANK(K37),\" \",IF(ISBLANK(K49),\" \",IF($Q$8=2,(K44/K45*K49)/K36*100,ROUND((K49/K36)*100,0)))))","v":"  "},null,{"$f":"IF(ISBLANK(M36),\"  \",IF(ISBLANK(M37),\" \",IF(ISBLANK(M49),\" \",IF($Q$8=2,(M44/M45*M49)/M36*100,ROUND((M49/M36)*100,0)))))","v":"  "}]
["Wash ",{"$f":"IF(L4=\"2A\",\"0-10\",IF(L4=\"OGS\",\"0-5\",IF(L4=\"DSA\",\"10-15\",IF(L4=\"2RC\",\" \",IF(ISBLANK(L4),\"0-10\")))))","v":"0-10"},{"$f":"IF($L$4=\"OGS\",\"Coeff. Unf.\",\" \")","v":" "},{"$f":"IF(ISBLANK($L$4),\" \",IF($L$4=\"2A\",\" \",IF($L$4=\"2RC\",\" \",IF(ISERROR(D79),\" \",D79))))","v":" "},{"$f":"IF($L$4=\"OGS\",\"Coeff. Unf.\",\" \")","v":" "},{"$f":"IF(ISBLANK($L$4),\" \",IF($L$4=\"2A\",\" \",IF($L$4=\"2RC\",\" \",IF(ISERROR(F79),\" \",F79))))","v":" "},{"$f":"IF($L$4=\"OGS\",\"Coeff. Unf.\",\" \")","v":" "},{"$f":"IF(ISBLANK($L$4),\" \",IF($L$4=\"2A\",\" \",IF($L$4=\"2RC\",\" \",IF(ISERROR(H79),\" \",H79))))","v":" "},{"$f":"IF($L$4=\"OGS\",\"Coeff. Unf.\",\" \")","v":" "},{"$f":"IF(ISBLANK($L$4),\" \",IF($L$4=\"2A\",\" \",IF($L$4=\"2RC\",\" \",IF(ISERROR(J79),\" \",J79))))","v":" "},{"$f":"IF($L$4=\"OGS\",\"Coeff. Unf.\",\" \")","v":" "},{"$f":"IF(ISBLANK($L$4),\" \",IF($L$4=\"2A\",\" \",IF($L$4=\"2RC\",\" \",IF(ISERROR(L79),\" \",L79))))","v":" "},{"$f":"IF($L$4=\"OGS\",\"Coeff. Unf.\",\" \")","v":" "},{"$f":"IF(ISBLANK($L$4),\" \",IF($L$4=\"2A\",\" \",IF($L$4=\"2RC\",\" \",IF(ISERROR(N79),\" \",N79))))","v":" "}]
["St. Wt. Before Wash",null,null,"% Passing",null,"% Passing",null,"% Passing",null,"% Passing",null,"% Passing",null,"% Passing"]
["End Wt. After Wash",null,null,{"$f":"IF(ISBLANK(C51),\" \",IF(ISBLANK(C52),\" \",((C51-C52)/C51)*100))","v":" "},null,{"$f":"IF(ISBLANK(E51),\" \",IF(ISBLANK(E52),\" \",((E51-E52)/E51)*100))","v":" "},null,{"$f":"IF(ISBLANK(G51),\" \",IF(ISBLANK(G52),\" \",((G51-G52)/G51)*100))","v":" "},null,{"$f":"IF(ISBLANK(I51),\" \",IF(ISBLANK(I52),\" \",((I51-I52)/I51)*100))","v":" "},null,{"$f":"IF(ISBLANK(K51),\" \",IF(ISBLANK(K52),\" \",((K51-K52)/K51)*100))","v":" "},null,{"$f":"IF(ISBLANK(M51),\" \",IF(ISBLANK(M52),\" \",((M51-M52)/M51)*100))","v":" "}]
["Tested By"]
["Remarks"]
[]
[]
[]
[]
[null,null,null,"Upper Coeff Unf"]
[19,null,19,{"$f":"D17","v":"  "},null,{"$f":"F17","v":"  "},null,{"$f":"H17","v":"  "},null,{"$f":"J17","v":"  "},null,{"$f":"L17","v":"  "},null,{"$f":"N17","v":"  "}]
[9.5,null,9.5,{"$f":"D19","v":"  "},null,{"$f":"F19","v":"  "},null,{"$f":"H19","v":"  "},null,{"$f":"J19","v":"  "},null,{"$f":"L19","v":"  "},null,{"$f":"N19","v":"  "}]
[null,null,"D60",{"$f":"FORECAST(60,$A$60:$A$61,D60:D61)","v":{"$error":"#DIV/0!"}},null,{"$f":"FORECAST(60,$A$60:$A$61,F60:F61)","v":{"$error":"#DIV/0!"}},null,{"$f":"FORECAST(60,$A$60:$A$61,H60:H61)","v":{"$error":"#DIV/0!"}},null,{"$f":"FORECAST(60,$A$60:$A$61,J60:J61)","v":{"$error":"#DIV/0!"}},null,{"$f":"FORECAST(60,$A$60:$A$61,L60:L61)","v":{"$error":"#DIV/0!"}},null,{"$f":"FORECAST(60,$A$60:$A$61,N60:N61)","v":{"$error":"#DIV/0!"}}]
[]
[4.75,null,4.75,{"$f":"D20","v":"  "},null,{"$f":"F20","v":"  "},null,{"$f":"H20","v":"  "},null,{"$f":"J20","v":"  "},null,{"$f":"L20","v":"  "},null,{"$f":"N20","v":"  "}]
[1.18,null,1.18,{"$f":"D24","v":"  "},null,{"$f":"F24","v":"  "},null,{"$f":"H24","v":"  "},null,{"$f":"J24","v":"  "},null,{"$f":"L24","v":"  "},null,{"$f":"N24","v":"  "}]
[null,null,"D10",{"$f":"FORECAST(10,$A$64:$A$65,D64:D65)","v":{"$error":"#DIV/0!"}},null,{"$f":"FORECAST(10,$A$64:$A$65,F64:F65)","v":{"$error":"#DIV/0!"}},null,{"$f":"FORECAST(10,$A$64:$A$65,H64:H65)","v":{"$error":"#DIV/0!"}},null,{"$f":"FORECAST(10,$A$64:$A$65,J64:J65)","v":{"$error":"#DIV/0!"}},null,{"$f":"FORECAST(10,$A$64:$A$65,L64:L65)","v":{"$error":"#DIV/0!"}},null,{"$f":"FORECAST(10,$A$64:$A$65,N64:N65)","v":{"$error":"#DIV/0!"}}]
[]
[null,null,"Coeff Unf",{"$f":"ROUND(D62/D66,1)","v":{"$error":"#DIV/0!"}},null,{"$f":"ROUND(F62/F66,1)","v":{"$error":"#DIV/0!"}},null,{"$f":"ROUND(H62/H66,1)","v":{"$error":"#DIV/0!"}},null,{"$f":"ROUND(J62/J66,1)","v":{"$error":"#DIV/0!"}},null,{"$f":"ROUND(L62/L66,1)","v":{"$error":"#DIV/0!"}},null,{"$f":"ROUND(N62/N66,1)","v":{"$error":"#DIV/0!"}}]
[]
[null,null,"Lower Coff Unf"]
[19,null,19,{"$f":"D41","v":"  "},null,{"$f":"F41","v":"  "},null,{"$f":"H41","v":"  "},null,{"$f":"J41","v":"  "},null,{"$f":"L41","v":"  "},null,{"$f":"N41","v":"  "}]
[9.5,null,9.5,{"$f":"D43","v":"  "},null,{"$f":"F43","v":"  "},null,{"$f":"H43","v":"  "},null,{"$f":"J43","v":"  "},null,{"$f":"L43","v":"  "},null,{"$f":"N43","v":"  "}]
[null,null,"D60",{"$f":"FORECAST(60,$A$71:$A$72,D71:D72)","v":{"$error":"#DIV/0!"}},null,{"$f":"FORECAST(60,$A$71:$A$72,F71:F72)","v":{"$error":"#DIV/0!"}},null,{"$f":"FORECAST(60,$A$71:$A$72,H71:H72)","v":{"$error":"#DIV/0!"}},null,{"$f":"FORECAST(60,$A$71:$A$72,J71:J72)","v":{"$error":"#DIV/0!"}},null,{"$f":"FORECAST(60,$A$71:$A$72,L71:L72)","v":{"$error":"#DIV/0!"}},null,{"$f":"FORECAST(60,$A$71:$A$72,N71:N72)","v":{"$error":"#DIV/0!"}}]
[]
[4.75,null,4.75,{"$f":"D44","v":"  "},null,{"$f":"F44","v":"  "},null,{"$f":"H44","v":"  "},null,{"$f":"J44","v":"  "},null,{"$f":"L44","v":"  "},null,{"$f":"N44","v":"  "}]
[1.18,null,1.18,{"$f":"D48","v":"  "},null,{"$f":"F48","v":"  "},null,{"$f":"H48","v":"  "},null,{"$f":"J48","v":"  "},null,{"$f":"L48","v":"  "},null,{"$f":"N48","v":"  "}]
[null,null,"D10",{"$f":"FORECAST(10,$A$75:$A$76,D75:D76)","v":{"$error":"#DIV/0!"}},null,{"$f":"FORECAST(10,$A$75:$A$76,F75:F76)","v":{"$error":"#DIV/0!"}},null,{"$f":"FORECAST(10,$A$75:$A$76,H75:H76)","v":{"$error":"#DIV/0!"}},null,{"$f":"FORECAST(10,$A$75:$A$76,J75:J76)","v":{"$error":"#DIV/0!"}},null,{"$f":"FORECAST(10,$A$75:$A$76,L75:L76)","v":{"$error":"#DIV/0!"}},null,{"$f":"FORECAST(10,$A$75:$A$76,N75:N76)","v":{"$error":"#DIV/0!"}}]
[]
[null,null,"Coeff Unf",{"$f":"ROUND(D73/D77,1)","v":{"$error":"#DIV/0!"}},null,{"$f":"ROUND(F73/F77,1)","v":{"$error":"#DIV/0!"}},null,{"$f":"ROUND(H73/H77,1)","v":{"$error":"#DIV/0!"}},null,{"$f":"ROUND(J73/J77,1)","v":{"$error":"#DIV/0!"}},null,{"$f":"ROUND(L73/L77,1)","v":{"$error":"#DIV/0!"}},null,{"$f":"ROUND(N73/N77,1)","v":{"$error":"#DIV/0!"}}]

{"sheet":"S10","index":9,"n_rows":79,"n_cols":17,"rows_kept":79,"cut":false,"hidden":true,"merged":[[53,12,55,13],[53,0,55,1],[53,2,55,3],[53,4,55,5],[53,6,55,7],[53,8,55,9],[53,10,55,11],[52,12,52,13],[36,0,36,1],[45,0,45,1],[52,8,52,9],[44,0,44,1],[52,4,52,5],[52,6,52,7],[52,10,52,11],[50,0,50,1],[51,0,51,1],[52,0,52,1],[52,2,52,3],[28,10,28,11],[28,12,28,13],[29,10,31,11],[29,12,31,13],[28,8,28,9],[29,8,31,9],[34,12,34,13],[33,8,33,9],[33,10,33,11],[34,2,34,3],[34,4,34,5],[34,6,34,7],[34,8,34,9],[34,10,34,11],[33,12,33,13],[27,0,27,1],[9,2,9,3],[29,2,31,3],[29,4,31,5],[29,6,31,7],[9,6,9,7],[35,0,35,1],[33,2,33,3],[28,6,28,7],[33,4,33,5],[33,6,33,7],[34,0,34,1],[28,4,28,5],[1,11,1,12],[2,9,2,10],[2,11,2,12],[3,9,3,10],[3,11,3,12],[1,9,1,10],[4,11,4,12],[9,12,9,13],[10,8,10,9],[10,10,10,11],[10,12,10,13],[9,10,9,11],[5,9,5,10],[4,9,4,10],[5,11,5,12],[9,8,9,9],[5,3,5,8],[10,6,10,7],[7,2,7,4],[7,5,7,6],[58,3,58,13],[69,2,69,13],[9,0,9,1],[20,0,20,1],[21,0,21,1],[26,0,26,1],[10,4,10,5],[33,0,33,1],[28,0,28,1],[28,2,28,3],[9,4,9,5],[12,0,12,1],[11,0,11,1],[10,0,10,1],[10,2,10,3],[29,0,31,1],[0,7,3,8],[1,2,1,6],[2,2,2,6],[3,2,3,6],[4,0,4,1],[0,0,3,1]]}
[]
[null,null,"COMMONWEALTH OF PENNSYLVANIA",null,null,null,null,null,null,"DISTRICT",null,{"$f":"IF(ISBLANK('S1'!L2),\" \",'S1'!L2)","v":" "}]
[null,null,"DEPARTMENT OF TRANSPORTATION",null,null,null,null,null,null,"PLANT CODE",null,{"$f":"IF(ISBLANK('S1'!L3),\" \",'S1'!L3)","v":" "}]
[null,null,"PENNSYLVANIA TURNPIKE COMMISSION",null,null,null,null,null,null,"AGG SIZE",null,{"$f":"IF(ISBLANK('S1'!L4),\" \",'S1'!L4)","v":"2A"}]
[{"$f":"'S1'!A5","v":"Aggregate 2023"},null,null,null,null,null,null,null,null,"#4 Target Value ",null,{"$f":"IF(ISBLANK('S1'!L5),\" \",'S1'!L5)","v":" "}]
[".",null,null,{"$f":"'S1'!D6","v":"Material Test Results for 2A Coarse Aggregate"},null,null,null,null,null,"#16 Target Value",null,{"$f":"IF(ISBLANK('S1'!L6),\" \",'S1'!L6)","v":" "}]
[]
[null,null,"Method of testing",null,null,{"$f":"'S1'!F8:G8","v":"Split sample "},null,null,null,null,null,null,null,null,null,null,{"$f":"IF(F8=\"Complete sample\",1,2)","v":2}]
[]
["Sample No."]
["Date"]
["Starting Weight",null,null,"% Loss",null,"% Loss",null,"% Loss",null,"% Loss",null,"% Loss",null,"% Loss"]
["Ending Weight",null,null,{"$f":"IF(ISBLANK(C12),\" \",IF(ISBLANK(C13),\" \",((C12-C13)/C12)*100))","v":" "},null,{"$f":"IF(ISBLANK(E12),\" \",IF(ISBLANK(E13),\" \",((E12-E13)/E12)*100))","v":" "},null,{"$f":"IF(ISBLANK(G12),\" \",IF(ISBLANK(G13),\" \",((G12-G13)/G12)*100))","v":" "},null,{"$f":"IF(ISBLANK(I12),\" \",IF(ISBLANK(I13),\" \",((I12-I13)/I12)*100))","v":" "},null,{"$f":"IF(ISBLANK(K12),\" \",IF(ISBLANK(K13),\" \",((K12-K13)/K12)*100))","v":" "},null,{"$f":"IF(ISBLANK(M12),\" \",IF(ISBLANK(M13),\" \",((M12-M13)/M12)*100))","v":" "}]
["Spec","Sieve","Wt.","% Passing","Wt.","% Passing","Wt.","% Passing","Wt.","% Passing","Wt.","% Passing","Wt.","% Passing"]
[100,2,null,{"$f":"IF(ISBLANK(C$12),\"  \",IF(ISBLANK(C$13),\" \",IF(ISBLANK(C15),\" \",IF($Q$8=2,ROUND(((C15)/C$12)*100,0),ROUND((C15/$C$12)*100,0)))))","v":"  "},null,{"$f":"IF(ISBLANK(E12),\"  \",IF(ISBLANK(E13),\" \",IF(ISBLANK(E15),\" \",IF($Q$8=2,ROUND(((E15)/E12)*100,0),ROUND((E15/E12)*100,0)))))","v":"  "},null,{"$f":"IF(ISBLANK(G12),\"  \",IF(ISBLANK(G13),\" \",IF(ISBLANK(G15),\" \",IF($Q$8=2,ROUND(((G15)/G12)*100,0),ROUND((G15/G12)*100,0)))))","v":"  "},null,{"$f":"IF(ISBLANK(I12),\"  \",IF(ISBLANK(I13),\" \",IF(ISBLANK(I15),\" \",IF($Q$8=2,ROUND(((I15)/I12)*100,0),ROUND((I15/I12)*100,0)))))","v":"  "},null,{"$f":"IF(ISBLANK(K12),\"  \",IF(ISBLANK(K13),\" \",IF(ISBLANK(K15),\" \",IF($Q$8=2,ROUND(((K15)/K12)*100,0),ROUND((K15/K12)*100,0)))))","v":"  "},null,{"$f":"IF(ISBLANK(M12),\"  \",IF(ISBLANK(M13),\" \",IF(ISBLANK(M15),\" \",IF($Q$8=2,ROUND(((M15)/M12)*100,0),ROUND((M15/M12)*100,0)))))","v":"  "}]
[{"$f":"IF(L4=\"DSA\",\"100\",\"Breaker\")","v":"Breaker"},{"$f":"'S1'!B16","v":1},null,"  ",null,{"$f":"IF(ISBLANK(E12),\"  \",IF(ISBLANK(E13),\" \",IF(ISBLANK(E16),\" \",IF($Q$8=2,ROUND(((E16)/E12)*100,0),ROUND((E16/E12)*100,0)))))","v":"  "},null,{"$f":"IF(ISBLANK(G12),\"  \",IF(ISBLANK(G13),\" \",IF(ISBLANK(G16),\" \",IF($Q$8=2,ROUND(((G16)/G12)*100,0),ROUND((G16/G12)*100,0)))))","v":"  "},null,{"$f":"IF(ISBLANK(I12),\"  \",IF(ISBLANK(I13),\" \",IF(ISBLANK(I16),\" \",IF($Q$8=2,ROUND(((I16)/I12)*100,0),ROUND((I16/I12)*100,0)))))","v":"  "},null,{"$f":"IF(ISBLANK(K12),\"  \",IF(ISBLANK(K13),\" \",IF(ISBLANK(K16),\" \",IF($Q$8=2,ROUND(((K16)/K12)*100,0),ROUND((K16/K12)*100,0)))))","v":"  "},null,{"$f":"IF(ISBLANK(M12),\"  \",IF(ISBLANK(M13),\" \",IF(ISBLANK(M16),\" \",IF($Q$8=2,ROUND(((M16)/M12)*100,0),ROUND((M16/M12)*100,0)))))","v":"  "}]
[{"$f":"IF(L4=\"2RC\",\" \",IF(L4=\"DSA\",\"65-95\",\"52-100\"))","v":"52-100"},0.75,null,"  ",null,{"$f":"IF(ISBLANK(E12),\"  \",IF(ISBLANK(E13),\" \",IF(ISBLANK(E17),\" \",IF($Q$8=2,ROUND(((E17)/E12)*100,0),ROUND((E17/E12)*100,0)))))","v":"  "},null,{"$f":"IF(ISBLANK(G12),\"  \",IF(ISBLANK(G13),\" \",IF(ISBLANK(G17),\" \",IF($Q$8=2,ROUND(((G17)/G12)*100,0),ROUND((G17/G12)*100,0)))))","v":"  "},null,{"$f":"IF(ISBLANK(I12),\"  \",IF(ISBLANK(I13),\" \",IF(ISBLANK(I17),\" \",IF($Q$8=2,ROUND(((I17)/I12)*100,0),ROUND((I17/I12)*100,0)))))","v":"  "},null,{"$f":"IF(ISBLANK(K12),\"  \",IF(ISBLANK(K13),\" \",IF(ISBLANK(K17),\" \",IF($Q$8=2,ROUND(((K17)/K12)*100,0),ROUND((K17/K12)*100,0)))))","v":"  "},null,{"$f":"IF(ISBLANK(M12),\"  \",IF(ISBLANK(M13),\" \",IF(ISBLANK(M17),\" \",IF($Q$8=2,ROUND(((M17)/M12)*100,0),ROUND((M17/M12)*100,0)))))","v":"  "}]
["Breaker",0.5,null,"  ",null,{"$f":"IF(ISBLANK(E12),\"  \",IF(ISBLANK(E13),\" \",IF(ISBLANK(E18),\" \",IF($Q$8=2,ROUND(((E18)/E12)*100,0),ROUND((E18/E12)*100,0)))))","v":"  "},null,{"$f":"IF(ISBLANK(G12),\"  \",IF(ISBLANK(G13),\" \",IF(ISBLANK(G18),\" \",IF($Q$8=2,ROUND(((G18)/G12)*100,0),ROUND((G18/G12)*100,0)))))","v":"  "},null,{"$f":"IF(ISBLANK(I12),\"  \",IF(ISBLANK(I13),\" \",IF(ISBLANK(I18),\" \",IF($Q$8=2,ROUND(((I18)/I12)*100,0),ROUND((I18/I12)*100,0)))))","v":"  "},null,{"$f":"IF(ISBLANK(K12),\"  \",IF(ISBLANK(K13),\" \",IF(ISBLANK(K18),\" \",IF($Q$8=2,ROUND(((K18)/K12)*100,0),ROUND((K18/K12)*100,0)))))","v":"  "},null,{"$f":"IF(ISBLANK(M12),\"  \",IF(ISBLANK(M13),\" \",IF(ISBLANK(M18),\" \",IF($Q$8=2,ROUND(((M18)/M12)*100,0),ROUND((M18/M12)*100,0)))))","v":"  "}]
[{"$f":"IF(L4=\"2A\",\"36-70\",IF(L4=\"DSA\",\" \",IF(L4=\"OGS\",\"36-65\",IF(L4=\"2RC\",\" \",IF(ISBLANK(L4),\"36-70\")))))","v":"36-70"},0.375,null,"  ",null,{"$f":"IF(ISBLANK(E12),\"  \",IF(ISBLANK(E13),\" \",IF(ISBLANK(E19),\" \",IF($Q$8=2,ROUND(((E19)/E12)*100,0),ROUND((E19/E12)*100,0)))))","v":"  "},null,{"$f":"IF(ISBLANK(G12),\"  \",IF(ISBLANK(G13),\" \",IF(ISBLANK(G19),\" \",IF($Q$8=2,ROUND(((G19)/G12)*100,0),ROUND((G19/G12)*100,0)))))","v":"  "},null,{"$f":"IF(ISBLANK(I12),\"  \",IF(ISBLANK(I13),\" \",IF(ISBLANK(I19),\" \",IF($Q$8=2,ROUND(((I19)/I12)*100,0),ROUND((I19/I12)*100,0)))))","v":"  "},null,{"$f":"IF(ISBLANK(K12),\"  \",IF(ISBLANK(K13),\" \",IF(ISBLANK(K19),\" \",IF($Q$8=2,ROUND(((K19)/K12)*100,0),ROUND((K19/K12)*100,0)))))","v":"  "},null,{"$f":"IF(ISBLANK(M12),\"  \",IF(ISBLANK(M13),\" \",IF(ISBLANK(M19),\" \",IF($Q$8=2,ROUND(((M19)/M12)*100,0),ROUND((M19/M12)*100,0)))))","v":"  "}]
[{"$f":"IF(L4=\"2A\",\"24-50\",IF(L4=\"DSA\",\"30-65 \",IF(L4=\"OGS\",\"8-40\",IF(L4=\"2RC\",\"15-60 \",IF(ISBLANK(L4),\"24-50\")))))","v":"24-50"},4,null,"  ",null,{"$f":"IF(ISBLANK(E12),\"  \",IF(ISBLANK(E13),\" \",IF(ISBLANK(E20),\" \",IF($Q$8=2,ROUND(((E20)/E$12)*100,0),ROUND((E20/E12)*100,0)))))","v":"  "},null,{"$f":"IF(ISBLANK(G12),\"  \",IF(ISBLANK(G13),\" \",IF(ISBLANK(G20),\" \",IF($Q$8=2,ROUND(((G20)/G$12)*100,0),ROUND((G20/G12)*100,0)))))","v":"  "},null,{"$f":"IF(ISBLANK(I12),\"  \",IF(ISBLANK(I13),\" \",IF(ISBLANK(I20),\" \",IF($Q$8=2,ROUND(((I20)/I$12)*100,0),ROUND((I20/I12)*100,0)))))","v":"  "},null,{"$f":"IF(ISBLANK(K12),\"  \",IF(ISBLANK(K13),\" \",IF(ISBLANK(K20),\" \",IF($Q$8=2,ROUND(((K20)/K$12)*100,0),ROUND((K20/K12)*100,0)))))","v":"  "},null,{"$f":"IF(ISBLANK(M12),\"  \",IF(ISBLANK(M13),\" \",IF(ISBLANK(M20),\" \",IF($Q$8=2,ROUND(((M20)/M$12)*100,0),ROUND((M20/M12)*100,0)))))","v":"  "}]
["Starting Weight",null,null,{"$f":"IF(ISBLANK(C$12),\"  \",IF(ISBLANK(C$13),\" \",IF($Q$8=2,\"% Loss\",ROUND((C21/$C$12)*100,0))))","v":"  "},null,{"$f":"IF(ISBLANK(E12),\"  \",IF(ISBLANK(E13),\" \",IF($Q$8=2,\"% Loss\",ROUND((E21/E12)*100,0))))","v":"  "},null,{"$f":"IF(ISBLANK(G12),\"  \",IF(ISBLANK(G13),\" \",IF($Q$8=2,\"% Loss\",ROUND((G21/G12)*100,0))))","v":"  "},null,{"$f":"IF(ISBLANK(I12),\"  \",IF(ISBLANK(I13),\" \",IF($Q$8=2,\"% Loss\",ROUND((I21/I12)*100,0))))","v":"  "},null,{"$f":"IF(ISBLANK(K12),\"  \",IF(ISBLANK(K13),\" \",IF($Q$8=2,\"% Loss\",ROUND((K21/K12)*100,0))))","v":"  "},null,{"$f":"IF(ISBLANK(M12),\"  \",IF(ISBLANK(M13),\" \",IF($Q$8=2,\"% Loss\",ROUND((M21/M12)*100,0))))","v":"  "}]
["Ending Weight",null,null,{"$f":"IF(ISBLANK(C$12),\"  \",IF(ISBLANK(C$13),\" \",IF(ISBLANK(C22),\" \",IF($Q$8=2,((C21-C22)/C21)*100,ROUND((C22/$C$12)*100,0)))))","v":"  "},null,{"$f":"IF(ISBLANK(E12),\"  \",IF(ISBLANK(E13),\" \",IF(ISBLANK(E22),\" \",IF($Q$8=2,((E21-E22)/E21)*100,ROUND((E22/E12)*100,0)))))","v":"  "},null,{"$f":"IF(ISBLANK(G12),\"  \",IF(ISBLANK(G13),\" \",IF(ISBLANK(G22),\" \",IF($Q$8=2,((G21-G22)/G21)*100,ROUND((G22/G12)*100,0)))))","v":"  "},null,{"$f":"IF(ISBLANK(I12),\"  \",IF(ISBLANK(I13),\" \",IF(ISBLANK(I22),\" \",IF($Q$8=2,((I21-I22)/I21)*100,ROUND((I22/I12)*100,0)))))","v":"  "},null,{"$f":"IF(ISBLANK(K12),\"  \",IF(ISBLANK(K13),\" \",IF(ISBLANK(K22),\" \",IF($Q$8=2,((K21-K22)/K21)*100,ROUND((K22/K12)*100,0)))))","v":"  "},null,{"$f":"IF(ISBLANK(M12),\"  \",IF(ISBLANK(M13),\" \",IF(ISBLANK(M22),\" \",IF($Q$8=2,((M21-M22)/M21)*100,ROUND((M22/M12)*100,0)))))","v":"  "}]
["Spec","Sieve","Wt.",{"$f":"IF(ISBLANK(C$12),\"  \",IF(ISBLANK(C$13),\" \",IF(ISBLANK(C23),\" \",IF($Q$8=2,\"% Passing\",ROUND((C23/$C$12)*100,0)))))","v":"  "},"Wt.",{"$f":"IF(ISBLANK(E12),\"  \",IF(ISBLANK(E13),\" \",IF(ISBLANK(E23),\" \",IF($Q$8=2,\"% Passing\",ROUND((E23/E12)*100,0)))))","v":"  "},"Wt.",{"$f":"IF(ISBLANK(G12),\"  \",IF(ISBLANK(G13),\" \",IF(ISBLANK(G23),\" \",IF($Q$8=2,\"% Passing\",ROUND((G23/G12)*100,0)))))","v":"  "},"Wt.",{"$f":"IF(ISBLANK(I12),\"  \",IF(ISBLANK(I13),\" \",IF(ISBLANK(I23),\" \",IF($Q$8=2,\"% Passing\",ROUND((I23/I12)*100,0)))))","v":"  "},"Wt.",{"$f":"IF(ISBLANK(K12),\"  \",IF(ISBLANK(K13),\" \",IF(ISBLANK(K23),\" \",IF($Q$8=2,\"% Passing\",ROUND((K23/K12)*100,0)))))","v":"  "},"Wt.",{"$f":"IF(ISBLANK(M12),\"  \",IF(ISBLANK(M13),\" \",IF(ISBLANK(M23),\" \",IF($Q$8=2,\"% Passing\",ROUND((M23/M12)*100,0)))))","v":"  "}]
[{"$f":"IF(L4=\"2A\",\"10-30\",IF(L4=\"DSA\",\"15-30\",IF(L4=\"OGS\",\"0-12\",IF(L4=\"2RC\",\"0-30\",IF(ISBLANK(L4),\"10-30\")))))","v":"10-30"},{"$f":"IF(L4=\"2RC\",100,16)","v":16},null,{"$f":"IF(ISBLANK(C$12),\"  \",IF(ISBLANK(C$13),\" \",IF(ISBLANK(C24),\" \",IF($Q$8=2,(C20/C21*C24)/C12*100,ROUND((C24/$C$12)*100,0)))))","v":"  "},null,{"$f":"IF(ISBLANK(E12),\"  \",IF(ISBLANK(E13),\" \",IF(ISBLANK(E24),\" \",IF($Q$8=2,(E20/E21*E24)/E12*100,ROUND((E24/E12)*100,0)))))","v":"  "},null,{"$f":"IF(ISBLANK(G12),\"  \",IF(ISBLANK(G13),\" \",IF(ISBLANK(G24),\" \",IF($Q$8=2,(G20/G21*G24)/G12*100,ROUND((G24/G12)*100,0)))))","v":"  "},null,{"$f":"IF(ISBLANK(I12),\"  \",IF(ISBLANK(I13),\" \",IF(ISBLANK(I24),\" \",IF($Q$8=2,(I20/I21*I24)/I12*100,ROUND((I24/I12)*100,0)))))","v":"  "},null,{"$f":"IF(ISBLANK(K12),\"  \",IF(ISBLANK(K13),\" \",IF(ISBLANK(K24),\" \",IF($Q$8=2,(K20/K21*K24)/K12*100,ROUND((K24/K12)*100,0)))))","v":"  "},null,{"$f":"IF(ISBLANK(M12),\"  \",IF(ISBLANK(M13),\" \",IF(ISBLANK(M24),\" \",IF($Q$8=2,(M20/M21*M24)/M12*100,ROUND((M24/M12)*100,0)))))","v":"  "}]
[{"$f":"IF(L4=\"DSA\",\"10-15\",\"Info\")","v":"Info"},200,null,{"$f":"IF(ISBLANK(C$12),\"  \",IF(ISBLANK(C$13),\" \",IF(ISBLANK(C25),\" \",IF($Q$8=2,(C20/C21*C25)/C12*100,ROUND((C25/$C$12)*100,0)))))","v":"  "},null,{"$f":"IF(ISBLANK(E12),\"  \",IF(ISBLANK(E13),\" \",IF(ISBLANK(E25),\" \",IF($Q$8=2,(E20/E21*E25)/E12*100,ROUND((E25/E12)*100,0)))))","v":"  "},null,{"$f":"IF(ISBLANK(G12),\"  \",IF(ISBLANK(G13),\" \",IF(ISBLANK(G25),\" \",IF($Q$8=2,(G20/G21*G25)/G12*100,ROUND((G25/G12)*100,0)))))","v":"  "},null,{"$f":"IF(ISBLANK(I12),\"  \",IF(ISBLANK(I13),\" \",IF(ISBLANK(I25),\" \",IF($Q$8=2,(I20/I21*I25)/I12*100,ROUND((I25/I12)*100,0)))))","v":"  "},null,{"$f":"IF(ISBLANK(K12),\"  \",IF(ISBLANK(K13),\" \",IF(ISBLANK(K25),\" \",IF($Q$8=2,(K20/K21*K25)/K12*100,ROUND((K25/K12)*100,0)))))","v":"  "},null,{"$f":"IF(ISBLANK(M12),\"  \",IF(ISBLANK(M13),\" \",IF(ISBLANK(M25),\" \",IF($Q$8=2,(M20/M21*M25)/M12*100,ROUND((M25/M12)*100,0)))))","v":"  "}]
["Wash ",{"$f":"IF(L4=\"2A\",\"0-10\",IF(L4=\"OGS\",\"0-5\",IF(L4=\"DSA\",\"10-15\",IF(L4=\"2RC\",\" \",IF(ISBLANK(L4),\"0-10\")))))","v":"0-10"},{"$f":"IF($L$4=\"OGS\",\"Coeff. Unf.\",\" \")","v":" "},{"$f":"IF(ISBLANK($L$4),\" \",IF($L$4=\"2A\",\" \",IF($L$4=\"2RC\",\" \",IF(ISERROR(D68),\" \",D68))))","v":" "},{"$f":"IF($L$4=\"OGS\",\"Coeff. Unf.\",\" \")","v":" "},{"$f":"IF(ISBLANK($L$4),\" \",IF($L$4=\"2A\",\" \",IF($L$4=\"2RC\",\" \",IF(ISERROR(F68),\" \",F68))))","v":" "},{"$f":"IF($L$4=\"OGS\",\"Coeff. Unf.\",\" \")","v":" "},{"$f":"IF(ISBLANK($L$4),\" \",IF($L$4=\"2A\",\" \",IF($L$4=\"2RC\",\" \",IF(ISERROR(H68),\" \",H68))))","v":" "},{"$f":"IF($L$4=\"OGS\",\"Coeff. Unf.\",\" \")","v":" "},{"$f":"IF(ISBLANK($L$4),\" \",IF($L$4=\"2A\",\" \",IF($L$4=\"2RC\",\" \",IF(ISERROR(J68),\" \",J68))))","v":" "},{"$f":"IF($L$4=\"OGS\",\"Coeff. Unf.\",\" \")","v":" "},{"$f":"IF(ISBLANK($L$4),\" \",IF($L$4=\"2A\",\" \",IF($L$4=\"2RC\",\" \",IF(ISERROR(L68),\" \",L68))))","v":" "},{"$f":"IF($L$4=\"OGS\",\"Coeff. Unf.\",\" \")","v":" "},{"$f":"IF(ISBLANK($L$4),\" \",IF($L$4=\"2A\",\" \",IF($L$4=\"2RC\",\" \",IF(ISERROR(N68),\" \",N68))))","v":" "}]
["St. Wt. Before Wash",null,null,"% Passing",null,"% Passing",null,"% Passing",null,"% Passing",null,"% Passing",null,"% Passing"]
["End Wt. After Wash",null,null,{"$f":"IF(ISBLANK(C27),\" \",IF(ISBLANK(C28),\" \",((C27-C28)/C27)*100))","v":" "},null,{"$f":"IF(ISBLANK(E27),\" \",IF(ISBLANK(E28),\" \",((E27-E28)/E27)*100))","v":" "},null,{"$f":"IF(ISBLANK(G27),\" \",IF(ISBLANK(G28),\" \",((G27-G28)/G27)*100))","v":" "},null,{"$f":"IF(ISBLANK(I27),\" \",IF(ISBLANK(I28),\" \",((I27-I28)/I27)*100))","v":" "},null,{"$f":"IF(ISBLANK(K27),\" \",IF(ISBLANK(K28),\" \",((K27-K28)/K27)*100))","v":" "},null,{"$f":"IF(ISBLANK(M27),\" \",IF(ISBLANK(M28),\" \",((M27-M28)/M27)*100))","v":" "}]
["Tested By"]
["Remarks"]
[]
[]
[]
["Sample No."]
["Date"]
["Starting Weight",null,null,"% Loss",null,"% Loss",null,"% Loss",null,"% Loss",null,"% Loss",null,"% Loss"]
["Ending Weight",null,null,{"$f":"IF(ISBLANK(C36),\" \",IF(ISBLANK(C37),\" \",((C36-C37)/C36)*100))","v":" "},null,{"$f":"IF(ISBLANK(E36),\" \",IF(ISBLANK(E37),\" \",((E36-E37)/E36)*100))","v":" "},null,{"$f":"IF(ISBLANK(G36),\" \",IF(ISBLANK(G37),\" \",((G36-G37)/G36)*100))","v":" "},null,{"$f":"IF(ISBLANK(I36),\" \",IF(ISBLANK(I37),\" \",((I36-I37)/I36)*100))","v":" "},null,{"$f":"IF(ISBLANK(K36),\" \",IF(ISBLANK(K37),\" \",((K36-K37)/K36)*100))","v":" "},null,{"$f":"IF(ISBLANK(M36),\" \",IF(ISBLANK(M37),\" \",((M36-M37)/M36)*100))","v":" "}]
["Spec","Sieve","Wt.","% Passing","Wt.","% Passing","Wt.","% Passing","Wt.","% Passing","Wt.","% Passing","Wt.","% Passing"]
[100,2,null,{"$f":"IF(ISBLANK(C36),\"  \",IF(ISBLANK(C37),\" \",IF(ISBLANK(C39),\" \",IF($Q$8=2,ROUND(((C39)/C36)*100,0),ROUND((C39/C36)*100,0)))))","v":"  "},null,{"$f":"IF(ISBLANK(E36),\"  \",IF(ISBLANK(E37),\" \",IF(ISBLANK(E39),\" \",IF($Q$8=2,ROUND(((E39)/E36)*100,0),ROUND((E39/E36)*100,0)))))","v":"  "},null,{"$f":"IF(ISBLANK(G36),\"  \",IF(ISBLANK(G37),\" \",IF(ISBLANK(G39),\" \",IF($Q$8=2,ROUND(((G39)/G36)*100,0),ROUND((G39/G36)*100,0)))))","v":"  "},null,{"$f":"IF(ISBLANK(I36),\"  \",IF(ISBLANK(I37),\" \",IF(ISBLANK(I39),\" \",IF($Q$8=2,ROUND(((I39)/I36)*100,0),ROUND((I39/I36)*100,0)))))","v":"  "},null,{"$f":"IF(ISBLANK(K36),\"  \",IF(ISBLANK(K37),\" \",IF(ISBLANK(K39),\" \",IF($Q$8=2,ROUND(((K39)/K36)*100,0),ROUND((K39/K36)*100,0)))))","v":"  "},null,{"$f":"IF(ISBLANK(M36),\"  \",IF(ISBLANK(M37),\" \",IF(ISBLANK(M39),\" \",IF($Q$8=2,ROUND(((M39)/M36)*100,0),ROUND((M39/M36)*100,0)))))","v":"  "}]
[{"$f":"IF(L4=\"DSA\",\"100\",\"Breaker\")","v":"Breaker"},{"$f":"'S1'!B40","v":1},null,{"$f":"IF(ISBLANK(C36),\"  \",IF(ISBLANK(C37),\" \",IF(ISBLANK(C40),\" \",IF($Q$8=2,ROUND(((C40)/C36)*100,0),ROUND((C40/C36)*100,0)))))","v":"  "},null,{"$f":"IF(ISBLANK(E36),\"  \",IF(ISBLANK(E37),\" \",IF(ISBLANK(E40),\" \",IF($Q$8=2,ROUND(((E40)/E36)*100,0),ROUND((E40/E36)*100,0)))))","v":"  "},null,{"$f":"IF(ISBLANK(G36),\"  \",IF(ISBLANK(G37),\" \",IF(ISBLANK(G40),\" \",IF($Q$8=2,ROUND(((G40)/G36)*100,0),ROUND((G40/G36)*100,0)))))","v":"  "},null,{"$f":"IF(ISBLANK(I36),\"  \",IF(ISBLANK(I37),\" \",IF(ISBLANK(I40),\" \",IF($Q$8=2,ROUND(((I40)/I36)*100,0),ROUND((I40/I36)*100,0)))))","v":"  "},null,{"$f":"IF(ISBLANK(K36),\"  \",IF(ISBLANK(K37),\" \",IF(ISBLANK(K40),\" \",IF($Q$8=2,ROUND(((K40)/K36)*100,0),ROUND((K40/K36)*100,0)))))","v":"  "},null,{"$f":"IF(ISBLANK(M36),\"  \",IF(ISBLANK(M37),\" \",IF(ISBLANK(M40),\" \",IF($Q$8=2,ROUND(((M40)/M36)*100,0),ROUND((M40/M36)*100,0)))))","v":"  "}]
[{"$f":"IF(L4=\"2RC\",\" \",IF(L4=\"DSA\",\"65-95\",\"52-100\"))","v":"52-100"},0.75,null,{"$f":"IF(ISBLANK(C36),\"  \",IF(ISBLANK(C37),\" \",IF(ISBLANK(C41),\" \",IF($Q$8=2,ROUND(((C41)/C36)*100,0),ROUND((C41/C36)*100,0)))))","v":"  "},null,{"$f":"IF(ISBLANK(E36),\"  \",IF(ISBLANK(E37),\" \",IF(ISBLANK(E41),\" \",IF($Q$8=2,ROUND(((E41)/E36)*100,0),ROUND((E41/E36)*100,0)))))","v":"  "},null,{"$f":"IF(ISBLANK(G36),\"  \",IF(ISBLANK(G37),\" \",IF(ISBLANK(G41),\" \",IF($Q$8=2,ROUND(((G41)/G36)*100,0),ROUND((G41/G36)*100,0)))))","v":"  "},null,{"$f":"IF(ISBLANK(I36),\"  \",IF(ISBLANK(I37),\" \",IF(ISBLANK(I41),\" \",IF($Q$8=2,ROUND(((I41)/I36)*100,0),ROUND((I41/I36)*100,0)))))","v":"  "},null,{"$f":"IF(ISBLANK(K36),\"  \",IF(ISBLANK(K37),\" \",IF(ISBLANK(K41),\" \",IF($Q$8=2,ROUND(((K41)/K36)*100,0),ROUND((K41/K36)*100,0)))))","v":"  "},null,{"$f":"IF(ISBLANK(M36),\"  \",IF(ISBLANK(M37),\" \",IF(ISBLANK(M41),\" \",IF($Q$8=2,ROUND(((M41)/M36)*100,0),ROUND((M41/M36)*100,0)))))","v":"  "}]
["Breaker",0.5,null,{"$f":"IF(ISBLANK(C36),\"  \",IF(ISBLANK(C37),\" \",IF(ISBLANK(C42),\" \",IF($Q$8=2,ROUND(((C42)/C36)*100,0),ROUND((C42/C36)*100,0)))))","v":"  "},null,{"$f":"IF(ISBLANK(E36),\"  \",IF(ISBLANK(E37),\" \",IF(ISBLANK(E42),\" \",IF($Q$8=2,ROUND(((E42)/E36)*100,0),ROUND((E42/E36)*100,0)))))","v":"  "},null,{"$f":"IF(ISBLANK(G36),\"  \",IF(ISBLANK(G37),\" \",IF(ISBLANK(G42),\" \",IF($Q$8=2,ROUND(((G42)/G36)*100,0),ROUND((G42/G36)*100,0)))))","v":"  "},null,{"$f":"IF(ISBLANK(I36),\"  \",IF(ISBLANK(I37),\" \",IF(ISBLANK(I42),\" \",IF($Q$8=2,ROUND(((I42)/I36)*100,0),ROUND((I42/I36)*100,0)))))","v":"  "},null,{"$f":"IF(ISBLANK(K36),\"  \",IF(ISBLANK(K37),\" \",IF(ISBLANK(K42),\" \",IF($Q$8=2,ROUND(((K42)/K36)*100,0),ROUND((K42/K36)*100,0)))))","v":"  "},null,{"$f":"IF(ISBLANK(M36),\"  \",IF(ISBLANK(M37),\" \",IF(ISBLANK(M42),\" \",IF($Q$8=2,ROUND(((M42)/M36)*100,0),ROUND((M42/M36)*100,0)))))","v":"  "}]
[{"$f":"IF(L4=\"2A\",\"36-70\",IF(L4=\"DSA\",\" \",IF(L4=\"OGS\",\"36-65\",IF(L4=\"2RC\",\" \",IF(ISBLANK(L4),\"36-70\")))))","v":"36-70"},0.375,null,{"$f":"IF(ISBLANK(C36),\"  \",IF(ISBLANK(C37),\" \",IF(ISBLANK(C43),\" \",IF($Q$8=2,ROUND(((C43)/C36)*100,0),ROUND((C43/C36)*100,0)))))","v":"  "},null,{"$f":"IF(ISBLANK(E36),\"  \",IF(ISBLANK(E37),\" \",IF(ISBLANK(E43),\" \",IF($Q$8=2,ROUND(((E43)/E36)*100,0),ROUND((E43/E36)*100,0)))))","v":"  "},null,{"$f":"IF(ISBLANK(G36),\"  \",IF(ISBLANK(G37),\" \",IF(ISBLANK(G43),\" \",IF($Q$8=2,ROUND(((G43)/G36)*100,0),ROUND((G43/G36)*100,0)))))","v":"  "},null,{"$f":"IF(ISBLANK(I36),\"  \",IF(ISBLANK(I37),\" \",IF(ISBLANK(I43),\" \",IF($Q$8=2,ROUND(((I43)/I36)*100,0),ROUND((I43/I36)*100,0)))))","v":"  "},null,{"$f":"IF(ISBLANK(K36),\"  \",IF(ISBLANK(K37),\" \",IF(ISBLANK(K43),\" \",IF($Q$8=2,ROUND(((K43)/K36)*100,0),ROUND((K43/K36)*100,0)))))","v":"  "},null,{"$f":"IF(ISBLANK(M36),\"  \",IF(ISBLANK(M37),\" \",IF(ISBLANK(M43),\" \",IF($Q$8=2,ROUND(((M43)/M36)*100,0),ROUND((M43/M36)*100,0)))))","v":"  "}]
[{"$f":"IF(L4=\"2A\",\"24-50\",IF(L4=\"DSA\",\"30-65 \",IF(L4=\"OGS\",\"8-40\",IF(L4=\"2RC\",\"15-60 \",IF(ISBLANK(4),\"24-50\")))))","v":"24-50"},4,null,{"$f":"IF(ISBLANK(C36),\"  \",IF(ISBLANK(C37),\" \",IF(ISBLANK(C44),\" \",IF($Q$8=2,ROUND(((C44)/C36)*100,0),ROUND((C44/C36)*100,0)))))","v":"  "},null,{"$f":"IF(ISBLANK(E36),\"  \",IF(ISBLANK(E37),\" \",IF(ISBLANK(E44),\" \",IF($Q$8=2,ROUND(((E44)/E36)*100,0),ROUND((E44/E36)*100,0)))))","v":"  "},null,{"$f":"IF(ISBLANK(G36),\"  \",IF(ISBLANK(G37),\" \",IF(ISBLANK(G44),\" \",IF($Q$8=2,ROUND(((G44)/G36)*100,0),ROUND((G44/G36)*100,0)))))","v":"  "},null,{"$f":"IF(ISBLANK(I36),\"  \",IF(ISBLANK(I37),\" \",IF(ISBLANK(I44),\" \",IF($Q$8=2,ROUND(((I44)/I36)*100,0),ROUND((I44/I36)*100,0)))))","v":"  "},null,{"$f":"IF(ISBLANK(K36),\"  \",IF(ISBLANK(K37),\" \",IF(ISBLANK(K44),\" \",IF($Q$8=2,ROUND(((K44)/K36)*100,0),ROUND((K44/K36)*100,0)))))","v":"  "},null,{"$f":"IF(ISBLANK(M36),\"  \",IF(ISBLANK(M37),\" \",IF(ISBLANK(M44),\" \",IF($Q$8=2,ROUND(((M44)/M36)*100,0),ROUND((M44/M36)*100,0)))))","v":"  "}]
["Starting Weight",null,null,{"$f":"IF(ISBLANK(C36),\"  \",IF(ISBLANK(C37),\" \",IF($Q$8=2,\"% Loss\",ROUND((C45/C36)*100,0))))","v":"  "},null,{"$f":"IF(ISBLANK(E36),\"  \",IF(ISBLANK(E37),\" \",IF($Q$8=2,\"% Loss\",ROUND((E45/E36)*100,0))))","v":"  "},null,{"$f":"IF(ISBLANK(G36),\"  \",IF(ISBLANK(G37),\" \",IF($Q$8=2,\"% Loss\",ROUND((G45/G36)*100,0))))","v":"  "},null,{"$f":"IF(ISBLANK(I36),\"  \",IF(ISBLANK(I37),\" \",IF($Q$8=2,\"% Loss\",ROUND((I45/I36)*100,0))))","v":"  "},null,{"$f":"IF(ISBLANK(K36),\"  \",IF(ISBLANK(K37),\" \",IF($Q$8=2,\"% Loss\",ROUND((K45/K36)*100,0))))","v":"  "},null,{"$f":"IF(ISBLANK(M36),\"  \",IF(ISBLANK(M37),\" \",IF($Q$8=2,\"% Loss\",ROUND((M45/M36)*100,0))))","v":"  "}]
["Ending Weight",null,null,{"$f":"IF(ISBLANK(C36),\"  \",IF(ISBLANK(C37),\" \",IF(ISBLANK(C46),\" \",IF($Q$8=2,((C45-C46)/C45)*100,ROUND((C46/C36)*100,0)))))","v":"  "},null,{"$f":"IF(ISBLANK(E36),\"  \",IF(ISBLANK(E37),\" \",IF(ISBLANK(E46),\" \",IF($Q$8=2,((E45-E46)/E45)*100,ROUND((E46/E36)*100,0)))))","v":"  "},null,{"$f":"IF(ISBLANK(G36),\"  \",IF(ISBLANK(G37),\" \",IF(ISBLANK(G46),\" \",IF($Q$8=2,((G45-G46)/G45)*100,ROUND((G46/G36)*100,0)))))","v":"  "},null,{"$f":"IF(ISBLANK(I36),\"  \",IF(ISBLANK(I37),\" \",IF(ISBLANK(I46),\" \",IF($Q$8=2,((I45-I46)/I45)*100,ROUND((I46/I36)*100,0)))))","v":"  "},null,{"$f":"IF(ISBLANK(K36),\"  \",IF(ISBLANK(K37),\" \",IF(ISBLANK(K46),\" \",IF($Q$8=2,((K45-K46)/K45)*100,ROUND((K46/K36)*100,0)))))","v":"  "},null,{"$f":"IF(ISBLANK(M36),\"  \",IF(ISBLANK(M37),\" \",IF(ISBLANK(M46),\" \",IF($Q$8=2,((M45-M46)/M45)*100,ROUND((M46/M36)*100,0)))))","v":"  "}]
["Spec","Sieve","Wt.",{"$f":"IF(ISBLANK(C36),\"  \",IF(ISBLANK(C37),\" \",IF(ISBLANK(C47),\" \",IF($Q$8=2,\"% Passing\",ROUND((C47/C36)*100,0)))))","v":"  "},"Wt.",{"$f":"IF(ISBLANK(E36),\"  \",IF(ISBLANK(E37),\" \",IF(ISBLANK(E47),\" \",IF($Q$8=2,\"% Passing\",ROUND((E47/E36)*100,0)))))","v":"  "},"Wt.",{"$f":"IF(ISBLANK(G36),\"  \",IF(ISBLANK(G37),\" \",IF(ISBLANK(G47),\" \",IF($Q$8=2,\"% Passing\",ROUND((G47/G36)*100,0)))))","v":"  "},"Wt.",{"$f":"IF(ISBLANK(I36),\"  \",IF(ISBLANK(I37),\" \",IF(ISBLANK(I47),\" \",IF($Q$8=2,\"% Passing\",ROUND((I47/I36)*100,0)))))","v":"  "},"Wt.",{"$f":"IF(ISBLANK(K36),\"  \",IF(ISBLANK(K37),\" \",IF(ISBLANK(K47),\" \",IF($Q$8=2,\"% Passing\",ROUND((K47/K36)*100,0)))))","v":"  "},"Wt.",{"$f":"IF(ISBLANK(M36),\"  \",IF(ISBLANK(M37),\" \",IF(ISBLANK(M47),\" \",IF($Q$8=2,\"% Passing\",ROUND((M47/M36)*100,0)))))","v":"  "}]
[{"$f":"IF(L4=\"2A\",\"10-30\",IF(L4=\"DSA\",\"15-30\",IF(L4=\"OGS\",\"0-12\",IF(L4=\"2RC\",\"0-30\",IF(ISBLANK(L4),\"10-30\")))))","v":"10-30"},{"$f":"IF(L4=\"2RC\",100,16)","v":16},null,{"$f":"IF(ISBLANK(C36),\"  \",IF(ISBLANK(C37),\" \",IF(ISBLANK(C48),\" \",IF($Q$8=2,(C44/C45*C48)/C36*100,ROUND((C48/C36)*100,0)))))","v":"  "},null,{"$f":"IF(ISBLANK(E36),\"  \",IF(ISBLANK(E37),\" \",IF(ISBLANK(E48),\" \",IF($Q$8=2,(E44/E45*E48)/E36*100,ROUND((E48/E36)*100,0)))))","v":"  "},null,{"$f":"IF(ISBLANK(G36),\"  \",IF(ISBLANK(G37),\" \",IF(ISBLANK(G48),\" \",IF($Q$8=2,(G44/G45*G48)/G36*100,ROUND((G48/G36)*100,0)))))","v":"  "},null,{"$f":"IF(ISBLANK(I36),\"  \",IF(ISBLANK(I37),\" \",IF(ISBLANK(I48),\" \",IF($Q$8=2,(I44/I45*I48)/I36*100,ROUND((I48/I36)*100,0)))))","v":"  "},null,{"$f":"IF(ISBLANK(K36),\"  \",IF(ISBLANK(K37),\" \",IF(ISBLANK(K48),\" \",IF($Q$8=2,(K44/K45*K48)/K36*100,ROUND((K48/K36)*100,0)))))","v":"  "},null,{"$f":"IF(ISBLANK(M36),\"  \",IF(ISBLANK(M37),\" \",IF(ISBLANK(M48),\" \",IF($Q$8=2,(M44/M45*M48)/M36*100,ROUND((M48/M36)*100,0)))))","v":"  "}]
[{"$f":"IF(L4=\"DSA\",\"10-15\",\"Info\")","v":"Info"},200,null,{"$f":"IF(ISBLANK(C36),\"  \",IF(ISBLANK(C37),\" \",IF(ISBLANK(C49),\" \",IF($Q$8=2,(C44/C45*C49)/C36*100,ROUND((C49/C36)*100,0)))))","v":"  "},null,{"$f":"IF(ISBLANK(E36),\"  \",IF(ISBLANK(E37),\" \",IF(ISBLANK(E49),\" \",IF($Q$8=2,(E44/E45*E49)/E36*100,ROUND((E49/E36)*100,0)))))","v":"  "},null,{"$f":"IF(ISBLANK(G36),\"  \",IF(ISBLANK(G37),\" \",IF(ISBLANK(G49),\" \",IF($Q$8=2,(G44/G45*G49)/G36*100,ROUND((G49/G36)*100,0)))))","v":"  "},null,{"$f":"IF(ISBLANK(I36),\"  \",IF(ISBLANK(I37),\" \",IF(ISBLANK(I49),\" \",IF($Q$8=2,(I44/I45*I49)/I36*100,ROUND((I49/I36)*100,0)))))","v":"  "},null,{"$f":"IF(ISBLANK(K36),\"  \",IF(ISBLANK(K37),\" \",IF(ISBLANK(K49),\" \",IF($Q$8=2,(K44/K45*K49)/K36*100,ROUND((K49/K36)*100,0)))))","v":"  "},null,{"$f":"IF(ISBLANK(M36),\"  \",IF(ISBLANK(M37),\" \",IF(ISBLANK(M49),\" \",IF($Q$8=2,(M44/M45*M49)/M36*100,ROUND((M49/M36)*100,0)))))","v":"  "}]
["Wash ",{"$f":"IF(L4=\"2A\",\"0-10\",IF(L4=\"OGS\",\"0-5\",IF(L4=\"DSA\",\"10-15\",IF(L4=\"2RC\",\" \",IF(ISBLANK(L4),\"0-10\")))))","v":"0-10"},{"$f":"IF($L$4=\"OGS\",\"Coeff. Unf.\",\" \")","v":" "},{"$f":"IF(ISBLANK($L$4),\" \",IF($L$4=\"2A\",\" \",IF($L$4=\"2RC\",\" \",IF(ISERROR(D79),\" \",D79))))","v":" "},{"$f":"IF($L$4=\"OGS\",\"Coeff. Unf.\",\" \")","v":" "},{"$f":"IF(ISBLANK($L$4),\" \",IF($L$4=\"2A\",\" \",IF($L$4=\"2RC\",\" \",IF(ISERROR(F79),\" \",F79))))","v":" "},{"$f":"IF($L$4=\"OGS\",\"Coeff. Unf.\",\" \")","v":" "},{"$f":"IF(ISBLANK($L$4),\" \",IF($L$4=\"2A\",\" \",IF($L$4=\"2RC\",\" \",IF(ISERROR(H79),\" \",H79))))","v":" "},{"$f":"IF($L$4=\"OGS\",\"Coeff. Unf.\",\" \")","v":" "},{"$f":"IF(ISBLANK($L$4),\" \",IF($L$4=\"2A\",\" \",IF($L$4=\"2RC\",\" \",IF(ISERROR(J79),\" \",J79))))","v":" "},{"$f":"IF($L$4=\"OGS\",\"Coeff. Unf.\",\" \")","v":" "},{"$f":"IF(ISBLANK($L$4),\" \",IF($L$4=\"2A\",\" \",IF($L$4=\"2RC\",\" \",IF(ISERROR(L79),\" \",L79))))","v":" "},{"$f":"IF($L$4=\"OGS\",\"Coeff. Unf.\",\" \")","v":" "},{"$f":"IF(ISBLANK($L$4),\" \",IF($L$4=\"2A\",\" \",IF($L$4=\"2RC\",\" \",IF(ISERROR(N79),\" \",N79))))","v":" "}]
["St. Wt. Before Wash",null,null,"% Passing",null,"% Passing",null,"% Passing",null,"% Passing",null,"% Passing",null,"% Passing"]
["End Wt. After Wash",null,null,{"$f":"IF(ISBLANK(C51),\" \",IF(ISBLANK(C52),\" \",((C51-C52)/C51)*100))","v":" "},null,{"$f":"IF(ISBLANK(E51),\" \",IF(ISBLANK(E52),\" \",((E51-E52)/E51)*100))","v":" "},null,{"$f":"IF(ISBLANK(G51),\" \",IF(ISBLANK(G52),\" \",((G51-G52)/G51)*100))","v":" "},null,{"$f":"IF(ISBLANK(I51),\" \",IF(ISBLANK(I52),\" \",((I51-I52)/I51)*100))","v":" "},null,{"$f":"IF(ISBLANK(K51),\" \",IF(ISBLANK(K52),\" \",((K51-K52)/K51)*100))","v":" "},null,{"$f":"IF(ISBLANK(M51),\" \",IF(ISBLANK(M52),\" \",((M51-M52)/M51)*100))","v":" "}]
["Tested By"]
["Remarks"]
[]
[]
[]
[]
[null,null,null,"Upper Coeff Unf"]
[19,null,19,{"$f":"D17","v":"  "},null,{"$f":"F17","v":"  "},null,{"$f":"H17","v":"  "},null,{"$f":"J17","v":"  "},null,{"$f":"L17","v":"  "},null,{"$f":"N17","v":"  "}]
[9.5,null,9.5,{"$f":"D19","v":"  "},null,{"$f":"F19","v":"  "},null,{"$f":"H19","v":"  "},null,{"$f":"J19","v":"  "},null,{"$f":"L19","v":"  "},null,{"$f":"N19","v":"  "}]
[null,null,"D60",{"$f":"FORECAST(60,$A$60:$A$61,D60:D61)","v":{"$error":"#DIV/0!"}},null,{"$f":"FORECAST(60,$A$60:$A$61,F60:F61)","v":{"$error":"#DIV/0!"}},null,{"$f":"FORECAST(60,$A$60:$A$61,H60:H61)","v":{"$error":"#DIV/0!"}},null,{"$f":"FORECAST(60,$A$60:$A$61,J60:J61)","v":{"$error":"#DIV/0!"}},null,{"$f":"FORECAST(60,$A$60:$A$61,L60:L61)","v":{"$error":"#DIV/0!"}},null,{"$f":"FORECAST(60,$A$60:$A$61,N60:N61)","v":{"$error":"#DIV/0!"}}]
[]
[4.75,null,4.75,{"$f":"D20","v":"  "},null,{"$f":"F20","v":"  "},null,{"$f":"H20","v":"  "},null,{"$f":"J20","v":"  "},null,{"$f":"L20","v":"  "},null,{"$f":"N20","v":"  "}]
[1.18,null,1.18,{"$f":"D24","v":"  "},null,{"$f":"F24","v":"  "},null,{"$f":"H24","v":"  "},null,{"$f":"J24","v":"  "},null,{"$f":"L24","v":"  "},null,{"$f":"N24","v":"  "}]
[null,null,"D10",{"$f":"FORECAST(10,$A$64:$A$65,D64:D65)","v":{"$error":"#DIV/0!"}},null,{"$f":"FORECAST(10,$A$64:$A$65,F64:F65)","v":{"$error":"#DIV/0!"}},null,{"$f":"FORECAST(10,$A$64:$A$65,H64:H65)","v":{"$error":"#DIV/0!"}},null,{"$f":"FORECAST(10,$A$64:$A$65,J64:J65)","v":{"$error":"#DIV/0!"}},null,{"$f":"FORECAST(10,$A$64:$A$65,L64:L65)","v":{"$error":"#DIV/0!"}},null,{"$f":"FORECAST(10,$A$64:$A$65,N64:N65)","v":{"$error":"#DIV/0!"}}]
[]
[null,null,"Coeff Unf",{"$f":"ROUND(D62/D66,1)","v":{"$error":"#DIV/0!"}},null,{"$f":"ROUND(F62/F66,1)","v":{"$error":"#DIV/0!"}},null,{"$f":"ROUND(H62/H66,1)","v":{"$error":"#DIV/0!"}},null,{"$f":"ROUND(J62/J66,1)","v":{"$error":"#DIV/0!"}},null,{"$f":"ROUND(L62/L66,1)","v":{"$error":"#DIV/0!"}},null,{"$f":"ROUND(N62/N66,1)","v":{"$error":"#DIV/0!"}}]
[]
[null,null,"Lower Coff Unf"]
[19,null,19,{"$f":"D41","v":"  "},null,{"$f":"F41","v":"  "},null,{"$f":"H41","v":"  "},null,{"$f":"J41","v":"  "},null,{"$f":"L41","v":"  "},null,{"$f":"N41","v":"  "}]
[9.5,null,9.5,{"$f":"D43","v":"  "},null,{"$f":"F43","v":"  "},null,{"$f":"H43","v":"  "},null,{"$f":"J43","v":"  "},null,{"$f":"L43","v":"  "},null,{"$f":"N43","v":"  "}]
[null,null,"D60",{"$f":"FORECAST(60,$A$71:$A$72,D71:D72)","v":{"$error":"#DIV/0!"}},null,{"$f":"FORECAST(60,$A$71:$A$72,F71:F72)","v":{"$error":"#DIV/0!"}},null,{"$f":"FORECAST(60,$A$71:$A$72,H71:H72)","v":{"$error":"#DIV/0!"}},null,{"$f":"FORECAST(60,$A$71:$A$72,J71:J72)","v":{"$error":"#DIV/0!"}},null,{"$f":"FORECAST(60,$A$71:$A$72,L71:L72)","v":{"$error":"#DIV/0!"}},null,{"$f":"FORECAST(60,$A$71:$A$72,N71:N72)","v":{"$error":"#DIV/0!"}}]
[]
[4.75,null,4.75,{"$f":"D44","v":"  "},null,{"$f":"F44","v":"  "},null,{"$f":"H44","v":"  "},null,{"$f":"J44","v":"  "},null,{"$f":"L44","v":"  "},null,{"$f":"N44","v":"  "}]
[1.18,null,1.18,{"$f":"D48","v":"  "},null,{"$f":"F48","v":"  "},null,{"$f":"H48","v":"  "},null,{"$f":"J48","v":"  "},null,{"$f":"L48","v":"  "},null,{"$f":"N48","v":"  "}]
[null,null,"D10",{"$f":"FORECAST(10,$A$75:$A$76,D75:D76)","v":{"$error":"#DIV/0!"}},null,{"$f":"FORECAST(10,$A$75:$A$76,F75:F76)","v":{"$error":"#DIV/0!"}},null,{"$f":"FORECAST(10,$A$75:$A$76,H75:H76)","v":{"$error":"#DIV/0!"}},null,{"$f":"FORECAST(10,$A$75:$A$76,J75:J76)","v":{"$error":"#DIV/0!"}},null,{"$f":"FORECAST(10,$A$75:$A$76,L75:L76)","v":{"$error":"#DIV/0!"}},null,{"$f":"FORECAST(10,$A$75:$A$76,N75:N76)","v":{"$error":"#DIV/0!"}}]
[]
[null,null,"Coeff Unf",{"$f":"ROUND(D73/D77,1)","v":{"$error":"#DIV/0!"}},null,{"$f":"ROUND(F73/F77,1)","v":{"$error":"#DIV/0!"}},null,{"$f":"ROUND(H73/H77,1)","v":{"$error":"#DIV/0!"}},null,{"$f":"ROUND(J73/J77,1)","v":{"$error":"#DIV/0!"}},null,{"$f":"ROUND(L73/L77,1)","v":{"$error":"#DIV/0!"}},null,{"$f":"ROUND(N73/N77,1)","v":{"$error":"#DIV/0!"}}]

{"sheet":"S11","index":10,"n_rows":79,"n_cols":17,"rows_kept":79,"cut":false,"hidden":true,"merged":[[53,12,55,13],[53,0,55,1],[53,2,55,3],[53,4,55,5],[53,6,55,7],[53,8,55,9],[53,10,55,11],[52,12,52,13],[36,0,36,1],[45,0,45,1],[52,8,52,9],[44,0,44,1],[52,4,52,5],[52,6,52,7],[52,10,52,11],[50,0,50,1],[51,0,51,1],[52,0,52,1],[52,2,52,3],[28,10,28,11],[28,12,28,13],[29,10,31,11],[29,12,31,13],[28,8,28,9],[29,8,31,9],[34,12,34,13],[33,8,33,9],[33,10,33,11],[34,2,34,3],[34,4,34,5],[34,6,34,7],[34,8,34,9],[34,10,34,11],[33,12,33,13],[27,0,27,1],[9,2,9,3],[29,2,31,3],[29,4,31,5],[29,6,31,7],[9,6,9,7],[35,0,35,1],[33,2,33,3],[28,6,28,7],[33,4,33,5],[33,6,33,7],[34,0,34,1],[28,4,28,5],[1,11,1,12],[2,9,2,10],[2,11,2,12],[3,9,3,10],[3,11,3,12],[1,9,1,10],[4,11,4,12],[9,12,9,13],[10,8,10,9],[10,10,10,11],[10,12,10,13],[9,10,9,11],[5,9,5,10],[4,9,4,10],[5,11,5,12],[9,8,9,9],[5,3,5,8],[10,6,10,7],[7,2,7,4],[7,5,7,6],[58,3,58,13],[69,2,69,13],[9,0,9,1],[20,0,20,1],[21,0,21,1],[26,0,26,1],[10,4,10,5],[33,0,33,1],[28,0,28,1],[28,2,28,3],[9,4,9,5],[12,0,12,1],[11,0,11,1],[10,0,10,1],[10,2,10,3],[29,0,31,1],[0,7,3,8],[1,2,1,6],[2,2,2,6],[3,2,3,6],[4,0,4,1],[0,0,3,1]]}
[]
[null,null,"COMMONWEALTH OF PENNSYLVANIA",null,null,null,null,null,null,"DISTRICT",null,{"$f":"IF(ISBLANK('S1'!L2),\" \",'S1'!L2)","v":" "}]
[null,null,"DEPARTMENT OF TRANSPORTATION",null,null,null,null,null,null,"PLANT CODE",null,{"$f":"IF(ISBLANK('S1'!L3),\" \",'S1'!L3)","v":" "}]
[null,null,"PENNSYLVANIA TURNPIKE COMMISSION",null,null,null,null,null,null,"AGG SIZE",null,{"$f":"IF(ISBLANK('S1'!L4),\" \",'S1'!L4)","v":"2A"}]
[{"$f":"'S1'!A5","v":"Aggregate 2023"},null,null,null,null,null,null,null,null,"#4 Target Value ",null,{"$f":"IF(ISBLANK('S1'!L5),\" \",'S1'!L5)","v":" "}]
[".",null,null,{"$f":"'S1'!D6","v":"Material Test Results for 2A Coarse Aggregate"},null,null,null,null,null,"#16 Target Value",null,{"$f":"IF(ISBLANK('S1'!L6),\" \",'S1'!L6)","v":" "}]
[]
[null,null,"Method of testing",null,null,{"$f":"'S1'!F8:G8","v":"Split sample "},null,null,null,null,null,null,null,null,null,null,{"$f":"IF(F8=\"Complete sample\",1,2)","v":2}]
[]
["Sample No."]
["Date"]
["Starting Weight",null,null,"% Loss",null,"% Loss",null,"% Loss",null,"% Loss",null,"% Loss",null,"% Loss"]
["Ending Weight",null,null,{"$f":"IF(ISBLANK(C12),\" \",IF(ISBLANK(C13),\" \",((C12-C13)/C12)*100))","v":" "},null,{"$f":"IF(ISBLANK(E12),\" \",IF(ISBLANK(E13),\" \",((E12-E13)/E12)*100))","v":" "},null,{"$f":"IF(ISBLANK(G12),\" \",IF(ISBLANK(G13),\" \",((G12-G13)/G12)*100))","v":" "},null,{"$f":"IF(ISBLANK(I12),\" \",IF(ISBLANK(I13),\" \",((I12-I13)/I12)*100))","v":" "},null,{"$f":"IF(ISBLANK(K12),\" \",IF(ISBLANK(K13),\" \",((K12-K13)/K12)*100))","v":" "},null,{"$f":"IF(ISBLANK(M12),\" \",IF(ISBLANK(M13),\" \",((M12-M13)/M12)*100))","v":" "}]
["Spec","Sieve","Wt.","% Passing","Wt.","% Passing","Wt.","% Passing","Wt.","% Passing","Wt.","% Passing","Wt.","% Passing"]
[100,2,null,{"$f":"IF(ISBLANK(C$12),\"  \",IF(ISBLANK(C$13),\" \",IF(ISBLANK(C15),\" \",IF($Q$8=2,ROUND(((C15)/C$12)*100,0),ROUND((C15/$C$12)*100,0)))))","v":"  "},null,{"$f":"IF(ISBLANK(E12),\"  \",IF(ISBLANK(E13),\" \",IF(ISBLANK(E15),\" \",IF($Q$8=2,ROUND(((E15)/E12)*100,0),ROUND((E15/E12)*100,0)))))","v":"  "},null,{"$f":"IF(ISBLANK(G12),\"  \",IF(ISBLANK(G13),\" \",IF(ISBLANK(G15),\" \",IF($Q$8=2,ROUND(((G15)/G12)*100,0),ROUND((G15/G12)*100,0)))))","v":"  "},null,{"$f":"IF(ISBLANK(I12),\"  \",IF(ISBLANK(I13),\" \",IF(ISBLANK(I15),\" \",IF($Q$8=2,ROUND(((I15)/I12)*100,0),ROUND((I15/I12)*100,0)))))","v":"  "},null,{"$f":"IF(ISBLANK(K12),\"  \",IF(ISBLANK(K13),\" \",IF(ISBLANK(K15),\" \",IF($Q$8=2,ROUND(((K15)/K12)*100,0),ROUND((K15/K12)*100,0)))))","v":"  "},null,{"$f":"IF(ISBLANK(M12),\"  \",IF(ISBLANK(M13),\" \",IF(ISBLANK(M15),\" \",IF($Q$8=2,ROUND(((M15)/M12)*100,0),ROUND((M15/M12)*100,0)))))","v":"  "}]
[{"$f":"IF(L4=\"DSA\",\"100\",\"Breaker\")","v":"Breaker"},{"$f":"'S1'!B16","v":1},null,"  ",null,{"$f":"IF(ISBLANK(E12),\"  \",IF(ISBLANK(E13),\" \",IF(ISBLANK(E16),\" \",IF($Q$8=2,ROUND(((E16)/E12)*100,0),ROUND((E16/E12)*100,0)))))","v":"  "},null,{"$f":"IF(ISBLANK(G12),\"  \",IF(ISBLANK(G13),\" \",IF(ISBLANK(G16),\" \",IF($Q$8=2,ROUND(((G16)/G12)*100,0),ROUND((G16/G12)*100,0)))))","v":"  "},null,{"$f":"IF(ISBLANK(I12),\"  \",IF(ISBLANK(I13),\" \",IF(ISBLANK(I16),\" \",IF($Q$8=2,ROUND(((I16)/I12)*100,0),ROUND((I16/I12)*100,0)))))","v":"  "},null,{"$f":"IF(ISBLANK(K12),\"  \",IF(ISBLANK(K13),\" \",IF(ISBLANK(K16),\" \",IF($Q$8=2,ROUND(((K16)/K12)*100,0),ROUND((K16/K12)*100,0)))))","v":"  "},null,{"$f":"IF(ISBLANK(M12),\"  \",IF(ISBLANK(M13),\" \",IF(ISBLANK(M16),\" \",IF($Q$8=2,ROUND(((M16)/M12)*100,0),ROUND((M16/M12)*100,0)))))","v":"  "}]
[{"$f":"IF(L4=\"2RC\",\" \",IF(L4=\"DSA\",\"65-95\",\"52-100\"))","v":"52-100"},0.75,null,"  ",null,{"$f":"IF(ISBLANK(E12),\"  \",IF(ISBLANK(E13),\" \",IF(ISBLANK(E17),\" \",IF($Q$8=2,ROUND(((E17)/E12)*100,0),ROUND((E17/E12)*100,0)))))","v":"  "},null,{"$f":"IF(ISBLANK(G12),\"  \",IF(ISBLANK(G13),\" \",IF(ISBLANK(G17),\" \",IF($Q$8=2,ROUND(((G17)/G12)*100,0),ROUND((G17/G12)*100,0)))))","v":"  "},null,{"$f":"IF(ISBLANK(I12),\"  \",IF(ISBLANK(I13),\" \",IF(ISBLANK(I17),\" \",IF($Q$8=2,ROUND(((I17)/I12)*100,0),ROUND((I17/I12)*100,0)))))","v":"  "},null,{"$f":"IF(ISBLANK(K12),\"  \",IF(ISBLANK(K13),\" \",IF(ISBLANK(K17),\" \",IF($Q$8=2,ROUND(((K17)/K12)*100,0),ROUND((K17/K12)*100,0)))))","v":"  "},null,{"$f":"IF(ISBLANK(M12),\"  \",IF(ISBLANK(M13),\" \",IF(ISBLANK(M17),\" \",IF($Q$8=2,ROUND(((M17)/M12)*100,0),ROUND((M17/M12)*100,0)))))","v":"  "}]
["Breaker",0.5,null,"  ",null,{"$f":"IF(ISBLANK(E12),\"  \",IF(ISBLANK(E13),\" \",IF(ISBLANK(E18),\" \",IF($Q$8=2,ROUND(((E18)/E12)*100,0),ROUND((E18/E12)*100,0)))))","v":"  "},null,{"$f":"IF(ISBLANK(G12),\"  \",IF(ISBLANK(G13),\" \",IF(ISBLANK(G18),\" \",IF($Q$8=2,ROUND(((G18)/G12)*100,0),ROUND((G18/G12)*100,0)))))","v":"  "},null,{"$f":"IF(ISBLANK(I12),\"  \",IF(ISBLANK(I13),\" \",IF(ISBLANK(I18),\" \",IF($Q$8=2,ROUND(((I18)/I12)*100,0),ROUND((I18/I12)*100,0)))))","v":"  "},null,{"$f":"IF(ISBLANK(K12),\"  \",IF(ISBLANK(K13),\" \",IF(ISBLANK(K18),\" \",IF($Q$8=2,ROUND(((K18)/K12)*100,0),ROUND((K18/K12)*100,0)))))","v":"  "},null,{"$f":"IF(ISBLANK(M12),\"  \",IF(ISBLANK(M13),\" \",IF(ISBLANK(M18),\" \",IF($Q$8=2,ROUND(((M18)/M12)*100,0),ROUND((M18/M12)*100,0)))))","v":"  "}]
[{"$f":"IF(L4=\"2A\",\"36-70\",IF(L4=\"DSA\",\" \",IF(L4=\"OGS\",\"36-65\",IF(L4=\"2RC\",\" \",IF(ISBLANK(L4),\"36-70\")))))","v":"36-70"},0.375,null,"  ",null,{"$f":"IF(ISBLANK(E12),\"  \",IF(ISBLANK(E13),\" \",IF(ISBLANK(E19),\" \",IF($Q$8=2,ROUND(((E19)/E12)*100,0),ROUND((E19/E12)*100,0)))))","v":"  "},null,{"$f":"IF(ISBLANK(G12),\"  \",IF(ISBLANK(G13),\" \",IF(ISBLANK(G19),\" \",IF($Q$8=2,ROUND(((G19)/G12)*100,0),ROUND((G19/G12)*100,0)))))","v":"  "},null,{"$f":"IF(ISBLANK(I12),\"  \",IF(ISBLANK(I13),\" \",IF(ISBLANK(I19),\" \",IF($Q$8=2,ROUND(((I19)/I12)*100,0),ROUND((I19/I12)*100,0)))))","v":"  "},null,{"$f":"IF(ISBLANK(K12),\"  \",IF(ISBLANK(K13),\" \",IF(ISBLANK(K19),\" \",IF($Q$8=2,ROUND(((K19)/K12)*100,0),ROUND((K19/K12)*100,0)))))","v":"  "},null,{"$f":"IF(ISBLANK(M12),\"  \",IF(ISBLANK(M13),\" \",IF(ISBLANK(M19),\" \",IF($Q$8=2,ROUND(((M19)/M12)*100,0),ROUND((M19/M12)*100,0)))))","v":"  "}]
[{"$f":"IF(L4=\"2A\",\"24-50\",IF(L4=\"DSA\",\"30-65 \",IF(L4=\"OGS\",\"8-40\",IF(L4=\"2RC\",\"15-60 \",IF(ISBLANK(L4),\"24-50\")))))","v":"24-50"},4,null,"  ",null,{"$f":"IF(ISBLANK(E12),\"  \",IF(ISBLANK(E13),\" \",IF(ISBLANK(E20),\" \",IF($Q$8=2,ROUND(((E20)/E$12)*100,0),ROUND((E20/E12)*100,0)))))","v":"  "},null,{"$f":"IF(ISBLANK(G12),\"  \",IF(ISBLANK(G13),\" \",IF(ISBLANK(G20),\" \",IF($Q$8=2,ROUND(((G20)/G$12)*100,0),ROUND((G20/G12)*100,0)))))","v":"  "},null,{"$f":"IF(ISBLANK(I12),\"  \",IF(ISBLANK(I13),\" \",IF(ISBLANK(I20),\" \",IF($Q$8=2,ROUND(((I20)/I$12)*100,0),ROUND((I20/I12)*100,0)))))","v":"  "},null,{"$f":"IF(ISBLANK(K12),\"  \",IF(ISBLANK(K13),\" \",IF(ISBLANK(K20),\" \",IF($Q$8=2,ROUND(((K20)/K$12)*100,0),ROUND((K20/K12)*100,0)))))","v":"  "},null,{"$f":"IF(ISBLANK(M12),\"  \",IF(ISBLANK(M13),\" \",IF(ISBLANK(M20),\" \",IF($Q$8=2,ROUND(((M20)/M$12)*100,0),ROUND((M20/M12)*100,0)))))","v":"  "}]
["Starting Weight",null,null,{"$f":"IF(ISBLANK(C$12),\"  \",IF(ISBLANK(C$13),\" \",IF($Q$8=2,\"% Loss\",ROUND((C21/$C$12)*100,0))))","v":"  "},null,{"$f":"IF(ISBLANK(E12),\"  \",IF(ISBLANK(E13),\" \",IF($Q$8=2,\"% Loss\",ROUND((E21/E12)*100,0))))","v":"  "},null,{"$f":"IF(ISBLANK(G12),\"  \",IF(ISBLANK(G13),\" \",IF($Q$8=2,\"% Loss\",ROUND((G21/G12)*100,0))))","v":"  "},null,{"$f":"IF(ISBLANK(I12),\"  \",IF(ISBLANK(I13),\" \",IF($Q$8=2,\"% Loss\",ROUND((I21/I12)*100,0))))","v":"  "},null,{"$f":"IF(ISBLANK(K12),\"  \",IF(ISBLANK(K13),\" \",IF($Q$8=2,\"% Loss\",ROUND((K21/K12)*100,0))))","v":"  "},null,{"$f":"IF(ISBLANK(M12),\"  \",IF(ISBLANK(M13),\" \",IF($Q$8=2,\"% Loss\",ROUND((M21/M12)*100,0))))","v":"  "}]
["Ending Weight",null,null,{"$f":"IF(ISBLANK(C$12),\"  \",IF(ISBLANK(C$13),\" \",IF(ISBLANK(C22),\" \",IF($Q$8=2,((C21-C22)/C21)*100,ROUND((C22/$C$12)*100,0)))))","v":"  "},null,{"$f":"IF(ISBLANK(E12),\"  \",IF(ISBLANK(E13),\" \",IF(ISBLANK(E22),\" \",IF($Q$8=2,((E21-E22)/E21)*100,ROUND((E22/E12)*100,0)))))","v":"  "},null,{"$f":"IF(ISBLANK(G12),\"  \",IF(ISBLANK(G13),\" \",IF(ISBLANK(G22),\" \",IF($Q$8=2,((G21-G22)/G21)*100,ROUND((G22/G12)*100,0)))))","v":"  "},null,{"$f":"IF(ISBLANK(I12),\"  \",IF(ISBLANK(I13),\" \",IF(ISBLANK(I22),\" \",IF($Q$8=2,((I21-I22)/I21)*100,ROUND((I22/I12)*100,0)))))","v":"  "},null,{"$f":"IF(ISBLANK(K12),\"  \",IF(ISBLANK(K13),\" \",IF(ISBLANK(K22),\" \",IF($Q$8=2,((K21-K22)/K21)*100,ROUND((K22/K12)*100,0)))))","v":"  "},null,{"$f":"IF(ISBLANK(M12),\"  \",IF(ISBLANK(M13),\" \",IF(ISBLANK(M22),\" \",IF($Q$8=2,((M21-M22)/M21)*100,ROUND((M22/M12)*100,0)))))","v":"  "}]
["Spec","Sieve","Wt.",{"$f":"IF(ISBLANK(C$12),\"  \",IF(ISBLANK(C$13),\" \",IF(ISBLANK(C23),\" \",IF($Q$8=2,\"% Passing\",ROUND((C23/$C$12)*100,0)))))","v":"  "},"Wt.",{"$f":"IF(ISBLANK(E12),\"  \",IF(ISBLANK(E13),\" \",IF(ISBLANK(E23),\" \",IF($Q$8=2,\"% Passing\",ROUND((E23/E12)*100,0)))))","v":"  "},"Wt.",{"$f":"IF(ISBLANK(G12),\"  \",IF(ISBLANK(G13),\" \",IF(ISBLANK(G23),\" \",IF($Q$8=2,\"% Passing\",ROUND((G23/G12)*100,0)))))","v":"  "},"Wt.",{"$f":"IF(ISBLANK(I12),\"  \",IF(ISBLANK(I13),\" \",IF(ISBLANK(I23),\" \",IF($Q$8=2,\"% Passing\",ROUND((I23/I12)*100,0)))))","v":"  "},"Wt.",{"$f":"IF(ISBLANK(K12),\"  \",IF(ISBLANK(K13),\" \",IF(ISBLANK(K23),\" \",IF($Q$8=2,\"% Passing\",ROUND((K23/K12)*100,0)))))","v":"  "},"Wt.",{"$f":"IF(ISBLANK(M12),\"  \",IF(ISBLANK(M13),\" \",IF(ISBLANK(M23),\" \",IF($Q$8=2,\"% Passing\",ROUND((M23/M12)*100,0)))))","v":"  "}]
[{"$f":"IF(L4=\"2A\",\"10-30\",IF(L4=\"DSA\",\"15-30\",IF(L4=\"OGS\",\"0-12\",IF(L4=\"2RC\",\"0-30\",IF(ISBLANK(L4),\"10-30\")))))","v":"10-30"},{"$f":"IF(L4=\"2RC\",100,16)","v":16},null,{"$f":"IF(ISBLANK(C$12),\"  \",IF(ISBLANK(C$13),\" \",IF(ISBLANK(C24),\" \",IF($Q$8=2,(C20/C21*C24)/C12*100,ROUND((C24/$C$12)*100,0)))))","v":"  "},null,{"$f":"IF(ISBLANK(E12),\"  \",IF(ISBLANK(E13),\" \",IF(ISBLANK(E24),\" \",IF($Q$8=2,(E20/E21*E24)/E12*100,ROUND((E24/E12)*100,0)))))","v":"  "},null,{"$f":"IF(ISBLANK(G12),\"  \",IF(ISBLANK(G13),\" \",IF(ISBLANK(G24),\" \",IF($Q$8=2,(G20/G21*G24)/G12*100,ROUND((G24/G12)*100,0)))))","v":"  "},null,{"$f":"IF(ISBLANK(I12),\"  \",IF(ISBLANK(I13),\" \",IF(ISBLANK(I24),\" \",IF($Q$8=2,(I20/I21*I24)/I12*100,ROUND((I24/I12)*100,0)))))","v":"  "},null,{"$f":"IF(ISBLANK(K12),\"  \",IF(ISBLANK(K13),\" \",IF(ISBLANK(K24),\" \",IF($Q$8=2,(K20/K21*K24)/K12*100,ROUND((K24/K12)*100,0)))))","v":"  "},null,{"$f":"IF(ISBLANK(M12),\"  \",IF(ISBLANK(M13),\" \",IF(ISBLANK(M24),\" \",IF($Q$8=2,(M20/M21*M24)/M12*100,ROUND((M24/M12)*100,0)))))","v":"  "}]
[{"$f":"IF(L4=\"DSA\",\"10-15\",\"Info\")","v":"Info"},200,null,{"$f":"IF(ISBLANK(C$12),\"  \",IF(ISBLANK(C$13),\" \",IF(ISBLANK(C25),\" \",IF($Q$8=2,(C20/C21*C25)/C12*100,ROUND((C25/$C$12)*100,0)))))","v":"  "},null,{"$f":"IF(ISBLANK(E12),\"  \",IF(ISBLANK(E13),\" \",IF(ISBLANK(E25),\" \",IF($Q$8=2,(E20/E21*E25)/E12*100,ROUND((E25/E12)*100,0)))))","v":"  "},null,{"$f":"IF(ISBLANK(G12),\"  \",IF(ISBLANK(G13),\" \",IF(ISBLANK(G25),\" \",IF($Q$8=2,(G20/G21*G25)/G12*100,ROUND((G25/G12)*100,0)))))","v":"  "},null,{"$f":"IF(ISBLANK(I12),\"  \",IF(ISBLANK(I13),\" \",IF(ISBLANK(I25),\" \",IF($Q$8=2,(I20/I21*I25)/I12*100,ROUND((I25/I12)*100,0)))))","v":"  "},null,{"$f":"IF(ISBLANK(K12),\"  \",IF(ISBLANK(K13),\" \",IF(ISBLANK(K25),\" \",IF($Q$8=2,(K20/K21*K25)/K12*100,ROUND((K25/K12)*100,0)))))","v":"  "},null,{"$f":"IF(ISBLANK(M12),\"  \",IF(ISBLANK(M13),\" \",IF(ISBLANK(M25),\" \",IF($Q$8=2,(M20/M21*M25)/M12*100,ROUND((M25/M12)*100,0)))))","v":"  "}]
["Wash ",{"$f":"IF(L4=\"2A\",\"0-10\",IF(L4=\"OGS\",\"0-5\",IF(L4=\"DSA\",\"10-15\",IF(L4=\"2RC\",\" \",IF(ISBLANK(L4),\"0-10\")))))","v":"0-10"},{"$f":"IF($L$4=\"OGS\",\"Coeff. Unf.\",\" \")","v":" "},{"$f":"IF(ISBLANK($L$4),\" \",IF($L$4=\"2A\",\" \",IF($L$4=\"2RC\",\" \",IF(ISERROR(D68),\" \",D68))))","v":" "},{"$f":"IF($L$4=\"OGS\",\"Coeff. Unf.\",\" \")","v":" "},{"$f":"IF(ISBLANK($L$4),\" \",IF($L$4=\"2A\",\" \",IF($L$4=\"2RC\",\" \",IF(ISERROR(F68),\" \",F68))))","v":" "},{"$f":"IF($L$4=\"OGS\",\"Coeff. Unf.\",\" \")","v":" "},{"$f":"IF(ISBLANK($L$4),\" \",IF($L$4=\"2A\",\" \",IF($L$4=\"2RC\",\" \",IF(ISERROR(H68),\" \",H68))))","v":" "},{"$f":"IF($L$4=\"OGS\",\"Coeff. Unf.\",\" \")","v":" "},{"$f":"IF(ISBLANK($L$4),\" \",IF($L$4=\"2A\",\" \",IF($L$4=\"2RC\",\" \",IF(ISERROR(J68),\" \",J68))))","v":" "},{"$f":"IF($L$4=\"OGS\",\"Coeff. Unf.\",\" \")","v":" "},{"$f":"IF(ISBLANK($L$4),\" \",IF($L$4=\"2A\",\" \",IF($L$4=\"2RC\",\" \",IF(ISERROR(L68),\" \",L68))))","v":" "},{"$f":"IF($L$4=\"OGS\",\"Coeff. Unf.\",\" \")","v":" "},{"$f":"IF(ISBLANK($L$4),\" \",IF($L$4=\"2A\",\" \",IF($L$4=\"2RC\",\" \",IF(ISERROR(N68),\" \",N68))))","v":" "}]
["St. Wt. Before Wash",null,null,"% Passing",null,"% Passing",null,"% Passing",null,"% Passing",null,"% Passing",null,"% Passing"]
["End Wt. After Wash",null,null,{"$f":"IF(ISBLANK(C27),\" \",IF(ISBLANK(C28),\" \",((C27-C28)/C27)*100))","v":" "},null,{"$f":"IF(ISBLANK(E27),\" \",IF(ISBLANK(E28),\" \",((E27-E28)/E27)*100))","v":" "},null,{"$f":"IF(ISBLANK(G27),\" \",IF(ISBLANK(G28),\" \",((G27-G28)/G27)*100))","v":" "},null,{"$f":"IF(ISBLANK(I27),\" \",IF(ISBLANK(I28),\" \",((I27-I28)/I27)*100))","v":" "},null,{"$f":"IF(ISBLANK(K27),\" \",IF(ISBLANK(K28),\" \",((K27-K28)/K27)*100))","v":" "},null,{"$f":"IF(ISBLANK(M27),\" \",IF(ISBLANK(M28),\" \",((M27-M28)/M27)*100))","v":" "}]
["Tested By"]
["Remarks"]
[]
[]
[]
["Sample No."]
["Date"]
["Starting Weight",null,null,"% Loss",null,"% Loss",null,"% Loss",null,"% Loss",null,"% Loss",null,"% Loss"]
["Ending Weight",null,null,{"$f":"IF(ISBLANK(C36),\" \",IF(ISBLANK(C37),\" \",((C36-C37)/C36)*100))","v":" "},null,{"$f":"IF(ISBLANK(E36),\" \",IF(ISBLANK(E37),\" \",((E36-E37)/E36)*100))","v":" "},null,{"$f":"IF(ISBLANK(G36),\" \",IF(ISBLANK(G37),\" \",((G36-G37)/G36)*100))","v":" "},null,{"$f":"IF(ISBLANK(I36),\" \",IF(ISBLANK(I37),\" \",((I36-I37)/I36)*100))","v":" "},null,{"$f":"IF(ISBLANK(K36),\" \",IF(ISBLANK(K37),\" \",((K36-K37)/K36)*100))","v":" "},null,{"$f":"IF(ISBLANK(M36),\" \",IF(ISBLANK(M37),\" \",((M36-M37)/M36)*100))","v":" "}]
["Spec","Sieve","Wt.","% Passing","Wt.","% Passing","Wt.","% Passing","Wt.","% Passing","Wt.","% Passing","Wt.","% Passing"]
[100,2,null,{"$f":"IF(ISBLANK(C36),\"  \",IF(ISBLANK(C37),\" \",IF(ISBLANK(C39),\" \",IF($Q$8=2,ROUND(((C39)/C36)*100,0),ROUND((C39/C36)*100,0)))))","v":"  "},null,{"$f":"IF(ISBLANK(E36),\"  \",IF(ISBLANK(E37),\" \",IF(ISBLANK(E39),\" \",IF($Q$8=2,ROUND(((E39)/E36)*100,0),ROUND((E39/E36)*100,0)))))","v":"  "},null,{"$f":"IF(ISBLANK(G36),\"  \",IF(ISBLANK(G37),\" \",IF(ISBLANK(G39),\" \",IF($Q$8=2,ROUND(((G39)/G36)*100,0),ROUND((G39/G36)*100,0)))))","v":"  "},null,{"$f":"IF(ISBLANK(I36),\"  \",IF(ISBLANK(I37),\" \",IF(ISBLANK(I39),\" \",IF($Q$8=2,ROUND(((I39)/I36)*100,0),ROUND((I39/I36)*100,0)))))","v":"  "},null,{"$f":"IF(ISBLANK(K36),\"  \",IF(ISBLANK(K37),\" \",IF(ISBLANK(K39),\" \",IF($Q$8=2,ROUND(((K39)/K36)*100,0),ROUND((K39/K36)*100,0)))))","v":"  "},null,{"$f":"IF(ISBLANK(M36),\"  \",IF(ISBLANK(M37),\" \",IF(ISBLANK(M39),\" \",IF($Q$8=2,ROUND(((M39)/M36)*100,0),ROUND((M39/M36)*100,0)))))","v":"  "}]
[{"$f":"IF(L4=\"DSA\",\"100\",\"Breaker\")","v":"Breaker"},{"$f":"'S1'!B40","v":1},null,{"$f":"IF(ISBLANK(C36),\"  \",IF(ISBLANK(C37),\" \",IF(ISBLANK(C40),\" \",IF($Q$8=2,ROUND(((C40)/C36)*100,0),ROUND((C40/C36)*100,0)))))","v":"  "},null,{"$f":"IF(ISBLANK(E36),\"  \",IF(ISBLANK(E37),\" \",IF(ISBLANK(E40),\" \",IF($Q$8=2,ROUND(((E40)/E36)*100,0),ROUND((E40/E36)*100,0)))))","v":"  "},null,{"$f":"IF(ISBLANK(G36),\"  \",IF(ISBLANK(G37),\" \",IF(ISBLANK(G40),\" \",IF($Q$8=2,ROUND(((G40)/G36)*100,0),ROUND((G40/G36)*100,0)))))","v":"  "},null,{"$f":"IF(ISBLANK(I36),\"  \",IF(ISBLANK(I37),\" \",IF(ISBLANK(I40),\" \",IF($Q$8=2,ROUND(((I40)/I36)*100,0),ROUND((I40/I36)*100,0)))))","v":"  "},null,{"$f":"IF(ISBLANK(K36),\"  \",IF(ISBLANK(K37),\" \",IF(ISBLANK(K40),\" \",IF($Q$8=2,ROUND(((K40)/K36)*100,0),ROUND((K40/K36)*100,0)))))","v":"  "},null,{"$f":"IF(ISBLANK(M36),\"  \",IF(ISBLANK(M37),\" \",IF(ISBLANK(M40),\" \",IF($Q$8=2,ROUND(((M40)/M36)*100,0),ROUND((M40/M36)*100,0)))))","v":"  "}]
[{"$f":"IF(L4=\"2RC\",\" \",IF(L4=\"DSA\",\"65-95\",\"52-100\"))","v":"52-100"},0.75,null,{"$f":"IF(ISBLANK(C36),\"  \",IF(ISBLANK(C37),\" \",IF(ISBLANK(C41),\" \",IF($Q$8=2,ROUND(((C41)/C36)*100,0),ROUND((C41/C36)*100,0)))))","v":"  "},null,{"$f":"IF(ISBLANK(E36),\"  \",IF(ISBLANK(E37),\" \",IF(ISBLANK(E41),\" \",IF($Q$8=2,ROUND(((E41)/E36)*100,0),ROUND((E41/E36)*100,0)))))","v":"  "},null,{"$f":"IF(ISBLANK(G36),\"  \",IF(ISBLANK(G37),\" \",IF(ISBLANK(G41),\" \",IF($Q$8=2,ROUND(((G41)/G36)*100,0),ROUND((G41/G36)*100,0)))))","v":"  "},null,{"$f":"IF(ISBLANK(I36),\"  \",IF(ISBLANK(I37),\" \",IF(ISBLANK(I41),\" \",IF($Q$8=2,ROUND(((I41)/I36)*100,0),ROUND((I41/I36)*100,0)))))","v":"  "},null,{"$f":"IF(ISBLANK(K36),\"  \",IF(ISBLANK(K37),\" \",IF(ISBLANK(K41),\" \",IF($Q$8=2,ROUND(((K41)/K36)*100,0),ROUND((K41/K36)*100,0)))))","v":"  "},null,{"$f":"IF(ISBLANK(M36),\"  \",IF(ISBLANK(M37),\" \",IF(ISBLANK(M41),\" \",IF($Q$8=2,ROUND(((M41)/M36)*100,0),ROUND((M41/M36)*100,0)))))","v":"  "}]
["Breaker",0.5,null,{"$f":"IF(ISBLANK(C36),\"  \",IF(ISBLANK(C37),\" \",IF(ISBLANK(C42),\" \",IF($Q$8=2,ROUND(((C42)/C36)*100,0),ROUND((C42/C36)*100,0)))))","v":"  "},null,{"$f":"IF(ISBLANK(E36),\"  \",IF(ISBLANK(E37),\" \",IF(ISBLANK(E42),\" \",IF($Q$8=2,ROUND(((E42)/E36)*100,0),ROUND((E42/E36)*100,0)))))","v":"  "},null,{"$f":"IF(ISBLANK(G36),\"  \",IF(ISBLANK(G37),\" \",IF(ISBLANK(G42),\" \",IF($Q$8=2,ROUND(((G42)/G36)*100,0),ROUND((G42/G36)*100,0)))))","v":"  "},null,{"$f":"IF(ISBLANK(I36),\"  \",IF(ISBLANK(I37),\" \",IF(ISBLANK(I42),\" \",IF($Q$8=2,ROUND(((I42)/I36)*100,0),ROUND((I42/I36)*100,0)))))","v":"  "},null,{"$f":"IF(ISBLANK(K36),\"  \",IF(ISBLANK(K37),\" \",IF(ISBLANK(K42),\" \",IF($Q$8=2,ROUND(((K42)/K36)*100,0),ROUND((K42/K36)*100,0)))))","v":"  "},null,{"$f":"IF(ISBLANK(M36),\"  \",IF(ISBLANK(M37),\" \",IF(ISBLANK(M42),\" \",IF($Q$8=2,ROUND(((M42)/M36)*100,0),ROUND((M42/M36)*100,0)))))","v":"  "}]
[{"$f":"IF(L4=\"2A\",\"36-70\",IF(L4=\"DSA\",\" \",IF(L4=\"OGS\",\"36-65\",IF(L4=\"2RC\",\" \",IF(ISBLANK(L4),\"36-70\")))))","v":"36-70"},0.375,null,{"$f":"IF(ISBLANK(C36),\"  \",IF(ISBLANK(C37),\" \",IF(ISBLANK(C43),\" \",IF($Q$8=2,ROUND(((C43)/C36)*100,0),ROUND((C43/C36)*100,0)))))","v":"  "},null,{"$f":"IF(ISBLANK(E36),\"  \",IF(ISBLANK(E37),\" \",IF(ISBLANK(E43),\" \",IF($Q$8=2,ROUND(((E43)/E36)*100,0),ROUND((E43/E36)*100,0)))))","v":"  "},null,{"$f":"IF(ISBLANK(G36),\"  \",IF(ISBLANK(G37),\" \",IF(ISBLANK(G43),\" \",IF($Q$8=2,ROUND(((G43)/G36)*100,0),ROUND((G43/G36)*100,0)))))","v":"  "},null,{"$f":"IF(ISBLANK(I36),\"  \",IF(ISBLANK(I37),\" \",IF(ISBLANK(I43),\" \",IF($Q$8=2,ROUND(((I43)/I36)*100,0),ROUND((I43/I36)*100,0)))))","v":"  "},null,{"$f":"IF(ISBLANK(K36),\"  \",IF(ISBLANK(K37),\" \",IF(ISBLANK(K43),\" \",IF($Q$8=2,ROUND(((K43)/K36)*100,0),ROUND((K43/K36)*100,0)))))","v":"  "},null,{"$f":"IF(ISBLANK(M36),\"  \",IF(ISBLANK(M37),\" \",IF(ISBLANK(M43),\" \",IF($Q$8=2,ROUND(((M43)/M36)*100,0),ROUND((M43/M36)*100,0)))))","v":"  "}]
[{"$f":"IF(L4=\"2A\",\"24-50\",IF(L4=\"DSA\",\"30-65 \",IF(L4=\"OGS\",\"8-40\",IF(L4=\"2RC\",\"15-60 \",IF(ISBLANK(4),\"24-50\")))))","v":"24-50"},4,null,{"$f":"IF(ISBLANK(C36),\"  \",IF(ISBLANK(C37),\" \",IF(ISBLANK(C44),\" \",IF($Q$8=2,ROUND(((C44)/C36)*100,0),ROUND((C44/C36)*100,0)))))","v":"  "},null,{"$f":"IF(ISBLANK(E36),\"  \",IF(ISBLANK(E37),\" \",IF(ISBLANK(E44),\" \",IF($Q$8=2,ROUND(((E44)/E36)*100,0),ROUND((E44/E36)*100,0)))))","v":"  "},null,{"$f":"IF(ISBLANK(G36),\"  \",IF(ISBLANK(G37),\" \",IF(ISBLANK(G44),\" \",IF($Q$8=2,ROUND(((G44)/G36)*100,0),ROUND((G44/G36)*100,0)))))","v":"  "},null,{"$f":"IF(ISBLANK(I36),\"  \",IF(ISBLANK(I37),\" \",IF(ISBLANK(I44),\" \",IF($Q$8=2,ROUND(((I44)/I36)*100,0),ROUND((I44/I36)*100,0)))))","v":"  "},null,{"$f":"IF(ISBLANK(K36),\"  \",IF(ISBLANK(K37),\" \",IF(ISBLANK(K44),\" \",IF($Q$8=2,ROUND(((K44)/K36)*100,0),ROUND((K44/K36)*100,0)))))","v":"  "},null,{"$f":"IF(ISBLANK(M36),\"  \",IF(ISBLANK(M37),\" \",IF(ISBLANK(M44),\" \",IF($Q$8=2,ROUND(((M44)/M36)*100,0),ROUND((M44/M36)*100,0)))))","v":"  "}]
["Starting Weight",null,null,{"$f":"IF(ISBLANK(C36),\"  \",IF(ISBLANK(C37),\" \",IF($Q$8=2,\"% Loss\",ROUND((C45/C36)*100,0))))","v":"  "},null,{"$f":"IF(ISBLANK(E36),\"  \",IF(ISBLANK(E37),\" \",IF($Q$8=2,\"% Loss\",ROUND((E45/E36)*100,0))))","v":"  "},null,{"$f":"IF(ISBLANK(G36),\"  \",IF(ISBLANK(G37),\" \",IF($Q$8=2,\"% Loss\",ROUND((G45/G36)*100,0))))","v":"  "},null,{"$f":"IF(ISBLANK(I36),\"  \",IF(ISBLANK(I37),\" \",IF($Q$8=2,\"% Loss\",ROUND((I45/I36)*100,0))))","v":"  "},null,{"$f":"IF(ISBLANK(K36),\"  \",IF(ISBLANK(K37),\" \",IF($Q$8=2,\"% Loss\",ROUND((K45/K36)*100,0))))","v":"  "},null,{"$f":"IF(ISBLANK(M36),\"  \",IF(ISBLANK(M37),\" \",IF($Q$8=2,\"% Loss\",ROUND((M45/M36)*100,0))))","v":"  "}]
["Ending Weight",null,null,{"$f":"IF(ISBLANK(C36),\"  \",IF(ISBLANK(C37),\" \",IF(ISBLANK(C46),\" \",IF($Q$8=2,((C45-C46)/C45)*100,ROUND((C46/C36)*100,0)))))","v":"  "},null,{"$f":"IF(ISBLANK(E36),\"  \",IF(ISBLANK(E37),\" \",IF(ISBLANK(E46),\" \",IF($Q$8=2,((E45-E46)/E45)*100,ROUND((E46/E36)*100,0)))))","v":"  "},null,{"$f":"IF(ISBLANK(G36),\"  \",IF(ISBLANK(G37),\" \",IF(ISBLANK(G46),\" \",IF($Q$8=2,((G45-G46)/G45)*100,ROUND((G46/G36)*100,0)))))","v":"  "},null,{"$f":"IF(ISBLANK(I36),\"  \",IF(ISBLANK(I37),\" \",IF(ISBLANK(I46),\" \",IF($Q$8=2,((I45-I46)/I45)*100,ROUND((I46/I36)*100,0)))))","v":"  "},null,{"$f":"IF(ISBLANK(K36),\"  \",IF(ISBLANK(K37),\" \",IF(ISBLANK(K46),\" \",IF($Q$8=2,((K45-K46)/K45)*100,ROUND((K46/K36)*100,0)))))","v":"  "},null,{"$f":"IF(ISBLANK(M36),\"  \",IF(ISBLANK(M37),\" \",IF(ISBLANK(M46),\" \",IF($Q$8=2,((M45-M46)/M45)*100,ROUND((M46/M36)*100,0)))))","v":"  "}]
["Spec","Sieve","Wt.",{"$f":"IF(ISBLANK(C36),\"  \",IF(ISBLANK(C37),\" \",IF(ISBLANK(C47),\" \",IF($Q$8=2,\"% Passing\",ROUND((C47/C36)*100,0)))))","v":"  "},"Wt.",{"$f":"IF(ISBLANK(E36),\"  \",IF(ISBLANK(E37),\" \",IF(ISBLANK(E47),\" \",IF($Q$8=2,\"% Passing\",ROUND((E47/E36)*100,0)))))","v":"  "},"Wt.",{"$f":"IF(ISBLANK(G36),\"  \",IF(ISBLANK(G37),\" \",IF(ISBLANK(G47),\" \",IF($Q$8=2,\"% Passing\",ROUND((G47/G36)*100,0)))))","v":"  "},"Wt.",{"$f":"IF(ISBLANK(I36),\"  \",IF(ISBLANK(I37),\" \",IF(ISBLANK(I47),\" \",IF($Q$8=2,\"% Passing\",ROUND((I47/I36)*100,0)))))","v":"  "},"Wt.",{"$f":"IF(ISBLANK(K36),\"  \",IF(ISBLANK(K37),\" \",IF(ISBLANK(K47),\" \",IF($Q$8=2,\"% Passing\",ROUND((K47/K36)*100,0)))))","v":"  "},"Wt.",{"$f":"IF(ISBLANK(M36),\"  \",IF(ISBLANK(M37),\" \",IF(ISBLANK(M47),\" \",IF($Q$8=2,\"% Passing\",ROUND((M47/M36)*100,0)))))","v":"  "}]
[{"$f":"IF(L4=\"2A\",\"10-30\",IF(L4=\"DSA\",\"15-30\",IF(L4=\"OGS\",\"0-12\",IF(L4=\"2RC\",\"0-30\",IF(ISBLANK(L4),\"10-30\")))))","v":"10-30"},{"$f":"IF(L4=\"2RC\",100,16)","v":16},null,{"$f":"IF(ISBLANK(C36),\"  \",IF(ISBLANK(C37),\" \",IF(ISBLANK(C48),\" \",IF($Q$8=2,(C44/C45*C48)/C36*100,ROUND((C48/C36)*100,0)))))","v":"  "},null,{"$f":"IF(ISBLANK(E36),\"  \",IF(ISBLANK(E37),\" \",IF(ISBLANK(E48),\" \",IF($Q$8=2,(E44/E45*E48)/E36*100,ROUND((E48/E36)*100,0)))))","v":"  "},null,{"$f":"IF(ISBLANK(G36),\"  \",IF(ISBLANK(G37),\" \",IF(ISBLANK(G48),\" \",IF($Q$8=2,(G44/G45*G48)/G36*100,ROUND((G48/G36)*100,0)))))","v":"  "},null,{"$f":"IF(ISBLANK(I36),\"  \",IF(ISBLANK(I37),\" \",IF(ISBLANK(I48),\" \",IF($Q$8=2,(I44/I45*I48)/I36*100,ROUND((I48/I36)*100,0)))))","v":"  "},null,{"$f":"IF(ISBLANK(K36),\"  \",IF(ISBLANK(K37),\" \",IF(ISBLANK(K48),\" \",IF($Q$8=2,(K44/K45*K48)/K36*100,ROUND((K48/K36)*100,0)))))","v":"  "},null,{"$f":"IF(ISBLANK(M36),\"  \",IF(ISBLANK(M37),\" \",IF(ISBLANK(M48),\" \",IF($Q$8=2,(M44/M45*M48)/M36*100,ROUND((M48/M36)*100,0)))))","v":"  "}]
[{"$f":"IF(L4=\"DSA\",\"10-15\",\"Info\")","v":"Info"},200,null,{"$f":"IF(ISBLANK(C36),\"  \",IF(ISBLANK(C37),\" \",IF(ISBLANK(C49),\" \",IF($Q$8=2,(C44/C45*C49)/C36*100,ROUND((C49/C36)*100,0)))))","v":"  "},null,{"$f":"IF(ISBLANK(E36),\"  \",IF(ISBLANK(E37),\" \",IF(ISBLANK(E49),\" \",IF($Q$8=2,(E44/E45*E49)/E36*100,ROUND((E49/E36)*100,0)))))","v":"  "},null,{"$f":"IF(ISBLANK(G36),\"  \",IF(ISBLANK(G37),\" \",IF(ISBLANK(G49),\" \",IF($Q$8=2,(G44/G45*G49)/G36*100,ROUND((G49/G36)*100,0)))))","v":"  "},null,{"$f":"IF(ISBLANK(I36),\"  \",IF(ISBLANK(I37),\" \",IF(ISBLANK(I49),\" \",IF($Q$8=2,(I44/I45*I49)/I36*100,ROUND((I49/I36)*100,0)))))","v":"  "},null,{"$f":"IF(ISBLANK(K36),\"  \",IF(ISBLANK(K37),\" \",IF(ISBLANK(K49),\" \",IF($Q$8=2,(K44/K45*K49)/K36*100,ROUND((K49/K36)*100,0)))))","v":"  "},null,{"$f":"IF(ISBLANK(M36),\"  \",IF(ISBLANK(M37),\" \",IF(ISBLANK(M49),\" \",IF($Q$8=2,(M44/M45*M49)/M36*100,ROUND((M49/M36)*100,0)))))","v":"  "}]
["Wash ",{"$f":"IF(L4=\"2A\",\"0-10\",IF(L4=\"OGS\",\"0-5\",IF(L4=\"DSA\",\"10-15\",IF(L4=\"2RC\",\" \",IF(ISBLANK(L4),\"0-10\")))))","v":"0-10"},{"$f":"IF($L$4=\"OGS\",\"Coeff. Unf.\",\" \")","v":" "},{"$f":"IF(ISBLANK($L$4),\" \",IF($L$4=\"2A\",\" \",IF($L$4=\"2RC\",\" \",IF(ISERROR(D79),\" \",D79))))","v":" "},{"$f":"IF($L$4=\"OGS\",\"Coeff. Unf.\",\" \")","v":" "},{"$f":"IF(ISBLANK($L$4),\" \",IF($L$4=\"2A\",\" \",IF($L$4=\"2RC\",\" \",IF(ISERROR(F79),\" \",F79))))","v":" "},{"$f":"IF($L$4=\"OGS\",\"Coeff. Unf.\",\" \")","v":" "},{"$f":"IF(ISBLANK($L$4),\" \",IF($L$4=\"2A\",\" \",IF($L$4=\"2RC\",\" \",IF(ISERROR(H79),\" \",H79))))","v":" "},{"$f":"IF($L$4=\"OGS\",\"Coeff. Unf.\",\" \")","v":" "},{"$f":"IF(ISBLANK($L$4),\" \",IF($L$4=\"2A\",\" \",IF($L$4=\"2RC\",\" \",IF(ISERROR(J79),\" \",J79))))","v":" "},{"$f":"IF($L$4=\"OGS\",\"Coeff. Unf.\",\" \")","v":" "},{"$f":"IF(ISBLANK($L$4),\" \",IF($L$4=\"2A\",\" \",IF($L$4=\"2RC\",\" \",IF(ISERROR(L79),\" \",L79))))","v":" "},{"$f":"IF($L$4=\"OGS\",\"Coeff. Unf.\",\" \")","v":" "},{"$f":"IF(ISBLANK($L$4),\" \",IF($L$4=\"2A\",\" \",IF($L$4=\"2RC\",\" \",IF(ISERROR(N79),\" \",N79))))","v":" "}]
["St. Wt. Before Wash",null,null,"% Passing",null,"% Passing",null,"% Passing",null,"% Passing",null,"% Passing",null,"% Passing"]
["End Wt. After Wash",null,null,{"$f":"IF(ISBLANK(C51),\" \",IF(ISBLANK(C52),\" \",((C51-C52)/C51)*100))","v":" "},null,{"$f":"IF(ISBLANK(E51),\" \",IF(ISBLANK(E52),\" \",((E51-E52)/E51)*100))","v":" "},null,{"$f":"IF(ISBLANK(G51),\" \",IF(ISBLANK(G52),\" \",((G51-G52)/G51)*100))","v":" "},null,{"$f":"IF(ISBLANK(I51),\" \",IF(ISBLANK(I52),\" \",((I51-I52)/I51)*100))","v":" "},null,{"$f":"IF(ISBLANK(K51),\" \",IF(ISBLANK(K52),\" \",((K51-K52)/K51)*100))","v":" "},null,{"$f":"IF(ISBLANK(M51),\" \",IF(ISBLANK(M52),\" \",((M51-M52)/M51)*100))","v":" "}]
["Tested By"]
["Remarks"]
[]
[]
[]
[]
[null,null,null,"Upper Coeff Unf"]
[19,null,19,{"$f":"D17","v":"  "},null,{"$f":"F17","v":"  "},null,{"$f":"H17","v":"  "},null,{"$f":"J17","v":"  "},null,{"$f":"L17","v":"  "},null,{"$f":"N17","v":"  "}]
[9.5,null,9.5,{"$f":"D19","v":"  "},null,{"$f":"F19","v":"  "},null,{"$f":"H19","v":"  "},null,{"$f":"J19","v":"  "},null,{"$f":"L19","v":"  "},null,{"$f":"N19","v":"  "}]
[null,null,"D60",{"$f":"FORECAST(60,$A$60:$A$61,D60:D61)","v":{"$error":"#DIV/0!"}},null,{"$f":"FORECAST(60,$A$60:$A$61,F60:F61)","v":{"$error":"#DIV/0!"}},null,{"$f":"FORECAST(60,$A$60:$A$61,H60:H61)","v":{"$error":"#DIV/0!"}},null,{"$f":"FORECAST(60,$A$60:$A$61,J60:J61)","v":{"$error":"#DIV/0!"}},null,{"$f":"FORECAST(60,$A$60:$A$61,L60:L61)","v":{"$error":"#DIV/0!"}},null,{"$f":"FORECAST(60,$A$60:$A$61,N60:N61)","v":{"$error":"#DIV/0!"}}]
[]
[4.75,null,4.75,{"$f":"D20","v":"  "},null,{"$f":"F20","v":"  "},null,{"$f":"H20","v":"  "},null,{"$f":"J20","v":"  "},null,{"$f":"L20","v":"  "},null,{"$f":"N20","v":"  "}]
[1.18,null,1.18,{"$f":"D24","v":"  "},null,{"$f":"F24","v":"  "},null,{"$f":"H24","v":"  "},null,{"$f":"J24","v":"  "},null,{"$f":"L24","v":"  "},null,{"$f":"N24","v":"  "}]
[null,null,"D10",{"$f":"FORECAST(10,$A$64:$A$65,D64:D65)","v":{"$error":"#DIV/0!"}},null,{"$f":"FORECAST(10,$A$64:$A$65,F64:F65)","v":{"$error":"#DIV/0!"}},null,{"$f":"FORECAST(10,$A$64:$A$65,H64:H65)","v":{"$error":"#DIV/0!"}},null,{"$f":"FORECAST(10,$A$64:$A$65,J64:J65)","v":{"$error":"#DIV/0!"}},null,{"$f":"FORECAST(10,$A$64:$A$65,L64:L65)","v":{"$error":"#DIV/0!"}},null,{"$f":"FORECAST(10,$A$64:$A$65,N64:N65)","v":{"$error":"#DIV/0!"}}]
[]
[null,null,"Coeff Unf",{"$f":"ROUND(D62/D66,1)","v":{"$error":"#DIV/0!"}},null,{"$f":"ROUND(F62/F66,1)","v":{"$error":"#DIV/0!"}},null,{"$f":"ROUND(H62/H66,1)","v":{"$error":"#DIV/0!"}},null,{"$f":"ROUND(J62/J66,1)","v":{"$error":"#DIV/0!"}},null,{"$f":"ROUND(L62/L66,1)","v":{"$error":"#DIV/0!"}},null,{"$f":"ROUND(N62/N66,1)","v":{"$error":"#DIV/0!"}}]
[]
[null,null,"Lower Coff Unf"]
[19,null,19,{"$f":"D41","v":"  "},null,{"$f":"F41","v":"  "},null,{"$f":"H41","v":"  "},null,{"$f":"J41","v":"  "},null,{"$f":"L41","v":"  "},null,{"$f":"N41","v":"  "}]
[9.5,null,9.5,{"$f":"D43","v":"  "},null,{"$f":"F43","v":"  "},null,{"$f":"H43","v":"  "},null,{"$f":"J43","v":"  "},null,{"$f":"L43","v":"  "},null,{"$f":"N43","v":"  "}]
[null,null,"D60",{"$f":"FORECAST(60,$A$71:$A$72,D71:D72)","v":{"$error":"#DIV/0!"}},null,{"$f":"FORECAST(60,$A$71:$A$72,F71:F72)","v":{"$error":"#DIV/0!"}},null,{"$f":"FORECAST(60,$A$71:$A$72,H71:H72)","v":{"$error":"#DIV/0!"}},null,{"$f":"FORECAST(60,$A$71:$A$72,J71:J72)","v":{"$error":"#DIV/0!"}},null,{"$f":"FORECAST(60,$A$71:$A$72,L71:L72)","v":{"$error":"#DIV/0!"}},null,{"$f":"FORECAST(60,$A$71:$A$72,N71:N72)","v":{"$error":"#DIV/0!"}}]
[]
[4.75,null,4.75,{"$f":"D44","v":"  "},null,{"$f":"F44","v":"  "},null,{"$f":"H44","v":"  "},null,{"$f":"J44","v":"  "},null,{"$f":"L44","v":"  "},null,{"$f":"N44","v":"  "}]
[1.18,null,1.18,{"$f":"D48","v":"  "},null,{"$f":"F48","v":"  "},null,{"$f":"H48","v":"  "},null,{"$f":"J48","v":"  "},null,{"$f":"L48","v":"  "},null,{"$f":"N48","v":"  "}]
[null,null,"D10",{"$f":"FORECAST(10,$A$75:$A$76,D75:D76)","v":{"$error":"#DIV/0!"}},null,{"$f":"FORECAST(10,$A$75:$A$76,F75:F76)","v":{"$error":"#DIV/0!"}},null,{"$f":"FORECAST(10,$A$75:$A$76,H75:H76)","v":{"$error":"#DIV/0!"}},null,{"$f":"FORECAST(10,$A$75:$A$76,J75:J76)","v":{"$error":"#DIV/0!"}},null,{"$f":"FORECAST(10,$A$75:$A$76,L75:L76)","v":{"$error":"#DIV/0!"}},null,{"$f":"FORECAST(10,$A$75:$A$76,N75:N76)","v":{"$error":"#DIV/0!"}}]
[]
[null,null,"Coeff Unf",{"$f":"ROUND(D73/D77,1)","v":{"$error":"#DIV/0!"}},null,{"$f":"ROUND(F73/F77,1)","v":{"$error":"#DIV/0!"}},null,{"$f":"ROUND(H73/H77,1)","v":{"$error":"#DIV/0!"}},null,{"$f":"ROUND(J73/J77,1)","v":{"$error":"#DIV/0!"}},null,{"$f":"ROUND(L73/L77,1)","v":{"$error":"#DIV/0!"}},null,{"$f":"ROUND(N73/N77,1)","v":{"$error":"#DIV/0!"}}]

{"sheet":"S12","index":11,"n_rows":79,"n_cols":17,"rows_kept":79,"cut":false,"hidden":true,"merged":[[52,10,52,11],[52,12,52,13],[53,0,55,1],[53,2,55,3],[53,4,55,5],[53,6,55,7],[53,8,55,9],[53,10,55,11],[53,12,55,13],[52,2,52,3],[45,0,45,1],[52,4,52,5],[52,6,52,7],[52,8,52,9],[50,0,50,1],[51,0,51,1],[52,0,52,1],[34,12,34,13],[33,4,33,5],[33,6,33,7],[33,10,33,11],[34,4,34,5],[34,6,34,7],[34,8,34,9],[34,10,34,11],[33,12,33,13],[33,8,33,9],[44,0,44,1],[33,2,33,3],[29,0,31,1],[29,2,31,3],[34,0,34,1],[34,2,34,3],[35,0,35,1],[36,0,36,1],[33,0,33,1],[20,0,20,1],[21,0,21,1],[26,0,26,1],[27,0,27,1],[28,0,28,1],[0,0,3,1],[5,3,5,8],[9,0,9,1],[10,0,10,1],[12,0,12,1],[10,8,10,9],[11,0,11,1],[1,2,1,6],[2,2,2,6],[3,2,3,6],[4,0,4,1],[1,11,1,12],[2,9,2,10],[2,11,2,12],[3,9,3,10],[1,9,1,10],[29,4,31,5],[7,2,7,4],[28,4,28,5],[3,11,3,12],[5,11,5,12],[4,9,4,10],[4,11,4,12],[5,9,5,10],[7,5,7,6],[29,6,31,7],[10,12,10,13],[29,12,31,13],[28,12,28,13],[28,6,28,7],[28,2,28,3],[0,7,3,8],[58,3,58,13],[69,2,69,13],[9,8,9,9],[10,2,10,3],[10,4,10,5],[10,6,10,7],[28,10,28,11],[28,8,28,9],[9,4,9,5],[9,2,9,3],[9,6,9,7],[9,10,9,11],[10,10,10,11],[29,8,31,9],[29,10,31,11],[9,12,9,13]]}
[]
[null,null,"COMMONWEALTH OF PENNSYLVANIA",null,null,null,null,null,null,"DISTRICT",null,{"$f":"IF(ISBLANK('S1'!L2),\" \",'S1'!L2)","v":" "}]
[null,null,"DEPARTMENT OF TRANSPORTATION",null,null,null,null,null,null,"PLANT CODE",null,{"$f":"IF(ISBLANK('S1'!L3),\" \",'S1'!L3)","v":" "}]
[null,null,"PENNSYLVANIA TURNPIKE COMMISSION",null,null,null,null,null,null,"AGG SIZE",null,{"$f":"IF(ISBLANK('S1'!L4),\" \",'S1'!L4)","v":"2A"}]
[{"$f":"'S1'!A5","v":"Aggregate 2023"},null,null,null,null,null,null,null,null,"#4 Target Value ",null,{"$f":"IF(ISBLANK('S1'!L5),\" \",'S1'!L5)","v":" "}]
[".",null,null,{"$f":"'S1'!D6","v":"Material Test Results for 2A Coarse Aggregate"},null,null,null,null,null,"#16 Target Value",null,{"$f":"IF(ISBLANK('S1'!L6),\" \",'S1'!L6)","v":" "}]
[]
[null,null,"Method of testing",null,null,{"$f":"'S1'!F8:G8","v":"Split sample "},null,null,null,null,null,null,null,null,null,null,{"$f":"IF(F8=\"Complete sample\",1,2)","v":2}]
[]
["Sample No."]
["Date"]
["Starting Weight",null,null,"% Loss",null,"% Loss",null,"% Loss",null,"% Loss",null,"% Loss",null,"% Loss"]
["Ending Weight",null,null,{"$f":"IF(ISBLANK(C12),\" \",IF(ISBLANK(C13),\" \",((C12-C13)/C12)*100))","v":" "},null,{"$f":"IF(ISBLANK(E12),\" \",IF(ISBLANK(E13),\" \",((E12-E13)/E12)*100))","v":" "},null,{"$f":"IF(ISBLANK(G12),\" \",IF(ISBLANK(G13),\" \",((G12-G13)/G12)*100))","v":" "},null,{"$f":"IF(ISBLANK(I12),\" \",IF(ISBLANK(I13),\" \",((I12-I13)/I12)*100))","v":" "},null,{"$f":"IF(ISBLANK(K12),\" \",IF(ISBLANK(K13),\" \",((K12-K13)/K12)*100))","v":" "},null,{"$f":"IF(ISBLANK(M12),\" \",IF(ISBLANK(M13),\" \",((M12-M13)/M12)*100))","v":" "}]
["Spec","Sieve","Wt.","% Passing","Wt.","% Passing","Wt.","% Passing","Wt.","% Passing","Wt.","% Passing","Wt.","% Passing"]
[100,2,null,{"$f":"IF(ISBLANK(C$12),\"  \",IF(ISBLANK(C$13),\" \",IF(ISBLANK(C15),\" \",IF($Q$8=2,ROUND(((C15)/C$12)*100,0),ROUND((C15/$C$12)*100,0)))))","v":"  "},null,{"$f":"IF(ISBLANK(E12),\"  \",IF(ISBLANK(E13),\" \",IF(ISBLANK(E15),\" \",IF($Q$8=2,ROUND(((E15)/E12)*100,0),ROUND((E15/E12)*100,0)))))","v":"  "},null,{"$f":"IF(ISBLANK(G12),\"  \",IF(ISBLANK(G13),\" \",IF(ISBLANK(G15),\" \",IF($Q$8=2,ROUND(((G15)/G12)*100,0),ROUND((G15/G12)*100,0)))))","v":"  "},null,{"$f":"IF(ISBLANK(I12),\"  \",IF(ISBLANK(I13),\" \",IF(ISBLANK(I15),\" \",IF($Q$8=2,ROUND(((I15)/I12)*100,0),ROUND((I15/I12)*100,0)))))","v":"  "},null,{"$f":"IF(ISBLANK(K12),\"  \",IF(ISBLANK(K13),\" \",IF(ISBLANK(K15),\" \",IF($Q$8=2,ROUND(((K15)/K12)*100,0),ROUND((K15/K12)*100,0)))))","v":"  "},null,{"$f":"IF(ISBLANK(M12),\"  \",IF(ISBLANK(M13),\" \",IF(ISBLANK(M15),\" \",IF($Q$8=2,ROUND(((M15)/M12)*100,0),ROUND((M15/M12)*100,0)))))","v":"  "}]
[{"$f":"IF(L4=\"DSA\",\"100\",\"Breaker\")","v":"Breaker"},{"$f":"'S1'!B16","v":1},null,"  ",null,{"$f":"IF(ISBLANK(E12),\"  \",IF(ISBLANK(E13),\" \",IF(ISBLANK(E16),\" \",IF($Q$8=2,ROUND(((E16)/E12)*100,0),ROUND((E16/E12)*100,0)))))","v":"  "},null,{"$f":"IF(ISBLANK(G12),\"  \",IF(ISBLANK(G13),\" \",IF(ISBLANK(G16),\" \",IF($Q$8=2,ROUND(((G16)/G12)*100,0),ROUND((G16/G12)*100,0)))))","v":"  "},null,{"$f":"IF(ISBLANK(I12),\"  \",IF(ISBLANK(I13),\" \",IF(ISBLANK(I16),\" \",IF($Q$8=2,ROUND(((I16)/I12)*100,0),ROUND((I16/I12)*100,0)))))","v":"  "},null,{"$f":"IF(ISBLANK(K12),\"  \",IF(ISBLANK(K13),\" \",IF(ISBLANK(K16),\" \",IF($Q$8=2,ROUND(((K16)/K12)*100,0),ROUND((K16/K12)*100,0)))))","v":"  "},null,{"$f":"IF(ISBLANK(M12),\"  \",IF(ISBLANK(M13),\" \",IF(ISBLANK(M16),\" \",IF($Q$8=2,ROUND(((M16)/M12)*100,0),ROUND((M16/M12)*100,0)))))","v":"  "}]
[{"$f":"IF(L4=\"2RC\",\" \",IF(L4=\"DSA\",\"65-95\",\"52-100\"))","v":"52-100"},0.75,null,"  ",null,{"$f":"IF(ISBLANK(E12),\"  \",IF(ISBLANK(E13),\" \",IF(ISBLANK(E17),\" \",IF($Q$8=2,ROUND(((E17)/E12)*100,0),ROUND((E17/E12)*100,0)))))","v":"  "},null,{"$f":"IF(ISBLANK(G12),\"  \",IF(ISBLANK(G13),\" \",IF(ISBLANK(G17),\" \",IF($Q$8=2,ROUND(((G17)/G12)*100,0),ROUND((G17/G12)*100,0)))))","v":"  "},null,{"$f":"IF(ISBLANK(I12),\"  \",IF(ISBLANK(I13),\" \",IF(ISBLANK(I17),\" \",IF($Q$8=2,ROUND(((I17)/I12)*100,0),ROUND((I17/I12)*100,0)))))","v":"  "},null,{"$f":"IF(ISBLANK(K12),\"  \",IF(ISBLANK(K13),\" \",IF(ISBLANK(K17),\" \",IF($Q$8=2,ROUND(((K17)/K12)*100,0),ROUND((K17/K12)*100,0)))))","v":"  "},null,{"$f":"IF(ISBLANK(M12),\"  \",IF(ISBLANK(M13),\" \",IF(ISBLANK(M17),\" \",IF($Q$8=2,ROUND(((M17)/M12)*100,0),ROUND((M17/M12)*100,0)))))","v":"  "}]
["Breaker",0.5,null,"  ",null,{"$f":"IF(ISBLANK(E12),\"  \",IF(ISBLANK(E13),\" \",IF(ISBLANK(E18),\" \",IF($Q$8=2,ROUND(((E18)/E12)*100,0),ROUND((E18/E12)*100,0)))))","v":"  "},null,{"$f":"IF(ISBLANK(G12),\"  \",IF(ISBLANK(G13),\" \",IF(ISBLANK(G18),\" \",IF($Q$8=2,ROUND(((G18)/G12)*100,0),ROUND((G18/G12)*100,0)))))","v":"  "},null,{"$f":"IF(ISBLANK(I12),\"  \",IF(ISBLANK(I13),\" \",IF(ISBLANK(I18),\" \",IF($Q$8=2,ROUND(((I18)/I12)*100,0),ROUND((I18/I12)*100,0)))))","v":"  "},null,{"$f":"IF(ISBLANK(K12),\"  \",IF(ISBLANK(K13),\" \",IF(ISBLANK(K18),\" \",IF($Q$8=2,ROUND(((K18)/K12)*100,0),ROUND((K18/K12)*100,0)))))","v":"  "},null,{"$f":"IF(ISBLANK(M12),\"  \",IF(ISBLANK(M13),\" \",IF(ISBLANK(M18),\" \",IF($Q$8=2,ROUND(((M18)/M12)*100,0),ROUND((M18/M12)*100,0)))))","v":"  "}]
[{"$f":"IF(L4=\"2A\",\"36-70\",IF(L4=\"DSA\",\" \",IF(L4=\"OGS\",\"36-65\",IF(L4=\"2RC\",\" \",IF(ISBLANK(L4),\"36-70\")))))","v":"36-70"},0.375,null,"  ",null,{"$f":"IF(ISBLANK(E12),\"  \",IF(ISBLANK(E13),\" \",IF(ISBLANK(E19),\" \",IF($Q$8=2,ROUND(((E19)/E12)*100,0),ROUND((E19/E12)*100,0)))))","v":"  "},null,{"$f":"IF(ISBLANK(G12),\"  \",IF(ISBLANK(G13),\" \",IF(ISBLANK(G19),\" \",IF($Q$8=2,ROUND(((G19)/G12)*100,0),ROUND((G19/G12)*100,0)))))","v":"  "},null,{"$f":"IF(ISBLANK(I12),\"  \",IF(ISBLANK(I13),\" \",IF(ISBLANK(I19),\" \",IF($Q$8=2,ROUND(((I19)/I12)*100,0),ROUND((I19/I12)*100,0)))))","v":"  "},null,{"$f":"IF(ISBLANK(K12),\"  \",IF(ISBLANK(K13),\" \",IF(ISBLANK(K19),\" \",IF($Q$8=2,ROUND(((K19)/K12)*100,0),ROUND((K19/K12)*100,0)))))","v":"  "},null,{"$f":"IF(ISBLANK(M12),\"  \",IF(ISBLANK(M13),\" \",IF(ISBLANK(M19),\" \",IF($Q$8=2,ROUND(((M19)/M12)*100,0),ROUND((M19/M12)*100,0)))))","v":"  "}]
[{"$f":"IF(L4=\"2A\",\"24-50\",IF(L4=\"DSA\",\"30-65 \",IF(L4=\"OGS\",\"8-40\",IF(L4=\"2RC\",\"15-60 \",IF(ISBLANK(L4),\"24-50\")))))","v":"24-50"},4,null,"  ",null,{"$f":"IF(ISBLANK(E12),\"  \",IF(ISBLANK(E13),\" \",IF(ISBLANK(E20),\" \",IF($Q$8=2,ROUND(((E20)/E$12)*100,0),ROUND((E20/E12)*100,0)))))","v":"  "},null,{"$f":"IF(ISBLANK(G12),\"  \",IF(ISBLANK(G13),\" \",IF(ISBLANK(G20),\" \",IF($Q$8=2,ROUND(((G20)/G$12)*100,0),ROUND((G20/G12)*100,0)))))","v":"  "},null,{"$f":"IF(ISBLANK(I12),\"  \",IF(ISBLANK(I13),\" \",IF(ISBLANK(I20),\" \",IF($Q$8=2,ROUND(((I20)/I$12)*100,0),ROUND((I20/I12)*100,0)))))","v":"  "},null,{"$f":"IF(ISBLANK(K12),\"  \",IF(ISBLANK(K13),\" \",IF(ISBLANK(K20),\" \",IF($Q$8=2,ROUND(((K20)/K$12)*100,0),ROUND((K20/K12)*100,0)))))","v":"  "},null,{"$f":"IF(ISBLANK(M12),\"  \",IF(ISBLANK(M13),\" \",IF(ISBLANK(M20),\" \",IF($Q$8=2,ROUND(((M20)/M$12)*100,0),ROUND((M20/M12)*100,0)))))","v":"  "}]
["Starting Weight",null,null,{"$f":"IF(ISBLANK(C$12),\"  \",IF(ISBLANK(C$13),\" \",IF($Q$8=2,\"% Loss\",ROUND((C21/$C$12)*100,0))))","v":"  "},null,{"$f":"IF(ISBLANK(E12),\"  \",IF(ISBLANK(E13),\" \",IF($Q$8=2,\"% Loss\",ROUND((E21/E12)*100,0))))","v":"  "},null,{"$f":"IF(ISBLANK(G12),\"  \",IF(ISBLANK(G13),\" \",IF($Q$8=2,\"% Loss\",ROUND((G21/G12)*100,0))))","v":"  "},null,{"$f":"IF(ISBLANK(I12),\"  \",IF(ISBLANK(I13),\" \",IF($Q$8=2,\"% Loss\",ROUND((I21/I12)*100,0))))","v":"  "},null,{"$f":"IF(ISBLANK(K12),\"  \",IF(ISBLANK(K13),\" \",IF($Q$8=2,\"% Loss\",ROUND((K21/K12)*100,0))))","v":"  "},null,{"$f":"IF(ISBLANK(M12),\"  \",IF(ISBLANK(M13),\" \",IF($Q$8=2,\"% Loss\",ROUND((M21/M12)*100,0))))","v":"  "}]
["Ending Weight",null,null,{"$f":"IF(ISBLANK(C$12),\"  \",IF(ISBLANK(C$13),\" \",IF(ISBLANK(C22),\" \",IF($Q$8=2,((C21-C22)/C21)*100,ROUND((C22/$C$12)*100,0)))))","v":"  "},null,{"$f":"IF(ISBLANK(E12),\"  \",IF(ISBLANK(E13),\" \",IF(ISBLANK(E22),\" \",IF($Q$8=2,((E21-E22)/E21)*100,ROUND((E22/E12)*100,0)))))","v":"  "},null,{"$f":"IF(ISBLANK(G12),\"  \",IF(ISBLANK(G13),\" \",IF(ISBLANK(G22),\" \",IF($Q$8=2,((G21-G22)/G21)*100,ROUND((G22/G12)*100,0)))))","v":"  "},null,{"$f":"IF(ISBLANK(I12),\"  \",IF(ISBLANK(I13),\" \",IF(ISBLANK(I22),\" \",IF($Q$8=2,((I21-I22)/I21)*100,ROUND((I22/I12)*100,0)))))","v":"  "},null,{"$f":"IF(ISBLANK(K12),\"  \",IF(ISBLANK(K13),\" \",IF(ISBLANK(K22),\" \",IF($Q$8=2,((K21-K22)/K21)*100,ROUND((K22/K12)*100,0)))))","v":"  "},null,{"$f":"IF(ISBLANK(M12),\"  \",IF(ISBLANK(M13),\" \",IF(ISBLANK(M22),\" \",IF($Q$8=2,((M21-M22)/M21)*100,ROUND((M22/M12)*100,0)))))","v":"  "}]
["Spec","Sieve","Wt.",{"$f":"IF(ISBLANK(C$12),\"  \",IF(ISBLANK(C$13),\" \",IF(ISBLANK(C23),\" \",IF($Q$8=2,\"% Passing\",ROUND((C23/$C$12)*100,0)))))","v":"  "},"Wt.",{"$f":"IF(ISBLANK(E12),\"  \",IF(ISBLANK(E13),\" \",IF(ISBLANK(E23),\" \",IF($Q$8=2,\"% Passing\",ROUND((E23/E12)*100,0)))))","v":"  "},"Wt.",{"$f":"IF(ISBLANK(G12),\"  \",IF(ISBLANK(G13),\" \",IF(ISBLANK(G23),\" \",IF($Q$8=2,\"% Passing\",ROUND((G23/G12)*100,0)))))","v":"  "},"Wt.",{"$f":"IF(ISBLANK(I12),\"  \",IF(ISBLANK(I13),\" \",IF(ISBLANK(I23),\" \",IF($Q$8=2,\"% Passing\",ROUND((I23/I12)*100,0)))))","v":"  "},"Wt.",{"$f":"IF(ISBLANK(K12),\"  \",IF(ISBLANK(K13),\" \",IF(ISBLANK(K23),\" \",IF($Q$8=2,\"% Passing\",ROUND((K23/K12)*100,0)))))","v":"  "},"Wt.",{"$f":"IF(ISBLANK(M12),\"  \",IF(ISBLANK(M13),\" \",IF(ISBLANK(M23),\" \",IF($Q$8=2,\"% Passing\",ROUND((M23/M12)*100,0)))))","v":"  "}]
[{"$f":"IF(L4=\"2A\",\"10-30\",IF(L4=\"DSA\",\"15-30\",IF(L4=\"OGS\",\"0-12\",IF(L4=\"2RC\",\"0-30\",IF(ISBLANK(L4),\"10-30\")))))","v":"10-30"},{"$f":"IF(L4=\"2RC\",100,16)","v":16},null,{"$f":"IF(ISBLANK(C$12),\"  \",IF(ISBLANK(C$13),\" \",IF(ISBLANK(C24),\" \",IF($Q$8=2,(C20/C21*C24)/C12*100,ROUND((C24/$C$12)*100,0)))))","v":"  "},null,{"$f":"IF(ISBLANK(E12),\"  \",IF(ISBLANK(E13),\" \",IF(ISBLANK(E24),\" \",IF($Q$8=2,(E20/E21*E24)/E12*100,ROUND((E24/E12)*100,0)))))","v":"  "},null,{"$f":"IF(ISBLANK(G12),\"  \",IF(ISBLANK(G13),\" \",IF(ISBLANK(G24),\" \",IF($Q$8=2,(G20/G21*G24)/G12*100,ROUND((G24/G12)*100,0)))))","v":"  "},null,{"$f":"IF(ISBLANK(I12),\"  \",IF(ISBLANK(I13),\" \",IF(ISBLANK(I24),\" \",IF($Q$8=2,(I20/I21*I24)/I12*100,ROUND((I24/I12)*100,0)))))","v":"  "},null,{"$f":"IF(ISBLANK(K12),\"  \",IF(ISBLANK(K13),\" \",IF(ISBLANK(K24),\" \",IF($Q$8=2,(K20/K21*K24)/K12*100,ROUND((K24/K12)*100,0)))))","v":"  "},null,{"$f":"IF(ISBLANK(M12),\"  \",IF(ISBLANK(M13),\" \",IF(ISBLANK(M24),\" \",IF($Q$8=2,(M20/M21*M24)/M12*100,ROUND((M24/M12)*100,0)))))","v":"  "}]
[{"$f":"IF(L4=\"DSA\",\"10-15\",\"Info\")","v":"Info"},200,null,{"$f":"IF(ISBLANK(C$12),\"  \",IF(ISBLANK(C$13),\" \",IF(ISBLANK(C25),\" \",IF($Q$8=2,(C20/C21*C25)/C12*100,ROUND((C25/$C$12)*100,0)))))","v":"  "},null,{"$f":"IF(ISBLANK(E12),\"  \",IF(ISBLANK(E13),\" \",IF(ISBLANK(E25),\" \",IF($Q$8=2,(E20/E21*E25)/E12*100,ROUND((E25/E12)*100,0)))))","v":"  "},null,{"$f":"IF(ISBLANK(G12),\"  \",IF(ISBLANK(G13),\" \",IF(ISBLANK(G25),\" \",IF($Q$8=2,(G20/G21*G25)/G12*100,ROUND((G25/G12)*100,0)))))","v":"  "},null,{"$f":"IF(ISBLANK(I12),\"  \",IF(ISBLANK(I13),\" \",IF(ISBLANK(I25),\" \",IF($Q$8=2,(I20/I21*I25)/I12*100,ROUND((I25/I12)*100,0)))))","v":"  "},null,{"$f":"IF(ISBLANK(K12),\"  \",IF(ISBLANK(K13),\" \",IF(ISBLANK(K25),\" \",IF($Q$8=2,(K20/K21*K25)/K12*100,ROUND((K25/K12)*100,0)))))","v":"  "},null,{"$f":"IF(ISBLANK(M12),\"  \",IF(ISBLANK(M13),\" \",IF(ISBLANK(M25),\" \",IF($Q$8=2,(M20/M21*M25)/M12*100,ROUND((M25/M12)*100,0)))))","v":"  "}]
["Wash ",{"$f":"IF(L4=\"2A\",\"0-10\",IF(L4=\"OGS\",\"0-5\",IF(L4=\"DSA\",\"10-15\",IF(L4=\"2RC\",\" \",IF(ISBLANK(L4),\"0-10\")))))","v":"0-10"},{"$f":"IF($L$4=\"OGS\",\"Coeff. Unf.\",\" \")","v":" "},{"$f":"IF(ISBLANK($L$4),\" \",IF($L$4=\"2A\",\" \",IF($L$4=\"2RC\",\" \",IF(ISERROR(D68),\" \",D68))))","v":" "},{"$f":"IF($L$4=\"OGS\",\"Coeff. Unf.\",\" \")","v":" "},{"$f":"IF(ISBLANK($L$4),\" \",IF($L$4=\"2A\",\" \",IF($L$4=\"2RC\",\" \",IF(ISERROR(F68),\" \",F68))))","v":" "},{"$f":"IF($L$4=\"OGS\",\"Coeff. Unf.\",\" \")","v":" "},{"$f":"IF(ISBLANK($L$4),\" \",IF($L$4=\"2A\",\" \",IF($L$4=\"2RC\",\" \",IF(ISERROR(H68),\" \",H68))))","v":" "},{"$f":"IF($L$4=\"OGS\",\"Coeff. Unf.\",\" \")","v":" "},{"$f":"IF(ISBLANK($L$4),\" \",IF($L$4=\"2A\",\" \",IF($L$4=\"2RC\",\" \",IF(ISERROR(J68),\" \",J68))))","v":" "},{"$f":"IF($L$4=\"OGS\",\"Coeff. Unf.\",\" \")","v":" "},{"$f":"IF(ISBLANK($L$4),\" \",IF($L$4=\"2A\",\" \",IF($L$4=\"2RC\",\" \",IF(ISERROR(L68),\" \",L68))))","v":" "},{"$f":"IF($L$4=\"OGS\",\"Coeff. Unf.\",\" \")","v":" "},{"$f":"IF(ISBLANK($L$4),\" \",IF($L$4=\"2A\",\" \",IF($L$4=\"2RC\",\" \",IF(ISERROR(N68),\" \",N68))))","v":" "}]
["St. Wt. Before Wash",null,null,"% Passing",null,"% Passing",null,"% Passing",null,"% Passing",null,"% Passing",null,"% Passing"]
["End Wt. After Wash",null,null,{"$f":"IF(ISBLANK(C27),\" \",IF(ISBLANK(C28),\" \",((C27-C28)/C27)*100))","v":" "},null,{"$f":"IF(ISBLANK(E27),\" \",IF(ISBLANK(E28),\" \",((E27-E28)/E27)*100))","v":" "},null,{"$f":"IF(ISBLANK(G27),\" \",IF(ISBLANK(G28),\" \",((G27-G28)/G27)*100))","v":" "},null,{"$f":"IF(ISBLANK(I27),\" \",IF(ISBLANK(I28),\" \",((I27-I28)/I27)*100))","v":" "},null,{"$f":"IF(ISBLANK(K27),\" \",IF(ISBLANK(K28),\" \",((K27-K28)/K27)*100))","v":" "},null,{"$f":"IF(ISBLANK(M27),\" \",IF(ISBLANK(M28),\" \",((M27-M28)/M27)*100))","v":" "}]
["Tested By"]
["Remarks"]
[]
[]
[]
["Sample No."]
["Date"]
["Starting Weight",null,null,"% Loss",null,"% Loss",null,"% Loss",null,"% Loss",null,"% Loss",null,"% Loss"]
["Ending Weight",null,null,{"$f":"IF(ISBLANK(C36),\" \",IF(ISBLANK(C37),\" \",((C36-C37)/C36)*100))","v":" "},null,{"$f":"IF(ISBLANK(E36),\" \",IF(ISBLANK(E37),\" \",((E36-E37)/E36)*100))","v":" "},null,{"$f":"IF(ISBLANK(G36),\" \",IF(ISBLANK(G37),\" \",((G36-G37)/G36)*100))","v":" "},null,{"$f":"IF(ISBLANK(I36),\" \",IF(ISBLANK(I37),\" \",((I36-I37)/I36)*100))","v":" "},null,{"$f":"IF(ISBLANK(K36),\" \",IF(ISBLANK(K37),\" \",((K36-K37)/K36)*100))","v":" "},null,{"$f":"IF(ISBLANK(M36),\" \",IF(ISBLANK(M37),\" \",((M36-M37)/M36)*100))","v":" "}]
["Spec","Sieve","Wt.","% Passing","Wt.","% Passing","Wt.","% Passing","Wt.","% Passing","Wt.","% Passing","Wt.","% Passing"]
[100,2,null,{"$f":"IF(ISBLANK(C36),\"  \",IF(ISBLANK(C37),\" \",IF(ISBLANK(C39),\" \",IF($Q$8=2,ROUND(((C39)/C36)*100,0),ROUND((C39/C36)*100,0)))))","v":"  "},null,{"$f":"IF(ISBLANK(E36),\"  \",IF(ISBLANK(E37),\" \",IF(ISBLANK(E39),\" \",IF($Q$8=2,ROUND(((E39)/E36)*100,0),ROUND((E39/E36)*100,0)))))","v":"  "},null,{"$f":"IF(ISBLANK(G36),\"  \",IF(ISBLANK(G37),\" \",IF(ISBLANK(G39),\" \",IF($Q$8=2,ROUND(((G39)/G36)*100,0),ROUND((G39/G36)*100,0)))))","v":"  "},null,{"$f":"IF(ISBLANK(I36),\"  \",IF(ISBLANK(I37),\" \",IF(ISBLANK(I39),\" \",IF($Q$8=2,ROUND(((I39)/I36)*100,0),ROUND((I39/I36)*100,0)))))","v":"  "},null,{"$f":"IF(ISBLANK(K36),\"  \",IF(ISBLANK(K37),\" \",IF(ISBLANK(K39),\" \",IF($Q$8=2,ROUND(((K39)/K36)*100,0),ROUND((K39/K36)*100,0)))))","v":"  "},null,{"$f":"IF(ISBLANK(M36),\"  \",IF(ISBLANK(M37),\" \",IF(ISBLANK(M39),\" \",IF($Q$8=2,ROUND(((M39)/M36)*100,0),ROUND((M39/M36)*100,0)))))","v":"  "}]
[{"$f":"IF(L4=\"DSA\",\"100\",\"Breaker\")","v":"Breaker"},{"$f":"'S1'!B40","v":1},null,{"$f":"IF(ISBLANK(C36),\"  \",IF(ISBLANK(C37),\" \",IF(ISBLANK(C40),\" \",IF($Q$8=2,ROUND(((C40)/C36)*100,0),ROUND((C40/C36)*100,0)))))","v":"  "},null,{"$f":"IF(ISBLANK(E36),\"  \",IF(ISBLANK(E37),\" \",IF(ISBLANK(E40),\" \",IF($Q$8=2,ROUND(((E40)/E36)*100,0),ROUND((E40/E36)*100,0)))))","v":"  "},null,{"$f":"IF(ISBLANK(G36),\"  \",IF(ISBLANK(G37),\" \",IF(ISBLANK(G40),\" \",IF($Q$8=2,ROUND(((G40)/G36)*100,0),ROUND((G40/G36)*100,0)))))","v":"  "},null,{"$f":"IF(ISBLANK(I36),\"  \",IF(ISBLANK(I37),\" \",IF(ISBLANK(I40),\" \",IF($Q$8=2,ROUND(((I40)/I36)*100,0),ROUND((I40/I36)*100,0)))))","v":"  "},null,{"$f":"IF(ISBLANK(K36),\"  \",IF(ISBLANK(K37),\" \",IF(ISBLANK(K40),\" \",IF($Q$8=2,ROUND(((K40)/K36)*100,0),ROUND((K40/K36)*100,0)))))","v":"  "},null,{"$f":"IF(ISBLANK(M36),\"  \",IF(ISBLANK(M37),\" \",IF(ISBLANK(M40),\" \",IF($Q$8=2,ROUND(((M40)/M36)*100,0),ROUND((M40/M36)*100,0)))))","v":"  "}]
[{"$f":"IF(L4=\"2RC\",\" \",IF(L4=\"DSA\",\"65-95\",\"52-100\"))","v":"52-100"},0.75,null,{"$f":"IF(ISBLANK(C36),\"  \",IF(ISBLANK(C37),\" \",IF(ISBLANK(C41),\" \",IF($Q$8=2,ROUND(((C41)/C36)*100,0),ROUND((C41/C36)*100,0)))))","v":"  "},null,{"$f":"IF(ISBLANK(E36),\"  \",IF(ISBLANK(E37),\" \",IF(ISBLANK(E41),\" \",IF($Q$8=2,ROUND(((E41)/E36)*100,0),ROUND((E41/E36)*100,0)))))","v":"  "},null,{"$f":"IF(ISBLANK(G36),\"  \",IF(ISBLANK(G37),\" \",IF(ISBLANK(G41),\" \",IF($Q$8=2,ROUND(((G41)/G36)*100,0),ROUND((G41/G36)*100,0)))))","v":"  "},null,{"$f":"IF(ISBLANK(I36),\"  \",IF(ISBLANK(I37),\" \",IF(ISBLANK(I41),\" \",IF($Q$8=2,ROUND(((I41)/I36)*100,0),ROUND((I41/I36)*100,0)))))","v":"  "},null,{"$f":"IF(ISBLANK(K36),\"  \",IF(ISBLANK(K37),\" \",IF(ISBLANK(K41),\" \",IF($Q$8=2,ROUND(((K41)/K36)*100,0),ROUND((K41/K36)*100,0)))))","v":"  "},null,{"$f":"IF(ISBLANK(M36),\"  \",IF(ISBLANK(M37),\" \",IF(ISBLANK(M41),\" \",IF($Q$8=2,ROUND(((M41)/M36)*100,0),ROUND((M41/M36)*100,0)))))","v":"  "}]
["Breaker",0.5,null,{"$f":"IF(ISBLANK(C36),\"  \",IF(ISBLANK(C37),\" \",IF(ISBLANK(C42),\" \",IF($Q$8=2,ROUND(((C42)/C36)*100,0),ROUND((C42/C36)*100,0)))))","v":"  "},null,{"$f":"IF(ISBLANK(E36),\"  \",IF(ISBLANK(E37),\" \",IF(ISBLANK(E42),\" \",IF($Q$8=2,ROUND(((E42)/E36)*100,0),ROUND((E42/E36)*100,0)))))","v":"  "},null,{"$f":"IF(ISBLANK(G36),\"  \",IF(ISBLANK(G37),\" \",IF(ISBLANK(G42),\" \",IF($Q$8=2,ROUND(((G42)/G36)*100,0),ROUND((G42/G36)*100,0)))))","v":"  "},null,{"$f":"IF(ISBLANK(I36),\"  \",IF(ISBLANK(I37),\" \",IF(ISBLANK(I42),\" \",IF($Q$8=2,ROUND(((I42)/I36)*100,0),ROUND((I42/I36)*100,0)))))","v":"  "},null,{"$f":"IF(ISBLANK(K36),\"  \",IF(ISBLANK(K37),\" \",IF(ISBLANK(K42),\" \",IF($Q$8=2,ROUND(((K42)/K36)*100,0),ROUND((K42/K36)*100,0)))))","v":"  "},null,{"$f":"IF(ISBLANK(M36),\"  \",IF(ISBLANK(M37),\" \",IF(ISBLANK(M42),\" \",IF($Q$8=2,ROUND(((M42)/M36)*100,0),ROUND((M42/M36)*100,0)))))","v":"  "}]
[{"$f":"IF(L4=\"2A\",\"36-70\",IF(L4=\"DSA\",\" \",IF(L4=\"OGS\",\"36-65\",IF(L4=\"2RC\",\" \",IF(ISBLANK(L4),\"36-70\")))))","v":"36-70"},0.375,null,{"$f":"IF(ISBLANK(C36),\"  \",IF(ISBLANK(C37),\" \",IF(ISBLANK(C43),\" \",IF($Q$8=2,ROUND(((C43)/C36)*100,0),ROUND((C43/C36)*100,0)))))","v":"  "},null,{"$f":"IF(ISBLANK(E36),\"  \",IF(ISBLANK(E37),\" \",IF(ISBLANK(E43),\" \",IF($Q$8=2,ROUND(((E43)/E36)*100,0),ROUND((E43/E36)*100,0)))))","v":"  "},null,{"$f":"IF(ISBLANK(G36),\"  \",IF(ISBLANK(G37),\" \",IF(ISBLANK(G43),\" \",IF($Q$8=2,ROUND(((G43)/G36)*100,0),ROUND((G43/G36)*100,0)))))","v":"  "},null,{"$f":"IF(ISBLANK(I36),\"  \",IF(ISBLANK(I37),\" \",IF(ISBLANK(I43),\" \",IF($Q$8=2,ROUND(((I43)/I36)*100,0),ROUND((I43/I36)*100,0)))))","v":"  "},null,{"$f":"IF(ISBLANK(K36),\"  \",IF(ISBLANK(K37),\" \",IF(ISBLANK(K43),\" \",IF($Q$8=2,ROUND(((K43)/K36)*100,0),ROUND((K43/K36)*100,0)))))","v":"  "},null,{"$f":"IF(ISBLANK(M36),\"  \",IF(ISBLANK(M37),\" \",IF(ISBLANK(M43),\" \",IF($Q$8=2,ROUND(((M43)/M36)*100,0),ROUND((M43/M36)*100,0)))))","v":"  "}]
[{"$f":"IF(L4=\"2A\",\"24-50\",IF(L4=\"DSA\",\"30-65 \",IF(L4=\"OGS\",\"8-40\",IF(L4=\"2RC\",\"15-60 \",IF(ISBLANK(4),\"24-50\")))))","v":"24-50"},4,null,{"$f":"IF(ISBLANK(C36),\"  \",IF(ISBLANK(C37),\" \",IF(ISBLANK(C44),\" \",IF($Q$8=2,ROUND(((C44)/C36)*100,0),ROUND((C44/C36)*100,0)))))","v":"  "},null,{"$f":"IF(ISBLANK(E36),\"  \",IF(ISBLANK(E37),\" \",IF(ISBLANK(E44),\" \",IF($Q$8=2,ROUND(((E44)/E36)*100,0),ROUND((E44/E36)*100,0)))))","v":"  "},null,{"$f":"IF(ISBLANK(G36),\"  \",IF(ISBLANK(G37),\" \",IF(ISBLANK(G44),\" \",IF($Q$8=2,ROUND(((G44)/G36)*100,0),ROUND((G44/G36)*100,0)))))","v":"  "},null,{"$f":"IF(ISBLANK(I36),\"  \",IF(ISBLANK(I37),\" \",IF(ISBLANK(I44),\" \",IF($Q$8=2,ROUND(((I44)/I36)*100,0),ROUND((I44/I36)*100,0)))))","v":"  "},null,{"$f":"IF(ISBLANK(K36),\"  \",IF(ISBLANK(K37),\" \",IF(ISBLANK(K44),\" \",IF($Q$8=2,ROUND(((K44)/K36)*100,0),ROUND((K44/K36)*100,0)))))","v":"  "},null,{"$f":"IF(ISBLANK(M36),\"  \",IF(ISBLANK(M37),\" \",IF(ISBLANK(M44),\" \",IF($Q$8=2,ROUND(((M44)/M36)*100,0),ROUND((M44/M36)*100,0)))))","v":"  "}]
["Starting Weight",null,null,{"$f":"IF(ISBLANK(C36),\"  \",IF(ISBLANK(C37),\" \",IF($Q$8=2,\"% Loss\",ROUND((C45/C36)*100,0))))","v":"  "},null,{"$f":"IF(ISBLANK(E36),\"  \",IF(ISBLANK(E37),\" \",IF($Q$8=2,\"% Loss\",ROUND((E45/E36)*100,0))))","v":"  "},null,{"$f":"IF(ISBLANK(G36),\"  \",IF(ISBLANK(G37),\" \",IF($Q$8=2,\"% Loss\",ROUND((G45/G36)*100,0))))","v":"  "},null,{"$f":"IF(ISBLANK(I36),\"  \",IF(ISBLANK(I37),\" \",IF($Q$8=2,\"% Loss\",ROUND((I45/I36)*100,0))))","v":"  "},null,{"$f":"IF(ISBLANK(K36),\"  \",IF(ISBLANK(K37),\" \",IF($Q$8=2,\"% Loss\",ROUND((K45/K36)*100,0))))","v":"  "},null,{"$f":"IF(ISBLANK(M36),\"  \",IF(ISBLANK(M37),\" \",IF($Q$8=2,\"% Loss\",ROUND((M45/M36)*100,0))))","v":"  "}]
["Ending Weight",null,null,{"$f":"IF(ISBLANK(C36),\"  \",IF(ISBLANK(C37),\" \",IF(ISBLANK(C46),\" \",IF($Q$8=2,((C45-C46)/C45)*100,ROUND((C46/C36)*100,0)))))","v":"  "},null,{"$f":"IF(ISBLANK(E36),\"  \",IF(ISBLANK(E37),\" \",IF(ISBLANK(E46),\" \",IF($Q$8=2,((E45-E46)/E45)*100,ROUND((E46/E36)*100,0)))))","v":"  "},null,{"$f":"IF(ISBLANK(G36),\"  \",IF(ISBLANK(G37),\" \",IF(ISBLANK(G46),\" \",IF($Q$8=2,((G45-G46)/G45)*100,ROUND((G46/G36)*100,0)))))","v":"  "},null,{"$f":"IF(ISBLANK(I36),\"  \",IF(ISBLANK(I37),\" \",IF(ISBLANK(I46),\" \",IF($Q$8=2,((I45-I46)/I45)*100,ROUND((I46/I36)*100,0)))))","v":"  "},null,{"$f":"IF(ISBLANK(K36),\"  \",IF(ISBLANK(K37),\" \",IF(ISBLANK(K46),\" \",IF($Q$8=2,((K45-K46)/K45)*100,ROUND((K46/K36)*100,0)))))","v":"  "},null,{"$f":"IF(ISBLANK(M36),\"  \",IF(ISBLANK(M37),\" \",IF(ISBLANK(M46),\" \",IF($Q$8=2,((M45-M46)/M45)*100,ROUND((M46/M36)*100,0)))))","v":"  "}]
["Spec","Sieve","Wt.",{"$f":"IF(ISBLANK(C36),\"  \",IF(ISBLANK(C37),\" \",IF(ISBLANK(C47),\" \",IF($Q$8=2,\"% Passing\",ROUND((C47/C36)*100,0)))))","v":"  "},"Wt.",{"$f":"IF(ISBLANK(E36),\"  \",IF(ISBLANK(E37),\" \",IF(ISBLANK(E47),\" \",IF($Q$8=2,\"% Passing\",ROUND((E47/E36)*100,0)))))","v":"  "},"Wt.",{"$f":"IF(ISBLANK(G36),\"  \",IF(ISBLANK(G37),\" \",IF(ISBLANK(G47),\" \",IF($Q$8=2,\"% Passing\",ROUND((G47/G36)*100,0)))))","v":"  "},"Wt.",{"$f":"IF(ISBLANK(I36),\"  \",IF(ISBLANK(I37),\" \",IF(ISBLANK(I47),\" \",IF($Q$8=2,\"% Passing\",ROUND((I47/I36)*100,0)))))","v":"  "},"Wt.",{"$f":"IF(ISBLANK(K36),\"  \",IF(ISBLANK(K37),\" \",IF(ISBLANK(K47),\" \",IF($Q$8=2,\"% Passing\",ROUND((K47/K36)*100,0)))))","v":"  "},"Wt.",{"$f":"IF(ISBLANK(M36),\"  \",IF(ISBLANK(M37),\" \",IF(ISBLANK(M47),\" \",IF($Q$8=2,\"% Passing\",ROUND((M47/M36)*100,0)))))","v":"  "}]
[{"$f":"IF(L4=\"2A\",\"10-30\",IF(L4=\"DSA\",\"15-30\",IF(L4=\"OGS\",\"0-12\",IF(L4=\"2RC\",\"0-30\",IF(ISBLANK(L4),\"10-30\")))))","v":"10-30"},{"$f":"IF(L4=\"2RC\",100,16)","v":16},null,{"$f":"IF(ISBLANK(C36),\"  \",IF(ISBLANK(C37),\" \",IF(ISBLANK(C48),\" \",IF($Q$8=2,(C44/C45*C48)/C36*100,ROUND((C48/C36)*100,0)))))","v":"  "},null,{"$f":"IF(ISBLANK(E36),\"  \",IF(ISBLANK(E37),\" \",IF(ISBLANK(E48),\" \",IF($Q$8=2,(E44/E45*E48)/E36*100,ROUND((E48/E36)*100,0)))))","v":"  "},null,{"$f":"IF(ISBLANK(G36),\"  \",IF(ISBLANK(G37),\" \",IF(ISBLANK(G48),\" \",IF($Q$8=2,(G44/G45*G48)/G36*100,ROUND((G48/G36)*100,0)))))","v":"  "},null,{"$f":"IF(ISBLANK(I36),\"  \",IF(ISBLANK(I37),\" \",IF(ISBLANK(I48),\" \",IF($Q$8=2,(I44/I45*I48)/I36*100,ROUND((I48/I36)*100,0)))))","v":"  "},null,{"$f":"IF(ISBLANK(K36),\"  \",IF(ISBLANK(K37),\" \",IF(ISBLANK(K48),\" \",IF($Q$8=2,(K44/K45*K48)/K36*100,ROUND((K48/K36)*100,0)))))","v":"  "},null,{"$f":"IF(ISBLANK(M36),\"  \",IF(ISBLANK(M37),\" \",IF(ISBLANK(M48),\" \",IF($Q$8=2,(M44/M45*M48)/M36*100,ROUND((M48/M36)*100,0)))))","v":"  "}]
[{"$f":"IF(L4=\"DSA\",\"10-15\",\"Info\")","v":"Info"},200,null,{"$f":"IF(ISBLANK(C36),\"  \",IF(ISBLANK(C37),\" \",IF(ISBLANK(C49),\" \",IF($Q$8=2,(C44/C45*C49)/C36*100,ROUND((C49/C36)*100,0)))))","v":"  "},null,{"$f":"IF(ISBLANK(E36),\"  \",IF(ISBLANK(E37),\" \",IF(ISBLANK(E49),\" \",IF($Q$8=2,(E44/E45*E49)/E36*100,ROUND((E49/E36)*100,0)))))","v":"  "},null,{"$f":"IF(ISBLANK(G36),\"  \",IF(ISBLANK(G37),\" \",IF(ISBLANK(G49),\" \",IF($Q$8=2,(G44/G45*G49)/G36*100,ROUND((G49/G36)*100,0)))))","v":"  "},null,{"$f":"IF(ISBLANK(I36),\"  \",IF(ISBLANK(I37),\" \",IF(ISBLANK(I49),\" \",IF($Q$8=2,(I44/I45*I49)/I36*100,ROUND((I49/I36)*100,0)))))","v":"  "},null,{"$f":"IF(ISBLANK(K36),\"  \",IF(ISBLANK(K37),\" \",IF(ISBLANK(K49),\" \",IF($Q$8=2,(K44/K45*K49)/K36*100,ROUND((K49/K36)*100,0)))))","v":"  "},null,{"$f":"IF(ISBLANK(M36),\"  \",IF(ISBLANK(M37),\" \",IF(ISBLANK(M49),\" \",IF($Q$8=2,(M44/M45*M49)/M36*100,ROUND((M49/M36)*100,0)))))","v":"  "}]
["Wash ",{"$f":"IF(L4=\"2A\",\"0-10\",IF(L4=\"OGS\",\"0-5\",IF(L4=\"DSA\",\"10-15\",IF(L4=\"2RC\",\" \",IF(ISBLANK(L4),\"0-10\")))))","v":"0-10"},{"$f":"IF($L$4=\"OGS\",\"Coeff. Unf.\",\" \")","v":" "},{"$f":"IF(ISBLANK($L$4),\" \",IF($L$4=\"2A\",\" \",IF($L$4=\"2RC\",\" \",IF(ISERROR(D79),\" \",D79))))","v":" "},{"$f":"IF($L$4=\"OGS\",\"Coeff. Unf.\",\" \")","v":" "},{"$f":"IF(ISBLANK($L$4),\" \",IF($L$4=\"2A\",\" \",IF($L$4=\"2RC\",\" \",IF(ISERROR(F79),\" \",F79))))","v":" "},{"$f":"IF($L$4=\"OGS\",\"Coeff. Unf.\",\" \")","v":" "},{"$f":"IF(ISBLANK($L$4),\" \",IF($L$4=\"2A\",\" \",IF($L$4=\"2RC\",\" \",IF(ISERROR(H79),\" \",H79))))","v":" "},{"$f":"IF($L$4=\"OGS\",\"Coeff. Unf.\",\" \")","v":" "},{"$f":"IF(ISBLANK($L$4),\" \",IF($L$4=\"2A\",\" \",IF($L$4=\"2RC\",\" \",IF(ISERROR(J79),\" \",J79))))","v":" "},{"$f":"IF($L$4=\"OGS\",\"Coeff. Unf.\",\" \")","v":" "},{"$f":"IF(ISBLANK($L$4),\" \",IF($L$4=\"2A\",\" \",IF($L$4=\"2RC\",\" \",IF(ISERROR(L79),\" \",L79))))","v":" "},{"$f":"IF($L$4=\"OGS\",\"Coeff. Unf.\",\" \")","v":" "},{"$f":"IF(ISBLANK($L$4),\" \",IF($L$4=\"2A\",\" \",IF($L$4=\"2RC\",\" \",IF(ISERROR(N79),\" \",N79))))","v":" "}]
["St. Wt. Before Wash",null,null,"% Passing",null,"% Passing",null,"% Passing",null,"% Passing",null,"% Passing",null,"% Passing"]
["End Wt. After Wash",null,null,{"$f":"IF(ISBLANK(C51),\" \",IF(ISBLANK(C52),\" \",((C51-C52)/C51)*100))","v":" "},null,{"$f":"IF(ISBLANK(E51),\" \",IF(ISBLANK(E52),\" \",((E51-E52)/E51)*100))","v":" "},null,{"$f":"IF(ISBLANK(G51),\" \",IF(ISBLANK(G52),\" \",((G51-G52)/G51)*100))","v":" "},null,{"$f":"IF(ISBLANK(I51),\" \",IF(ISBLANK(I52),\" \",((I51-I52)/I51)*100))","v":" "},null,{"$f":"IF(ISBLANK(K51),\" \",IF(ISBLANK(K52),\" \",((K51-K52)/K51)*100))","v":" "},null,{"$f":"IF(ISBLANK(M51),\" \",IF(ISBLANK(M52),\" \",((M51-M52)/M51)*100))","v":" "}]
["Tested By"]
["Remarks"]
[]
[]
[]
[]
[null,null,null,"Upper Coeff Unf"]
[19,null,19,{"$f":"D17","v":"  "},null,{"$f":"F17","v":"  "},null,{"$f":"H17","v":"  "},null,{"$f":"J17","v":"  "},null,{"$f":"L17","v":"  "},null,{"$f":"N17","v":"  "}]
[9.5,null,9.5,{"$f":"D19","v":"  "},null,{"$f":"F19","v":"  "},null,{"$f":"H19","v":"  "},null,{"$f":"J19","v":"  "},null,{"$f":"L19","v":"  "},null,{"$f":"N19","v":"  "}]
[null,null,"D60",{"$f":"FORECAST(60,$A$60:$A$61,D60:D61)","v":{"$error":"#DIV/0!"}},null,{"$f":"FORECAST(60,$A$60:$A$61,F60:F61)","v":{"$error":"#DIV/0!"}},null,{"$f":"FORECAST(60,$A$60:$A$61,H60:H61)","v":{"$error":"#DIV/0!"}},null,{"$f":"FORECAST(60,$A$60:$A$61,J60:J61)","v":{"$error":"#DIV/0!"}},null,{"$f":"FORECAST(60,$A$60:$A$61,L60:L61)","v":{"$error":"#DIV/0!"}},null,{"$f":"FORECAST(60,$A$60:$A$61,N60:N61)","v":{"$error":"#DIV/0!"}}]
[]
[4.75,null,4.75,{"$f":"D20","v":"  "},null,{"$f":"F20","v":"  "},null,{"$f":"H20","v":"  "},null,{"$f":"J20","v":"  "},null,{"$f":"L20","v":"  "},null,{"$f":"N20","v":"  "}]
[1.18,null,1.18,{"$f":"D24","v":"  "},null,{"$f":"F24","v":"  "},null,{"$f":"H24","v":"  "},null,{"$f":"J24","v":"  "},null,{"$f":"L24","v":"  "},null,{"$f":"N24","v":"  "}]
[null,null,"D10",{"$f":"FORECAST(10,$A$64:$A$65,D64:D65)","v":{"$error":"#DIV/0!"}},null,{"$f":"FORECAST(10,$A$64:$A$65,F64:F65)","v":{"$error":"#DIV/0!"}},null,{"$f":"FORECAST(10,$A$64:$A$65,H64:H65)","v":{"$error":"#DIV/0!"}},null,{"$f":"FORECAST(10,$A$64:$A$65,J64:J65)","v":{"$error":"#DIV/0!"}},null,{"$f":"FORECAST(10,$A$64:$A$65,L64:L65)","v":{"$error":"#DIV/0!"}},null,{"$f":"FORECAST(10,$A$64:$A$65,N64:N65)","v":{"$error":"#DIV/0!"}}]
[]
[null,null,"Coeff Unf",{"$f":"ROUND(D62/D66,1)","v":{"$error":"#DIV/0!"}},null,{"$f":"ROUND(F62/F66,1)","v":{"$error":"#DIV/0!"}},null,{"$f":"ROUND(H62/H66,1)","v":{"$error":"#DIV/0!"}},null,{"$f":"ROUND(J62/J66,1)","v":{"$error":"#DIV/0!"}},null,{"$f":"ROUND(L62/L66,1)","v":{"$error":"#DIV/0!"}},null,{"$f":"ROUND(N62/N66,1)","v":{"$error":"#DIV/0!"}}]
[]
[null,null,"Lower Coff Unf"]
[19,null,19,{"$f":"D41","v":"  "},null,{"$f":"F41","v":"  "},null,{"$f":"H41","v":"  "},null,{"$f":"J41","v":"  "},null,{"$f":"L41","v":"  "},null,{"$f":"N41","v":"  "}]
[9.5,null,9.5,{"$f":"D43","v":"  "},null,{"$f":"F43","v":"  "},null,{"$f":"H43","v":"  "},null,{"$f":"J43","v":"  "},null,{"$f":"L43","v":"  "},null,{"$f":"N43","v":"  "}]
[null,null,"D60",{"$f":"FORECAST(60,$A$71:$A$72,D71:D72)","v":{"$error":"#DIV/0!"}},null,{"$f":"FORECAST(60,$A$71:$A$72,F71:F72)","v":{"$error":"#DIV/0!"}},null,{"$f":"FORECAST(60,$A$71:$A$72,H71:H72)","v":{"$error":"#DIV/0!"}},null,{"$f":"FORECAST(60,$A$71:$A$72,J71:J72)","v":{"$error":"#DIV/0!"}},null,{"$f":"FORECAST(60,$A$71:$A$72,L71:L72)","v":{"$error":"#DIV/0!"}},null,{"$f":"FORECAST(60,$A$71:$A$72,N71:N72)","v":{"$error":"#DIV/0!"}}]
[]
[4.75,null,4.75,{"$f":"D44","v":"  "},null,{"$f":"F44","v":"  "},null,{"$f":"H44","v":"  "},null,{"$f":"J44","v":"  "},null,{"$f":"L44","v":"  "},null,{"$f":"N44","v":"  "}]
[1.18,null,1.18,{"$f":"D48","v":"  "},null,{"$f":"F48","v":"  "},null,{"$f":"H48","v":"  "},null,{"$f":"J48","v":"  "},null,{"$f":"L48","v":"  "},null,{"$f":"N48","v":"  "}]
[null,null,"D10",{"$f":"FORECAST(10,$A$75:$A$76,D75:D76)","v":{"$error":"#DIV/0!"}},null,{"$f":"FORECAST(10,$A$75:$A$76,F75:F76)","v":{"$error":"#DIV/0!"}},null,{"$f":"FORECAST(10,$A$75:$A$76,H75:H76)","v":{"$error":"#DIV/0!"}},null,{"$f":"FORECAST(10,$A$75:$A$76,J75:J76)","v":{"$error":"#DIV/0!"}},null,{"$f":"FORECAST(10,$A$75:$A$76,L75:L76)","v":{"$error":"#DIV/0!"}},null,{"$f":"FORECAST(10,$A$75:$A$76,N75:N76)","v":{"$error":"#DIV/0!"}}]
[]
[null,null,"Coeff Unf",{"$f":"ROUND(D73/D77,1)","v":{"$error":"#DIV/0!"}},null,{"$f":"ROUND(F73/F77,1)","v":{"$error":"#DIV/0!"}},null,{"$f":"ROUND(H73/H77,1)","v":{"$error":"#DIV/0!"}},null,{"$f":"ROUND(J73/J77,1)","v":{"$error":"#DIV/0!"}},null,{"$f":"ROUND(L73/L77,1)","v":{"$error":"#DIV/0!"}},null,{"$f":"ROUND(N73/N77,1)","v":{"$error":"#DIV/0!"}}]

{"sheet":"QA Samples","index":12,"n_rows":63,"n_cols":23,"rows_kept":63,"cut":false,"hidden":false,"merged":[[41,19,41,21],[12,18,12,23],[20,18,20,22],[27,18,27,22],[31,10,31,11],[31,12,31,13],[32,8,32,9],[32,10,32,11],[32,12,32,13],[33,8,33,9],[33,14,34,14],[34,8,34,9],[18,8,18,9],[18,14,20,14],[19,8,19,9],[24,8,24,9],[25,8,25,9],[26,8,26,9],[7,0,7,1],[7,2,7,3],[7,4,7,5],[7,8,7,9],[7,10,7,11],[7,12,7,13],[9,0,9,1],[9,6,10,6],[9,8,9,9],[10,0,10,1],[10,8,10,9],[8,0,8,1],[8,2,8,3],[8,4,8,5],[8,8,8,9],[8,10,8,11],[8,12,8,13],[5,2,5,10],[5,11,5,12],[5,13,5,14],[0,0,3,1],[0,8,3,9],[1,2,1,7],[1,11,1,12],[1,13,1,14],[2,2,2,7],[2,11,2,12],[2,13,2,14],[3,2,3,7],[3,11,3,12],[3,13,3,14],[4,0,4,1],[4,11,4,12],[4,13,4,14],[51,31,52,31],[52,25,52,26],[50,25,50,26],[50,27,50,28],[50,29,50,30],[49,25,49,26],[49,27,49,28],[49,29,49,30],[51,12,53,13],[51,14,53,14],[50,12,50,13],[9,14,10,14],[49,0,49,1],[50,0,50,1],[50,2,50,3],[50,4,50,5],[31,8,31,9],[48,8,48,9],[49,8,49,9],[50,8,50,9],[26,10,26,11],[26,12,26,13],[42,8,42,9],[42,14,44,14],[43,8,43,9],[50,10,50,11],[5,19,5,21],[65,25,67,26],[65,27,67,28],[65,29,67,30],[65,31,67,31],[64,25,64,26],[63,25,63,26],[18,0,18,1],[19,0,19,1],[18,6,20,6],[34,19,34,21],[62,25,62,26],[24,0,24,1],[25,0,25,1],[27,8,29,9],[27,10,29,11],[27,12,29,13],[27,6,29,6],[26,0,26,1],[26,2,26,3],[26,4,26,5],[27,0,29,1],[27,2,29,3],[27,4,29,5],[64,27,64,28],[64,29,64,30],[27,14,29,14],[31,0,31,1],[31,2,31,3],[31,4,31,5],[32,0,32,1],[32,2,32,3],[32,4,32,5],[33,0,33,1],[33,6,34,6],[34,0,34,1],[42,0,42,1],[42,6,44,6],[43,0,43,1],[48,0,48,1],[51,25,51,26],[53,25,53,26],[51,0,53,1],[51,2,53,3],[51,4,53,5],[51,6,53,6],[51,8,53,9],[51,10,53,11]]}
[null,null,null,null,null,null,null,null,null,null,null,null,null,null,null,null,null,null,null,null,{"$f":"'S1'!Q8","v":2}]
[null,null,"COMMONWEALTH OF PENNSYLVANIA",null,null,null,null,null,null,null,null,"DISTRICT",null,{"$f":"'S1'!L2","v":0}]
[null,null,"DEPARTMENT OF TRANSPORTATION",null,null,null,null,null,null,null,null,"PLANT CODE",null,{"$f":"'S1'!L3","v":0}]
[null,null,"PENNSYLVANIA TURNPIKE COMMISSION",null,null,null,null,null,null,null,null,"AGG SIZE",null,{"$f":"'S1'!L4","v":"2A"}]
[{"$f":"'S1'!A5","v":"Aggregate 2023"},null,null,null,null,null,null,null,null,null,null,"WASH SPEC",null,{"$f":"'S1'!B26","v":"0-10"}]
[null,null,"INDEPENDENT ASSURANCE SAMPLES AND CHARTS",null,null,null,null,null,null,null,null,null,null,null,null,null,null,null,null,{"$f":"'Chart 1-24'!Q7","v":2}]
[null,null,null,null,null,null,null,null,null,null,null,null,null,null,null,null,null,null,null,"Producer","Inspector","MTD"]
["Tested By:",null,"Producer",null,"Inspector",null,"MTD",null,"Tested By:",null,"Producer",null,"Inspector",null,"MTD",null,null,null,1,{"$f":"IF(ISTEXT(D13),NA(),D13)","v":{"$error":"#N/A"}},{"$f":"IF(ISTEXT(F13),NA(),F13)","v":{"$error":"#N/A"}},{"$f":"IF(ISBLANK(G13),NA(),G13)","v":{"$error":"#N/A"}}]
["Date",null,null,null,null,null,null,null,"Date",null,null,null,null,null,null,null,null,null,2,{"$f":"IF(ISTEXT(L13),NA(),L13)","v":{"$error":"#N/A"}},{"$f":"IF(ISTEXT(N13),NA(),N13)","v":{"$error":"#N/A"}},{"$f":"IF(ISBLANK(O13),NA(),O13)","v":{"$error":"#N/A"}}]
["Starting Weight",null,null,"% Loss",null,"% Loss","Enter MTD results",null,"Starting Weight",null,null,"% Loss",null,"% Loss","Enter MTD results",null,null,null,3,{"$f":"IF(ISTEXT(D37),NA(),D37)","v":{"$error":"#N/A"}},{"$f":"IF(ISTEXT(F37),NA(),F37)","v":{"$error":"#N/A"}},{"$f":"IF(ISBLANK(G37),NA(),G37)","v":{"$error":"#N/A"}}]
["Ending Weight",null,null,{"$f":"IF(ISBLANK(C10),\" \",IF(ISBLANK(C11),\" \",((C10-C11)/C10)*100))","v":" "},null,{"$f":"IF(ISBLANK(E10),\" \",IF(ISBLANK(E11),\" \",((E10-E11)/E10)*100))","v":" "},null,null,"Ending Weight",null,null,{"$f":"IF(ISBLANK(K10),\" \",IF(ISBLANK(K11),\" \",((K10-K11)/K10)*100))","v":" "},null,{"$f":"IF(ISBLANK(M10),\" \",IF(ISBLANK(M11),\" \",((M10-M11)/M10)*100))","v":" "},null,null,null,null,4,{"$f":"IF(ISTEXT(L37),NA(),L37)","v":{"$error":"#N/A"}},{"$f":"IF(ISTEXT(N37),NA(),N37)","v":{"$error":"#N/A"}},{"$f":"IF(ISBLANK(O37),NA(),O37)","v":{"$error":"#N/A"}}]
["Spec","Sieve","Wt.","% Passing","Wt.","% Passing","% Passing",null,"Spec","Sieve","Wt.","% Passing","Wt.","% Passing","% Passing"]
[{"$f":"'S1'!A15","v":100},2.5,null,{"$f":"IF(ISBLANK(C$10),\"  \",IF(ISBLANK(C$11),\" \",IF(ISBLANK(C13),\" \",ROUND((C13/C$10)*100,0))))","v":"  "},null,{"$f":"IF(ISBLANK(E$10),\"  \",IF(ISBLANK(E$11),\" \",IF(ISBLANK(E13),\" \",ROUND((E13/E$10)*100,0))))","v":"  "},null,null,{"$f":"'S1'!A15","v":100},2.5,null,{"$f":"IF(ISBLANK(K$10),\"  \",IF(ISBLANK(K$11),\" \",IF(ISBLANK(K13),\" \",ROUND((K13/K$10)*100,0))))","v":"  "},null,{"$f":"IF(ISBLANK(M$10),\"  \",IF(ISBLANK(M$11),\" \",IF(ISBLANK(M13),\" \",ROUND((M13/M$10)*100,0))))","v":"  "},null,null,null,null,{"$f":"'Chart 1-24'!Q8","v":"1 1/2 Screen not used for aggregate being  tested"}]
[{"$f":"'S1'!A16","v":"Breaker"},{"$f":"IF($N$4=\"DSA\",1.5,1)","v":1},null,"  ",null,"  ",null,null,{"$f":"'S1'!A16","v":"Breaker"},{"$f":"IF($N$4=\"DSA\",1.5,1)","v":1},null,"  ",null,"  ",null,null,null,null,null,"Producer","Inspector","MTD"]
[{"$f":"'S1'!A17","v":"52-100"},{"$f":"IF($N$4=3,\"1 1/2\",\"3/4\")","v":"3/4"},null,"  ",null,"  ",null,null,{"$f":"'S1'!A17","v":"52-100"},{"$f":"IF($N$4=3,\"1 1/2\",\"3/4\")","v":"3/4"},null,"  ",null,"  ",null,null,null,null,1,{"$f":"IF(ISTEXT(D14),NA(),D14)","v":{"$error":"#N/A"}},{"$f":"IF(ISTEXT(F14),NA(),F14)","v":{"$error":"#N/A"}},{"$f":"IF(ISBLANK(G14),NA(),G14)","v":{"$error":"#N/A"}}]
[{"$f":"'S1'!A18","v":"Breaker"},0.5,null,"  ",null,"  ",null,null,{"$f":"'S1'!A18","v":"Breaker"},0.5,null,"  ",null,"  ",null,null,null,null,2,{"$f":"IF(ISTEXT(L14),NA(),L14)","v":{"$error":"#N/A"}},{"$f":"IF(ISTEXT(N14),NA(),N14)","v":{"$error":"#N/A"}},{"$f":"IF(ISBLANK(O14),NA(),O14)","v":{"$error":"#N/A"}}]
[{"$f":"'S1'!A19","v":"36-70"},0.375,null,"  ",null,"  ",null,null,{"$f":"'S1'!A19","v":"36-70"},0.375,null,"  ",null,"  ",null,null,null,null,3,{"$f":"IF(ISTEXT(D38),NA(),D38)","v":{"$error":"#N/A"}},{"$f":"IF(ISTEXT(F38),NA(),F38)","v":{"$error":"#N/A"}},{"$f":"IF(ISBLANK(G38),NA(),G38)","v":{"$error":"#N/A"}}]
[{"$f":"'S1'!A20","v":"24-50"},4,null,"  ",null,"  ",null,null,{"$f":"'S1'!A20","v":"24-50"},4,null,"  ",null,"  ",null,null,null,null,4,{"$f":"IF(ISTEXT(L38),NA(),L38)","v":{"$error":"#N/A"}},{"$f":"IF(ISTEXT(N38),NA(),N38)","v":{"$error":"#N/A"}},{"$f":"IF(ISBLANK(O38),NA(),O38)","v":{"$error":"#N/A"}}]
["Starting Weight",null,null,"% Loss",null,"% Loss",null,null,"Starting Weight",null,null,"% Loss",null,"% Loss"]
["Ending Weight",null,null,{"$f":"IF(ISBLANK(C$10),\"  \",IF(ISBLANK(C11),\" \",IF(ISBLANK(C20),\" \",IF($U$1=2,((C19-C20)/C19)*100,ROUND((C20/C10)*100,0)))))","v":"  "},null,{"$f":"IF(ISBLANK(E$10),\"  \",IF(ISBLANK(E11),\" \",IF(ISBLANK(E20),\" \",IF($U$1=2,((E19-E20)/E19)*100,ROUND((E20/E10)*100,0)))))","v":"  "},null,null,"Ending Weight",null,null,{"$f":"IF(ISBLANK(K$10),\"  \",IF(ISBLANK(K11),\" \",IF(ISBLANK(K20),\" \",IF($U$1=2,((K19-K20)/K19)*100,ROUND((K20/K10)*100,0)))))","v":"  "},null,{"$f":"IF(ISBLANK(M$10),\"  \",IF(ISBLANK(M11),\" \",IF(ISBLANK(M20),\" \",IF($U$1=2,((M19-M20)/M19)*100,ROUND((M20/M10)*100,0)))))","v":"  "}]
["Spec","Sieve","Wt.","% Passing","Wt.","% Passing",null,null,"Spec","Sieve","Wt.","% Passing","Wt.","% Passing",null,null,null,null,{"$f":"'Chart 1-24'!Q9","v":"3/4"}]
[{"$f":"'S1'!A24","v":"10-30"},{"$f":"'S1'!B24","v":16},null,{"$f":"IF(ISBLANK(C10),\"  \",IF(ISBLANK(C11),\" \",IF(ISBLANK(C22),\" \",IF($U$1=2,(C18/C19*C22)/C10*100,ROUND((C22/C10)*100,0)))))","v":"  "},null,{"$f":"IF(ISBLANK(E10),\"  \",IF(ISBLANK(E11),\" \",IF(ISBLANK(E22),\" \",IF($U$1=2,(E18/E19*E22)/E10*100,ROUND((E22/E10)*100,0)))))","v":"  "},null,null,{"$f":"'S1'!A24","v":"10-30"},{"$f":"'S1'!B24","v":16},null,{"$f":"IF(ISBLANK(K10),\"  \",IF(ISBLANK(K11),\" \",IF(ISBLANK(K22),\" \",IF($U$1=2,(K18/K19*K22)/K10*100,ROUND((K22/K10)*100,0)))))","v":"  "},null,{"$f":"IF(ISBLANK(M10),\"  \",IF(ISBLANK(M11),\" \",IF(ISBLANK(M22),\" \",IF($U$1=2,(M18/M19*M22)/M10*100,ROUND((M22/M10)*100,0)))))","v":"  "},null,null,null,null,null,"Producer","Inspector","MTD"]
["Info",{"$f":"'S1'!B25","v":200},null,{"$f":"IF(ISBLANK(C10),\"  \",IF(ISBLANK(C11),\" \",IF(ISBLANK(C23),\" \",IF($U$1=2,(C18/C19*C23)/C10*100,ROUND((C23/C10)*100,0)))))","v":"  "},null,{"$f":"IF(ISBLANK(E10),\"  \",IF(ISBLANK(E11),\" \",IF(ISBLANK(E23),\" \",IF($U$1=2,(E18/E19*E23)/E10*100,ROUND((E23/E10)*100,0)))))","v":"  "},null,null,"Info",{"$f":"'S1'!B25","v":200},null,{"$f":"IF(ISBLANK(K10),\"  \",IF(ISBLANK(K11),\" \",IF(ISBLANK(K23),\" \",IF($U$1=2,(K18/K19*K23)/K10*100,ROUND((K23/K10)*100,0)))))","v":"  "},null,{"$f":"IF(ISBLANK(M10),\"  \",IF(ISBLANK(M11),\" \",IF(ISBLANK(M23),\" \",IF($U$1=2,(M18/M19*M23)/M10*100,ROUND((M23/M10)*100,0)))))","v":"  "},null,null,null,null,1,{"$f":"IF(ISTEXT(D15),NA(),D15)","v":{"$error":"#N/A"}},{"$f":"IF(ISTEXT(F15),NA(),F15)","v":{"$error":"#N/A"}},{"$f":"IF(ISBLANK(G15),NA(),G15)","v":{"$error":"#N/A"}}]
["Wash",{"$f":"'S1'!B26","v":"0-10"},null,null,null,null,null,null,"Wash",{"$f":"'S1'!J26","v":" "},null,null,null,null,null,null,null,null,2,{"$f":"IF(ISTEXT(L15),NA(),L15)","v":{"$error":"#N/A"}},{"$f":"IF(ISTEXT(N15),NA(),N15)","v":{"$error":"#N/A"}},{"$f":"IF(ISBLANK(O15),NA(),O15)","v":{"$error":"#N/A"}}]
["St. Wt. Before Wash",null,null,"% Passing",null,"% Passing","%Passing",null,"St. Wt. Before Wash",null,null,"% Passing",null,"% Passing","%Passing",null,null,null,3,{"$f":"IF(ISTEXT(D39),NA(),D39)","v":{"$error":"#N/A"}},{"$f":"IF(ISTEXT(F39),NA(),F39)","v":{"$error":"#N/A"}},{"$f":"IF(ISBLANK(G39),NA(),G39)","v":{"$error":"#N/A"}}]
["End Wt. After Wash",null,null,{"$f":"IF(ISBLANK(C25),\" \",IF(ISBLANK(C26),\" \",((C25-C26)/C25)*100))","v":" "},null,{"$f":"IF(ISBLANK(E25),\" \",IF(ISBLANK(E26),\" \",((E25-E26)/E25)*100))","v":" "},null,null,"End Wt. After Wash",null,null,{"$f":"IF(ISBLANK(K25),\" \",IF(ISBLANK(K26),\" \",((K25-K26)/K25)*100))","v":" "},null,{"$f":"IF(ISBLANK(M25),\" \",IF(ISBLANK(M26),\" \",((M25-M26)/M25)*100))","v":" "},null,null,null,null,4,{"$f":"IF(ISTEXT(L39),NA(),L39)","v":{"$error":"#N/A"}},{"$f":"IF(ISTEXT(N39),NA(),N39)","v":{"$error":"#N/A"}},{"$f":"IF(ISBLANK(O39),NA(),O39)","v":{"$error":"#N/A"}}]
["Tested By",null,null,null,null,null,"MTD",null,"Tested By",null,null,null,null,null,"MTD"]
["Remarks",null,null,null,null,null,null,null,"Remarks",null,null,null,null,null,null,null,null,null,{"$f":"'Chart 1-24'!Q10","v":0.375}]
[null,null,null,null,null,null,null,null,null,null,null,null,null,null,null,null,null,null,null,"Producer","Inspector","MTD"]
[null,null,null,null,null,null,null,null,null,null,null,null,null,null,null,null,null,null,1,{"$f":"IF(ISTEXT(D17),NA(),D17)","v":{"$error":"#N/A"}},{"$f":"IF(ISTEXT(F17),NA(),F17)","v":{"$error":"#N/A"}},{"$f":"IF(ISBLANK(G17),NA(),G17)","v":{"$error":"#N/A"}}]
[null,null,null,null,null,null,null,null,null,null,null,null,null,null,null,null,null,null,2,{"$f":"IF(ISTEXT(L17),NA(),L17)","v":{"$error":"#N/A"}},{"$f":"IF(ISTEXT(N17),NA(),N17)","v":{"$error":"#N/A"}},{"$f":"IF(ISBLANK(O17),NA(),O17)","v":{"$error":"#N/A"}}]
["Tested By:",null,"Producer",null,"Inspector",null,"MTD",null,"Tested By:",null,"Producer",null,"Inspector",null,"MTD",null,null,null,3,{"$f":"IF(ISTEXT(D41),NA(),D41)","v":{"$error":"#N/A"}},{"$f":"IF(ISTEXT(F41),NA(),F41)","v":{"$error":"#N/A"}},{"$f":"IF(ISBLANK(G41),NA(),G41)","v":{"$error":"#N/A"}}]
["Date",null,null,null,null,null,null,null,"Date",null,null,null,null,null,null,null,null,null,4,{"$f":"IF(ISTEXT(L41),NA(),L41)","v":{"$error":"#N/A"}},{"$f":"IF(ISTEXT(N41),NA(),N41)","v":{"$error":"#N/A"}},{"$f":"IF(ISBLANK(O41),NA(),O41)","v":{"$error":"#N/A"}}]
["Starting Weight",null,null,"% Loss",null,"% Loss","Enter MTD results",null,"Starting Weight",null,null,"% Loss",null,"% Loss","Enter MTD results"]
["Ending Weight",null,null,{"$f":"IF(ISBLANK(C34),\" \",IF(ISBLANK(C35),\" \",((C34-C35)/C34)*100))","v":" "},null,{"$f":"IF(ISBLANK(E34),\" \",IF(ISBLANK(E35),\" \",((E34-E35)/E34)*100))","v":" "},null,null,"Ending Weight",null,null,{"$f":"IF(ISBLANK(K34),\" \",IF(ISBLANK(K35),\" \",((K34-K35)/K34)*100))","v":" "},null,{"$f":"IF(ISBLANK(M34),\" \",IF(ISBLANK(M35),\" \",((M34-M35)/M34)*100))","v":" "},null,null,null,null,null,{"$f":"'Chart 1-24'!Q11","v":4}]
["Spec","Sieve","Wt.","% Passing","Wt.","% Passing","% Passing",null,"Spec","Sieve","Wt.","% Passing","Wt.","% Passing","% Passing",null,null,null,null,"Producer","Inspector","MTD"]
[{"$f":"'S1'!A39","v":100},2.5,null,{"$f":"IF(ISBLANK(C$10),\"  \",IF(ISBLANK(C$11),\" \",IF(ISBLANK(C37),\" \",ROUND((C37/C$10)*100,0))))","v":"  "},null,{"$f":"IF(ISBLANK(E$10),\"  \",IF(ISBLANK(E$11),\" \",IF(ISBLANK(E37),\" \",ROUND((E37/E$10)*100,0))))","v":"  "},null,null,{"$f":"'S1'!A39","v":100},2.5,null,{"$f":"IF(ISBLANK(K$10),\"  \",IF(ISBLANK(K$11),\" \",IF(ISBLANK(K37),\" \",ROUND((K37/K$10)*100,0))))","v":"  "},null,{"$f":"IF(ISBLANK(M$10),\"  \",IF(ISBLANK(M$11),\" \",IF(ISBLANK(M37),\" \",ROUND((M37/M$10)*100,0))))","v":"  "},null,null,null,null,1,{"$f":"IF(ISTEXT(D18),NA(),D18)","v":{"$error":"#N/A"}},{"$f":"IF(ISTEXT(F18),NA(),F18)","v":{"$error":"#N/A"}},{"$f":"IF(ISBLANK(G18),NA(),G18)","v":{"$error":"#N/A"}}]
[{"$f":"'S1'!A40","v":"Breaker"},{"$f":"IF($N$4=\"DSA\",1.5,1)","v":1},null,"  ",null,"  ",null,null,{"$f":"'S1'!A40","v":"Breaker"},{"$f":"IF($N$4=\"DSA\",1.5,1)","v":1},null,"  ",null,"  ",null,null,null,null,2,{"$f":"IF(ISTEXT(L18),NA(),L18)","v":{"$error":"#N/A"}},{"$f":"IF(ISTEXT(N18),NA(),N18)","v":{"$error":"#N/A"}},{"$f":"IF(ISBLANK(O18),NA(),O18)","v":{"$error":"#N/A"}},"`"]
[{"$f":"'S1'!A41","v":"52-100"},{"$f":"IF($N$4=3,\"1 1/2\",\"3/4\")","v":"3/4"},null,"  ",null,"  ",null,null,{"$f":"'S1'!A41","v":"52-100"},{"$f":"IF($N$4=3,\"1 1/2\",\"3/4\")","v":"3/4"},null,"  ",null,"  ",null,null,null,null,3,{"$f":"IF(ISTEXT(D42),NA(),D42)","v":{"$error":"#N/A"}},{"$f":"IF(ISTEXT(F42),NA(),F42)","v":{"$error":"#N/A"}},{"$f":"IF(ISBLANK(G42),NA(),G42)","v":{"$error":"#N/A"}}]
[{"$f":"'S1'!A42","v":"Breaker"},0.5,null,"  ",null,"  ",null,null,{"$f":"'S1'!A42","v":"Breaker"},0.5,null,"  ",null,"  ",null,null,null,null,4,{"$f":"IF(ISTEXT(L42),NA(),L42)","v":{"$error":"#N/A"}},{"$f":"IF(ISTEXT(N42),NA(),N42)","v":{"$error":"#N/A"}},{"$f":"IF(ISBLANK(O42),NA(),O42)","v":{"$error":"#N/A"}}]
[{"$f":"'S1'!A43","v":"36-70"},0.375,null,"  ",null,"  ",null,null,{"$f":"'S1'!A43","v":"36-70"},0.375,null,"  ",null,"  "]
[{"$f":"'S1'!A44","v":"24-50"},4,null,"  ",null,"  ",null,null,{"$f":"'S1'!A44","v":"24-50"},4,null,"  ",null,"  ",null,null,null,null,null,{"$f":"'Chart 1-24'!Q12","v":16}]
["Starting Weight",null,null,"% Loss",null,"% Loss",null,null,"Starting Weight",null,null,"% Loss",null,"% Loss",null,null,null,null,null,"Producer","Inspector","MTD"]
["Ending Weight",null,null,{"$f":"IF(ISBLANK(C$10),\"  \",IF(ISBLANK(C35),\" \",IF(ISBLANK(C44),\" \",IF($U$1=2,((C43-C44)/C43)*100,ROUND((C44/C34)*100,0)))))","v":"  "},null,{"$f":"IF(ISBLANK(E$10),\"  \",IF(ISBLANK(E35),\" \",IF(ISBLANK(E44),\" \",IF($U$1=2,((E43-E44)/E43)*100,ROUND((E44/E34)*100,0)))))","v":"  "},null,null,"Ending Weight",null,null,{"$f":"IF(ISBLANK(K$10),\"  \",IF(ISBLANK(K35),\" \",IF(ISBLANK(K44),\" \",IF($U$1=2,((K43-K44)/K43)*100,ROUND((K44/K34)*100,0)))))","v":"  "},null,{"$f":"IF(ISBLANK(M$10),\"  \",IF(ISBLANK(M35),\" \",IF(ISBLANK(M44),\" \",IF($U$1=2,((M43-M44)/M43)*100,ROUND((M44/M34)*100,0)))))","v":"  "},null,null,null,null,1,{"$f":"IF(ISTEXT(D22),NA(),D22)","v":{"$error":"#N/A"}},{"$f":"IF(ISTEXT(F22),NA(),F22)","v":{"$error":"#N/A"}},{"$f":"IF(ISBLANK(G22),NA(),G22)","v":{"$error":"#N/A"}}]
["Spec","Sieve","Wt.","% Passing","Wt.","% Passing",null,null,"Spec","Sieve","Wt.","% Passing","Wt.","% Passing",null,null,null,null,2,{"$f":"IF(ISTEXT(L22),NA(),L22)","v":{"$error":"#N/A"}},{"$f":"IF(ISTEXT(N22),NA(),N22)","v":{"$error":"#N/A"}},{"$f":"IF(ISBLANK(O22),NA(),O22)","v":{"$error":"#N/A"}}]
[{"$f":"'S1'!A48","v":"10-30"},{"$f":"'S1'!B48","v":16},null,{"$f":"IF(ISBLANK(C34),\"  \",IF(ISBLANK(C35),\" \",IF(ISBLANK(C46),\" \",IF($U$1=2,(C42/C43*C46)/C34*100,ROUND((C46/C34)*100,0)))))","v":"  "},null,{"$f":"IF(ISBLANK(E34),\"  \",IF(ISBLANK(E35),\" \",IF(ISBLANK(E46),\" \",IF($U$1=2,(E42/E43*E46)/E34*100,ROUND((E46/E34)*100,0)))))","v":"  "},null,null,{"$f":"'S1'!A48","v":"10-30"},{"$f":"'S1'!B48","v":16},null,{"$f":"IF(ISBLANK(K34),\"  \",IF(ISBLANK(K35),\" \",IF(ISBLANK(K46),\" \",IF($U$1=2,(K42/K43*K46)/K34*100,ROUND((K46/K34)*100,0)))))","v":"  "},null,{"$f":"IF(ISBLANK(M34),\"  \",IF(ISBLANK(M35),\" \",IF(ISBLANK(M46),\" \",IF($U$1=2,(M42/M43*M46)/M34*100,ROUND((M46/M34)*100,0)))))","v":"  "},null,null,null,null,3,{"$f":"IF(ISTEXT(D46),NA(),D46)","v":{"$error":"#N/A"}},{"$f":"IF(ISTEXT(F46),NA(),F46)","v":{"$error":"#N/A"}},{"$f":"IF(ISBLANK(G46),NA(),G46)","v":{"$error":"#N/A"}}]
["Info",{"$f":"'S1'!B49","v":200},null,{"$f":"IF(ISBLANK(C34),\"  \",IF(ISBLANK(C35),\" \",IF(ISBLANK(C47),\" \",IF($U$1=2,(C42/C43*C47)/C34*100,ROUND((C47/C34)*100,0)))))","v":"  "},null,{"$f":"IF(ISBLANK(E34),\"  \",IF(ISBLANK(E35),\" \",IF(ISBLANK(E47),\" \",IF($U$1=2,(E42/E43*E47)/E34*100,ROUND((E47/E34)*100,0)))))","v":"  "},null,null,"Info",{"$f":"'S1'!B49","v":200},null,{"$f":"IF(ISBLANK(K34),\"  \",IF(ISBLANK(K35),\" \",IF(ISBLANK(K47),\" \",IF($U$1=2,(K42/K43*K47)/K34*100,ROUND((K47/K34)*100,0)))))","v":"  "},null,{"$f":"IF(ISBLANK(M34),\"  \",IF(ISBLANK(M35),\" \",IF(ISBLANK(M47),\" \",IF($U$1=2,(M42/M43*M47)/M34*100,ROUND((M47/M34)*100,0)))))","v":"  "},null,null,null,null,4,{"$f":"IF(ISTEXT(L46),NA(),L46)","v":{"$error":"#N/A"}},{"$f":"IF(ISTEXT(N46),NA(),N46)","v":{"$error":"#N/A"}},{"$f":"IF(ISBLANK(O46),NA(),O46)","v":{"$error":"#N/A"}}]
["Wash",{"$f":"'S1'!B50","v":"0-10"},null,null,null,null,null,null,"Wash",{"$f":"'S1'!J50","v":" "}]
["St. Wt. Before Wash",null,null,"% Passing",null,"% Passing","%Passing",null,"St. Wt. Before Wash",null,null,"% Passing",null,"% Passing","%Passing"]
["End Wt. After Wash",null,null,{"$f":"IF(ISBLANK(C49),\" \",IF(ISBLANK(C50),\" \",((C49-C50)/C49)*100))","v":" "},null,{"$f":"IF(ISBLANK(E49),\" \",IF(ISBLANK(E50),\" \",((E49-E50)/E49)*100))","v":" "},null,null,"End Wt. After Wash",null,null,{"$f":"IF(ISBLANK(K49),\" \",IF(ISBLANK(K50),\" \",((K49-K50)/K49)*100))","v":" "},null,{"$f":"IF(ISBLANK(M49),\" \",IF(ISBLANK(M50),\" \",((M49-M50)/M49)*100))","v":" "}]
["Tested By",null,null,null,null,null,"MTD",null,"Tested By",null,null,null,null,null,"MTD"]
["Remarks",null,null,null,null,null,null,null,"Remarks"]
[]
[]
[]
[]
[null,null,null,null,null,null,null,null,null,null,null,null,null,null,null,null,null,null,null,null,"Min","Max"]
[null,null,null,null,null,null,null,null,null,null,null,null,null,null,null,null,null,null,null,{"$f":"AP!L4","v":2},{"$f":"AP!N6","v":95},{"$f":"AP!N4","v":105}]
[null,null,null,null,null,null,null,null,null,null,null,null,null,null,null,null,null,null,null,{"$f":"AP!L8","v":1.5},{"$f":"AP!N10","v":0},{"$f":"AP!N8","v":1}]
[null,null,null,null,null,null,null,null,null,null,null,null,null,null,null,null,null,null,null,{"$f":"AP!L12","v":0.75},{"$f":"AP!N14","v":52},{"$f":"AP!N12","v":100}]
[null,null,null,null,null,null,null,null,null,null,null,null,null,null,null,null,null,null,null,{"$f":"AP!L16","v":0.375},{"$f":"AP!N18","v":36},{"$f":"AP!N16","v":70}]
[null,null,null,null,null,null,null,null,null,null,null,null,null,null,null,null,null,null,null,{"$f":"AP!L20","v":4},{"$f":"AP!N22","v":24},{"$f":"AP!N20","v":50}]
[null,null,null,null,null,null,null,null,null,null,null,null,null,null,null,null,null,null,null,{"$f":"AP!L24","v":16},{"$f":"AP!N26","v":10},{"$f":"AP!N24","v":30}]

{"sheet":"Chart 1-24","index":13,"n_rows":12,"n_cols":17,"rows_kept":12,"cut":false,"hidden":false,"merged":[[5,7,5,8],[5,9,5,10],[3,1,3,5],[3,7,3,8],[3,9,3,10],[4,0,4,1],[4,7,4,8],[4,9,4,10],[0,0,2,0],[1,1,1,5],[1,7,1,8],[1,9,1,10],[2,1,2,5],[2,7,2,8],[2,9,2,10]]}
[null,null,null,null,null,null,null,null,null,null,null,null,null,null,null,null,{"$f":"'S1'!L4","v":"2A"}]
[null,"COMMONWEALTH OF PENNSYLVANIA",null,null,null,null,null,"DISTRICT",null,{"$f":"'S1'!L2","v":0}]
[null,"DEPARTMENT OF TRANSPORTATION",null,null,null,null,null,"PLANT CODE",null,{"$f":"'S1'!L3","v":0}]
[null,"PENNSYLVANIA TURNPIKE COMMISSION",null,null,null,null,null,"AGG SIZE",null,{"$f":"'S1'!L4","v":"2A"}]
[{"$f":"'S1'!$A$5:$B$5","v":"Aggregate 2023"},null,null,null,null,null,null,"#4 Target Value",null,{"$f":"'S1'!L5","v":0}]
[null,null,null,null,null,null,null,"#16 Target Value",null,{"$f":"'S1'!L6","v":0}]
[null,null,null,null,null,null,null,null,null,null,null,null,null,null,null,null,{"$f":"IF(Q1=\"DSA\",\"Screen not used for aggregate being tested\",2)","v":2}]
[null,null,null,null,null,null,null,null,null,null,null,null,null,null,null,null,{"$f":"IF(Q1=\"DSA\",\"1 1/2\",\"1 1/2 Screen not used for aggregate being  tested\")","v":"1 1/2 Screen not used for aggregate being  tested"}]
[null,null,null,null,null,null,null,null,null,null,null,null,null,null,null,null,{"$f":"IF(Q1=\"2RC\",\"3/4 Screen not used for aggregate being tested\",\"3/4\")","v":"3/4"}]
[null,null,null,null,null,null,null,null,null,null,null,null,null,null,null,null,{"$f":"IF(OR(Q1=\"2RC\",Q1=\"DSA\"),\"3/8 Screen not used for aggregate being tested\",\"3\"/8)","v":0.375}]
[null,null,null,null,null,null,null,null,null,null,null,null,null,null,null,null,4]
[null,null,null,null,null,null,null,null,null,null,null,null,null,null,null,null,{"$f":"IF(Q1=\"2RC\",100,16)","v":16}]

{"sheet":"Chart 25-48","index":14,"n_rows":12,"n_cols":17,"rows_kept":12,"cut":false,"hidden":true,"merged":[[5,7,5,8],[5,9,5,10],[3,1,3,5],[3,7,3,8],[3,9,3,10],[4,0,4,1],[4,7,4,8],[4,9,4,10],[0,0,2,0],[1,1,1,5],[1,7,1,8],[1,9,1,10],[2,1,2,5],[2,7,2,8],[2,9,2,10]]}
[null,null,null,null,null,null,null,null,null,null,null,null,null,null,null,null,{"$f":"'S1'!L4","v":"2A"}]
[null,"COMMONWEALTH OF PENNSYLVANIA",null,null,null,null,null,"DISTRICT",null,{"$f":"'S1'!L2","v":0}]
[null,"DEPARTMENT OF TRANSPORTATION",null,null,null,null,null,"PLANT CODE",null,{"$f":"'S1'!L3","v":0}]
[null,"PENNSYLVANIA TURNPIKE COMMISSION",null,null,null,null,null,"AGG SIZE",null,{"$f":"'S1'!L4","v":"2A"}]
[{"$f":"'S1'!$A$5:$B$5","v":"Aggregate 2023"},null,null,null,null,null,null,"#4 Target Value",null,{"$f":"'S1'!L5","v":0}]
[null,null,null,null,null,null,null,"#16 Target Value",null,{"$f":"'S1'!L6","v":0}]
[null,null,null,null,null,null,null,null,null,null,null,null,null,null,null,null,{"$f":"IF(Q1=\"DSA\",\"Screen not used for aggregate being tested\",2)","v":2}]
[null,null,null,null,null,null,null,null,null,null,null,null,null,null,null,null,{"$f":"IF(Q1=\"DSA\",\"1 1/2\",\"1 1/2 Screen not used for aggregate being  tested\")","v":"1 1/2 Screen not used for aggregate being  tested"}]
[null,null,null,null,null,null,null,null,null,null,null,null,null,null,null,null,{"$f":"IF(Q1=\"2RC\",\"3/4 Screen not used for aggregate being tested\",\"3/4\")","v":"3/4"}]
[null,null,null,null,null,null,null,null,null,null,null,null,null,null,null,null,{"$f":"IF(OR(Q1=\"2RC\",Q1=\"DSA\"),\"3/8 Screen not used for aggregate being tested\",\"3\"/8)","v":0.375}]
[null,null,null,null,null,null,null,null,null,null,null,null,null,null,null,null,4]
[null,null,null,null,null,null,null,null,null,null,null,null,null,null,null,null,{"$f":"IF(Q1=\"2RC\",100,16)","v":16}]

{"sheet":"Chart 49-72","index":15,"n_rows":12,"n_cols":17,"rows_kept":12,"cut":false,"hidden":true,"merged":[[5,7,5,8],[5,9,5,10],[3,1,3,5],[3,7,3,8],[3,9,3,10],[4,0,4,1],[4,7,4,8],[4,9,4,10],[0,0,2,0],[1,1,1,5],[1,7,1,8],[1,9,1,10],[2,1,2,5],[2,7,2,8],[2,9,2,10]]}
[null,null,null,null,null,null,null,null,null,null,null,null,null,null,null,null,{"$f":"'S1'!L4","v":"2A"}]
[null,"COMMONWEALTH OF PENNSYLVANIA",null,null,null,null,null,"DISTRICT",null,{"$f":"'S1'!L2","v":0}]
[null,"DEPARTMENT OF TRANSPORTATION",null,null,null,null,null,"PLANT CODE",null,{"$f":"'S1'!L3","v":0}]
[null,"PENNSYLVANIA TURNPIKE COMMISSION",null,null,null,null,null,"AGG SIZE",null,{"$f":"'S1'!L4","v":"2A"}]
[{"$f":"'S1'!$A$5:$B$5","v":"Aggregate 2023"},null,null,null,null,null,null,"#4 Target Value",null,{"$f":"'S1'!L5","v":0}]
[null,null,null,null,null,null,null,"#16 Target Value",null,{"$f":"'S1'!L6","v":0}]
[null,null,null,null,null,null,null,null,null,null,null,null,null,null,null,null,{"$f":"IF(Q1=\"DSA\",\"Screen not used for aggregate being tested\",2)","v":2}]
[null,null,null,null,null,null,null,null,null,null,null,null,null,null,null,null,{"$f":"IF(Q1=\"DSA\",\"1 1/2\",\"1 1/2 Screen not used for aggregate being  tested\")","v":"1 1/2 Screen not used for aggregate being  tested"}]
[null,null,null,null,null,null,null,null,null,null,null,null,null,null,null,null,{"$f":"IF(Q1=\"2RC\",\"3/4 Screen not used for aggregate being tested\",\"3/4\")","v":"3/4"}]
[null,null,null,null,null,null,null,null,null,null,null,null,null,null,null,null,{"$f":"IF(OR(Q1=\"2RC\",Q1=\"DSA\"),\"3/8 Screen not used for aggregate being tested\",\"3\"/8)","v":0.375}]
[null,null,null,null,null,null,null,null,null,null,null,null,null,null,null,null,4]
[null,null,null,null,null,null,null,null,null,null,null,null,null,null,null,null,{"$f":"IF(Q1=\"2RC\",100,16)","v":16}]

{"sheet":"Chart 73-96","index":16,"n_rows":12,"n_cols":17,"rows_kept":12,"cut":false,"hidden":true,"merged":[[5,7,5,8],[5,9,5,10],[3,1,3,5],[3,7,3,8],[3,9,3,10],[4,0,4,1],[4,7,4,8],[4,9,4,10],[0,0,2,0],[1,1,1,5],[1,7,1,8],[1,9,1,10],[2,1,2,5],[2,7,2,8],[2,9,2,10]]}
[null,null,null,null,null,null,null,null,null,null,null,null,null,null,null,null,{"$f":"'S1'!L4","v":"2A"}]
[null,"COMMONWEALTH OF PENNSYLVANIA",null,null,null,null,null,"DISTRICT",null,{"$f":"'S1'!L2","v":0}]
[null,"DEPARTMENT OF TRANSPORTATION",null,null,null,null,null,"PLANT CODE",null,{"$f":"'S1'!L3","v":0}]
[null,"PENNSYLVANIA TURNPIKE COMMISSION",null,null,null,null,null,"AGG SIZE",null,{"$f":"'S1'!L4","v":"2A"}]
[{"$f":"'S1'!$A$5:$B$5","v":"Aggregate 2023"},null,null,null,null,null,null,"#4 Target Value",null,{"$f":"'S1'!L5","v":0}]
[null,null,null,null,null,null,null,"#16 Target Value",null,{"$f":"'S1'!L6","v":0}]
[null,null,null,null,null,null,null,null,null,null,null,null,null,null,null,null,{"$f":"IF(Q1=\"DSA\",\"Screen not used for aggregate being tested\",2)","v":2}]
[null,null,null,null,null,null,null,null,null,null,null,null,null,null,null,null,{"$f":"IF(Q1=\"DSA\",\"1 1/2\",\"1 1/2 Screen not used for aggregate being  tested\")","v":"1 1/2 Screen not used for aggregate being  tested"}]
[null,null,null,null,null,null,null,null,null,null,null,null,null,null,null,null,{"$f":"IF(Q1=\"2RC\",\"3/4 Screen not used for aggregate being tested\",\"3/4\")","v":"3/4"}]
[null,null,null,null,null,null,null,null,null,null,null,null,null,null,null,null,{"$f":"IF(OR(Q1=\"2RC\",Q1=\"DSA\"),\"3/8 Screen not used for aggregate being tested\",\"3\"/8)","v":0.375}]
[null,null,null,null,null,null,null,null,null,null,null,null,null,null,null,null,4]
[null,null,null,null,null,null,null,null,null,null,null,null,null,null,null,null,{"$f":"IF(Q1=\"2RC\",100,16)","v":16}]

{"sheet":"Chart 97-120","index":17,"n_rows":12,"n_cols":17,"rows_kept":12,"cut":false,"hidden":true,"merged":[[5,7,5,8],[5,9,5,10],[3,1,3,5],[3,7,3,8],[3,9,3,10],[4,0,4,1],[4,7,4,8],[4,9,4,10],[0,0,2,0],[1,1,1,5],[1,7,1,8],[1,9,1,10],[2,1,2,5],[2,7,2,8],[2,9,2,10]]}
[null,null,null,null,null,null,null,null,null,null,null,null,null,null,null,null,{"$f":"'S1'!L4","v":"2A"}]
[null,"COMMONWEALTH OF PENNSYLVANIA",null,null,null,null,null,"DISTRICT",null,{"$f":"'S1'!L2","v":0}]
[null,"DEPARTMENT OF TRANSPORTATION",null,null,null,null,null,"PLANT CODE",null,{"$f":"'S1'!L3","v":0}]
[null,"PENNSYLVANIA TURNPIKE COMMISSION",null,null,null,null,null,"AGG SIZE",null,{"$f":"'S1'!L4","v":"2A"}]
[{"$f":"'S1'!$A$5:$B$5","v":"Aggregate 2023"},null,null,null,null,null,null,"#4 Target Value",null,{"$f":"'S1'!L5","v":0}]
[null,null,null,null,null,null,null,"#16 Target Value",null,{"$f":"'S1'!L6","v":0}]
[null,null,null,null,null,null,null,null,null,null,null,null,null,null,null,null,{"$f":"IF(Q1=\"DSA\",\"Screen not used for aggregate being tested\",2)","v":2}]
[null,null,null,null,null,null,null,null,null,null,null,null,null,null,null,null,{"$f":"IF(Q1=\"DSA\",\"1 1/2\",\"1 1/2 Screen not used for aggregate being  tested\")","v":"1 1/2 Screen not used for aggregate being  tested"}]
[null,null,null,null,null,null,null,null,null,null,null,null,null,null,null,null,{"$f":"IF(Q1=\"2RC\",\"3/4 Screen not used for aggregate being tested\",\"3/4\")","v":"3/4"}]
[null,null,null,null,null,null,null,null,null,null,null,null,null,null,null,null,{"$f":"IF(OR(Q1=\"2RC\",Q1=\"DSA\"),\"3/8 Screen not used for aggregate being tested\",\"3\"/8)","v":0.375}]
[null,null,null,null,null,null,null,null,null,null,null,null,null,null,null,null,4]
[null,null,null,null,null,null,null,null,null,null,null,null,null,null,null,null,{"$f":"IF(Q1=\"2RC\",100,16)","v":16}]

{"sheet":"Chart 121-144","index":18,"n_rows":12,"n_cols":17,"rows_kept":12,"cut":false,"hidden":true,"merged":[[5,7,5,8],[5,9,5,10],[3,1,3,5],[3,7,3,8],[3,9,3,10],[4,0,4,1],[4,7,4,8],[4,9,4,10],[0,0,2,0],[1,1,1,5],[1,7,1,8],[1,9,1,10],[2,1,2,5],[2,7,2,8],[2,9,2,10]]}
[null,null,null,null,null,null,null,null,null,null,null,null,null,null,null,null,{"$f":"'S1'!L4","v":"2A"}]
[null,"COMMONWEALTH OF PENNSYLVANIA",null,null,null,null,null,"DISTRICT",null,{"$f":"'S1'!L2","v":0}]
[null,"DEPARTMENT OF TRANSPORTATION",null,null,null,null,null,"PLANT CODE",null,{"$f":"'S1'!L3","v":0}]
[null,"PENNSYLVANIA TURNPIKE COMMISSION",null,null,null,null,null,"AGG SIZE",null,{"$f":"'S1'!L4","v":"2A"}]
[{"$f":"'S1'!$A$5:$B$5","v":"Aggregate 2023"},null,null,null,null,null,null,"#4 Target Value",null,{"$f":"'S1'!L5","v":0}]
[null,null,null,null,null,null,null,"#16 Target Value",null,{"$f":"'S1'!L6","v":0}]
[null,null,null,null,null,null,null,null,null,null,null,null,null,null,null,null,{"$f":"IF(Q1=\"DSA\",\"Screen not used for aggregate being tested\",2)","v":2}]
[null,null,null,null,null,null,null,null,null,null,null,null,null,null,null,null,{"$f":"IF(Q1=\"DSA\",\"1 1/2\",\"1 1/2 Screen not used for aggregate being  tested\")","v":"1 1/2 Screen not used for aggregate being  tested"}]
[null,null,null,null,null,null,null,null,null,null,null,null,null,null,null,null,{"$f":"IF(Q1=\"2RC\",\"3/4 Screen not used for aggregate being tested\",\"3/4\")","v":"3/4"}]
[null,null,null,null,null,null,null,null,null,null,null,null,null,null,null,null,{"$f":"IF(OR(Q1=\"2RC\",Q1=\"DSA\"),\"3/8 Screen not used for aggregate being tested\",\"3\"/8)","v":0.375}]
[null,null,null,null,null,null,null,null,null,null,null,null,null,null,null,null,4]
[null,null,null,null,null,null,null,null,null,null,null,null,null,null,null,null,{"$f":"IF(Q1=\"2RC\",100,16)","v":16}]

{"sheet":"200 Chart","index":19,"n_rows":240,"n_cols":18,"rows_kept":240,"cut":false,"hidden":false,"merged":[[64,7,64,8],[4,9,4,10],[64,9,64,10],[63,9,63,10],[62,9,62,10],[61,9,61,10],[4,7,4,8],[63,7,63,8],[61,7,61,8],[4,0,4,1],[63,2,63,6],[1,9,1,10],[62,2,62,6],[62,7,62,8],[2,9,2,10],[1,2,1,5],[2,2,2,5],[3,2,3,5],[0,0,3,1],[3,9,3,10],[1,7,1,8],[2,7,2,8],[3,7,3,8],[60,0,63,1],[61,2,61,6]]}
[]
[null,null,"COMMONWEALTH OF PENNSYLVANIA",null,null,null,null,"DISTRICT",null,{"$f":"'S1'!L2","v":0}]
[null,null,"DEPARTMENT OF TRANSPORTATION",null,null,null,null,"PLANT CODE",null,{"$f":"'S1'!L3","v":0}]
[null,null,"PENNSYLVANIA TURNPIKE COMMISSION",null,null,null,null,"AGG SIZE",null,{"$f":"'S1'!L4","v":"2A"}]
[{"$f":"'S1'!A5","v":"Aggregate 2023"},null,null,null,null,null,null,"Wash Spec",null,"0-10",{"$f":"'S2'!$M$6","v":0}]
[]
[]
[]
[]
[]
[]
[]
[]
[]
[]
[]
[]
[]
[]
[]
[]
[]
[]
[]
[]
[]
[]
[]
[]
[]
[]
[]
[]
[]
[]
[]
[]
[]
[]
[]
[]
[]
[]
[]
[]
[]
[]
[]
[]
[]
[]
[]
[]
[]
[]
[]
[]
[]
[]
[]
[]
[null,null,"COMMONWEALTH OF PENNSYLVANIA",null,null,null,null,"DISTRICT",null,{"$f":"'S1'!L2","v":0}]
[null,null,"DEPARTMENT OF TRANSPORTATION",null,null,null,null,"PLANT CODE",null,{"$f":"'S1'!L3","v":0}]
[null,null,"PENNSYLVANIA TURNPIKE COMMISSION",null,null,null,null,"AGG SOURCE",null,{"$f":"'S1'!L4","v":"2A"}]
[null,null,null,null,null,null,null,"Wash Spec",null,"0-10",{"$f":"'S2'!$M$6","v":0}]
[]
[]
[]
[]
[]
[]
[]
[]
[]
[]
[]
[]
[]
[]
[]
[]
[]
[]
[]
[]
[]
[]
[]
[]
[]
[]
[]
[]
[]
[null,null,null,null,null,null,null,null,null,null,null,null,null,"Filtered","Plot","Plot",null,"Plot"]
["Samp#",null,null,null,null,null,null,null,null,null,null,"N=1","Info only","N=1","N=1","N=3"]
[{"$f":"IF(ISBLANK('S1'!C$10),\" \",'S1'!C$10)","v":" "},null,null,null,null,null,null,null,null,null,null,{"$f":"IF(ISBLANK('S1'!$D$28),NA(),'S1'!$D$28)","v":" "},1,null,{"$f":"IF(ISBLANK(N97),NA(),N97)","v":{"$error":"#N/A"}},{"$f":"IF(ISBLANK(N97),NA(),N97)","v":{"$error":"#N/A"}},{"$f":"IF(ISNUMBER(L97),A97,\" \")","v":" "}]
[{"$f":"IF(ISBLANK('S1'!E$10),\" \",'S1'!E$10)","v":" "},null,null,null,null,null,null,null,null,null,null,{"$f":"IF(ISBLANK('S1'!$F$28),NA(),'S1'!$F$28)","v":" "},2,null,{"$f":"IF(ISBLANK(N98),NA(),N98)","v":{"$error":"#N/A"}},{"$f":"IF(ISBLANK(N98),NA(),ROUND(AVERAGE(N97:N98),2))","v":{"$error":"#N/A"}},{"$f":"IF(ISNUMBER(L98),A98,\" \")","v":" "}]
[{"$f":"IF(ISBLANK('S1'!G$10),\" \",'S1'!G$10)","v":" "},null,null,null,null,null,null,null,null,null,null,{"$f":"IF(ISBLANK('S1'!$H$28),NA(),'S1'!$H$28)","v":" "},3,null,{"$error":"#N/A"},{"$f":"IF(ISBLANK(N99),NA(),ROUND(AVERAGE(N97:N99),2))","v":{"$error":"#N/A"}}," "]
[{"$f":"IF(ISBLANK('S1'!I$10),\" \",'S1'!I$10)","v":" "},null,null,null,null,null,null,null,null,null,null,{"$f":"IF(ISBLANK('S1'!$J$28),NA(),'S1'!$J$28)","v":" "},4,null,{"$error":"#N/A"},{"$error":"#N/A"}," "]
[{"$f":"IF(ISBLANK('S1'!K$10),\" \",'S1'!K$10)","v":" "},null,null,null,null,null,null,null,null,null,null,{"$f":"IF(ISBLANK('S1'!$L$28),NA(),'S1'!$L$28)","v":" "},5,null,{"$error":"#N/A"},{"$error":"#N/A"}," "]
[{"$f":"IF(ISBLANK('S1'!M$10),\" \",'S1'!M$10)","v":" "},null,null,null,null,null,null,null,null,null,null,{"$f":"IF(ISBLANK('S1'!$N$28),NA(),'S1'!$N$28)","v":" "},6,null,{"$error":"#N/A"},{"$error":"#N/A"}," "]
[{"$f":"IF(ISBLANK('S1'!C$34),\" \",'S1'!C$34)","v":" "},null,null,null,null,null,null,null,null,null,null,{"$f":"IF(ISBLANK('S1'!$D$52),NA(),'S1'!$D$52)","v":" "},7,null,{"$error":"#N/A"},{"$error":"#N/A"}," "]
[{"$f":"IF(ISBLANK('S1'!E$34),\" \",'S1'!E$34)","v":" "},null,null,null,null,null,null,null,null,null,null,{"$f":"IF(ISBLANK('S1'!$F$52),NA(),'S1'!$F$52)","v":" "},8,null,{"$error":"#N/A"},{"$error":"#N/A"}," "]
[{"$f":"IF(ISBLANK('S1'!G$34),\" \",'S1'!G$34)","v":" "},null,null,null,null,null,null,null,null,null,null,{"$f":"IF(ISBLANK('S1'!$H$52),NA(),'S1'!$H$52)","v":" "},9,null,{"$error":"#N/A"},{"$error":"#N/A"}," "]
[{"$f":"IF(ISBLANK('S1'!I$34),\" \",'S1'!I$34)","v":" "},null,null,null,null,null,null,null,null,null,null,{"$f":"IF(ISBLANK('S1'!$J$52),NA(),'S1'!$J$52)","v":" "},10,null,{"$error":"#N/A"},{"$error":"#N/A"}," "]
[{"$f":"IF(ISBLANK('S1'!K$34),\" \",'S1'!K$34)","v":" "},null,null,null,null,null,null,null,null,null,null,{"$f":"IF(ISBLANK('S1'!$L$52),NA(),'S1'!$L$52)","v":" "},11,null,{"$error":"#N/A"},{"$error":"#N/A"}," "]
[{"$f":"IF(ISBLANK('S1'!M$34),\" \",'S1'!M$34)","v":" "},null,null,null,null,null,null,null,null,null,null,{"$f":"IF(ISBLANK('S1'!$N$52),NA(),'S1'!$N$52)","v":" "},12,null,{"$error":"#N/A"},{"$error":"#N/A"}," "]
[{"$f":"IF(ISBLANK('S2'!C$10),\" \",'S2'!C$10)","v":" "},null,null,null,null,null,null,null,null,null,null,{"$f":"IF(ISBLANK('S2'!$D$28),NA(),'S2'!$D$28)","v":" "},13,null,{"$error":"#N/A"},{"$error":"#N/A"}," "]
[{"$f":"IF(ISBLANK('S2'!E$10),\" \",'S2'!E$10)","v":" "},null,null,null,null,null,null,null,null,null,null,{"$f":"IF(ISBLANK('S2'!$F$28),NA(),'S2'!$F$28)","v":" "},14,null,{"$error":"#N/A"},{"$error":"#N/A"}," "]
[{"$f":"IF(ISBLANK('S2'!G$10),\" \",'S2'!G$10)","v":" "},null,null,null,null,null,null,null,null,null,null,{"$f":"IF(ISBLANK('S2'!$H$28),NA(),'S2'!$H$28)","v":" "},15,null,{"$error":"#N/A"},{"$error":"#N/A"}," "]
[{"$f":"IF(ISBLANK('S2'!I$10),\" \",'S2'!I$10)","v":" "},null,null,null,null,null,null,null,null,null,null,{"$f":"IF(ISBLANK('S2'!$J$28),NA(),'S2'!$J$28)","v":" "},16,null,{"$error":"#N/A"},{"$error":"#N/A"}," "]
[{"$f":"IF(ISBLANK('S2'!K$10),\" \",'S2'!K$10)","v":" "},null,null,null,null,null,null,null,null,null,null,{"$f":"IF(ISBLANK('S2'!$L$28),NA(),'S2'!$L$28)","v":" "},17,null,{"$error":"#N/A"},{"$error":"#N/A"}," "]
[{"$f":"IF(ISBLANK('S2'!M$10),\" \",'S2'!M$10)","v":" "},null,null,null,null,null,null,null,null,null,null,{"$f":"IF(ISBLANK('S2'!$N$28),NA(),'S2'!$N$28)","v":" "},18,null,{"$error":"#N/A"},{"$error":"#N/A"}," "]
[{"$f":"IF(ISBLANK('S2'!C$34),\" \",'S2'!C$34)","v":" "},null,null,null,null,null,null,null,null,null,null,{"$f":"IF(ISBLANK('S2'!$D$52),NA(),'S2'!$D$52)","v":" "},19,null,{"$error":"#N/A"},{"$error":"#N/A"}," "]
[{"$f":"IF(ISBLANK('S2'!E$34),\" \",'S2'!E$34)","v":" "},null,null,null,null,null,null,null,null,null,null,{"$f":"IF(ISBLANK('S2'!$F$52),NA(),'S2'!$F$52)","v":" "},20,null,{"$error":"#N/A"},{"$error":"#N/A"}," "]
[{"$f":"IF(ISBLANK('S2'!G$34),\" \",'S2'!G$34)","v":" "},null,null,null,null,null,null,null,null,null,null,{"$f":"IF(ISBLANK('S2'!$H$52),NA(),'S2'!$H$52)","v":" "},21,null,{"$error":"#N/A"},{"$error":"#N/A"}," "]
[{"$f":"IF(ISBLANK('S2'!I$34),\" \",'S2'!I$34)","v":" "},null,null,null,null,null,null,null,null,null,null,{"$f":"IF(ISBLANK('S2'!$J$52),NA(),'S2'!$J$52)","v":" "},22,null,{"$error":"#N/A"},{"$error":"#N/A"}," "]
[{"$f":"IF(ISBLANK('S2'!K$34),\" \",'S2'!K$34)","v":" "},null,null,null,null,null,null,null,null,null,null,{"$f":"IF(ISBLANK('S2'!$L$52),NA(),'S2'!$L$52)","v":" "},23,null,{"$error":"#N/A"},{"$error":"#N/A"}," "]
[{"$f":"IF(ISBLANK('S2'!M$34),\" \",'S2'!M$34)","v":" "},null,null,null,null,null,null,null,null,null,null,{"$f":"IF(ISBLANK('S2'!$N$52),NA(),'S2'!$N$52)","v":" "},24,null,{"$error":"#N/A"},{"$error":"#N/A"}," "]
[{"$f":"IF(ISBLANK('S3'!C$10),\" \",'S3'!C$10)","v":" "},null,null,null,null,null,null,null,null,null,null,{"$f":"IF(ISBLANK('S3'!$D$28),NA(),'S3'!$D$28)","v":" "},25,null,{"$error":"#N/A"},{"$error":"#N/A"}," "]
[{"$f":"IF(ISBLANK('S3'!E$10),\" \",'S3'!E$10)","v":" "},null,null,null,null,null,null,null,null,null,null,{"$f":"IF(ISBLANK('S3'!$F$28),NA(),'S3'!$F$28)","v":" "},26,null,{"$error":"#N/A"},{"$error":"#N/A"}," "]
[{"$f":"IF(ISBLANK('S3'!G$10),\" \",'S3'!G$10)","v":" "},null,null,null,null,null,null,null,null,null,null,{"$f":"IF(ISBLANK('S3'!$H$28),NA(),'S3'!$H$28)","v":" "},27,null,{"$error":"#N/A"},{"$error":"#N/A"}," "]
[{"$f":"IF(ISBLANK('S3'!I$10),\" \",'S3'!I$10)","v":" "},null,null,null,null,null,null,null,null,null,null,{"$f":"IF(ISBLANK('S3'!$J$28),NA(),'S3'!$J$28)","v":" "},28,null,{"$error":"#N/A"},{"$error":"#N/A"}," "]
[{"$f":"IF(ISBLANK('S3'!K$10),\" \",'S3'!K$10)","v":" "},null,null,null,null,null,null,null,null,null,null,{"$f":"IF(ISBLANK('S3'!$L$28),NA(),'S3'!$L$28)","v":" "},29,null,{"$error":"#N/A"},{"$error":"#N/A"}," "]
[{"$f":"IF(ISBLANK('S3'!M$10),\" \",'S3'!M$10)","v":" "},null,null,null,null,null,null,null,null,null,null,{"$f":"IF(ISBLANK('S3'!$N$28),NA(),'S3'!$N$28)","v":" "},30,null,{"$error":"#N/A"},{"$error":"#N/A"}," "]
[{"$f":"IF(ISBLANK('S3'!C$34),\" \",'S3'!C$34)","v":" "},null,null,null,null,null,null,null,null,null,null,{"$f":"IF(ISBLANK('S3'!$D$52),NA(),'S3'!$D$52)","v":" "},31,null,{"$error":"#N/A"},{"$error":"#N/A"}," "]
[{"$f":"IF(ISBLANK('S3'!E$34),\" \",'S3'!E$34)","v":" "},null,null,null,null,null,null,null,null,null,null,{"$f":"IF(ISBLANK('S3'!$F$52),NA(),'S3'!$F$52)","v":" "},32,null,{"$error":"#N/A"},{"$error":"#N/A"}," "]
[{"$f":"IF(ISBLANK('S3'!G$34),\" \",'S3'!G$34)","v":" "},null,null,null,null,null,null,null,null,null,null,{"$f":"IF(ISBLANK('S3'!$H$52),NA(),'S3'!$H$52)","v":" "},33,null,{"$error":"#N/A"},{"$error":"#N/A"}," "]
[{"$f":"IF(ISBLANK('S3'!I$34),\" \",'S3'!I$34)","v":" "},null,null,null,null,null,null,null,null,null,null,{"$f":"IF(ISBLANK('S3'!$J$52),NA(),'S3'!$J$52)","v":" "},34,null,{"$error":"#N/A"},{"$error":"#N/A"}," "]
[{"$f":"IF(ISBLANK('S3'!K$34),\" \",'S3'!K$34)","v":" "},null,null,null,null,null,null,null,null,null,null,{"$f":"IF(ISBLANK('S3'!$L$52),NA(),'S3'!$L$52)","v":" "},35,null,{"$error":"#N/A"},{"$f":"IF(ISBLANK(N131),NA(),ROUND(AVERAGE(N129:N131),2))","v":{"$error":"#N/A"}}," "]
[{"$f":"IF(ISBLANK('S3'!M$34),\" \",'S3'!M$34)","v":" "},null,null,null,null,null,null,null,null,null,null,{"$f":"IF(ISBLANK('S3'!$N$52),NA(),'S3'!$N$52)","v":" "},36,null,{"$error":"#N/A"},{"$error":"#N/A"}," "]
[{"$f":"IF(ISBLANK('S4'!C$10),\" \",'S4'!C$10)","v":" "},null,null,null,null,null,null,null,null,null,null,{"$f":"IF(ISBLANK('S4'!$D$28),NA(),'S4'!$D$28)","v":" "},37,null,{"$error":"#N/A"},{"$error":"#N/A"}," "]
[{"$f":"IF(ISBLANK('S4'!E$10),\" \",'S4'!E$10)","v":" "},null,null,null,null,null,null,null,null,null,null,{"$f":"IF(ISBLANK('S4'!$F$28),NA(),'S4'!$F$28)","v":" "},38,null,{"$error":"#N/A"},{"$error":"#N/A"}," "]
[{"$f":"IF(ISBLANK('S4'!G$10),\" \",'S4'!G$10)","v":" "},null,null,null,null,null,null,null,null,null,null,{"$f":"IF(ISBLANK('S4'!$H$28),NA(),'S4'!$H$28)","v":" "},39,null,{"$error":"#N/A"},{"$error":"#N/A"}," "]
[{"$f":"IF(ISBLANK('S4'!I$10),\" \",'S4'!I$10)","v":" "},null,null,null,null,null,null,null,null,null,null,{"$f":"IF(ISBLANK('S4'!$J$28),NA(),'S4'!$J$28)","v":" "},40,null,{"$error":"#N/A"},{"$error":"#N/A"}," "]
[{"$f":"IF(ISBLANK('S4'!K$10),\" \",'S4'!K$10)","v":" "},null,null,null,null,null,null,null,null,null,null,{"$f":"IF(ISBLANK('S4'!$L$28),NA(),'S4'!$L$28)","v":" "},41,null,{"$error":"#N/A"},{"$error":"#N/A"}," "]
[{"$f":"IF(ISBLANK('S4'!M$10),\" \",'S4'!M$10)","v":" "},null,null,null,null,null,null,null,null,null,null,{"$f":"IF(ISBLANK('S4'!$N$28),NA(),'S4'!$N$28)","v":" "},42,null,{"$error":"#N/A"},{"$error":"#N/A"}," "]
[{"$f":"IF(ISBLANK('S4'!C$34),\" \",'S4'!C$34)","v":" "},null,null,null,null,null,null,null,null,null,null,{"$f":"IF(ISBLANK('S4'!$D$52),NA(),'S4'!$D$52)","v":" "},43,null,{"$error":"#N/A"},{"$error":"#N/A"}," "]
[{"$f":"IF(ISBLANK('S4'!E$34),\" \",'S4'!E$34)","v":" "},null,null,null,null,null,null,null,null,null,null,{"$f":"IF(ISBLANK('S4'!$F$52),NA(),'S4'!$F$52)","v":" "},44,null,{"$error":"#N/A"},{"$error":"#N/A"}," "]
[{"$f":"IF(ISBLANK('S4'!G$34),\" \",'S4'!G$34)","v":" "},null,null,null,null,null,null,null,null,null,null,{"$f":"IF(ISBLANK('S4'!$H$52),NA(),'S4'!$H$52)","v":" "},45,null,{"$error":"#N/A"},{"$error":"#N/A"}," "]
[{"$f":"IF(ISBLANK('S4'!I$34),\" \",'S4'!I$34)","v":" "},null,null,null,null,null,null,null,null,null,null,{"$f":"IF(ISBLANK('S4'!$J$52),NA(),'S4'!$J$52)","v":" "},46,null,{"$error":"#N/A"},{"$error":"#N/A"}," "]
[{"$f":"IF(ISBLANK('S4'!K$34),\" \",'S4'!K$34)","v":" "},null,null,null,null,null,null,null,null,null,null,{"$f":"IF(ISBLANK('S4'!$L$52),NA(),'S4'!$L$52)","v":" "},47,null,{"$error":"#N/A"},{"$error":"#N/A"}," "]
[{"$f":"IF(ISBLANK('S4'!M$34),\" \",'S4'!M$34)","v":" "},null,null,null,null,null,null,null,null,null,null,{"$f":"IF(ISBLANK('S4'!$N$52),NA(),'S4'!$N$52)","v":" "},48,null,{"$error":"#N/A"},{"$error":"#N/A"}," "]
[{"$f":"IF(ISBLANK('S5'!C$10),\" \",'S5'!C$10)","v":" "},null,null,null,null,null,null,null,null,null,null,{"$f":"IF(ISBLANK('S5'!$D$28),NA(),'S5'!$D$28)","v":" "},49,null,{"$error":"#N/A"},{"$error":"#N/A"}," "]
[{"$f":"IF(ISBLANK('S5'!E$10),\" \",'S5'!E$10)","v":" "},null,null,null,null,null,null,null,null,null,null,{"$f":"IF(ISBLANK('S5'!$F$28),NA(),'S5'!$F$28)","v":" "},50,null,{"$error":"#N/A"},{"$error":"#N/A"}," "]
[{"$f":"IF(ISBLANK('S5'!G$10),\" \",'S5'!G$10)","v":" "},null,null,null,null,null,null,null,null,null,null,{"$f":"IF(ISBLANK('S5'!$H$28),NA(),'S5'!$H$28)","v":" "},51,null,{"$error":"#N/A"},{"$error":"#N/A"}," "]
[{"$f":"IF(ISBLANK('S5'!I$10),\" \",'S5'!I$10)","v":" "},null,null,null,null,null,null,null,null,null,null,{"$f":"IF(ISBLANK('S5'!$J$28),NA(),'S5'!$J$28)","v":" "},52,null,{"$error":"#N/A"},{"$error":"#N/A"}," "]
[{"$f":"IF(ISBLANK('S5'!K$10),\" \",'S5'!K$10)","v":" "},null,null,null,null,null,null,null,null,null,null,{"$f":"IF(ISBLANK('S5'!$L$28),NA(),'S5'!$L$28)","v":" "},53,null,{"$error":"#N/A"},{"$error":"#N/A"}," "]
[{"$f":"IF(ISBLANK('S5'!M$10),\" \",'S5'!M$10)","v":" "},null,null,null,null,null,null,null,null,null,null,{"$f":"IF(ISBLANK('S5'!$N$28),NA(),'S5'!$N$28)","v":" "},54,null,{"$error":"#N/A"},{"$error":"#N/A"}," "]
[{"$f":"IF(ISBLANK('S5'!C$34),\" \",'S5'!C$34)","v":" "},null,null,null,null,null,null,null,null,null,null,{"$f":"IF(ISBLANK('S5'!$D$52),NA(),'S5'!$D$52)","v":" "},55,null,{"$error":"#N/A"},{"$error":"#N/A"}," "]
[{"$f":"IF(ISBLANK('S5'!E$34),\" \",'S5'!E$34)","v":" "},null,null,null,null,null,null,null,null,null,null,{"$f":"IF(ISBLANK('S5'!$F$52),NA(),'S5'!$F$52)","v":" "},56,null,{"$error":"#N/A"},{"$error":"#N/A"}," "]
[{"$f":"IF(ISBLANK('S5'!G$34),\" \",'S5'!G$34)","v":" "},null,null,null,null,null,null,null,null,null,null,{"$f":"IF(ISBLANK('S5'!$H$52),NA(),'S5'!$H$52)","v":" "},57,null,{"$error":"#N/A"},{"$error":"#N/A"}," "]
[{"$f":"IF(ISBLANK('S5'!I$34),\" \",'S5'!I$34)","v":" "},null,null,null,null,null,null,null,null,null,null,{"$f":"IF(ISBLANK('S5'!$J$52),NA(),'S5'!$J$52)","v":" "},58,null,{"$error":"#N/A"},{"$error":"#N/A"}," "]
[{"$f":"IF(ISBLANK('S5'!K$34),\" \",'S5'!K$34)","v":" "},null,null,null,null,null,null,null,null,null,null,{"$f":"IF(ISBLANK('S5'!$L$52),NA(),'S5'!$L$52)","v":" "},59,null,{"$error":"#N/A"},{"$error":"#N/A"}," "]
[{"$f":"IF(ISBLANK('S5'!M$34),\" \",'S5'!M$34)","v":" "},null,null,null,null,null,null,null,null,null,null,{"$f":"IF(ISBLANK('S5'!$N$52),NA(),'S5'!$N$52)","v":" "},60,null,{"$error":"#N/A"},{"$error":"#N/A"}," "]
[{"$f":"IF(ISBLANK('S6'!C$10),\" \",'S6'!C$10)","v":" "},null,null,null,null,null,null,null,null,null,null,{"$f":"IF(ISBLANK('S6'!$D$28),NA(),'S6'!$D$28)","v":" "},61,null,{"$error":"#N/A"},{"$error":"#N/A"}," "]
[{"$f":"IF(ISBLANK('S6'!E$10),\" \",'S6'!E$10)","v":" "},null,null,null,null,null,null,null,null,null,null,{"$f":"IF(ISBLANK('S6'!$F$28),NA(),'S6'!$F$28)","v":" "},62,null,{"$error":"#N/A"},{"$error":"#N/A"}," "]
[{"$f":"IF(ISBLANK('S6'!G$10),\" \",'S6'!G$10)","v":" "},null,null,null,null,null,null,null,null,null,null,{"$f":"IF(ISBLANK('S6'!$H$28),NA(),'S6'!$H$28)","v":" "},63,null,{"$error":"#N/A"},{"$error":"#N/A"}," "]
[{"$f":"IF(ISBLANK('S6'!I$10),\" \",'S6'!I$10)","v":" "},null,null,null,null,null,null,null,null,null,null,{"$f":"IF(ISBLANK('S6'!$J$28),NA(),'S6'!$J$28)","v":" "},64,null,{"$error":"#N/A"},{"$error":"#N/A"}," "]
[{"$f":"IF(ISBLANK('S6'!K$10),\" \",'S6'!K$10)","v":" "},null,null,null,null,null,null,null,null,null,null,{"$f":"IF(ISBLANK('S6'!$L$28),NA(),'S6'!$L$28)","v":" "},65,null,{"$error":"#N/A"},{"$error":"#N/A"}," "]
[{"$f":"IF(ISBLANK('S6'!M$10),\" \",'S6'!M$10)","v":" "},null,null,null,null,null,null,null,null,null,null,{"$f":"IF(ISBLANK('S6'!$N$28),NA(),'S6'!$N$28)","v":" "},66,null,{"$f":"IF(ISBLANK(N162),NA(),N162)","v":{"$error":"#N/A"}},{"$error":"#N/A"},{"$f":"IF(ISNUMBER(L162),A162,\" \")","v":" "}]
[{"$f":"IF(ISBLANK('S6'!C$34),\" \",'S6'!C$34)","v":" "},null,null,null,null,null,null,null,null,null,null,{"$f":"IF(ISBLANK('S6'!$D$52),NA(),'S6'!$D$52)","v":" "},67,null,{"$error":"#N/A"},{"$f":"IF(ISBLANK(N163),NA(),ROUND(AVERAGE(N161:N163),2))","v":{"$error":"#N/A"}}," "]
[{"$f":"IF(ISBLANK('S6'!E$34),\" \",'S6'!E$34)","v":" "},null,null,null,null,null,null,null,null,null,null,{"$f":"IF(ISBLANK('S6'!$F$52),NA(),'S6'!$F$52)","v":" "},68,null,{"$error":"#N/A"},{"$error":"#N/A"}," "]
[{"$f":"IF(ISBLANK('S6'!G$34),\" \",'S6'!G$34)","v":" "},null,null,null,null,null,null,null,null,null,null,{"$f":"IF(ISBLANK('S6'!$H$52),NA(),'S6'!$H$52)","v":" "},69,null,{"$error":"#N/A"},{"$error":"#N/A"}," "]
[{"$f":"IF(ISBLANK('S6'!I$34),\" \",'S6'!I$34)","v":" "},null,null,null,null,null,null,null,null,null,null,{"$f":"IF(ISBLANK('S6'!$J$52),NA(),'S6'!$J$52)","v":" "},70,null,{"$error":"#N/A"},{"$error":"#N/A"}," "]
[{"$f":"IF(ISBLANK('S6'!K$34),\" \",'S6'!K$34)","v":" "},null,null,null,null,null,null,null,null,null,null,{"$f":"IF(ISBLANK('S6'!$L$52),NA(),'S6'!$L$52)","v":" "},71,null,{"$error":"#N/A"},{"$error":"#N/A"}," "]
[{"$f":"IF(ISBLANK('S6'!M$34),\" \",'S6'!M$34)","v":" "},null,null,null,null,null,null,null,null,null,null,{"$f":"IF(ISBLANK('S6'!$N$52),NA(),'S6'!$N$52)","v":" "},72,null,{"$error":"#N/A"},{"$error":"#N/A"}," "]
[{"$f":"IF(ISBLANK('S7'!C$10),\" \",'S7'!C$10)","v":" "},null,null,null,null,null,null,null,null,null,null,{"$f":"IF(ISBLANK('S7'!$D$28),NA(),'S7'!$D$28)","v":" "},73,null,{"$error":"#N/A"},{"$error":"#N/A"}," "]
[{"$f":"IF(ISBLANK('S7'!E$10),\" \",'S7'!E$10)","v":" "},null,null,null,null,null,null,null,null,null,null,{"$f":"IF(ISBLANK('S7'!$F$28),NA(),'S7'!$F$28)","v":" "},74,null,{"$error":"#N/A"},{"$error":"#N/A"}," "]
[{"$f":"IF(ISBLANK('S7'!G$10),\" \",'S7'!G$10)","v":" "},null,null,null,null,null,null,null,null,null,null,{"$f":"IF(ISBLANK('S7'!$H$28),NA(),'S7'!$H$28)","v":" "},75,null,{"$error":"#N/A"},{"$error":"#N/A"}," "]
[{"$f":"IF(ISBLANK('S7'!I$10),\" \",'S7'!I$10)","v":" "},null,null,null,null,null,null,null,null,null,null,{"$f":"IF(ISBLANK('S7'!$J$28),NA(),'S7'!$J$28)","v":" "},76,null,{"$error":"#N/A"},{"$error":"#N/A"}," "]
[{"$f":"IF(ISBLANK('S7'!K$10),\" \",'S7'!K$10)","v":" "},null,null,null,null,null,null,null,null,null,null,{"$f":"IF(ISBLANK('S7'!$L$28),NA(),'S7'!$L$28)","v":" "},77,null,{"$error":"#N/A"},{"$error":"#N/A"}," "]
[{"$f":"IF(ISBLANK('S7'!M$10),\" \",'S7'!M$10)","v":" "},null,null,null,null,null,null,null,null,null,null,{"$f":"IF(ISBLANK('S7'!$N$28),NA(),'S7'!$N$28)","v":" "},78,null,{"$error":"#N/A"},{"$error":"#N/A"}," "]
[{"$f":"IF(ISBLANK('S7'!C$34),\" \",'S7'!C$34)","v":" "},null,null,null,null,null,null,null,null,null,null,{"$f":"IF(ISBLANK('S7'!$D$52),NA(),'S7'!$D$52)","v":" "},79,null,{"$error":"#N/A"},{"$error":"#N/A"}," "]
[{"$f":"IF(ISBLANK('S7'!E$34),\" \",'S7'!E$34)","v":" "},null,null,null,null,null,null,null,null,null,null,{"$f":"IF(ISBLANK('S7'!$F$52),NA(),'S7'!$F$52)","v":" "},80,null,{"$error":"#N/A"},{"$error":"#N/A"}," "]
[{"$f":"IF(ISBLANK('S7'!G$34),\" \",'S7'!G$34)","v":" "},null,null,null,null,null,null,null,null,null,null,{"$f":"IF(ISBLANK('S7'!$H$52),NA(),'S7'!$H$52)","v":" "},81,null,{"$error":"#N/A"},{"$error":"#N/A"}," "]
[{"$f":"IF(ISBLANK('S7'!I$34),\" \",'S7'!I$34)","v":" "},null,null,null,null,null,null,null,null,null,null,{"$f":"IF(ISBLANK('S7'!$J$52),NA(),'S7'!$J$52)","v":" "},82,null,{"$error":"#N/A"},{"$error":"#N/A"}," "]
[{"$f":"IF(ISBLANK('S7'!K$34),\" \",'S7'!K$34)","v":" "},null,null,null,null,null,null,null,null,null,null,{"$f":"IF(ISBLANK('S7'!$L$52),NA(),'S7'!$L$52)","v":" "},83,null,{"$error":"#N/A"},{"$error":"#N/A"}," "]
[{"$f":"IF(ISBLANK('S7'!M$34),\" \",'S7'!M$34)","v":" "},null,null,null,null,null,null,null,null,null,null,{"$f":"IF(ISBLANK('S7'!$N$52),NA(),'S7'!$N$52)","v":" "},84,null,{"$error":"#N/A"},{"$error":"#N/A"}," "]
[{"$f":"IF(ISBLANK('S8'!C$10),\" \",'S8'!C$10)","v":" "},null,null,null,null,null,null,null,null,null,null,{"$f":"IF(ISBLANK('S8'!$D$28),NA(),'S8'!$D$28)","v":" "},85,null,{"$error":"#N/A"},{"$error":"#N/A"}," "]
[{"$f":"IF(ISBLANK('S8'!E$10),\" \",'S8'!E$10)","v":" "},null,null,null,null,null,null,null,null,null,null,{"$f":"IF(ISBLANK('S8'!$F$28),NA(),'S8'!$F$28)","v":" "},86,null,{"$error":"#N/A"},{"$error":"#N/A"}," "]
[{"$f":"IF(ISBLANK('S8'!G$10),\" \",'S8'!G$10)","v":" "},null,null,null,null,null,null,null,null,null,null,{"$f":"IF(ISBLANK('S8'!$H$28),NA(),'S8'!$H$28)","v":" "},87,null,{"$error":"#N/A"},{"$error":"#N/A"}," "]
[{"$f":"IF(ISBLANK('S8'!I$10),\" \",'S8'!I$10)","v":" "},null,null,null,null,null,null,null,null,null,null,{"$f":"IF(ISBLANK('S8'!$J$28),NA(),'S8'!$J$28)","v":" "},88,null,{"$error":"#N/A"},{"$error":"#N/A"}," "]
[{"$f":"IF(ISBLANK('S8'!K$10),\" \",'S8'!K$10)","v":" "},null,null,null,null,null,null,null,null,null,null,{"$f":"IF(ISBLANK('S8'!$L$28),NA(),'S8'!$L$28)","v":" "},89,null,{"$error":"#N/A"},{"$error":"#N/A"}," "]
[{"$f":"IF(ISBLANK('S8'!M$10),\" \",'S8'!M$10)","v":" "},null,null,null,null,null,null,null,null,null,null,{"$f":"IF(ISBLANK('S8'!$N$28),NA(),'S8'!$N$28)","v":" "},90,null,{"$error":"#N/A"},{"$error":"#N/A"}," "]
[{"$f":"IF(ISBLANK('S8'!C$34),\" \",'S8'!C$34)","v":" "},null,null,null,null,null,null,null,null,null,null,{"$f":"IF(ISBLANK('S8'!$D$52),NA(),'S8'!$D$52)","v":" "},91,null,{"$error":"#N/A"},{"$error":"#N/A"}," "]
[{"$f":"IF(ISBLANK('S8'!E$34),\" \",'S8'!E$34)","v":" "},null,null,null,null,null,null,null,null,null,null,{"$f":"IF(ISBLANK('S8'!$F$52),NA(),'S8'!$F$52)","v":" "},92,null,{"$error":"#N/A"},{"$error":"#N/A"}," "]
[{"$f":"IF(ISBLANK('S8'!G$34),\" \",'S8'!G$34)","v":" "},null,null,null,null,null,null,null,null,null,null,{"$f":"IF(ISBLANK('S8'!$H$52),NA(),'S8'!$H$52)","v":" "},93,null,{"$error":"#N/A"},{"$error":"#N/A"}," "]
[{"$f":"IF(ISBLANK('S8'!I$34),\" \",'S8'!I$34)","v":" "},null,null,null,null,null,null,null,null,null,null,{"$f":"IF(ISBLANK('S8'!$J$52),NA(),'S8'!$J$52)","v":" "},94,null,{"$error":"#N/A"},{"$error":"#N/A"}," "]
[{"$f":"IF(ISBLANK('S8'!K$34),\" \",'S8'!K$34)","v":" "},null,null,null,null,null,null,null,null,null,null,{"$f":"IF(ISBLANK('S8'!$L$52),NA(),'S8'!$L$52)","v":" "},95,null,{"$error":"#N/A"},{"$error":"#N/A"}," "]
[{"$f":"IF(ISBLANK('S8'!M$34),\" \",'S8'!M$34)","v":" "},null,null,null,null,null,null,null,null,null,null,{"$f":"IF(ISBLANK('S8'!$N$52),NA(),'S8'!$N$52)","v":" "},96,null,{"$error":"#N/A"},{"$error":"#N/A"}," "]
[{"$f":"IF(ISBLANK('S9'!C$10),\" \",'S9'!C$10)","v":" "},null,null,null,null,null,null,null,null,null,null,{"$f":"IF(ISBLANK('S9'!$D$28),NA(),'S9'!$D$28)","v":" "},97,null,{"$error":"#N/A"},{"$error":"#N/A"}," "]
[{"$f":"IF(ISBLANK('S9'!E$10),\" \",'S9'!E$10)","v":" "},null,null,null,null,null,null,null,null,null,null,{"$f":"IF(ISBLANK('S9'!$F$28),NA(),'S9'!$F$28)","v":" "},98,null,{"$error":"#N/A"},{"$error":"#N/A"}," "]
[{"$f":"IF(ISBLANK('S9'!G$10),\" \",'S9'!G$10)","v":" "},null,null,null,null,null,null,null,null,null,null,{"$f":"IF(ISBLANK('S9'!$H$28),NA(),'S9'!$H$28)","v":" "},99,null,{"$error":"#N/A"},{"$f":"IF(ISBLANK(N195),NA(),ROUND(AVERAGE(N193:N195),2))","v":{"$error":"#N/A"}}," "]
[{"$f":"IF(ISBLANK('S9'!I$10),\" \",'S9'!I$10)","v":" "},null,null,null,null,null,null,null,null,null,null,{"$f":"IF(ISBLANK('S9'!$J$28),NA(),'S9'!$J$28)","v":" "},100,null,{"$error":"#N/A"},{"$error":"#N/A"}," "]
[{"$f":"IF(ISBLANK('S9'!K$10),\" \",'S9'!K$10)","v":" "},null,null,null,null,null,null,null,null,null,null,{"$f":"IF(ISBLANK('S9'!$L$28),NA(),'S9'!$L$28)","v":" "},101,null,{"$error":"#N/A"},{"$error":"#N/A"}," "]
[{"$f":"IF(ISBLANK('S9'!M$10),\" \",'S9'!M$10)","v":" "},null,null,null,null,null,null,null,null,null,null,{"$f":"IF(ISBLANK('S9'!$N$28),NA(),'S9'!$N$28)","v":" "},102,null,{"$error":"#N/A"},{"$error":"#N/A"}," "]
[{"$f":"IF(ISBLANK('S9'!C$34),\" \",'S9'!C$34)","v":" "},null,null,null,null,null,null,null,null,null,null,{"$f":"IF(ISBLANK('S9'!$D$52),NA(),'S9'!$D$52)","v":" "},103,null,{"$error":"#N/A"},{"$error":"#N/A"}," "]
[{"$f":"IF(ISBLANK('S9'!E$34),\" \",'S9'!E$34)","v":" "},null,null,null,null,null,null,null,null,null,null,{"$f":"IF(ISBLANK('S9'!$F$52),NA(),'S9'!$F$52)","v":" "},104,null,{"$error":"#N/A"},{"$error":"#N/A"}," "]
[{"$f":"IF(ISBLANK('S9'!G$34),\" \",'S9'!G$34)","v":" "},null,null,null,null,null,null,null,null,null,null,{"$f":"IF(ISBLANK('S9'!$H$52),NA(),'S9'!$H$52)","v":" "},105,null,{"$error":"#N/A"},{"$error":"#N/A"}," "]
[{"$f":"IF(ISBLANK('S9'!I$34),\" \",'S9'!I$34)","v":" "},null,null,null,null,null,null,null,null,null,null,{"$f":"IF(ISBLANK('S9'!$J$52),NA(),'S9'!$J$52)","v":" "},106,null,{"$error":"#N/A"},{"$error":"#N/A"}," "]
[{"$f":"IF(ISBLANK('S9'!K$34),\" \",'S9'!K$34)","v":" "},null,null,null,null,null,null,null,null,null,null,{"$f":"IF(ISBLANK('S9'!$L$52),NA(),'S9'!$L$52)","v":" "},107,null,{"$error":"#N/A"},{"$error":"#N/A"}," "]
[{"$f":"IF(ISBLANK('S9'!M$34),\" \",'S9'!M$34)","v":" "},null,null,null,null,null,null,null,null,null,null,{"$f":"IF(ISBLANK('S9'!$N$52),NA(),'S9'!$N$52)","v":" "},108,null,{"$error":"#N/A"},{"$error":"#N/A"}," "]
[{"$f":"IF(ISBLANK('S10'!C$10),\" \",'S10'!C$10)","v":" "},null,null,null,null,null,null,null,null,null,null,{"$f":"IF(ISBLANK('S10'!$D$28),NA(),'S10'!$D$28)","v":" "},109,null,{"$error":"#N/A"},{"$error":"#N/A"}," "]
[{"$f":"IF(ISBLANK('S10'!E$10),\" \",'S10'!E$10)","v":" "},null,null,null,null,null,null,null,null,null,null,{"$f":"IF(ISBLANK('S10'!$F$28),NA(),'S10'!$F$28)","v":" "},110,null,{"$error":"#N/A"},{"$error":"#N/A"}," "]
[{"$f":"IF(ISBLANK('S10'!G$10),\" \",'S10'!G$10)","v":" "},null,null,null,null,null,null,null,null,null,null,{"$f":"IF(ISBLANK('S10'!$H$28),NA(),'S10'!$H$28)","v":" "},111,null,{"$error":"#N/A"},{"$error":"#N/A"}," "]
[{"$f":"IF(ISBLANK('S10'!I$10),\" \",'S10'!I$10)","v":" "},null,null,null,null,null,null,null,null,null,null,{"$f":"IF(ISBLANK('S10'!$J$28),NA(),'S10'!$J$28)","v":" "},112,null,{"$error":"#N/A"},{"$error":"#N/A"}," "]
[{"$f":"IF(ISBLANK('S10'!K$10),\" \",'S10'!K$10)","v":" "},null,null,null,null,null,null,null,null,null,null,{"$f":"IF(ISBLANK('S10'!$L$28),NA(),'S10'!$L$28)","v":" "},113,null,{"$error":"#N/A"},{"$error":"#N/A"}," "]
[{"$f":"IF(ISBLANK('S10'!M$10),\" \",'S10'!M$10)","v":" "},null,null,null,null,null,null,null,null,null,null,{"$f":"IF(ISBLANK('S10'!$N$28),NA(),'S10'!$N$28)","v":" "},114,null,{"$error":"#N/A"},{"$error":"#N/A"}," "]
[{"$f":"IF(ISBLANK('S10'!C$34),\" \",'S10'!C$34)","v":" "},null,null,null,null,null,null,null,null,null,null,{"$f":"IF(ISBLANK('S10'!$D$52),NA(),'S10'!$D$52)","v":" "},115,null,{"$error":"#N/A"},{"$error":"#N/A"}," "]
[{"$f":"IF(ISBLANK('S10'!E$34),\" \",'S10'!E$34)","v":" "},null,null,null,null,null,null,null,null,null,null,{"$f":"IF(ISBLANK('S10'!$F$52),NA(),'S10'!$F$52)","v":" "},116,null,{"$error":"#N/A"},{"$error":"#N/A"}," "]
[{"$f":"IF(ISBLANK('S10'!G$34),\" \",'S10'!G$34)","v":" "},null,null,null,null,null,null,null,null,null,null,{"$f":"IF(ISBLANK('S10'!$H$52),NA(),'S10'!$H$52)","v":" "},117,null,{"$error":"#N/A"},{"$error":"#N/A"}," "]
[{"$f":"IF(ISBLANK('S10'!I$34),\" \",'S10'!I$34)","v":" "},null,null,null,null,null,null,null,null,null,null,{"$f":"IF(ISBLANK('S10'!$J$52),NA(),'S10'!$J$52)","v":" "},118,null,{"$error":"#N/A"},{"$error":"#N/A"}," "]
[{"$f":"IF(ISBLANK('S10'!K$34),\" \",'S10'!K$34)","v":" "},null,null,null,null,null,null,null,null,null,null,{"$f":"IF(ISBLANK('S10'!$L$52),NA(),'S10'!$L$52)","v":" "},119,null,{"$error":"#N/A"},{"$error":"#N/A"}," "]
[{"$f":"IF(ISBLANK('S10'!M$34),\" \",'S10'!M$34)","v":" "},null,null,null,null,null,null,null,null,null,null,{"$f":"IF(ISBLANK('S10'!$N$52),NA(),'S10'!$N$52)","v":" "},120,null,{"$error":"#N/A"},{"$error":"#N/A"}," "]
[{"$f":"IF(ISBLANK('S11'!C$10),\" \",'S11'!C$10)","v":" "},null,null,null,null,null,null,null,null,null,null,{"$f":"IF(ISBLANK('S11'!$D$28),NA(),'S11'!$D$28)","v":" "},121,null,{"$error":"#N/A"},{"$error":"#N/A"}," "]
[{"$f":"IF(ISBLANK('S11'!E$10),\" \",'S11'!E$10)","v":" "},null,null,null,null,null,null,null,null,null,null,{"$f":"IF(ISBLANK('S11'!$F$28),NA(),'S11'!$F$28)","v":" "},122,null,{"$error":"#N/A"},{"$error":"#N/A"}," "]
[{"$f":"IF(ISBLANK('S11'!G$10),\" \",'S11'!G$10)","v":" "},null,null,null,null,null,null,null,null,null,null,{"$f":"IF(ISBLANK('S11'!$H$28),NA(),'S11'!$H$28)","v":" "},123,null,{"$error":"#N/A"},{"$error":"#N/A"}," "]
[{"$f":"IF(ISBLANK('S11'!I$10),\" \",'S11'!I$10)","v":" "},null,null,null,null,null,null,null,null,null,null,{"$f":"IF(ISBLANK('S11'!$J$28),NA(),'S11'!$J$28)","v":" "},124,null,{"$error":"#N/A"},{"$error":"#N/A"}," "]
[{"$f":"IF(ISBLANK('S11'!K$10),\" \",'S11'!K$10)","v":" "},null,null,null,null,null,null,null,null,null,null,{"$f":"IF(ISBLANK('S11'!$L$28),NA(),'S11'!$L$28)","v":" "},125,null,{"$error":"#N/A"},{"$error":"#N/A"}," "]
[{"$f":"IF(ISBLANK('S11'!M$10),\" \",'S11'!M$10)","v":" "},null,null,null,null,null,null,null,null,null,null,{"$f":"IF(ISBLANK('S11'!$N$28),NA(),'S11'!$N$28)","v":" "},126,null,{"$error":"#N/A"},{"$error":"#N/A"}," "]
[{"$f":"IF(ISBLANK('S11'!C$34),\" \",'S11'!C$34)","v":" "},null,null,null,null,null,null,null,null,null,null,{"$f":"IF(ISBLANK('S11'!$D$52),NA(),'S11'!$D$52)","v":" "},127,null,{"$error":"#N/A"},{"$error":"#N/A"}," "]
[{"$f":"IF(ISBLANK('S11'!E$34),\" \",'S11'!E$34)","v":" "},null,null,null,null,null,null,null,null,null,null,{"$f":"IF(ISBLANK('S11'!$F$52),NA(),'S11'!$F$52)","v":" "},128,null,{"$error":"#N/A"},{"$error":"#N/A"}," "]
[{"$f":"IF(ISBLANK('S11'!G$34),\" \",'S11'!G$34)","v":" "},null,null,null,null,null,null,null,null,null,null,{"$f":"IF(ISBLANK('S11'!$H$52),NA(),'S11'!$H$52)","v":" "},129,null,{"$error":"#N/A"},{"$error":"#N/A"}," "]
[{"$f":"IF(ISBLANK('S11'!I$34),\" \",'S11'!I$34)","v":" "},null,null,null,null,null,null,null,null,null,null,{"$f":"IF(ISBLANK('S11'!$J$52),NA(),'S11'!$J$52)","v":" "},130,null,{"$f":"IF(ISBLANK(N226),NA(),N226)","v":{"$error":"#N/A"}},{"$error":"#N/A"},{"$f":"IF(ISNUMBER(L226),A226,\" \")","v":" "}]
[{"$f":"IF(ISBLANK('S11'!K$34),\" \",'S11'!K$34)","v":" "},null,null,null,null,null,null,null,null,null,null,{"$f":"IF(ISBLANK('S11'!$L$52),NA(),'S11'!$L$52)","v":" "},131,null,{"$error":"#N/A"},{"$f":"IF(ISBLANK(N227),NA(),ROUND(AVERAGE(N225:N227),2))","v":{"$error":"#N/A"}}," "]
[{"$f":"IF(ISBLANK('S11'!M$34),\" \",'S11'!M$34)","v":" "},null,null,null,null,null,null,null,null,null,null,{"$f":"IF(ISBLANK('S11'!$N$52),NA(),'S11'!$N$52)","v":" "},132,null,{"$error":"#N/A"},{"$error":"#N/A"}," "]
[{"$f":"IF(ISBLANK('S12'!C$10),\" \",'S12'!C$10)","v":" "},null,null,null,null,null,null,null,null,null,null,{"$f":"IF(ISBLANK('S12'!$D$28),NA(),'S12'!$D$28)","v":" "},133,null,{"$error":"#N/A"},{"$error":"#N/A"}," "]
[{"$f":"IF(ISBLANK('S12'!E$10),\" \",'S12'!E$10)","v":" "},null,null,null,null,null,null,null,null,null,null,{"$f":"IF(ISBLANK('S12'!$F$28),NA(),'S12'!$F$28)","v":" "},134,null,{"$error":"#N/A"},{"$error":"#N/A"}," "]
[{"$f":"IF(ISBLANK('S12'!G$10),\" \",'S12'!G$10)","v":" "},null,null,null,null,null,null,null,null,null,null,{"$f":"IF(ISBLANK('S12'!$H$28),NA(),'S12'!$H$28)","v":" "},135,null,{"$error":"#N/A"},{"$error":"#N/A"}," "]
[{"$f":"IF(ISBLANK('S12'!I$10),\" \",'S12'!I$10)","v":" "},null,null,null,null,null,null,null,null,null,null,{"$f":"IF(ISBLANK('S12'!$J$28),NA(),'S12'!$J$28)","v":" "},136,null,{"$error":"#N/A"},{"$error":"#N/A"}," "]
[{"$f":"IF(ISBLANK('S12'!K$10),\" \",'S12'!K$10)","v":" "},null,null,null,null,null,null,null,null,null,null,{"$f":"IF(ISBLANK('S12'!$L$28),NA(),'S12'!$L$28)","v":" "},137,null,{"$error":"#N/A"},{"$error":"#N/A"}," "]
[{"$f":"IF(ISBLANK('S12'!M$10),\" \",'S12'!M$10)","v":" "},null,null,null,null,null,null,null,null,null,null,{"$f":"IF(ISBLANK('S12'!$N$28),NA(),'S12'!$N$28)","v":" "},138,null,{"$error":"#N/A"},{"$error":"#N/A"}," "]
[{"$f":"IF(ISBLANK('S12'!C$34),\" \",'S12'!C$34)","v":" "},null,null,null,null,null,null,null,null,null,null,{"$f":"IF(ISBLANK('S12'!$D$52),NA(),'S12'!$D$52)","v":" "},139,null,{"$error":"#N/A"},{"$error":"#N/A"}," "]
[{"$f":"IF(ISBLANK('S12'!E$34),\" \",'S12'!E$34)","v":" "},null,null,null,null,null,null,null,null,null,null,{"$f":"IF(ISBLANK('S12'!$F$52),NA(),'S12'!$F$52)","v":" "},140,null,{"$error":"#N/A"},{"$error":"#N/A"}," "]
[{"$f":"IF(ISBLANK('S12'!G$34),\" \",'S12'!G$34)","v":" "},null,null,null,null,null,null,null,null,null,null,{"$f":"IF(ISBLANK('S12'!$H$52),NA(),'S12'!$H$52)","v":" "},141,null,{"$error":"#N/A"},{"$error":"#N/A"}," "]
[{"$f":"IF(ISBLANK('S12'!I$34),\" \",'S12'!I$34)","v":" "},null,null,null,null,null,null,null,null,null,null,{"$f":"IF(ISBLANK('S12'!$J$52),NA(),'S12'!$J$52)","v":" "},142,null,{"$error":"#N/A"},{"$error":"#N/A"}," "]
[{"$f":"IF(ISBLANK('S12'!K$34),\" \",'S12'!K$34)","v":" "},null,null,null,null,null,null,null,null,null,null,{"$f":"IF(ISBLANK('S12'!$L$52),NA(),'S12'!$L$52)","v":" "},143,null,{"$error":"#N/A"},{"$error":"#N/A"}," "]
[{"$f":"IF(ISBLANK('S12'!M$34),\" \",'S12'!M$34)","v":" "},null,null,null,null,null,null,null,null,null,null,{"$f":"IF(ISBLANK('S12'!$N$52),NA(),'S12'!$N$52)","v":" "},144,null,{"$error":"#N/A"},{"$error":"#N/A"}," "]

{"sheet":"C U Chart","index":20,"n_rows":64,"n_cols":10,"rows_kept":64,"cut":false,"hidden":false,"merged":[[2,9,2,10],[5,2,5,6],[4,0,4,1],[0,0,3,1],[3,7,3,8],[2,7,2,8],[62,9,62,10],[60,0,63,1],[1,2,1,6],[1,7,1,8],[1,9,1,10],[2,2,2,6],[63,7,63,8],[63,2,63,6],[61,9,61,10],[3,2,3,6],[62,7,62,8],[3,9,3,10],[62,2,62,6],[61,2,61,6],[63,9,63,10],[61,7,61,8]]}
[]
[null,null,"COMMONWEALTH OF PENNSYLVANIA",null,null,null,null,"DISTRICT",null,{"$f":"IF(ISBLANK('S1'!L$2),\" \",'S1'!L$2)","v":" "}]
[null,null,"DEPARTMENT OF TRANSPORTATION",null,null,null,null,"PLANT CODE",null,{"$f":"IF(ISBLANK('S1'!L$3),\" \",'S1'!L$3)","v":" "}]
[null,null,"PENNSYLVANIA TURNPIKE COMMISSION",null,null,null,null,"AGG SIZE",null,{"$f":"IF(ISBLANK('S1'!L$4),\" \",'S1'!L$4)","v":"2A"}]
[{"$f":"'S1'!A5","v":"Aggregate 2023"}]
[null,null,"Coefficient of Uniformity chart for OGS only"]
[]
[]
[]
[]
[]
[]
[]
[]
[]
[]
[]
[]
[]
[]
[]
[]
[]
[]
[]
[]
[]
[]
[]
[]
[]
[]
[]
[]
[]
[]
[]
[]
[]
[]
[]
[]
[]
[]
[]
[]
[]
[]
[]
[]
[]
[]
[]
[]
[]
[]
[]
[]
[]
[]
[]
[null,null,"COMMONWEALTH OF PENNSYLVANIA",null,null,null,null,"DISTRICT",null,{"$f":"IF(ISBLANK('S1'!L$2),\" \",'S1'!L$2)","v":" "}]
[null,null,"DEPARTMENT OF TRANSPORTATION",null,null,null,null,"PLANT CODE",null,{"$f":"IF(ISBLANK('S1'!L$3),\" \",'S1'!L$3)","v":" "}]
[null,null,"PENNSYLVANIA TURNPIKE COMMISSION",null,null,null,null,"AGG SIZE",null,{"$f":"IF(ISBLANK('S1'!L$4),\" \",'S1'!L$4)","v":"2A"}]

{"sheet":"S13","index":21,"n_rows":146,"n_cols":20,"rows_kept":146,"cut":false,"hidden":true,"merged":[[0,9,0,10],[0,7,0,8],[0,5,0,6]]}
["Sam. No.",2,1.5,0.75,0.375,4,null,{"$f":"AP!L24","v":16},null,"Coeff Unf"]
[null,null,null,null,null,"N=1","N=3","N=1","N=3","N=1","N=3",null,"Samp #","Wash 200",200,{"$f":"IF('S1'!L4=\"2RC\",100,16)","v":16},4,0.375,0.75,2]
[{"$f":"IF(ISBLANK('S1'!C$10),\" \",'S1'!C$10)","v":" "},{"$f":"IF(ISTEXT('S1'!$D$15),NA(),'S1'!$D$15)","v":{"$error":"#N/A"}},{"$f":"IF(ISTEXT('S1'!$D$16),NA(),'S1'!$D$16)","v":{"$error":"#N/A"}},{"$f":"IF(ISTEXT('S1'!$D$17),NA(),'S1'!$D$17)","v":{"$error":"#N/A"}},{"$f":"IF(ISTEXT('S1'!$D$19),NA(),'S1'!$D$19)","v":{"$error":"#N/A"}},{"$f":"IF(ISTEXT('S1'!$D$20),NA(),'S1'!$D$20)","v":{"$error":"#N/A"}},{"$f":"F3","v":{"$error":"#N/A"}},{"$f":"IF(ISTEXT('S1'!$D$24),NA(),'S1'!$D$24)","v":{"$error":"#N/A"}},{"$f":"H3","v":{"$error":"#N/A"}},{"$f":"IF(ISTEXT('S1'!$D$26),NA(),'S1'!$D$26)","v":{"$error":"#N/A"}},{"$f":"J3","v":{"$error":"#N/A"}},null,1,{"$f":"'S1'!$D$28","v":" "},{"$f":"'S1'!$D$25","v":"  "},{"$f":"'S1'!$D$24","v":"  "},{"$f":"'S1'!$D$20","v":"  "},{"$f":"'S1'!$D$19","v":"  "},{"$f":"'S1'!$D$17","v":"  "},{"$f":"'S1'!$D$15","v":"  "}]
[{"$f":"IF(ISBLANK('S1'!E$10),\" \",'S1'!E$10)","v":" "},{"$f":"IF(ISTEXT('S1'!$F$15),NA(),'S1'!$F$15)","v":{"$error":"#N/A"}},{"$f":"IF(ISTEXT('S1'!$F$16),NA(),'S1'!$F$16)","v":{"$error":"#N/A"}},{"$f":"IF(ISTEXT('S1'!$F$17),NA(),'S1'!$F$17)","v":{"$error":"#N/A"}},{"$f":"IF(ISTEXT('S1'!$F$19),NA(),'S1'!$F$19)","v":{"$error":"#N/A"}},{"$f":"IF(ISTEXT('S1'!$F$20),NA(),'S1'!$F$20)","v":{"$error":"#N/A"}},{"$f":"ROUND(AVERAGE(F3:F4),0)","v":{"$error":"#N/A"}},{"$f":"IF(ISTEXT('S1'!$F$24),NA(),'S1'!$F$24)","v":{"$error":"#N/A"}},{"$f":"ROUND(AVERAGE(H3:H4),0)","v":{"$error":"#N/A"}},{"$f":"IF(ISTEXT('S1'!$F$26),NA(),'S1'!$F$26)","v":{"$error":"#N/A"}},{"$f":"ROUND(AVERAGE(J3:J4),0)","v":{"$error":"#N/A"}},null,2,{"$f":"'S1'!$F$28","v":" "},{"$f":"'S1'!$F$25","v":"  "},{"$f":"'S1'!$F$24","v":"  "},{"$f":"'S1'!$F$20","v":"  "},{"$f":"'S1'!$F$19","v":"  "},{"$f":"'S1'!$F$17","v":"  "},{"$f":"'S1'!$F$15","v":"  "}]
[{"$f":"IF(ISBLANK('S1'!G$10),\" \",'S1'!G$10)","v":" "},{"$f":"IF(ISTEXT('S1'!$H$15),NA(),'S1'!$H$15)","v":{"$error":"#N/A"}},{"$f":"IF(ISTEXT('S1'!$H$16),NA(),'S1'!$H$16)","v":{"$error":"#N/A"}},{"$f":"IF(ISTEXT('S1'!$H$17),NA(),'S1'!$H$17)","v":{"$error":"#N/A"}},{"$f":"IF(ISTEXT('S1'!$H$19),NA(),'S1'!$H$19)","v":{"$error":"#N/A"}},{"$f":"IF(ISTEXT('S1'!$H$20),NA(),'S1'!$H$20)","v":{"$error":"#N/A"}},{"$f":"ROUND(AVERAGE(F3:F5),0)","v":{"$error":"#N/A"}},{"$f":"IF(ISTEXT('S1'!$H$24),NA(),'S1'!$H$24)","v":{"$error":"#N/A"}},{"$f":"ROUND(AVERAGE(H3:H5),0)","v":{"$error":"#N/A"}},{"$f":"IF(ISTEXT('S1'!$H$26),NA(),'S1'!$H$26)","v":{"$error":"#N/A"}},{"$f":"ROUND(AVERAGE(J3:J5),0)","v":{"$error":"#N/A"}},null,3,{"$f":"'S1'!$H$28","v":" "},{"$f":"'S1'!$H$25","v":"  "},{"$f":"'S1'!$H$24","v":"  "},{"$f":"'S1'!$H$20","v":"  "},{"$f":"'S1'!$H$19","v":"  "},{"$f":"'S1'!$H$17","v":"  "},{"$f":"'S1'!$H$15","v":"  "}]
[{"$f":"IF(ISBLANK('S1'!I$10),\" \",'S1'!I$10)","v":" "},{"$f":"IF(ISTEXT('S1'!$J$15),NA(),'S1'!$J$15)","v":{"$error":"#N/A"}},{"$f":"IF(ISTEXT('S1'!$J$16),NA(),'S1'!$J$16)","v":{"$error":"#N/A"}},{"$f":"IF(ISTEXT('S1'!$J$17),NA(),'S1'!$J$17)","v":{"$error":"#N/A"}},{"$f":"IF(ISTEXT('S1'!$J$19),NA(),'S1'!$J$19)","v":{"$error":"#N/A"}},{"$f":"IF(ISTEXT('S1'!$J$20),NA(),'S1'!$J$20)","v":{"$error":"#N/A"}},{"$error":"#N/A"},{"$f":"IF(ISTEXT('S1'!$J$24),NA(),'S1'!$J$24)","v":{"$error":"#N/A"}},{"$error":"#N/A"},{"$f":"IF(ISTEXT('S1'!$J$26),NA(),'S1'!$J$26)","v":{"$error":"#N/A"}},{"$error":"#N/A"},null,4,{"$f":"'S1'!$J$28","v":" "},{"$f":"'S1'!$J$25","v":"  "},{"$f":"'S1'!$J$24","v":"  "},{"$f":"'S1'!$J$20","v":"  "},{"$f":"'S1'!$J$19","v":"  "},{"$f":"'S1'!$J$17","v":"  "},{"$f":"'S1'!$J$15","v":"  "}]
[{"$f":"IF(ISBLANK('S1'!K$10),\" \",'S1'!K$10)","v":" "},{"$f":"IF(ISTEXT('S1'!$L$15),NA(),'S1'!$L$15)","v":{"$error":"#N/A"}},{"$f":"IF(ISTEXT('S1'!$L$16),NA(),'S1'!$L$16)","v":{"$error":"#N/A"}},{"$f":"IF(ISTEXT('S1'!$L$17),NA(),'S1'!$L$17)","v":{"$error":"#N/A"}},{"$f":"IF(ISTEXT('S1'!$L$19),NA(),'S1'!$L$19)","v":{"$error":"#N/A"}},{"$f":"IF(ISTEXT('S1'!$L$20),NA(),'S1'!$L$20)","v":{"$error":"#N/A"}},{"$error":"#N/A"},{"$f":"IF(ISTEXT('S1'!$L$24),NA(),'S1'!$L$24)","v":{"$error":"#N/A"}},{"$error":"#N/A"},{"$f":"IF(ISTEXT('S1'!$L$26),NA(),'S1'!$L$26)","v":{"$error":"#N/A"}},{"$error":"#N/A"},null,5,{"$f":"'S1'!$L$28","v":" "},{"$f":"'S1'!$L$25","v":"  "},{"$f":"'S1'!$L$24","v":"  "},{"$f":"'S1'!$L$20","v":"  "},{"$f":"'S1'!$L$19","v":"  "},{"$f":"'S1'!$L$17","v":"  "},{"$f":"'S1'!$L$15","v":"  "}]
[{"$f":"IF(ISBLANK('S1'!M$10),\" \",'S1'!M$10)","v":" "},{"$f":"IF(ISTEXT('S1'!$N$15),NA(),'S1'!$N$15)","v":{"$error":"#N/A"}},{"$f":"IF(ISTEXT('S1'!$N$16),NA(),'S1'!$N$16)","v":{"$error":"#N/A"}},{"$f":"IF(ISTEXT('S1'!$N$17),NA(),'S1'!$N$17)","v":{"$error":"#N/A"}},{"$f":"IF(ISTEXT('S1'!$N$19),NA(),'S1'!$N$19)","v":{"$error":"#N/A"}},{"$f":"IF(ISTEXT('S1'!$N$20),NA(),'S1'!$N$20)","v":{"$error":"#N/A"}},{"$error":"#N/A"},{"$f":"IF(ISTEXT('S1'!$N$24),NA(),'S1'!$N$24)","v":{"$error":"#N/A"}},{"$error":"#N/A"},{"$f":"IF(ISTEXT('S1'!$N$26),NA(),'S1'!$N$26)","v":{"$error":"#N/A"}},{"$error":"#N/A"},null,6,{"$f":"'S1'!$N$28","v":" "},{"$f":"'S1'!$N$25","v":"  "},{"$f":"'S1'!$N$24","v":"  "},{"$f":"'S1'!$N$20","v":"  "},{"$f":"'S1'!$N$19","v":"  "},{"$f":"'S1'!$N$17","v":"  "},{"$f":"'S1'!$N$15","v":"  "}]
[{"$f":"IF(ISBLANK('S1'!C$34),\" \",'S1'!C$34)","v":" "},{"$f":"IF(ISTEXT('S1'!$D$39),NA(),'S1'!$D$39)","v":{"$error":"#N/A"}},{"$f":"IF(ISTEXT('S1'!$D$40),NA(),'S1'!$D$40)","v":{"$error":"#N/A"}},{"$f":"IF(ISTEXT('S1'!$D$41),NA(),'S1'!$D$41)","v":{"$error":"#N/A"}},{"$f":"IF(ISTEXT('S1'!$D$43),NA(),'S1'!$D$43)","v":{"$error":"#N/A"}},{"$f":"IF(ISTEXT('S1'!$D$44),NA(),'S1'!$D$44)","v":{"$error":"#N/A"}},{"$error":"#N/A"},{"$f":"IF(ISTEXT('S1'!$D$48),NA(),'S1'!$D$48)","v":{"$error":"#N/A"}},{"$error":"#N/A"},{"$f":"IF(ISTEXT('S1'!$D$50),NA(),'S1'!$D$50)","v":{"$error":"#N/A"}},{"$error":"#N/A"},null,7,{"$f":"'S1'!$D$52","v":" "},{"$f":"'S1'!$D$49","v":"  "},{"$f":"'S1'!$D$48","v":"  "},{"$f":"'S1'!$D$44","v":"  "},{"$f":"'S1'!$D$43","v":"  "},{"$f":"'S1'!$D$41","v":"  "},{"$f":"'S1'!$D$39","v":"  "}]
[{"$f":"IF(ISBLANK('S1'!E$34),\" \",'S1'!E$34)","v":" "},{"$f":"IF(ISTEXT('S1'!$F$39),NA(),'S1'!$F$39)","v":{"$error":"#N/A"}},{"$f":"IF(ISTEXT('S1'!$F$40),NA(),'S1'!$F$40)","v":{"$error":"#N/A"}},{"$f":"IF(ISTEXT('S1'!$F$41),NA(),'S1'!$F$41)","v":{"$error":"#N/A"}},{"$f":"IF(ISTEXT('S1'!$F$43),NA(),'S1'!$F$43)","v":{"$error":"#N/A"}},{"$f":"IF(ISTEXT('S1'!$F$44),NA(),'S1'!$F$44)","v":{"$error":"#N/A"}},{"$error":"#N/A"},{"$f":"IF(ISTEXT('S1'!$F$48),NA(),'S1'!$F$48)","v":{"$error":"#N/A"}},{"$error":"#N/A"},{"$f":"IF(ISTEXT('S1'!$F$50),NA(),'S1'!$F$50)","v":{"$error":"#N/A"}},{"$error":"#N/A"},null,8,{"$f":"'S1'!$F$52","v":" "},{"$f":"'S1'!$F$49","v":"  "},{"$f":"'S1'!$F$48","v":"  "},{"$f":"'S1'!$F$44","v":"  "},{"$f":"'S1'!$F$43","v":"  "},{"$f":"'S1'!$F$41","v":"  "},{"$f":"'S1'!$F$39","v":"  "}]
[{"$f":"IF(ISBLANK('S1'!G$34),\" \",'S1'!G$34)","v":" "},{"$f":"IF(ISTEXT('S1'!$H$39),NA(),'S1'!$H$39)","v":{"$error":"#N/A"}},{"$f":"IF(ISTEXT('S1'!$H$40),NA(),'S1'!$H$40)","v":{"$error":"#N/A"}},{"$f":"IF(ISTEXT('S1'!$H$41),NA(),'S1'!$H$41)","v":{"$error":"#N/A"}},{"$f":"IF(ISTEXT('S1'!$H$43),NA(),'S1'!$H$43)","v":{"$error":"#N/A"}},{"$f":"IF(ISTEXT('S1'!$H$44),NA(),'S1'!$H$44)","v":{"$error":"#N/A"}},{"$error":"#N/A"},{"$f":"IF(ISTEXT('S1'!$H$48),NA(),'S1'!$H$48)","v":{"$error":"#N/A"}},{"$error":"#N/A"},{"$f":"IF(ISTEXT('S1'!$H$50),NA(),'S1'!$H$50)","v":{"$error":"#N/A"}},{"$error":"#N/A"},null,9,{"$f":"'S1'!$H$52","v":" "},{"$f":"'S1'!$H$49","v":"  "},{"$f":"'S1'!$H$48","v":"  "},{"$f":"'S1'!$H$44","v":"  "},{"$f":"'S1'!$H$43","v":"  "},{"$f":"'S1'!$H$41","v":"  "},{"$f":"'S1'!$H$39","v":"  "}]
[{"$f":"IF(ISBLANK('S1'!I$34),\" \",'S1'!I$34)","v":" "},{"$f":"IF(ISTEXT('S1'!$J$39),NA(),'S1'!$J$39)","v":{"$error":"#N/A"}},{"$f":"IF(ISTEXT('S1'!$J$40),NA(),'S1'!$J$40)","v":{"$error":"#N/A"}},{"$f":"IF(ISTEXT('S1'!$J$41),NA(),'S1'!$J$41)","v":{"$error":"#N/A"}},{"$f":"IF(ISTEXT('S1'!$J$43),NA(),'S1'!$J$43)","v":{"$error":"#N/A"}},{"$f":"IF(ISTEXT('S1'!$J$44),NA(),'S1'!$J$44)","v":{"$error":"#N/A"}},{"$error":"#N/A"},{"$f":"IF(ISTEXT('S1'!$J$48),NA(),'S1'!$J$48)","v":{"$error":"#N/A"}},{"$error":"#N/A"},{"$f":"IF(ISTEXT('S1'!$J$50),NA(),'S1'!$J$50)","v":{"$error":"#N/A"}},{"$error":"#N/A"},null,10,{"$f":"'S1'!$J$52","v":" "},{"$f":"'S1'!$J$49","v":"  "},{"$f":"'S1'!$J$48","v":"  "},{"$f":"'S1'!$J$44","v":"  "},{"$f":"'S1'!$J$43","v":"  "},{"$f":"'S1'!$J$41","v":"  "},{"$f":"'S1'!$J$39","v":"  "}]
[{"$f":"IF(ISBLANK('S1'!K$34),\" \",'S1'!K$34)","v":" "},{"$f":"IF(ISTEXT('S1'!$L$39),NA(),'S1'!$L$39)","v":{"$error":"#N/A"}},{"$f":"IF(ISTEXT('S1'!$L$40),NA(),'S1'!$L$40)","v":{"$error":"#N/A"}},{"$f":"IF(ISTEXT('S1'!$L$41),NA(),'S1'!$L$41)","v":{"$error":"#N/A"}},{"$f":"IF(ISTEXT('S1'!$L$43),NA(),'S1'!$L$43)","v":{"$error":"#N/A"}},{"$f":"IF(ISTEXT('S1'!$L$44),NA(),'S1'!$L$44)","v":{"$error":"#N/A"}},{"$error":"#N/A"},{"$f":"IF(ISTEXT('S1'!$L$48),NA(),'S1'!$L$48)","v":{"$error":"#N/A"}},{"$error":"#N/A"},{"$f":"IF(ISTEXT('S1'!$L$50),NA(),'S1'!$L$50)","v":{"$error":"#N/A"}},{"$error":"#N/A"},null,11,{"$f":"'S1'!$L$52","v":" "},{"$f":"'S1'!$L$49","v":"  "},{"$f":"'S1'!$L$48","v":"  "},{"$f":"'S1'!$L$44","v":"  "},{"$f":"'S1'!$L$43","v":"  "},{"$f":"'S1'!$L$41","v":"  "},{"$f":"'S1'!$L$39","v":"  "}]
[{"$f":"IF(ISBLANK('S1'!M$34),\" \",'S1'!M$34)","v":" "},{"$f":"IF(ISTEXT('S1'!$N$39),NA(),'S1'!$N$39)","v":{"$error":"#N/A"}},{"$f":"IF(ISTEXT('S1'!$N$40),NA(),'S1'!$N$40)","v":{"$error":"#N/A"}},{"$f":"IF(ISTEXT('S1'!$N$41),NA(),'S1'!$N$41)","v":{"$error":"#N/A"}},{"$f":"IF(ISTEXT('S1'!$N$43),NA(),'S1'!$N$43)","v":{"$error":"#N/A"}},{"$f":"IF(ISTEXT('S1'!$N$44),NA(),'S1'!$N$44)","v":{"$error":"#N/A"}},{"$error":"#N/A"},{"$f":"IF(ISTEXT('S1'!$N$48),NA(),'S1'!$N$48)","v":{"$error":"#N/A"}},{"$error":"#N/A"},{"$f":"IF(ISTEXT('S1'!$N$50),NA(),'S1'!$N$50)","v":{"$error":"#N/A"}},{"$error":"#N/A"},null,12,{"$f":"'S1'!$N$52","v":" "},{"$f":"'S1'!$N$49","v":"  "},{"$f":"'S1'!$N$48","v":"  "},{"$f":"'S1'!$N$44","v":"  "},{"$f":"'S1'!$N$43","v":"  "},{"$f":"'S1'!$N$41","v":"  "},{"$f":"'S1'!$N$39","v":"  "}]
[{"$f":"IF(ISBLANK('S2'!C$10),\" \",'S2'!C$10)","v":" "},{"$f":"IF(ISTEXT('S2'!$D$15),NA(),'S2'!$D$15)","v":{"$error":"#N/A"}},{"$f":"IF(ISTEXT('S2'!$D$16),NA(),'S2'!$D$16)","v":{"$error":"#N/A"}},{"$f":"IF(ISTEXT('S2'!$D$17),NA(),'S2'!$D$17)","v":{"$error":"#N/A"}},{"$f":"IF(ISTEXT('S2'!$D$19),NA(),'S2'!$D$19)","v":{"$error":"#N/A"}},{"$f":"IF(ISTEXT('S2'!$D$20),NA(),'S2'!$D$20)","v":{"$error":"#N/A"}},{"$error":"#N/A"},{"$f":"IF(ISTEXT('S2'!$D$24),NA(),'S2'!$D$24)","v":{"$error":"#N/A"}},{"$error":"#N/A"},{"$f":"IF(ISTEXT('S2'!$D$26),NA(),'S2'!$D$26)","v":{"$error":"#N/A"}},{"$error":"#N/A"},null,13,{"$f":"'S2'!$D$28","v":" "},{"$f":"'S2'!$D$25","v":"  "},{"$f":"'S2'!$D$24","v":"  "},{"$f":"'S2'!$D$20","v":"  "},{"$f":"'S2'!$D$19","v":"  "},{"$f":"'S2'!$D$17","v":"  "},{"$f":"'S2'!$D$15","v":"  "}]
[{"$f":"IF(ISBLANK('S2'!E$10),\" \",'S2'!E$10)","v":" "},{"$f":"IF(ISTEXT('S2'!$F$15),NA(),'S2'!$F$15)","v":{"$error":"#N/A"}},{"$f":"IF(ISTEXT('S2'!$F$16),NA(),'S2'!$F$16)","v":{"$error":"#N/A"}},{"$f":"IF(ISTEXT('S2'!$F$17),NA(),'S2'!$F$17)","v":{"$error":"#N/A"}},{"$f":"IF(ISTEXT('S2'!$F$19),NA(),'S2'!$F$19)","v":{"$error":"#N/A"}},{"$f":"IF(ISTEXT('S2'!$F$20),NA(),'S2'!$F$20)","v":{"$error":"#N/A"}},{"$error":"#N/A"},{"$f":"IF(ISTEXT('S2'!$F$24),NA(),'S2'!$F$24)","v":{"$error":"#N/A"}},{"$error":"#N/A"},{"$f":"IF(ISTEXT('S2'!$F$26),NA(),'S2'!$F$26)","v":{"$error":"#N/A"}},{"$error":"#N/A"},null,14,{"$f":"'S2'!$F$28","v":" "},{"$f":"'S2'!$F$25","v":"  "},{"$f":"'S2'!$F$24","v":"  "},{"$f":"'S2'!$F$20","v":"  "},{"$f":"'S2'!$F$19","v":"  "},{"$f":"'S2'!$F$17","v":"  "},{"$f":"'S2'!$F$15","v":"  "}]
[{"$f":"IF(ISBLANK('S2'!G$10),\" \",'S2'!G$10)","v":" "},{"$f":"IF(ISTEXT('S2'!$H$15),NA(),'S2'!$H$15)","v":{"$error":"#N/A"}},{"$f":"IF(ISTEXT('S2'!$H$16),NA(),'S2'!$H$16)","v":{"$error":"#N/A"}},{"$f":"IF(ISTEXT('S2'!$H$17),NA(),'S2'!$H$17)","v":{"$error":"#N/A"}},{"$f":"IF(ISTEXT('S2'!$H$19),NA(),'S2'!$H$19)","v":{"$error":"#N/A"}},{"$f":"IF(ISTEXT('S2'!$H$20),NA(),'S2'!$H$20)","v":{"$error":"#N/A"}},{"$error":"#N/A"},{"$f":"IF(ISTEXT('S2'!$H$24),NA(),'S2'!$H$24)","v":{"$error":"#N/A"}},{"$error":"#N/A"},{"$f":"IF(ISTEXT('S2'!$H$26),NA(),'S2'!$H$26)","v":{"$error":"#N/A"}},{"$error":"#N/A"},null,15,{"$f":"'S2'!$H$28","v":" "},{"$f":"'S2'!$H$25","v":"  "},{"$f":"'S2'!$H$24","v":"  "},{"$f":"'S2'!$H$20","v":"  "},{"$f":"'S2'!$H$19","v":"  "},{"$f":"'S2'!$H$17","v":"  "},{"$f":"'S2'!$H$15","v":"  "}]
[{"$f":"IF(ISBLANK('S2'!I$10),\" \",'S2'!I$10)","v":" "},{"$f":"IF(ISTEXT('S2'!$J$15),NA(),'S2'!$J$15)","v":{"$error":"#N/A"}},{"$f":"IF(ISTEXT('S2'!$J$16),NA(),'S2'!$J$16)","v":{"$error":"#N/A"}},{"$f":"IF(ISTEXT('S2'!$J$17),NA(),'S2'!$J$17)","v":{"$error":"#N/A"}},{"$f":"IF(ISTEXT('S2'!$J$19),NA(),'S2'!$J$19)","v":{"$error":"#N/A"}},{"$f":"IF(ISTEXT('S2'!$J$20),NA(),'S2'!$J$20)","v":{"$error":"#N/A"}},{"$error":"#N/A"},{"$f":"IF(ISTEXT('S2'!$J$24),NA(),'S2'!$J$24)","v":{"$error":"#N/A"}},{"$error":"#N/A"},{"$f":"IF(ISTEXT('S2'!$J$26),NA(),'S2'!$J$26)","v":{"$error":"#N/A"}},{"$error":"#N/A"},null,16,{"$f":"'S2'!$J$28","v":" "},{"$f":"'S2'!$J$25","v":"  "},{"$f":"'S2'!$J$24","v":"  "},{"$f":"'S2'!$J$20","v":"  "},{"$f":"'S2'!$J$19","v":"  "},{"$f":"'S2'!$J$17","v":"  "},{"$f":"'S2'!$J$15","v":"  "}]
[{"$f":"IF(ISBLANK('S2'!K$10),\" \",'S2'!K$10)","v":" "},{"$f":"IF(ISTEXT('S2'!$L$15),NA(),'S2'!$L$15)","v":{"$error":"#N/A"}},{"$f":"IF(ISTEXT('S2'!$L$16),NA(),'S2'!$L$16)","v":{"$error":"#N/A"}},{"$f":"IF(ISTEXT('S2'!$L$17),NA(),'S2'!$L$17)","v":{"$error":"#N/A"}},{"$f":"IF(ISTEXT('S2'!$L$19),NA(),'S2'!$L$19)","v":{"$error":"#N/A"}},{"$f":"IF(ISTEXT('S2'!$L$20),NA(),'S2'!$L$20)","v":{"$error":"#N/A"}},{"$error":"#N/A"},{"$f":"IF(ISTEXT('S2'!$L$24),NA(),'S2'!$L$24)","v":{"$error":"#N/A"}},{"$error":"#N/A"},{"$f":"IF(ISTEXT('S2'!$L$26),NA(),'S2'!$L$26)","v":{"$error":"#N/A"}},{"$error":"#N/A"},null,17,{"$f":"'S2'!$L$28","v":" "},{"$f":"'S2'!$L$25","v":"  "},{"$f":"'S2'!$L$24","v":"  "},{"$f":"'S2'!$L$20","v":"  "},{"$f":"'S2'!$L$19","v":"  "},{"$f":"'S2'!$L$17","v":"  "},{"$f":"'S2'!$L$15","v":"  "}]
[{"$f":"IF(ISBLANK('S2'!M$10),\" \",'S2'!M$10)","v":" "},{"$f":"IF(ISTEXT('S2'!$N$15),NA(),'S2'!$N$15)","v":{"$error":"#N/A"}},{"$f":"IF(ISTEXT('S2'!$N$16),NA(),'S2'!$N$16)","v":{"$error":"#N/A"}},{"$f":"IF(ISTEXT('S2'!$N$17),NA(),'S2'!$N$17)","v":{"$error":"#N/A"}},{"$f":"IF(ISTEXT('S2'!$N$19),NA(),'S2'!$N$19)","v":{"$error":"#N/A"}},{"$f":"IF(ISTEXT('S2'!$N$20),NA(),'S2'!$N$20)","v":{"$error":"#N/A"}},{"$error":"#N/A"},{"$f":"IF(ISTEXT('S2'!$N$24),NA(),'S2'!$N$24)","v":{"$error":"#N/A"}},{"$error":"#N/A"},{"$f":"IF(ISTEXT('S2'!$N$26),NA(),'S2'!$N$26)","v":{"$error":"#N/A"}},{"$error":"#N/A"},null,18,{"$f":"'S2'!$N$28","v":" "},{"$f":"'S2'!$N$25","v":"  "},{"$f":"'S2'!$N$24","v":"  "},{"$f":"'S2'!$N$20","v":"  "},{"$f":"'S2'!$N$19","v":"  "},{"$f":"'S2'!$N$17","v":"  "},{"$f":"'S2'!$N$15","v":"  "}]
[{"$f":"IF(ISBLANK('S2'!C$34),\" \",'S2'!C$34)","v":" "},{"$f":"IF(ISTEXT('S2'!$D$39),NA(),'S2'!$D$39)","v":{"$error":"#N/A"}},{"$f":"IF(ISTEXT('S2'!$D$40),NA(),'S2'!$D$40)","v":{"$error":"#N/A"}},{"$f":"IF(ISTEXT('S2'!$D$41),NA(),'S2'!$D$41)","v":{"$error":"#N/A"}},{"$f":"IF(ISTEXT('S2'!$D$43),NA(),'S2'!$D$43)","v":{"$error":"#N/A"}},{"$f":"IF(ISTEXT('S2'!$D$44),NA(),'S2'!$D$44)","v":{"$error":"#N/A"}},{"$error":"#N/A"},{"$f":"IF(ISTEXT('S2'!$D$48),NA(),'S2'!$D$48)","v":{"$error":"#N/A"}},{"$error":"#N/A"},{"$f":"IF(ISTEXT('S2'!$D$50),NA(),'S2'!$D$50)","v":{"$error":"#N/A"}},{"$error":"#N/A"},null,19,{"$f":"'S2'!$D$52","v":" "},{"$f":"'S2'!$D$49","v":"  "},{"$f":"'S2'!$D$48","v":"  "},{"$f":"'S2'!$D$44","v":"  "},{"$f":"'S2'!$D$43","v":"  "},{"$f":"'S2'!$D$41","v":"  "},{"$f":"'S2'!$D$39","v":"  "}]
[{"$f":"IF(ISBLANK('S2'!E$34),\" \",'S2'!E$34)","v":" "},{"$f":"IF(ISTEXT('S2'!$F$39),NA(),'S2'!$F$39)","v":{"$error":"#N/A"}},{"$f":"IF(ISTEXT('S2'!$F$40),NA(),'S2'!$F$40)","v":{"$error":"#N/A"}},{"$f":"IF(ISTEXT('S2'!$F$41),NA(),'S2'!$F$41)","v":{"$error":"#N/A"}},{"$f":"IF(ISTEXT('S2'!$F$43),NA(),'S2'!$F$43)","v":{"$error":"#N/A"}},{"$f":"IF(ISTEXT('S2'!$F$44),NA(),'S2'!$F$44)","v":{"$error":"#N/A"}},{"$error":"#N/A"},{"$f":"IF(ISTEXT('S2'!$F$48),NA(),'S2'!$F$48)","v":{"$error":"#N/A"}},{"$error":"#N/A"},{"$f":"IF(ISTEXT('S2'!$F$50),NA(),'S2'!$F$50)","v":{"$error":"#N/A"}},{"$error":"#N/A"},null,20,{"$f":"'S2'!$F$52","v":" "},{"$f":"'S2'!$F$49","v":"  "},{"$f":"'S2'!$F$48","v":"  "},{"$f":"'S2'!$F$44","v":"  "},{"$f":"'S2'!$F$43","v":"  "},{"$f":"'S2'!$F$41","v":"  "},{"$f":"'S2'!$F$39","v":"  "}]
[{"$f":"IF(ISBLANK('S2'!G$34),\" \",'S2'!G$34)","v":" "},{"$f":"IF(ISTEXT('S2'!$H$39),NA(),'S2'!$H$39)","v":{"$error":"#N/A"}},{"$f":"IF(ISTEXT('S2'!$H$40),NA(),'S2'!$H$40)","v":{"$error":"#N/A"}},{"$f":"IF(ISTEXT('S2'!$H$41),NA(),'S2'!$H$41)","v":{"$error":"#N/A"}},{"$f":"IF(ISTEXT('S2'!$H$43),NA(),'S2'!$H$43)","v":{"$error":"#N/A"}},{"$f":"IF(ISTEXT('S2'!$H$44),NA(),'S2'!$H$44)","v":{"$error":"#N/A"}},{"$error":"#N/A"},{"$f":"IF(ISTEXT('S2'!$H$48),NA(),'S2'!$H$48)","v":{"$error":"#N/A"}},{"$error":"#N/A"},{"$f":"IF(ISTEXT('S2'!$H$50),NA(),'S2'!$H$50)","v":{"$error":"#N/A"}},{"$error":"#N/A"},null,21,{"$f":"'S2'!$H$52","v":" "},{"$f":"'S2'!$H$49","v":"  "},{"$f":"'S2'!$H$48","v":"  "},{"$f":"'S2'!$H$44","v":"  "},{"$f":"'S2'!$H$43","v":"  "},{"$f":"'S2'!$H$41","v":"  "},{"$f":"'S2'!$H$39","v":"  "}]
[{"$f":"IF(ISBLANK('S2'!I$34),\" \",'S2'!I$34)","v":" "},{"$f":"IF(ISTEXT('S2'!$J$39),NA(),'S2'!$J$39)","v":{"$error":"#N/A"}},{"$f":"IF(ISTEXT('S2'!$J$40),NA(),'S2'!$J$40)","v":{"$error":"#N/A"}},{"$f":"IF(ISTEXT('S2'!$J$41),NA(),'S2'!$J$41)","v":{"$error":"#N/A"}},{"$f":"IF(ISTEXT('S2'!$J$43),NA(),'S2'!$J$43)","v":{"$error":"#N/A"}},{"$f":"IF(ISTEXT('S2'!$J$44),NA(),'S2'!$J$44)","v":{"$error":"#N/A"}},{"$error":"#N/A"},{"$f":"IF(ISTEXT('S2'!$J$48),NA(),'S2'!$J$48)","v":{"$error":"#N/A"}},{"$error":"#N/A"},{"$f":"IF(ISTEXT('S2'!$J$50),NA(),'S2'!$J$50)","v":{"$error":"#N/A"}},{"$error":"#N/A"},null,22,{"$f":"'S2'!$J$52","v":" "},{"$f":"'S2'!$J$49","v":"  "},{"$f":"'S2'!$J$48","v":"  "},{"$f":"'S2'!$J$44","v":"  "},{"$f":"'S2'!$J$43","v":"  "},{"$f":"'S2'!$J$41","v":"  "},{"$f":"'S2'!$J$39","v":"  "}]
[{"$f":"IF(ISBLANK('S2'!K$34),\" \",'S2'!K$34)","v":" "},{"$f":"IF(ISTEXT('S2'!$L$39),NA(),'S2'!$L$39)","v":{"$error":"#N/A"}},{"$f":"IF(ISTEXT('S2'!$L$40),NA(),'S2'!$L$40)","v":{"$error":"#N/A"}},{"$f":"IF(ISTEXT('S2'!$L$41),NA(),'S2'!$L$41)","v":{"$error":"#N/A"}},{"$f":"IF(ISTEXT('S2'!$L$43),NA(),'S2'!$L$43)","v":{"$error":"#N/A"}},{"$f":"IF(ISTEXT('S2'!$L$44),NA(),'S2'!$L$44)","v":{"$error":"#N/A"}},{"$error":"#N/A"},{"$f":"IF(ISTEXT('S2'!$L$48),NA(),'S2'!$L$48)","v":{"$error":"#N/A"}},{"$error":"#N/A"},{"$f":"IF(ISTEXT('S2'!$L$50),NA(),'S2'!$L$50)","v":{"$error":"#N/A"}},{"$error":"#N/A"},null,23,{"$f":"'S2'!$L$52","v":" "},{"$f":"'S2'!$L$49","v":"  "},{"$f":"'S2'!$L$48","v":"  "},{"$f":"'S2'!$L$44","v":"  "},{"$f":"'S2'!$L$43","v":"  "},{"$f":"'S2'!$L$41","v":"  "},{"$f":"'S2'!$L$39","v":"  "}]
[{"$f":"IF(ISBLANK('S2'!M$34),\" \",'S2'!M$34)","v":" "},{"$f":"IF(ISTEXT('S2'!$N$39),NA(),'S2'!$N$39)","v":{"$error":"#N/A"}},{"$f":"IF(ISTEXT('S2'!$N$40),NA(),'S2'!$N$40)","v":{"$error":"#N/A"}},{"$f":"IF(ISTEXT('S2'!$N$41),NA(),'S2'!$N$41)","v":{"$error":"#N/A"}},{"$f":"IF(ISTEXT('S2'!$N$43),NA(),'S2'!$N$43)","v":{"$error":"#N/A"}},{"$f":"IF(ISTEXT('S2'!$N$44),NA(),'S2'!$N$44)","v":{"$error":"#N/A"}},{"$error":"#N/A"},{"$f":"IF(ISTEXT('S2'!$N$48),NA(),'S2'!$N$48)","v":{"$error":"#N/A"}},{"$error":"#N/A"},{"$f":"IF(ISTEXT('S2'!$N$50),NA(),'S2'!$N$50)","v":{"$error":"#N/A"}},{"$error":"#N/A"},null,24,{"$f":"'S2'!$N$52","v":" "},{"$f":"'S2'!$N$49","v":"  "},{"$f":"'S2'!$N$48","v":"  "},{"$f":"'S2'!$N$44","v":"  "},{"$f":"'S2'!$N$43","v":"  "},{"$f":"'S2'!$N$41","v":"  "},{"$f":"'S2'!$N$39","v":"  "}]
[{"$f":"IF(ISBLANK('S3'!C$10),\" \",'S3'!C$10)","v":" "},{"$f":"IF(ISTEXT('S3'!$D$15),NA(),'S3'!$D$15)","v":{"$error":"#N/A"}},{"$f":"IF(ISTEXT('S3'!$D$16),NA(),'S3'!$D$16)","v":{"$error":"#N/A"}},{"$f":"IF(ISTEXT('S3'!$D$17),NA(),'S3'!$D$17)","v":{"$error":"#N/A"}},{"$f":"IF(ISTEXT('S3'!$D$19),NA(),'S3'!$D$19)","v":{"$error":"#N/A"}},{"$f":"IF(ISTEXT('S3'!$D$20),NA(),'S3'!$D$20)","v":{"$error":"#N/A"}},{"$error":"#N/A"},{"$f":"IF(ISTEXT('S3'!$D$24),NA(),'S3'!$D$24)","v":{"$error":"#N/A"}},{"$error":"#N/A"},{"$f":"IF(ISTEXT('S3'!$D$26),NA(),'S3'!$D$26)","v":{"$error":"#N/A"}},{"$error":"#N/A"},null,25,{"$f":"'S3'!$D$28","v":" "},{"$f":"'S3'!$D$25","v":"  "},{"$f":"'S3'!$D$24","v":"  "},{"$f":"'S3'!$D$20","v":"  "},{"$f":"'S3'!$D$19","v":"  "},{"$f":"'S3'!$D$17","v":"  "},{"$f":"'S3'!$D$15","v":"  "}]
[{"$f":"IF(ISBLANK('S3'!E$10),\" \",'S3'!E$10)","v":" "},{"$f":"IF(ISTEXT('S3'!$F$15),NA(),'S3'!$F$15)","v":{"$error":"#N/A"}},{"$f":"IF(ISTEXT('S3'!$F$16),NA(),'S3'!$F$16)","v":{"$error":"#N/A"}},{"$f":"IF(ISTEXT('S3'!$F$17),NA(),'S3'!$F$17)","v":{"$error":"#N/A"}},{"$f":"IF(ISTEXT('S3'!$F$19),NA(),'S3'!$F$19)","v":{"$error":"#N/A"}},{"$f":"IF(ISTEXT('S3'!$F$20),NA(),'S3'!$F$20)","v":{"$error":"#N/A"}},{"$error":"#N/A"},{"$f":"IF(ISTEXT('S3'!$F$24),NA(),'S3'!$F$24)","v":{"$error":"#N/A"}},{"$error":"#N/A"},{"$f":"IF(ISTEXT('S3'!$F$26),NA(),'S3'!$F$26)","v":{"$error":"#N/A"}},{"$error":"#N/A"},null,26,{"$f":"'S3'!$F$28","v":" "},{"$f":"'S3'!$F$25","v":"  "},{"$f":"'S3'!$F$24","v":"  "},{"$f":"'S3'!$F$20","v":"  "},{"$f":"'S3'!$F$19","v":"  "},{"$f":"'S3'!$F$17","v":"  "},{"$f":"'S3'!$F$15","v":"  "}]
[{"$f":"IF(ISBLANK('S3'!G$10),\" \",'S3'!G$10)","v":" "},{"$f":"IF(ISTEXT('S3'!$H$15),NA(),'S3'!$H$15)","v":{"$error":"#N/A"}},{"$f":"IF(ISTEXT('S3'!$H$16),NA(),'S3'!$H$16)","v":{"$error":"#N/A"}},{"$f":"IF(ISTEXT('S3'!$H$17),NA(),'S3'!$H$17)","v":{"$error":"#N/A"}},{"$f":"IF(ISTEXT('S3'!$H$19),NA(),'S3'!$H$19)","v":{"$error":"#N/A"}},{"$f":"IF(ISTEXT('S3'!$H$20),NA(),'S3'!$H$20)","v":{"$error":"#N/A"}},{"$error":"#N/A"},{"$f":"IF(ISTEXT('S3'!$H$24),NA(),'S3'!$H$24)","v":{"$error":"#N/A"}},{"$error":"#N/A"},{"$f":"IF(ISTEXT('S3'!$H$26),NA(),'S3'!$H$26)","v":{"$error":"#N/A"}},{"$error":"#N/A"},null,27,{"$f":"'S3'!$H$28","v":" "},{"$f":"'S3'!$H$25","v":"  "},{"$f":"'S3'!$H$24","v":"  "},{"$f":"'S3'!$H$20","v":"  "},{"$f":"'S3'!$H$19","v":"  "},{"$f":"'S3'!$H$17","v":"  "},{"$f":"'S3'!$H$15","v":"  "}]
[{"$f":"IF(ISBLANK('S3'!I$10),\" \",'S3'!I$10)","v":" "},{"$f":"IF(ISTEXT('S3'!$J$15),NA(),'S3'!$J$15)","v":{"$error":"#N/A"}},{"$f":"IF(ISTEXT('S3'!$J$16),NA(),'S3'!$J$16)","v":{"$error":"#N/A"}},{"$f":"IF(ISTEXT('S3'!$J$17),NA(),'S3'!$J$17)","v":{"$error":"#N/A"}},{"$f":"IF(ISTEXT('S3'!$J$19),NA(),'S3'!$J$19)","v":{"$error":"#N/A"}},{"$f":"IF(ISTEXT('S3'!$J$20),NA(),'S3'!$J$20)","v":{"$error":"#N/A"}},{"$error":"#N/A"},{"$f":"IF(ISTEXT('S3'!$J$24),NA(),'S3'!$J$24)","v":{"$error":"#N/A"}},{"$error":"#N/A"},{"$f":"IF(ISTEXT('S3'!$J$26),NA(),'S3'!$J$26)","v":{"$error":"#N/A"}},{"$error":"#N/A"},null,28,{"$f":"'S3'!$J$28","v":" "},{"$f":"'S3'!$J$25","v":"  "},{"$f":"'S3'!$J$24","v":"  "},{"$f":"'S3'!$J$20","v":"  "},{"$f":"'S3'!$J$19","v":"  "},{"$f":"'S3'!$J$17","v":"  "},{"$f":"'S3'!$J$15","v":"  "}]
[{"$f":"IF(ISBLANK('S3'!K$10),\" \",'S3'!K$10)","v":" "},{"$f":"IF(ISTEXT('S3'!$L$15),NA(),'S3'!$L$15)","v":{"$error":"#N/A"}},{"$f":"IF(ISTEXT('S3'!$L$16),NA(),'S3'!$L$16)","v":{"$error":"#N/A"}},{"$f":"IF(ISTEXT('S3'!$L$17),NA(),'S3'!$L$17)","v":{"$error":"#N/A"}},{"$f":"IF(ISTEXT('S3'!$L$19),NA(),'S3'!$L$19)","v":{"$error":"#N/A"}},{"$f":"IF(ISTEXT('S3'!$L$20),NA(),'S3'!$L$20)","v":{"$error":"#N/A"}},{"$error":"#N/A"},{"$f":"IF(ISTEXT('S3'!$L$24),NA(),'S3'!$L$24)","v":{"$error":"#N/A"}},{"$error":"#N/A"},{"$f":"IF(ISTEXT('S3'!$L$26),NA(),'S3'!$L$26)","v":{"$error":"#N/A"}},{"$error":"#N/A"},null,29,{"$f":"'S3'!$L$28","v":" "},{"$f":"'S3'!$L$25","v":"  "},{"$f":"'S3'!$L$24","v":"  "},{"$f":"'S3'!$L$20","v":"  "},{"$f":"'S3'!$L$19","v":"  "},{"$f":"'S3'!$L$17","v":"  "},{"$f":"'S3'!$L$15","v":"  "}]
[{"$f":"IF(ISBLANK('S3'!M$10),\" \",'S3'!M$10)","v":" "},{"$f":"IF(ISTEXT('S3'!$N$15),NA(),'S3'!$N$15)","v":{"$error":"#N/A"}},{"$f":"IF(ISTEXT('S3'!$N$16),NA(),'S3'!$N$16)","v":{"$error":"#N/A"}},{"$f":"IF(ISTEXT('S3'!$N$17),NA(),'S3'!$N$17)","v":{"$error":"#N/A"}},{"$f":"IF(ISTEXT('S3'!$N$19),NA(),'S3'!$N$19)","v":{"$error":"#N/A"}},{"$f":"IF(ISTEXT('S3'!$N$20),NA(),'S3'!$N$20)","v":{"$error":"#N/A"}},{"$error":"#N/A"},{"$f":"IF(ISTEXT('S3'!$N$24),NA(),'S3'!$N$24)","v":{"$error":"#N/A"}},{"$error":"#N/A"},{"$f":"IF(ISTEXT('S3'!$N$26),NA(),'S3'!$N$26)","v":{"$error":"#N/A"}},{"$error":"#N/A"},null,30,{"$f":"'S3'!$N$28","v":" "},{"$f":"'S3'!$N$25","v":"  "},{"$f":"'S3'!$N$24","v":"  "},{"$f":"'S3'!$N$20","v":"  "},{"$f":"'S3'!$N$19","v":"  "},{"$f":"'S3'!$N$17","v":"  "},{"$f":"'S3'!$N$15","v":"  "}]
[{"$f":"IF(ISBLANK('S3'!C$34),\" \",'S3'!C$34)","v":" "},{"$f":"IF(ISTEXT('S3'!$D$39),NA(),'S3'!$D$39)","v":{"$error":"#N/A"}},{"$f":"IF(ISTEXT('S3'!$D$40),NA(),'S3'!$D$40)","v":{"$error":"#N/A"}},{"$f":"IF(ISTEXT('S3'!$D$41),NA(),'S3'!$D$41)","v":{"$error":"#N/A"}},{"$f":"IF(ISTEXT('S3'!$D$43),NA(),'S3'!$D$43)","v":{"$error":"#N/A"}},{"$f":"IF(ISTEXT('S3'!$D$44),NA(),'S3'!$D$44)","v":{"$error":"#N/A"}},{"$error":"#N/A"},{"$f":"IF(ISTEXT('S3'!$D$48),NA(),'S3'!$D$48)","v":{"$error":"#N/A"}},{"$error":"#N/A"},{"$f":"IF(ISTEXT('S3'!$D$50),NA(),'S3'!$D$50)","v":{"$error":"#N/A"}},{"$error":"#N/A"},null,31,{"$f":"'S3'!$D$52","v":" "},{"$f":"'S3'!$D$49","v":"  "},{"$f":"'S3'!$D$48","v":"  "},{"$f":"'S3'!$D$44","v":"  "},{"$f":"'S3'!$D$43","v":"  "},{"$f":"'S3'!$D$41","v":"  "},{"$f":"'S3'!$D$39","v":"  "}]
[{"$f":"IF(ISBLANK('S3'!E$34),\" \",'S3'!E$34)","v":" "},{"$f":"IF(ISTEXT('S3'!$F$39),NA(),'S3'!$F$39)","v":{"$error":"#N/A"}},{"$f":"IF(ISTEXT('S3'!$F$40),NA(),'S3'!$F$40)","v":{"$error":"#N/A"}},{"$f":"IF(ISTEXT('S3'!$F$41),NA(),'S3'!$F$41)","v":{"$error":"#N/A"}},{"$f":"IF(ISTEXT('S3'!$F$43),NA(),'S3'!$F$43)","v":{"$error":"#N/A"}},{"$f":"IF(ISTEXT('S3'!$F$44),NA(),'S3'!$F$44)","v":{"$error":"#N/A"}},{"$error":"#N/A"},{"$f":"IF(ISTEXT('S3'!$F$48),NA(),'S3'!$F$48)","v":{"$error":"#N/A"}},{"$error":"#N/A"},{"$f":"IF(ISTEXT('S3'!$F$50),NA(),'S3'!$F$50)","v":{"$error":"#N/A"}},{"$error":"#N/A"},null,32,{"$f":"'S3'!$F$52","v":" "},{"$f":"'S3'!$F$49","v":"  "},{"$f":"'S3'!$F$48","v":"  "},{"$f":"'S3'!$F$44","v":"  "},{"$f":"'S3'!$F$43","v":"  "},{"$f":"'S3'!$F$41","v":"  "},{"$f":"'S3'!$F$39","v":"  "}]
[{"$f":"IF(ISBLANK('S3'!G$34),\" \",'S3'!G$34)","v":" "},{"$f":"IF(ISTEXT('S3'!$H$39),NA(),'S3'!$H$39)","v":{"$error":"#N/A"}},{"$f":"IF(ISTEXT('S3'!$H$40),NA(),'S3'!$H$40)","v":{"$error":"#N/A"}},{"$f":"IF(ISTEXT('S3'!$H$41),NA(),'S3'!$H$41)","v":{"$error":"#N/A"}},{"$f":"IF(ISTEXT('S3'!$H$43),NA(),'S3'!$H$43)","v":{"$error":"#N/A"}},{"$f":"IF(ISTEXT('S3'!$H$44),NA(),'S3'!$H$44)","v":{"$error":"#N/A"}},{"$error":"#N/A"},{"$f":"IF(ISTEXT('S3'!$H$48),NA(),'S3'!$H$48)","v":{"$error":"#N/A"}},{"$error":"#N/A"},{"$f":"IF(ISTEXT('S3'!$H$50),NA(),'S3'!$H$50)","v":{"$error":"#N/A"}},{"$error":"#N/A"},null,33,{"$f":"'S3'!$H$52","v":" "},{"$f":"'S3'!$H$49","v":"  "},{"$f":"'S3'!$H$48","v":"  "},{"$f":"'S3'!$H$44","v":"  "},{"$f":"'S3'!$H$43","v":"  "},{"$f":"'S3'!$H$41","v":"  "},{"$f":"'S3'!$H$39","v":"  "}]
[{"$f":"IF(ISBLANK('S3'!I$34),\" \",'S3'!I$34)","v":" "},{"$f":"IF(ISTEXT('S3'!$J$39),NA(),'S3'!$J$39)","v":{"$error":"#N/A"}},{"$f":"IF(ISTEXT('S3'!$J$40),NA(),'S3'!$J$40)","v":{"$error":"#N/A"}},{"$f":"IF(ISTEXT('S3'!$J$41),NA(),'S3'!$J$41)","v":{"$error":"#N/A"}},{"$f":"IF(ISTEXT('S3'!$J$43),NA(),'S3'!$J$43)","v":{"$error":"#N/A"}},{"$f":"IF(ISTEXT('S3'!$J$44),NA(),'S3'!$J$44)","v":{"$error":"#N/A"}},{"$error":"#N/A"},{"$f":"IF(ISTEXT('S3'!$J$48),NA(),'S3'!$J$48)","v":{"$error":"#N/A"}},{"$error":"#N/A"},{"$f":"IF(ISTEXT('S3'!$J$50),NA(),'S3'!$J$50)","v":{"$error":"#N/A"}},{"$error":"#N/A"},null,34,{"$f":"'S3'!$J$52","v":" "},{"$f":"'S3'!$J$49","v":"  "},{"$f":"'S3'!$J$48","v":"  "},{"$f":"'S3'!$J$44","v":"  "},{"$f":"'S3'!$J$43","v":"  "},{"$f":"'S3'!$J$41","v":"  "},{"$f":"'S3'!$J$39","v":"  "}]
[{"$f":"IF(ISBLANK('S3'!K$34),\" \",'S3'!K$34)","v":" "},{"$f":"IF(ISTEXT('S3'!$L$39),NA(),'S3'!$L$39)","v":{"$error":"#N/A"}},{"$f":"IF(ISTEXT('S3'!$L$40),NA(),'S3'!$L$40)","v":{"$error":"#N/A"}},{"$f":"IF(ISTEXT('S3'!$L$41),NA(),'S3'!$L$41)","v":{"$error":"#N/A"}},{"$f":"IF(ISTEXT('S3'!$L$43),NA(),'S3'!$L$43)","v":{"$error":"#N/A"}},{"$f":"IF(ISTEXT('S3'!$L$44),NA(),'S3'!$L$44)","v":{"$error":"#N/A"}},{"$f":"ROUND(AVERAGE(F35:F37),0)","v":{"$error":"#N/A"}},{"$f":"IF(ISTEXT('S3'!$L$48),NA(),'S3'!$L$48)","v":{"$error":"#N/A"}},{"$f":"ROUND(AVERAGE(H35:H37),0)","v":{"$error":"#N/A"}},{"$f":"IF(ISTEXT('S3'!$L$50),NA(),'S3'!$L$50)","v":{"$error":"#N/A"}},{"$error":"#N/A"},null,35,{"$f":"'S3'!$L$52","v":" "},{"$f":"'S3'!$L$49","v":"  "},{"$f":"'S3'!$L$48","v":"  "},{"$f":"'S3'!$L$44","v":"  "},{"$f":"'S3'!$L$43","v":"  "},{"$f":"'S3'!$L$41","v":"  "},{"$f":"'S3'!$L$39","v":"  "}]
[{"$f":"IF(ISBLANK('S3'!M$34),\" \",'S3'!M$34)","v":" "},{"$f":"IF(ISTEXT('S3'!$N$39),NA(),'S3'!$N$39)","v":{"$error":"#N/A"}},{"$f":"IF(ISTEXT('S3'!$N$40),NA(),'S3'!$N$40)","v":{"$error":"#N/A"}},{"$f":"IF(ISTEXT('S3'!$N$41),NA(),'S3'!$N$41)","v":{"$error":"#N/A"}},{"$f":"IF(ISTEXT('S3'!$N$43),NA(),'S3'!$N$43)","v":{"$error":"#N/A"}},{"$f":"IF(ISTEXT('S3'!$N$44),NA(),'S3'!$N$44)","v":{"$error":"#N/A"}},{"$error":"#N/A"},{"$f":"IF(ISTEXT('S3'!$N$48),NA(),'S3'!$N$48)","v":{"$error":"#N/A"}},{"$error":"#N/A"},{"$f":"IF(ISTEXT('S3'!$N$50),NA(),'S3'!$N$50)","v":{"$error":"#N/A"}},{"$error":"#N/A"},null,36,{"$f":"'S3'!$N$52","v":" "},{"$f":"'S3'!$N$49","v":"  "},{"$f":"'S3'!$N$48","v":"  "},{"$f":"'S3'!$N$44","v":"  "},{"$f":"'S3'!$N$43","v":"  "},{"$f":"'S3'!$N$41","v":"  "},{"$f":"'S3'!$N$39","v":"  "}]
[{"$f":"IF(ISBLANK('S4'!C$10),\" \",'S4'!C$10)","v":" "},{"$f":"IF(ISTEXT('S4'!$D$15),NA(),'S4'!$D$15)","v":{"$error":"#N/A"}},{"$f":"IF(ISTEXT('S4'!$D$16),NA(),'S4'!$D$16)","v":{"$error":"#N/A"}},{"$f":"IF(ISTEXT('S4'!$D$17),NA(),'S4'!$D$17)","v":{"$error":"#N/A"}},{"$f":"IF(ISTEXT('S4'!$D$19),NA(),'S4'!$D$19)","v":{"$error":"#N/A"}},{"$f":"IF(ISTEXT('S4'!$D$20),NA(),'S4'!$D$20)","v":{"$error":"#N/A"}},{"$error":"#N/A"},{"$f":"IF(ISTEXT('S4'!$D$24),NA(),'S4'!$D$24)","v":{"$error":"#N/A"}},{"$error":"#N/A"},{"$f":"IF(ISTEXT('S4'!$D$26),NA(),'S4'!$D$26)","v":{"$error":"#N/A"}},{"$error":"#N/A"},null,37,{"$f":"'S4'!$D$28","v":" "},{"$f":"'S4'!$D$25","v":"  "},{"$f":"'S4'!$D$24","v":"  "},{"$f":"'S4'!$D$20","v":"  "},{"$f":"'S4'!$D$19","v":"  "},{"$f":"'S4'!$D$17","v":"  "},{"$f":"'S4'!$D$15","v":"  "}]
[{"$f":"IF(ISBLANK('S4'!E$10),\" \",'S4'!E$10)","v":" "},{"$f":"IF(ISTEXT('S4'!$F$15),NA(),'S4'!$F$15)","v":{"$error":"#N/A"}},{"$f":"IF(ISTEXT('S4'!$F$16),NA(),'S4'!$F$16)","v":{"$error":"#N/A"}},{"$f":"IF(ISTEXT('S4'!$F$17),NA(),'S4'!$F$17)","v":{"$error":"#N/A"}},{"$f":"IF(ISTEXT('S4'!$F$19),NA(),'S4'!$F$19)","v":{"$error":"#N/A"}},{"$f":"IF(ISTEXT('S4'!$F$20),NA(),'S4'!$F$20)","v":{"$error":"#N/A"}},{"$error":"#N/A"},{"$f":"IF(ISTEXT('S4'!$F$24),NA(),'S4'!$F$24)","v":{"$error":"#N/A"}},{"$error":"#N/A"},{"$f":"IF(ISTEXT('S4'!$F$26),NA(),'S4'!$F$26)","v":{"$error":"#N/A"}},{"$error":"#N/A"},null,38,{"$f":"'S4'!$F$28","v":" "},{"$f":"'S4'!$F$25","v":"  "},{"$f":"'S4'!$F$24","v":"  "},{"$f":"'S4'!$F$20","v":"  "},{"$f":"'S4'!$F$19","v":"  "},{"$f":"'S4'!$F$17","v":"  "},{"$f":"'S4'!$F$15","v":"  "}]
[{"$f":"IF(ISBLANK('S4'!G$10),\" \",'S4'!G$10)","v":" "},{"$f":"IF(ISTEXT('S4'!$H$15),NA(),'S4'!$H$15)","v":{"$error":"#N/A"}},{"$f":"IF(ISTEXT('S4'!$H$16),NA(),'S4'!$H$16)","v":{"$error":"#N/A"}},{"$f":"IF(ISTEXT('S4'!$H$17),NA(),'S4'!$H$17)","v":{"$error":"#N/A"}},{"$f":"IF(ISTEXT('S4'!$H$19),NA(),'S4'!$H$19)","v":{"$error":"#N/A"}},{"$f":"IF(ISTEXT('S4'!$H$20),NA(),'S4'!$H$20)","v":{"$error":"#N/A"}},{"$error":"#N/A"},{"$f":"IF(ISTEXT('S4'!$H$24),NA(),'S4'!$H$24)","v":{"$error":"#N/A"}},{"$error":"#N/A"},{"$f":"IF(ISTEXT('S4'!$H$26),NA(),'S4'!$H$26)","v":{"$error":"#N/A"}},{"$error":"#N/A"},null,39,{"$f":"'S4'!$H$28","v":" "},{"$f":"'S4'!$H$25","v":"  "},{"$f":"'S4'!$H$24","v":"  "},{"$f":"'S4'!$H$20","v":"  "},{"$f":"'S4'!$H$19","v":"  "},{"$f":"'S4'!$H$17","v":"  "},{"$f":"'S4'!$H$15","v":"  "}]
[{"$f":"IF(ISBLANK('S4'!I$10),\" \",'S4'!I$10)","v":" "},{"$f":"IF(ISTEXT('S4'!$J$15),NA(),'S4'!$J$15)","v":{"$error":"#N/A"}},{"$f":"IF(ISTEXT('S4'!$J$16),NA(),'S4'!$J$16)","v":{"$error":"#N/A"}},{"$f":"IF(ISTEXT('S4'!$J$17),NA(),'S4'!$J$17)","v":{"$error":"#N/A"}},{"$f":"IF(ISTEXT('S4'!$J$19),NA(),'S4'!$J$19)","v":{"$error":"#N/A"}},{"$f":"IF(ISTEXT('S4'!$J$20),NA(),'S4'!$J$20)","v":{"$error":"#N/A"}},{"$error":"#N/A"},{"$f":"IF(ISTEXT('S4'!$J$24),NA(),'S4'!$J$24)","v":{"$error":"#N/A"}},{"$error":"#N/A"},{"$f":"IF(ISTEXT('S4'!$J$26),NA(),'S4'!$J$26)","v":{"$error":"#N/A"}},{"$error":"#N/A"},null,40,{"$f":"'S4'!$J$28","v":" "},{"$f":"'S4'!$J$25","v":"  "},{"$f":"'S4'!$J$24","v":"  "},{"$f":"'S4'!$J$20","v":"  "},{"$f":"'S4'!$J$19","v":"  "},{"$f":"'S4'!$J$17","v":"  "},{"$f":"'S4'!$J$15","v":"  "}]
[{"$f":"IF(ISBLANK('S4'!K$10),\" \",'S4'!K$10)","v":" "},{"$f":"IF(ISTEXT('S4'!$L$15),NA(),'S4'!$L$15)","v":{"$error":"#N/A"}},{"$f":"IF(ISTEXT('S4'!$L$16),NA(),'S4'!$L$16)","v":{"$error":"#N/A"}},{"$f":"IF(ISTEXT('S4'!$L$17),NA(),'S4'!$L$17)","v":{"$error":"#N/A"}},{"$f":"IF(ISTEXT('S4'!$L$19),NA(),'S4'!$L$19)","v":{"$error":"#N/A"}},{"$f":"IF(ISTEXT('S4'!$L$20),NA(),'S4'!$L$20)","v":{"$error":"#N/A"}},{"$error":"#N/A"},{"$f":"IF(ISTEXT('S4'!$L$24),NA(),'S4'!$L$24)","v":{"$error":"#N/A"}},{"$error":"#N/A"},{"$f":"IF(ISTEXT('S4'!$L$26),NA(),'S4'!$L$26)","v":{"$error":"#N/A"}},{"$error":"#N/A"},null,41,{"$f":"'S4'!$L$28","v":" "},{"$f":"'S4'!$L$25","v":"  "},{"$f":"'S4'!$L$24","v":"  "},{"$f":"'S4'!$L$20","v":"  "},{"$f":"'S4'!$L$19","v":"  "},{"$f":"'S4'!$L$17","v":"  "},{"$f":"'S4'!$L$15","v":"  "}]
[{"$f":"IF(ISBLANK('S4'!M$10),\" \",'S4'!M$10)","v":" "},{"$f":"IF(ISTEXT('S4'!$N$15),NA(),'S4'!$N$15)","v":{"$error":"#N/A"}},{"$f":"IF(ISTEXT('S4'!$N$16),NA(),'S4'!$N$16)","v":{"$error":"#N/A"}},{"$f":"IF(ISTEXT('S4'!$N$17),NA(),'S4'!$N$17)","v":{"$error":"#N/A"}},{"$f":"IF(ISTEXT('S4'!$N$19),NA(),'S4'!$N$19)","v":{"$error":"#N/A"}},{"$f":"IF(ISTEXT('S4'!$N$20),NA(),'S4'!$N$20)","v":{"$error":"#N/A"}},{"$error":"#N/A"},{"$f":"IF(ISTEXT('S4'!$N$24),NA(),'S4'!$N$24)","v":{"$error":"#N/A"}},{"$error":"#N/A"},{"$f":"IF(ISTEXT('S4'!$N$26),NA(),'S4'!$N$26)","v":{"$error":"#N/A"}},{"$error":"#N/A"},null,42,{"$f":"'S4'!$N$28","v":" "},{"$f":"'S4'!$N$25","v":"  "},{"$f":"'S4'!$N$24","v":"  "},{"$f":"'S4'!$N$20","v":"  "},{"$f":"'S4'!$N$19","v":"  "},{"$f":"'S4'!$N$17","v":"  "},{"$f":"'S4'!$N$15","v":"  "}]
[{"$f":"IF(ISBLANK('S4'!C$34),\" \",'S4'!C$34)","v":" "},{"$f":"IF(ISTEXT('S4'!$D$39),NA(),'S4'!$D$39)","v":{"$error":"#N/A"}},{"$f":"IF(ISTEXT('S4'!$D$40),NA(),'S4'!$D$40)","v":{"$error":"#N/A"}},{"$f":"IF(ISTEXT('S4'!$D$41),NA(),'S4'!$D$41)","v":{"$error":"#N/A"}},{"$f":"IF(ISTEXT('S4'!$D$43),NA(),'S4'!$D$43)","v":{"$error":"#N/A"}},{"$f":"IF(ISTEXT('S4'!$D$44),NA(),'S4'!$D$44)","v":{"$error":"#N/A"}},{"$error":"#N/A"},{"$f":"IF(ISTEXT('S4'!$D$48),NA(),'S4'!$D$48)","v":{"$error":"#N/A"}},{"$error":"#N/A"},{"$f":"IF(ISTEXT('S4'!$D$50),NA(),'S4'!$D$50)","v":{"$error":"#N/A"}},{"$error":"#N/A"},null,43,{"$f":"'S4'!$D$52","v":" "},{"$f":"'S4'!$D$49","v":"  "},{"$f":"'S4'!$D$48","v":"  "},{"$f":"'S4'!$D$44","v":"  "},{"$f":"'S4'!$D$43","v":"  "},{"$f":"'S4'!$D$41","v":"  "},{"$f":"'S4'!$D$39","v":"  "}]
[{"$f":"IF(ISBLANK('S4'!E$34),\" \",'S4'!E$34)","v":" "},{"$f":"IF(ISTEXT('S4'!$F$39),NA(),'S4'!$F$39)","v":{"$error":"#N/A"}},{"$f":"IF(ISTEXT('S4'!$F$40),NA(),'S4'!$F$40)","v":{"$error":"#N/A"}},{"$f":"IF(ISTEXT('S4'!$F$41),NA(),'S4'!$F$41)","v":{"$error":"#N/A"}},{"$f":"IF(ISTEXT('S4'!$F$43),NA(),'S4'!$F$43)","v":{"$error":"#N/A"}},{"$f":"IF(ISTEXT('S4'!$F$44),NA(),'S4'!$F$44)","v":{"$error":"#N/A"}},{"$error":"#N/A"},{"$f":"IF(ISTEXT('S4'!$F$48),NA(),'S4'!$F$48)","v":{"$error":"#N/A"}},{"$error":"#N/A"},{"$f":"IF(ISTEXT('S4'!$F$50),NA(),'S4'!$F$50)","v":{"$error":"#N/A"}},{"$error":"#N/A"},null,44,{"$f":"'S4'!$F$52","v":" "},{"$f":"'S4'!$F$49","v":"  "},{"$f":"'S4'!$F$48","v":"  "},{"$f":"'S4'!$F$44","v":"  "},{"$f":"'S4'!$F$43","v":"  "},{"$f":"'S4'!$F$41","v":"  "},{"$f":"'S4'!$F$39","v":"  "}]
[{"$f":"IF(ISBLANK('S4'!G$34),\" \",'S4'!G$34)","v":" "},{"$f":"IF(ISTEXT('S4'!$H$39),NA(),'S4'!$H$39)","v":{"$error":"#N/A"}},{"$f":"IF(ISTEXT('S4'!$H$40),NA(),'S4'!$H$40)","v":{"$error":"#N/A"}},{"$f":"IF(ISTEXT('S4'!$H$41),NA(),'S4'!$H$41)","v":{"$error":"#N/A"}},{"$f":"IF(ISTEXT('S4'!$H$43),NA(),'S4'!$H$43)","v":{"$error":"#N/A"}},{"$f":"IF(ISTEXT('S4'!$H$44),NA(),'S4'!$H$44)","v":{"$error":"#N/A"}},{"$error":"#N/A"},{"$f":"IF(ISTEXT('S4'!$H$48),NA(),'S4'!$H$48)","v":{"$error":"#N/A"}},{"$error":"#N/A"},{"$f":"IF(ISTEXT('S4'!$H$50),NA(),'S4'!$H$50)","v":{"$error":"#N/A"}},{"$error":"#N/A"},null,45,{"$f":"'S4'!$H$52","v":" "},{"$f":"'S4'!$H$49","v":"  "},{"$f":"'S4'!$H$48","v":"  "},{"$f":"'S4'!$H$44","v":"  "},{"$f":"'S4'!$H$43","v":"  "},{"$f":"'S4'!$H$41","v":"  "},{"$f":"'S4'!$H$39","v":"  "}]
[{"$f":"IF(ISBLANK('S4'!I$34),\" \",'S4'!I$34)","v":" "},{"$f":"IF(ISTEXT('S4'!$J$39),NA(),'S4'!$J$39)","v":{"$error":"#N/A"}},{"$f":"IF(ISTEXT('S4'!$J$40),NA(),'S4'!$J$40)","v":{"$error":"#N/A"}},{"$f":"IF(ISTEXT('S4'!$J$41),NA(),'S4'!$J$41)","v":{"$error":"#N/A"}},{"$f":"IF(ISTEXT('S4'!$J$43),NA(),'S4'!$J$43)","v":{"$error":"#N/A"}},{"$f":"IF(ISTEXT('S4'!$J$44),NA(),'S4'!$J$44)","v":{"$error":"#N/A"}},{"$error":"#N/A"},{"$f":"IF(ISTEXT('S4'!$J$48),NA(),'S4'!$J$48)","v":{"$error":"#N/A"}},{"$error":"#N/A"},{"$f":"IF(ISTEXT('S4'!$J$50),NA(),'S4'!$J$50)","v":{"$error":"#N/A"}},{"$error":"#N/A"},null,46,{"$f":"'S4'!$J$52","v":" "},{"$f":"'S4'!$J$49","v":"  "},{"$f":"'S4'!$J$48","v":"  "},{"$f":"'S4'!$J$44","v":"  "},{"$f":"'S4'!$J$43","v":"  "},{"$f":"'S4'!$J$41","v":"  "},{"$f":"'S4'!$J$39","v":"  "}]
[{"$f":"IF(ISBLANK('S4'!K$34),\" \",'S4'!K$34)","v":" "},{"$f":"IF(ISTEXT('S4'!$L$39),NA(),'S4'!$L$39)","v":{"$error":"#N/A"}},{"$f":"IF(ISTEXT('S4'!$L$40),NA(),'S4'!$L$40)","v":{"$error":"#N/A"}},{"$f":"IF(ISTEXT('S4'!$L$41),NA(),'S4'!$L$41)","v":{"$error":"#N/A"}},{"$f":"IF(ISTEXT('S4'!$L$43),NA(),'S4'!$L$43)","v":{"$error":"#N/A"}},{"$f":"IF(ISTEXT('S4'!$L$44),NA(),'S4'!$L$44)","v":{"$error":"#N/A"}},{"$error":"#N/A"},{"$f":"IF(ISTEXT('S4'!$L$48),NA(),'S4'!$L$48)","v":{"$error":"#N/A"}},{"$error":"#N/A"},{"$f":"IF(ISTEXT('S4'!$L$50),NA(),'S4'!$L$50)","v":{"$error":"#N/A"}},{"$error":"#N/A"},null,47,{"$f":"'S4'!$L$52","v":" "},{"$f":"'S4'!$L$49","v":"  "},{"$f":"'S4'!$L$48","v":"  "},{"$f":"'S4'!$L$44","v":"  "},{"$f":"'S4'!$L$43","v":"  "},{"$f":"'S4'!$L$41","v":"  "},{"$f":"'S4'!$L$39","v":"  "}]
[{"$f":"IF(ISBLANK('S4'!M$34),\" \",'S4'!M$34)","v":" "},{"$f":"IF(ISTEXT('S4'!$N$39),NA(),'S4'!$N$39)","v":{"$error":"#N/A"}},{"$f":"IF(ISTEXT('S4'!$N$40),NA(),'S4'!$N$40)","v":{"$error":"#N/A"}},{"$f":"IF(ISTEXT('S4'!$N$41),NA(),'S4'!$N$41)","v":{"$error":"#N/A"}},{"$f":"IF(ISTEXT('S4'!$N$43),NA(),'S4'!$N$43)","v":{"$error":"#N/A"}},{"$f":"IF(ISTEXT('S4'!$N$44),NA(),'S4'!$N$44)","v":{"$error":"#N/A"}},{"$error":"#N/A"},{"$f":"IF(ISTEXT('S4'!$N$48),NA(),'S4'!$N$48)","v":{"$error":"#N/A"}},{"$error":"#N/A"},{"$f":"IF(ISTEXT('S4'!$N$50),NA(),'S4'!$N$50)","v":{"$error":"#N/A"}},{"$error":"#N/A"},null,48,{"$f":"'S4'!$N$52","v":" "},{"$f":"'S4'!$N$49","v":"  "},{"$f":"'S4'!$N$48","v":"  "},{"$f":"'S4'!$N$44","v":"  "},{"$f":"'S4'!$N$43","v":"  "},{"$f":"'S4'!$N$41","v":"  "},{"$f":"'S4'!$N$39","v":"  "}]
[{"$f":"IF(ISBLANK('S5'!C$10),\" \",'S5'!C$10)","v":" "},{"$f":"IF(ISTEXT('S5'!$D$15),NA(),'S5'!$D$15)","v":{"$error":"#N/A"}},{"$f":"IF(ISTEXT('S5'!$D$16),NA(),'S5'!$D$16)","v":{"$error":"#N/A"}},{"$f":"IF(ISTEXT('S5'!$D$17),NA(),'S5'!$D$17)","v":{"$error":"#N/A"}},{"$f":"IF(ISTEXT('S5'!$D$19),NA(),'S5'!$D$19)","v":{"$error":"#N/A"}},{"$f":"IF(ISTEXT('S5'!$D$20),NA(),'S5'!$D$20)","v":{"$error":"#N/A"}},{"$error":"#N/A"},{"$f":"IF(ISTEXT('S5'!$D$24),NA(),'S5'!$D$24)","v":{"$error":"#N/A"}},{"$error":"#N/A"},{"$f":"IF(ISTEXT('S5'!$D$26),NA(),'S5'!$D$26)","v":{"$error":"#N/A"}},{"$error":"#N/A"},null,49,{"$f":"'S5'!$D$28","v":" "},{"$f":"'S5'!$D$25","v":"  "},{"$f":"'S5'!$D$24","v":"  "},{"$f":"'S5'!$D$20","v":"  "},{"$f":"'S5'!$D$19","v":"  "},{"$f":"'S5'!$D$17","v":"  "},{"$f":"'S5'!$D$15","v":"  "}]
[{"$f":"IF(ISBLANK('S5'!E$10),\" \",'S5'!E$10)","v":" "},{"$f":"IF(ISTEXT('S5'!$F$15),NA(),'S5'!$F$15)","v":{"$error":"#N/A"}},{"$f":"IF(ISTEXT('S5'!$F$16),NA(),'S5'!$F$16)","v":{"$error":"#N/A"}},{"$f":"IF(ISTEXT('S5'!$F$17),NA(),'S5'!$F$17)","v":{"$error":"#N/A"}},{"$f":"IF(ISTEXT('S5'!$F$19),NA(),'S5'!$F$19)","v":{"$error":"#N/A"}},{"$f":"IF(ISTEXT('S5'!$F$20),NA(),'S5'!$F$20)","v":{"$error":"#N/A"}},{"$error":"#N/A"},{"$f":"IF(ISTEXT('S5'!$F$24),NA(),'S5'!$F$24)","v":{"$error":"#N/A"}},{"$error":"#N/A"},{"$f":"IF(ISTEXT('S5'!$F$26),NA(),'S5'!$F$26)","v":{"$error":"#N/A"}},{"$error":"#N/A"},null,50,{"$f":"'S5'!$F$28","v":" "},{"$f":"'S5'!$F$25","v":"  "},{"$f":"'S5'!$F$24","v":"  "},{"$f":"'S5'!$F$20","v":"  "},{"$f":"'S5'!$F$19","v":"  "},{"$f":"'S5'!$F$17","v":"  "},{"$f":"'S5'!$F$15","v":"  "}]
[{"$f":"IF(ISBLANK('S5'!G$10),\" \",'S5'!G$10)","v":" "},{"$f":"IF(ISTEXT('S5'!$H$15),NA(),'S5'!$H$15)","v":{"$error":"#N/A"}},{"$f":"IF(ISTEXT('S5'!$H$16),NA(),'S5'!$H$16)","v":{"$error":"#N/A"}},{"$f":"IF(ISTEXT('S5'!$H$17),NA(),'S5'!$H$17)","v":{"$error":"#N/A"}},{"$f":"IF(ISTEXT('S5'!$H$19),NA(),'S5'!$H$19)","v":{"$error":"#N/A"}},{"$f":"IF(ISTEXT('S5'!$H$20),NA(),'S5'!$H$20)","v":{"$error":"#N/A"}},{"$error":"#N/A"},{"$f":"IF(ISTEXT('S5'!$H$24),NA(),'S5'!$H$24)","v":{"$error":"#N/A"}},{"$error":"#N/A"},{"$f":"IF(ISTEXT('S5'!$H$26),NA(),'S5'!$H$26)","v":{"$error":"#N/A"}},{"$error":"#N/A"},null,51,{"$f":"'S5'!$H$28","v":" "},{"$f":"'S5'!$H$25","v":"  "},{"$f":"'S5'!$H$24","v":"  "},{"$f":"'S5'!$H$20","v":"  "},{"$f":"'S5'!$H$19","v":"  "},{"$f":"'S5'!$H$17","v":"  "},{"$f":"'S5'!$H$15","v":"  "}]
[{"$f":"IF(ISBLANK('S5'!I$10),\" \",'S5'!I$10)","v":" "},{"$f":"IF(ISTEXT('S5'!$J$15),NA(),'S5'!$J$15)","v":{"$error":"#N/A"}},{"$f":"IF(ISTEXT('S5'!$J$16),NA(),'S5'!$J$16)","v":{"$error":"#N/A"}},{"$f":"IF(ISTEXT('S5'!$J$17),NA(),'S5'!$J$17)","v":{"$error":"#N/A"}},{"$f":"IF(ISTEXT('S5'!$J$19),NA(),'S5'!$J$19)","v":{"$error":"#N/A"}},{"$f":"IF(ISTEXT('S5'!$J$20),NA(),'S5'!$J$20)","v":{"$error":"#N/A"}},{"$error":"#N/A"},{"$f":"IF(ISTEXT('S5'!$J$24),NA(),'S5'!$J$24)","v":{"$error":"#N/A"}},{"$error":"#N/A"},{"$f":"IF(ISTEXT('S5'!$J$26),NA(),'S5'!$J$26)","v":{"$error":"#N/A"}},{"$error":"#N/A"},null,52,{"$f":"'S5'!$J$28","v":" "},{"$f":"'S5'!$J$25","v":"  "},{"$f":"'S5'!$J$24","v":"  "},{"$f":"'S5'!$J$20","v":"  "},{"$f":"'S5'!$J$19","v":"  "},{"$f":"'S5'!$J$17","v":"  "},{"$f":"'S5'!$J$15","v":"  "}]
[{"$f":"IF(ISBLANK('S5'!K$10),\" \",'S5'!K$10)","v":" "},{"$f":"IF(ISTEXT('S5'!$L$15),NA(),'S5'!$L$15)","v":{"$error":"#N/A"}},{"$f":"IF(ISTEXT('S5'!$L$16),NA(),'S5'!$L$16)","v":{"$error":"#N/A"}},{"$f":"IF(ISTEXT('S5'!$L$17),NA(),'S5'!$L$17)","v":{"$error":"#N/A"}},{"$f":"IF(ISTEXT('S5'!$L$19),NA(),'S5'!$L$19)","v":{"$error":"#N/A"}},{"$f":"IF(ISTEXT('S5'!$L$20),NA(),'S5'!$L$20)","v":{"$error":"#N/A"}},{"$error":"#N/A"},{"$f":"IF(ISTEXT('S5'!$L$24),NA(),'S5'!$L$24)","v":{"$error":"#N/A"}},{"$error":"#N/A"},{"$f":"IF(ISTEXT('S5'!$L$26),NA(),'S5'!$L$26)","v":{"$error":"#N/A"}},{"$error":"#N/A"},null,53,{"$f":"'S5'!$L$28","v":" "},{"$f":"'S5'!$L$25","v":"  "},{"$f":"'S5'!$L$24","v":"  "},{"$f":"'S5'!$L$20","v":"  "},{"$f":"'S5'!$L$19","v":"  "},{"$f":"'S5'!$L$17","v":"  "},{"$f":"'S5'!$L$15","v":"  "}]
[{"$f":"IF(ISBLANK('S5'!M$10),\" \",'S5'!M$10)","v":" "},{"$f":"IF(ISTEXT('S5'!$N$15),NA(),'S5'!$N$15)","v":{"$error":"#N/A"}},{"$f":"IF(ISTEXT('S5'!$N$16),NA(),'S5'!$N$16)","v":{"$error":"#N/A"}},{"$f":"IF(ISTEXT('S5'!$N$17),NA(),'S5'!$N$17)","v":{"$error":"#N/A"}},{"$f":"IF(ISTEXT('S5'!$N$19),NA(),'S5'!$N$19)","v":{"$error":"#N/A"}},{"$f":"IF(ISTEXT('S5'!$N$20),NA(),'S5'!$N$20)","v":{"$error":"#N/A"}},{"$error":"#N/A"},{"$f":"IF(ISTEXT('S5'!$N$24),NA(),'S5'!$N$24)","v":{"$error":"#N/A"}},{"$error":"#N/A"},{"$f":"IF(ISTEXT('S5'!$N$26),NA(),'S5'!$N$26)","v":{"$error":"#N/A"}},{"$error":"#N/A"},null,54,{"$f":"'S5'!$N$28","v":" "},{"$f":"'S5'!$N$25","v":"  "},{"$f":"'S5'!$N$24","v":"  "},{"$f":"'S5'!$N$20","v":"  "},{"$f":"'S5'!$N$19","v":"  "},{"$f":"'S5'!$N$17","v":"  "},{"$f":"'S5'!$N$15","v":"  "}]
[{"$f":"IF(ISBLANK('S5'!C$34),\" \",'S5'!C$34)","v":" "},{"$f":"IF(ISTEXT('S5'!$D$39),NA(),'S5'!$D$39)","v":{"$error":"#N/A"}},{"$f":"IF(ISTEXT('S5'!$D$40),NA(),'S5'!$D$40)","v":{"$error":"#N/A"}},{"$f":"IF(ISTEXT('S5'!$D$41),NA(),'S5'!$D$41)","v":{"$error":"#N/A"}},{"$f":"IF(ISTEXT('S5'!$D$43),NA(),'S5'!$D$43)","v":{"$error":"#N/A"}},{"$f":"IF(ISTEXT('S5'!$D$44),NA(),'S5'!$D$44)","v":{"$error":"#N/A"}},{"$error":"#N/A"},{"$f":"IF(ISTEXT('S5'!$D$48),NA(),'S5'!$D$48)","v":{"$error":"#N/A"}},{"$error":"#N/A"},{"$f":"IF(ISTEXT('S5'!$D$50),NA(),'S5'!$D$50)","v":{"$error":"#N/A"}},{"$error":"#N/A"},null,55,{"$f":"'S5'!$D$52","v":" "},{"$f":"'S5'!$D$49","v":"  "},{"$f":"'S5'!$D$48","v":"  "},{"$f":"'S5'!$D$44","v":"  "},{"$f":"'S5'!$D$43","v":"  "},{"$f":"'S5'!$D$41","v":"  "},{"$f":"'S5'!$D$39","v":"  "}]
[{"$f":"IF(ISBLANK('S5'!E$34),\" \",'S5'!E$34)","v":" "},{"$f":"IF(ISTEXT('S5'!$F$39),NA(),'S5'!$F$39)","v":{"$error":"#N/A"}},{"$f":"IF(ISTEXT('S5'!$F$40),NA(),'S5'!$F$40)","v":{"$error":"#N/A"}},{"$f":"IF(ISTEXT('S5'!$F$41),NA(),'S5'!$F$41)","v":{"$error":"#N/A"}},{"$f":"IF(ISTEXT('S5'!$F$43),NA(),'S5'!$F$43)","v":{"$error":"#N/A"}},{"$f":"IF(ISTEXT('S5'!$F$44),NA(),'S5'!$F$44)","v":{"$error":"#N/A"}},{"$error":"#N/A"},{"$f":"IF(ISTEXT('S5'!$F$48),NA(),'S5'!$F$48)","v":{"$error":"#N/A"}},{"$error":"#N/A"},{"$f":"IF(ISTEXT('S5'!$F$50),NA(),'S5'!$F$50)","v":{"$error":"#N/A"}},{"$error":"#N/A"},null,56,{"$f":"'S5'!$F$52","v":" "},{"$f":"'S5'!$F$49","v":"  "},{"$f":"'S5'!$F$48","v":"  "},{"$f":"'S5'!$F$44","v":"  "},{"$f":"'S5'!$F$43","v":"  "},{"$f":"'S5'!$F$41","v":"  "},{"$f":"'S5'!$F$39","v":"  "}]
[{"$f":"IF(ISBLANK('S5'!G$34),\" \",'S5'!G$34)","v":" "},{"$f":"IF(ISTEXT('S5'!$H$39),NA(),'S5'!$H$39)","v":{"$error":"#N/A"}},{"$f":"IF(ISTEXT('S5'!$H$40),NA(),'S5'!$H$40)","v":{"$error":"#N/A"}},{"$f":"IF(ISTEXT('S5'!$H$41),NA(),'S5'!$H$41)","v":{"$error":"#N/A"}},{"$f":"IF(ISTEXT('S5'!$H$43),NA(),'S5'!$H$43)","v":{"$error":"#N/A"}},{"$f":"IF(ISTEXT('S5'!$H$44),NA(),'S5'!$H$44)","v":{"$error":"#N/A"}},{"$error":"#N/A"},{"$f":"IF(ISTEXT('S5'!$H$48),NA(),'S5'!$H$48)","v":{"$error":"#N/A"}},{"$error":"#N/A"},{"$f":"IF(ISTEXT('S5'!$H$50),NA(),'S5'!$H$50)","v":{"$error":"#N/A"}},{"$error":"#N/A"},null,57,{"$f":"'S5'!$H$52","v":" "},{"$f":"'S5'!$H$49","v":"  "},{"$f":"'S5'!$H$48","v":"  "},{"$f":"'S5'!$H$44","v":"  "},{"$f":"'S5'!$H$43","v":"  "},{"$f":"'S5'!$H$41","v":"  "},{"$f":"'S5'!$H$39","v":"  "}]
[{"$f":"IF(ISBLANK('S5'!I$34),\" \",'S5'!I$34)","v":" "},{"$f":"IF(ISTEXT('S5'!$J$39),NA(),'S5'!$J$39)","v":{"$error":"#N/A"}},{"$f":"IF(ISTEXT('S5'!$J$40),NA(),'S5'!$J$40)","v":{"$error":"#N/A"}},{"$f":"IF(ISTEXT('S5'!$J$41),NA(),'S5'!$J$41)","v":{"$error":"#N/A"}},{"$f":"IF(ISTEXT('S5'!$J$43),NA(),'S5'!$J$43)","v":{"$error":"#N/A"}},{"$f":"IF(ISTEXT('S5'!$J$44),NA(),'S5'!$J$44)","v":{"$error":"#N/A"}},{"$error":"#N/A"},{"$f":"IF(ISTEXT('S5'!$J$48),NA(),'S5'!$J$48)","v":{"$error":"#N/A"}},{"$error":"#N/A"},{"$f":"IF(ISTEXT('S5'!$J$50),NA(),'S5'!$J$50)","v":{"$error":"#N/A"}},{"$error":"#N/A"},null,58,{"$f":"'S5'!$J$52","v":" "},{"$f":"'S5'!$J$49","v":"  "},{"$f":"'S5'!$J$48","v":"  "},{"$f":"'S5'!$J$44","v":"  "},{"$f":"'S5'!$J$43","v":"  "},{"$f":"'S5'!$J$41","v":"  "},{"$f":"'S5'!$J$39","v":"  "}]
[{"$f":"IF(ISBLANK('S5'!K$34),\" \",'S5'!K$34)","v":" "},{"$f":"IF(ISTEXT('S5'!$L$39),NA(),'S5'!$L$39)","v":{"$error":"#N/A"}},{"$f":"IF(ISTEXT('S5'!$L$40),NA(),'S5'!$L$40)","v":{"$error":"#N/A"}},{"$f":"IF(ISTEXT('S5'!$L$41),NA(),'S5'!$L$41)","v":{"$error":"#N/A"}},{"$f":"IF(ISTEXT('S5'!$L$43),NA(),'S5'!$L$43)","v":{"$error":"#N/A"}},{"$f":"IF(ISTEXT('S5'!$L$44),NA(),'S5'!$L$44)","v":{"$error":"#N/A"}},{"$error":"#N/A"},{"$f":"IF(ISTEXT('S5'!$L$48),NA(),'S5'!$L$48)","v":{"$error":"#N/A"}},{"$error":"#N/A"},{"$f":"IF(ISTEXT('S5'!$L$50),NA(),'S5'!$L$50)","v":{"$error":"#N/A"}},{"$error":"#N/A"},null,59,{"$f":"'S5'!$L$52","v":" "},{"$f":"'S5'!$L$49","v":"  "},{"$f":"'S5'!$L$48","v":"  "},{"$f":"'S5'!$L$44","v":"  "},{"$f":"'S5'!$L$43","v":"  "},{"$f":"'S5'!$L$41","v":"  "},{"$f":"'S5'!$L$39","v":"  "}]
[{"$f":"IF(ISBLANK('S5'!M$34),\" \",'S5'!M$34)","v":" "},{"$f":"IF(ISTEXT('S5'!$N$39),NA(),'S5'!$N$39)","v":{"$error":"#N/A"}},{"$f":"IF(ISTEXT('S5'!$N$40),NA(),'S5'!$N$40)","v":{"$error":"#N/A"}},{"$f":"IF(ISTEXT('S5'!$N$41),NA(),'S5'!$N$41)","v":{"$error":"#N/A"}},{"$f":"IF(ISTEXT('S5'!$N$43),NA(),'S5'!$N$43)","v":{"$error":"#N/A"}},{"$f":"IF(ISTEXT('S5'!$N$44),NA(),'S5'!$N$44)","v":{"$error":"#N/A"}},{"$error":"#N/A"},{"$f":"IF(ISTEXT('S5'!$N$48),NA(),'S5'!$N$48)","v":{"$error":"#N/A"}},{"$error":"#N/A"},{"$f":"IF(ISTEXT('S5'!$N$50),NA(),'S5'!$N$50)","v":{"$error":"#N/A"}},{"$error":"#N/A"},null,60,{"$f":"'S5'!$N$52","v":" "},{"$f":"'S5'!$N$49","v":"  "},{"$f":"'S5'!$N$48","v":"  "},{"$f":"'S5'!$N$44","v":"  "},{"$f":"'S5'!$N$43","v":"  "},{"$f":"'S5'!$N$41","v":"  "},{"$f":"'S5'!$N$39","v":"  "}]
[{"$f":"IF(ISBLANK('S6'!C$10),\" \",'S6'!C$10)","v":" "},{"$f":"IF(ISTEXT('S6'!$D$15),NA(),'S6'!$D$15)","v":{"$error":"#N/A"}},{"$f":"IF(ISTEXT('S6'!$D$16),NA(),'S6'!$D$16)","v":{"$error":"#N/A"}},{"$f":"IF(ISTEXT('S6'!$D$17),NA(),'S6'!$D$17)","v":{"$error":"#N/A"}},{"$f":"IF(ISTEXT('S6'!$D$19),NA(),'S6'!$D$19)","v":{"$error":"#N/A"}},{"$f":"IF(ISTEXT('S6'!$D$20),NA(),'S6'!$D$20)","v":{"$error":"#N/A"}},{"$error":"#N/A"},{"$f":"IF(ISTEXT('S6'!$D$24),NA(),'S6'!$D$24)","v":{"$error":"#N/A"}},{"$error":"#N/A"},{"$f":"IF(ISTEXT('S6'!$D$26),NA(),'S6'!$D$26)","v":{"$error":"#N/A"}},{"$error":"#N/A"},null,61,{"$f":"'S6'!$D$28","v":" "},{"$f":"'S6'!$D$25","v":"  "},{"$f":"'S6'!$D$24","v":"  "},{"$f":"'S6'!$D$20","v":"  "},{"$f":"'S6'!$D$19","v":"  "},{"$f":"'S6'!$D$17","v":"  "},{"$f":"'S6'!$D$15","v":"  "}]
[{"$f":"IF(ISBLANK('S6'!E$10),\" \",'S6'!E$10)","v":" "},{"$f":"IF(ISTEXT('S6'!$F$15),NA(),'S6'!$F$15)","v":{"$error":"#N/A"}},{"$f":"IF(ISTEXT('S6'!$F$16),NA(),'S6'!$F$16)","v":{"$error":"#N/A"}},{"$f":"IF(ISTEXT('S6'!$F$17),NA(),'S6'!$F$17)","v":{"$error":"#N/A"}},{"$f":"IF(ISTEXT('S6'!$F$19),NA(),'S6'!$F$19)","v":{"$error":"#N/A"}},{"$f":"IF(ISTEXT('S6'!$F$20),NA(),'S6'!$F$20)","v":{"$error":"#N/A"}},{"$error":"#N/A"},{"$f":"IF(ISTEXT('S6'!$F$24),NA(),'S6'!$F$24)","v":{"$error":"#N/A"}},{"$error":"#N/A"},{"$f":"IF(ISTEXT('S6'!$F$26),NA(),'S6'!$F$26)","v":{"$error":"#N/A"}},{"$error":"#N/A"},null,62,{"$f":"'S6'!$F$28","v":" "},{"$f":"'S6'!$F$25","v":"  "},{"$f":"'S6'!$F$24","v":"  "},{"$f":"'S6'!$F$20","v":"  "},{"$f":"'S6'!$F$19","v":"  "},{"$f":"'S6'!$F$17","v":"  "},{"$f":"'S6'!$F$15","v":"  "}]
[{"$f":"IF(ISBLANK('S6'!G$10),\" \",'S6'!G$10)","v":" "},{"$f":"IF(ISTEXT('S6'!$H$15),NA(),'S6'!$H$15)","v":{"$error":"#N/A"}},{"$f":"IF(ISTEXT('S6'!$H$16),NA(),'S6'!$H$16)","v":{"$error":"#N/A"}},{"$f":"IF(ISTEXT('S6'!$H$17),NA(),'S6'!$H$17)","v":{"$error":"#N/A"}},{"$f":"IF(ISTEXT('S6'!$H$19),NA(),'S6'!$H$19)","v":{"$error":"#N/A"}},{"$f":"IF(ISTEXT('S6'!$H$20),NA(),'S6'!$H$20)","v":{"$error":"#N/A"}},{"$error":"#N/A"},{"$f":"IF(ISTEXT('S6'!$H$24),NA(),'S6'!$H$24)","v":{"$error":"#N/A"}},{"$error":"#N/A"},{"$f":"IF(ISTEXT('S6'!$H$26),NA(),'S6'!$H$26)","v":{"$error":"#N/A"}},{"$error":"#N/A"},null,63,{"$f":"'S6'!$H$28","v":" "},{"$f":"'S6'!$H$25","v":"  "},{"$f":"'S6'!$H$24","v":"  "},{"$f":"'S6'!$H$20","v":"  "},{"$f":"'S6'!$H$19","v":"  "},{"$f":"'S6'!$H$17","v":"  "},{"$f":"'S6'!$H$15","v":"  "}]
[{"$f":"IF(ISBLANK('S6'!I$10),\" \",'S6'!I$10)","v":" "},{"$f":"IF(ISTEXT('S6'!$J$15),NA(),'S6'!$J$15)","v":{"$error":"#N/A"}},{"$f":"IF(ISTEXT('S6'!$J$16),NA(),'S6'!$J$16)","v":{"$error":"#N/A"}},{"$f":"IF(ISTEXT('S6'!$J$17),NA(),'S6'!$J$17)","v":{"$error":"#N/A"}},{"$f":"IF(ISTEXT('S6'!$J$19),NA(),'S6'!$J$19)","v":{"$error":"#N/A"}},{"$f":"IF(ISTEXT('S6'!$J$20),NA(),'S6'!$J$20)","v":{"$error":"#N/A"}},{"$error":"#N/A"},{"$f":"IF(ISTEXT('S6'!$J$24),NA(),'S6'!$J$24)","v":{"$error":"#N/A"}},{"$error":"#N/A"},{"$f":"IF(ISTEXT('S6'!$J$26),NA(),'S6'!$J$26)","v":{"$error":"#N/A"}},{"$error":"#N/A"},null,64,{"$f":"'S6'!$J$28","v":" "},{"$f":"'S6'!$J$25","v":"  "},{"$f":"'S6'!$J$24","v":"  "},{"$f":"'S6'!$J$20","v":"  "},{"$f":"'S6'!$J$19","v":"  "},{"$f":"'S6'!$J$17","v":"  "},{"$f":"'S6'!$J$15","v":"  "}]
[{"$f":"IF(ISBLANK('S6'!K$10),\" \",'S6'!K$10)","v":" "},{"$f":"IF(ISTEXT('S6'!$L$15),NA(),'S6'!$L$15)","v":{"$error":"#N/A"}},{"$f":"IF(ISTEXT('S6'!$L$16),NA(),'S6'!$L$16)","v":{"$error":"#N/A"}},{"$f":"IF(ISTEXT('S6'!$L$17),NA(),'S6'!$L$17)","v":{"$error":"#N/A"}},{"$f":"IF(ISTEXT('S6'!$L$19),NA(),'S6'!$L$19)","v":{"$error":"#N/A"}},{"$f":"IF(ISTEXT('S6'!$L$20),NA(),'S6'!$L$20)","v":{"$error":"#N/A"}},{"$error":"#N/A"},{"$f":"IF(ISTEXT('S6'!$L$24),NA(),'S6'!$L$24)","v":{"$error":"#N/A"}},{"$error":"#N/A"},{"$f":"IF(ISTEXT('S6'!$L$26),NA(),'S6'!$L$26)","v":{"$error":"#N/A"}},{"$error":"#N/A"},null,65,{"$f":"'S6'!$L$28","v":" "},{"$f":"'S6'!$L$25","v":"  "},{"$f":"'S6'!$L$24","v":"  "},{"$f":"'S6'!$L$20","v":"  "},{"$f":"'S6'!$L$19","v":"  "},{"$f":"'S6'!$L$17","v":"  "},{"$f":"'S6'!$L$15","v":"  "}]
[{"$f":"IF(ISBLANK('S6'!M$10),\" \",'S6'!M$10)","v":" "},{"$f":"IF(ISTEXT('S6'!$N$15),NA(),'S6'!$N$15)","v":{"$error":"#N/A"}},{"$f":"IF(ISTEXT('S6'!$N$16),NA(),'S6'!$N$16)","v":{"$error":"#N/A"}},{"$f":"IF(ISTEXT('S6'!$N$17),NA(),'S6'!$N$17)","v":{"$error":"#N/A"}},{"$f":"IF(ISTEXT('S6'!$N$19),NA(),'S6'!$N$19)","v":{"$error":"#N/A"}},{"$f":"IF(ISTEXT('S6'!$N$20),NA(),'S6'!$N$20)","v":{"$error":"#N/A"}},{"$error":"#N/A"},{"$f":"IF(ISTEXT('S6'!$N$24),NA(),'S6'!$N$24)","v":{"$error":"#N/A"}},{"$error":"#N/A"},{"$f":"IF(ISTEXT('S6'!$N$26),NA(),'S6'!$N$26)","v":{"$error":"#N/A"}},{"$error":"#N/A"},null,66,{"$f":"'S6'!$N$28","v":" "},{"$f":"'S6'!$N$25","v":"  "},{"$f":"'S6'!$N$24","v":"  "},{"$f":"'S6'!$N$20","v":"  "},{"$f":"'S6'!$N$19","v":"  "},{"$f":"'S6'!$N$17","v":"  "},{"$f":"'S6'!$N$15","v":"  "}]
[{"$f":"IF(ISBLANK('S6'!C$34),\" \",'S6'!C$34)","v":" "},{"$f":"IF(ISTEXT('S6'!$D$39),NA(),'S6'!$D$39)","v":{"$error":"#N/A"}},{"$f":"IF(ISTEXT('S6'!$D$40),NA(),'S6'!$D$40)","v":{"$error":"#N/A"}},{"$f":"IF(ISTEXT('S6'!$D$41),NA(),'S6'!$D$41)","v":{"$error":"#N/A"}},{"$f":"IF(ISTEXT('S6'!$D$43),NA(),'S6'!$D$43)","v":{"$error":"#N/A"}},{"$f":"IF(ISTEXT('S6'!$D$44),NA(),'S6'!$D$44)","v":{"$error":"#N/A"}},{"$f":"ROUND(AVERAGE(F67:F69),0)","v":{"$error":"#N/A"}},{"$f":"IF(ISTEXT('S6'!$D$48),NA(),'S6'!$D$48)","v":{"$error":"#N/A"}},{"$f":"ROUND(AVERAGE(H67:H69),0)","v":{"$error":"#N/A"}},{"$f":"IF(ISTEXT('S6'!$D$50),NA(),'S6'!$D$50)","v":{"$error":"#N/A"}},{"$f":"ROUND(AVERAGE(J67:J69),0)","v":{"$error":"#N/A"}},null,67,{"$f":"'S6'!$D$52","v":" "},{"$f":"'S6'!$D$49","v":"  "},{"$f":"'S6'!$D$48","v":"  "},{"$f":"'S6'!$D$44","v":"  "},{"$f":"'S6'!$D$43","v":"  "},{"$f":"'S6'!$D$41","v":"  "},{"$f":"'S6'!$D$39","v":"  "}]
[{"$f":"IF(ISBLANK('S6'!E$34),\" \",'S6'!E$34)","v":" "},{"$f":"IF(ISTEXT('S6'!$F$39),NA(),'S6'!$F$39)","v":{"$error":"#N/A"}},{"$f":"IF(ISTEXT('S6'!$F$40),NA(),'S6'!$F$40)","v":{"$error":"#N/A"}},{"$f":"IF(ISTEXT('S6'!$F$41),NA(),'S6'!$F$41)","v":{"$error":"#N/A"}},{"$f":"IF(ISTEXT('S6'!$F$43),NA(),'S6'!$F$43)","v":{"$error":"#N/A"}},{"$f":"IF(ISTEXT('S6'!$F$44),NA(),'S6'!$F$44)","v":{"$error":"#N/A"}},{"$error":"#N/A"},{"$f":"IF(ISTEXT('S6'!$F$48),NA(),'S6'!$F$48)","v":{"$error":"#N/A"}},{"$error":"#N/A"},{"$f":"IF(ISTEXT('S6'!$F$50),NA(),'S6'!$F$50)","v":{"$error":"#N/A"}},{"$error":"#N/A"},null,68,{"$f":"'S6'!$F$52","v":" "},{"$f":"'S6'!$F$49","v":"  "},{"$f":"'S6'!$F$48","v":"  "},{"$f":"'S6'!$F$44","v":"  "},{"$f":"'S6'!$F$43","v":"  "},{"$f":"'S6'!$F$41","v":"  "},{"$f":"'S6'!$F$39","v":"  "}]
[{"$f":"IF(ISBLANK('S6'!G$34),\" \",'S6'!G$34)","v":" "},{"$f":"IF(ISTEXT('S6'!$H$39),NA(),'S6'!$H$39)","v":{"$error":"#N/A"}},{"$f":"IF(ISTEXT('S6'!$H$40),NA(),'S6'!$H$40)","v":{"$error":"#N/A"}},{"$f":"IF(ISTEXT('S6'!$H$41),NA(),'S6'!$H$41)","v":{"$error":"#N/A"}},{"$f":"IF(ISTEXT('S6'!$H$43),NA(),'S6'!$H$43)","v":{"$error":"#N/A"}},{"$f":"IF(ISTEXT('S6'!$H$44),NA(),'S6'!$H$44)","v":{"$error":"#N/A"}},{"$error":"#N/A"},{"$f":"IF(ISTEXT('S6'!$H$48),NA(),'S6'!$H$48)","v":{"$error":"#N/A"}},{"$error":"#N/A"},{"$f":"IF(ISTEXT('S6'!$H$50),NA(),'S6'!$H$50)","v":{"$error":"#N/A"}},{"$error":"#N/A"},null,69,{"$f":"'S6'!$H$52","v":" "},{"$f":"'S6'!$H$49","v":"  "},{"$f":"'S6'!$H$48","v":"  "},{"$f":"'S6'!$H$44","v":"  "},{"$f":"'S6'!$H$43","v":"  "},{"$f":"'S6'!$H$41","v":"  "},{"$f":"'S6'!$H$39","v":"  "}]
[{"$f":"IF(ISBLANK('S6'!I$34),\" \",'S6'!I$34)","v":" "},{"$f":"IF(ISTEXT('S6'!$J$39),NA(),'S6'!$J$39)","v":{"$error":"#N/A"}},{"$f":"IF(ISTEXT('S6'!$J$40),NA(),'S6'!$J$40)","v":{"$error":"#N/A"}},{"$f":"IF(ISTEXT('S6'!$J$41),NA(),'S6'!$J$41)","v":{"$error":"#N/A"}},{"$f":"IF(ISTEXT('S6'!$J$43),NA(),'S6'!$J$43)","v":{"$error":"#N/A"}},{"$f":"IF(ISTEXT('S6'!$J$44),NA(),'S6'!$J$44)","v":{"$error":"#N/A"}},{"$error":"#N/A"},{"$f":"IF(ISTEXT('S6'!$J$48),NA(),'S6'!$J$48)","v":{"$error":"#N/A"}},{"$error":"#N/A"},{"$f":"IF(ISTEXT('S6'!$J$50),NA(),'S6'!$J$50)","v":{"$error":"#N/A"}},{"$error":"#N/A"},null,70,{"$f":"'S6'!$J$52","v":" "},{"$f":"'S6'!$J$49","v":"  "},{"$f":"'S6'!$J$48","v":"  "},{"$f":"'S6'!$J$44","v":"  "},{"$f":"'S6'!$J$43","v":"  "},{"$f":"'S6'!$J$41","v":"  "},{"$f":"'S6'!$J$39","v":"  "}]
[{"$f":"IF(ISBLANK('S6'!K$34),\" \",'S6'!K$34)","v":" "},{"$f":"IF(ISTEXT('S6'!$L$39),NA(),'S6'!$L$39)","v":{"$error":"#N/A"}},{"$f":"IF(ISTEXT('S6'!$L$40),NA(),'S6'!$L$40)","v":{"$error":"#N/A"}},{"$f":"IF(ISTEXT('S6'!$L$41),NA(),'S6'!$L$41)","v":{"$error":"#N/A"}},{"$f":"IF(ISTEXT('S6'!$L$43),NA(),'S6'!$L$43)","v":{"$error":"#N/A"}},{"$f":"IF(ISTEXT('S6'!$L$44),NA(),'S6'!$L$44)","v":{"$error":"#N/A"}},{"$error":"#N/A"},{"$f":"IF(ISTEXT('S6'!$L$48),NA(),'S6'!$L$48)","v":{"$error":"#N/A"}},{"$error":"#N/A"},{"$f":"IF(ISTEXT('S6'!$L$50),NA(),'S6'!$L$50)","v":{"$error":"#N/A"}},{"$error":"#N/A"},null,71,{"$f":"'S6'!$L$52","v":" "},{"$f":"'S6'!$L$49","v":"  "},{"$f":"'S6'!$L$48","v":"  "},{"$f":"'S6'!$L$44","v":"  "},{"$f":"'S6'!$L$43","v":"  "},{"$f":"'S6'!$L$41","v":"  "},{"$f":"'S6'!$L$39","v":"  "}]
[{"$f":"IF(ISBLANK('S6'!M$34),\" \",'S6'!M$34)","v":" "},{"$f":"IF(ISTEXT('S6'!$N$39),NA(),'S6'!$N$39)","v":{"$error":"#N/A"}},{"$f":"IF(ISTEXT('S6'!$N$40),NA(),'S6'!$N$40)","v":{"$error":"#N/A"}},{"$f":"IF(ISTEXT('S6'!$N$41),NA(),'S6'!$N$41)","v":{"$error":"#N/A"}},{"$f":"IF(ISTEXT('S6'!$N$43),NA(),'S6'!$N$43)","v":{"$error":"#N/A"}},{"$f":"IF(ISTEXT('S6'!$N$44),NA(),'S6'!$N$44)","v":{"$error":"#N/A"}},{"$error":"#N/A"},{"$f":"IF(ISTEXT('S6'!$N$48),NA(),'S6'!$N$48)","v":{"$error":"#N/A"}},{"$error":"#N/A"},{"$f":"IF(ISTEXT('S6'!$N$50),NA(),'S6'!$N$50)","v":{"$error":"#N/A"}},{"$error":"#N/A"},null,72,{"$f":"'S6'!$N$52","v":" "},{"$f":"'S6'!$N$49","v":"  "},{"$f":"'S6'!$N$48","v":"  "},{"$f":"'S6'!$N$44","v":"  "},{"$f":"'S6'!$N$43","v":"  "},{"$f":"'S6'!$N$41","v":"  "},{"$f":"'S6'!$N$39","v":"  "}]
[{"$f":"IF(ISBLANK('S7'!C$10),\" \",'S7'!C$10)","v":" "},{"$f":"IF(ISTEXT('S7'!$D$15),NA(),'S7'!$D$15)","v":{"$error":"#N/A"}},{"$f":"IF(ISTEXT('S7'!$D$16),NA(),'S7'!$D$16)","v":{"$error":"#N/A"}},{"$f":"IF(ISTEXT('S7'!$D$17),NA(),'S7'!$D$17)","v":{"$error":"#N/A"}},{"$f":"IF(ISTEXT('S7'!$D$19),NA(),'S7'!$D$19)","v":{"$error":"#N/A"}},{"$f":"IF(ISTEXT('S7'!$D$20),NA(),'S7'!$D$20)","v":{"$error":"#N/A"}},{"$error":"#N/A"},{"$f":"IF(ISTEXT('S7'!$D$24),NA(),'S7'!$D$24)","v":{"$error":"#N/A"}},{"$error":"#N/A"},{"$f":"IF(ISTEXT('S7'!$D$26),NA(),'S7'!$D$26)","v":{"$error":"#N/A"}},{"$error":"#N/A"},null,73,{"$f":"'S7'!$D$28","v":" "},{"$f":"'S7'!$D$25","v":"  "},{"$f":"'S7'!$D$24","v":"  "},{"$f":"'S7'!$D$20","v":"  "},{"$f":"'S7'!$D$19","v":"  "},{"$f":"'S7'!$D$17","v":"  "},{"$f":"'S7'!$D$15","v":"  "}]
[{"$f":"IF(ISBLANK('S7'!E$10),\" \",'S7'!E$10)","v":" "},{"$f":"IF(ISTEXT('S7'!$F$15),NA(),'S7'!$F$15)","v":{"$error":"#N/A"}},{"$f":"IF(ISTEXT('S7'!$F$16),NA(),'S7'!$F$16)","v":{"$error":"#N/A"}},{"$f":"IF(ISTEXT('S7'!$F$17),NA(),'S7'!$F$17)","v":{"$error":"#N/A"}},{"$f":"IF(ISTEXT('S7'!$F$19),NA(),'S7'!$F$19)","v":{"$error":"#N/A"}},{"$f":"IF(ISTEXT('S7'!$F$20),NA(),'S7'!$F$20)","v":{"$error":"#N/A"}},{"$error":"#N/A"},{"$f":"IF(ISTEXT('S7'!$F$24),NA(),'S7'!$F$24)","v":{"$error":"#N/A"}},{"$error":"#N/A"},{"$f":"IF(ISTEXT('S7'!$F$26),NA(),'S7'!$F$26)","v":{"$error":"#N/A"}},{"$error":"#N/A"},null,74,{"$f":"'S7'!$F$28","v":" "},{"$f":"'S7'!$F$25","v":"  "},{"$f":"'S7'!$F$24","v":"  "},{"$f":"'S7'!$F$20","v":"  "},{"$f":"'S7'!$F$19","v":"  "},{"$f":"'S7'!$F$17","v":"  "},{"$f":"'S7'!$F$15","v":"  "}]
[{"$f":"IF(ISBLANK('S7'!G$10),\" \",'S7'!G$10)","v":" "},{"$f":"IF(ISTEXT('S7'!$H$15),NA(),'S7'!$H$15)","v":{"$error":"#N/A"}},{"$f":"IF(ISTEXT('S7'!$H$16),NA(),'S7'!$H$16)","v":{"$error":"#N/A"}},{"$f":"IF(ISTEXT('S7'!$H$17),NA(),'S7'!$H$17)","v":{"$error":"#N/A"}},{"$f":"IF(ISTEXT('S7'!$H$19),NA(),'S7'!$H$19)","v":{"$error":"#N/A"}},{"$f":"IF(ISTEXT('S7'!$H$20),NA(),'S7'!$H$20)","v":{"$error":"#N/A"}},{"$error":"#N/A"},{"$f":"IF(ISTEXT('S7'!$H$24),NA(),'S7'!$H$24)","v":{"$error":"#N/A"}},{"$error":"#N/A"},{"$f":"IF(ISTEXT('S7'!$H$26),NA(),'S7'!$H$26)","v":{"$error":"#N/A"}},{"$error":"#N/A"},null,75,{"$f":"'S7'!$H$28","v":" "},{"$f":"'S7'!$H$25","v":"  "},{"$f":"'S7'!$H$24","v":"  "},{"$f":"'S7'!$H$20","v":"  "},{"$f":"'S7'!$H$19","v":"  "},{"$f":"'S7'!$H$17","v":"  "},{"$f":"'S7'!$H$15","v":"  "}]
[{"$f":"IF(ISBLANK('S7'!I$10),\" \",'S7'!I$10)","v":" "},{"$f":"IF(ISTEXT('S7'!$J$15),NA(),'S7'!$J$15)","v":{"$error":"#N/A"}},{"$f":"IF(ISTEXT('S7'!$J$16),NA(),'S7'!$J$16)","v":{"$error":"#N/A"}},{"$f":"IF(ISTEXT('S7'!$J$17),NA(),'S7'!$J$17)","v":{"$error":"#N/A"}},{"$f":"IF(ISTEXT('S7'!$J$19),NA(),'S7'!$J$19)","v":{"$error":"#N/A"}},{"$f":"IF(ISTEXT('S7'!$J$20),NA(),'S7'!$J$20)","v":{"$error":"#N/A"}},{"$error":"#N/A"},{"$f":"IF(ISTEXT('S7'!$J$24),NA(),'S7'!$J$24)","v":{"$error":"#N/A"}},{"$error":"#N/A"},{"$f":"IF(ISTEXT('S7'!$J$26),NA(),'S7'!$J$26)","v":{"$error":"#N/A"}},{"$error":"#N/A"},null,76,{"$f":"'S7'!$J$28","v":" "},{"$f":"'S7'!$J$25","v":"  "},{"$f":"'S7'!$J$24","v":"  "},{"$f":"'S7'!$J$20","v":"  "},{"$f":"'S7'!$J$19","v":"  "},{"$f":"'S7'!$J$17","v":"  "},{"$f":"'S7'!$J$15","v":"  "}]
[{"$f":"IF(ISBLANK('S7'!K$10),\" \",'S7'!K$10)","v":" "},{"$f":"IF(ISTEXT('S7'!$L$15),NA(),'S7'!$L$15)","v":{"$error":"#N/A"}},{"$f":"IF(ISTEXT('S7'!$L$16),NA(),'S7'!$L$16)","v":{"$error":"#N/A"}},{"$f":"IF(ISTEXT('S7'!$L$17),NA(),'S7'!$L$17)","v":{"$error":"#N/A"}},{"$f":"IF(ISTEXT('S7'!$L$19),NA(),'S7'!$L$19)","v":{"$error":"#N/A"}},{"$f":"IF(ISTEXT('S7'!$L$20),NA(),'S7'!$L$20)","v":{"$error":"#N/A"}},{"$error":"#N/A"},{"$f":"IF(ISTEXT('S7'!$L$24),NA(),'S7'!$L$24)","v":{"$error":"#N/A"}},{"$error":"#N/A"},{"$f":"IF(ISTEXT('S7'!$L$26),NA(),'S7'!$L$26)","v":{"$error":"#N/A"}},{"$error":"#N/A"},null,77,{"$f":"'S7'!$L$28","v":" "},{"$f":"'S7'!$L$25","v":"  "},{"$f":"'S7'!$L$24","v":"  "},{"$f":"'S7'!$L$20","v":"  "},{"$f":"'S7'!$L$19","v":"  "},{"$f":"'S7'!$L$17","v":"  "},{"$f":"'S7'!$L$15","v":"  "}]
[{"$f":"IF(ISBLANK('S7'!M$10),\" \",'S7'!M$10)","v":" "},{"$f":"IF(ISTEXT('S7'!$N$15),NA(),'S7'!$N$15)","v":{"$error":"#N/A"}},{"$f":"IF(ISTEXT('S7'!$N$16),NA(),'S7'!$N$16)","v":{"$error":"#N/A"}},{"$f":"IF(ISTEXT('S7'!$N$17),NA(),'S7'!$N$17)","v":{"$error":"#N/A"}},{"$f":"IF(ISTEXT('S7'!$N$19),NA(),'S7'!$N$19)","v":{"$error":"#N/A"}},{"$f":"IF(ISTEXT('S7'!$N$20),NA(),'S7'!$N$20)","v":{"$error":"#N/A"}},{"$error":"#N/A"},{"$f":"IF(ISTEXT('S7'!$N$24),NA(),'S7'!$N$24)","v":{"$error":"#N/A"}},{"$error":"#N/A"},{"$f":"IF(ISTEXT('S7'!$N$26),NA(),'S7'!$N$26)","v":{"$error":"#N/A"}},{"$error":"#N/A"},null,78,{"$f":"'S7'!$N$28","v":" "},{"$f":"'S7'!$N$25","v":"  "},{"$f":"'S7'!$N$24","v":"  "},{"$f":"'S7'!$N$20","v":"  "},{"$f":"'S7'!$N$19","v":"  "},{"$f":"'S7'!$N$17","v":"  "},{"$f":"'S7'!$N$15","v":"  "}]
[{"$f":"IF(ISBLANK('S7'!C$34),\" \",'S7'!C$34)","v":" "},{"$f":"IF(ISTEXT('S7'!$D$39),NA(),'S7'!$D$39)","v":{"$error":"#N/A"}},{"$f":"IF(ISTEXT('S7'!$D$40),NA(),'S7'!$D$40)","v":{"$error":"#N/A"}},{"$f":"IF(ISTEXT('S7'!$D$41),NA(),'S7'!$D$41)","v":{"$error":"#N/A"}},{"$f":"IF(ISTEXT('S7'!$D$43),NA(),'S7'!$D$43)","v":{"$error":"#N/A"}},{"$f":"IF(ISTEXT('S7'!$D$44),NA(),'S7'!$D$44)","v":{"$error":"#N/A"}},{"$error":"#N/A"},{"$f":"IF(ISTEXT('S7'!$D$48),NA(),'S7'!$D$48)","v":{"$error":"#N/A"}},{"$error":"#N/A"},{"$f":"IF(ISTEXT('S7'!$D$50),NA(),'S7'!$D$50)","v":{"$error":"#N/A"}},{"$error":"#N/A"},null,79,{"$f":"'S7'!$D$52","v":" "},{"$f":"'S7'!$D$49","v":"  "},{"$f":"'S7'!$D$48","v":"  "},{"$f":"'S7'!$D$44","v":"  "},{"$f":"'S7'!$D$43","v":"  "},{"$f":"'S7'!$D$41","v":"  "},{"$f":"'S7'!$D$39","v":"  "}]
[{"$f":"IF(ISBLANK('S7'!E$34),\" \",'S7'!E$34)","v":" "},{"$f":"IF(ISTEXT('S7'!$F$39),NA(),'S7'!$F$39)","v":{"$error":"#N/A"}},{"$f":"IF(ISTEXT('S7'!$F$40),NA(),'S7'!$F$40)","v":{"$error":"#N/A"}},{"$f":"IF(ISTEXT('S7'!$F$41),NA(),'S7'!$F$41)","v":{"$error":"#N/A"}},{"$f":"IF(ISTEXT('S7'!$F$43),NA(),'S7'!$F$43)","v":{"$error":"#N/A"}},{"$f":"IF(ISTEXT('S7'!$F$44),NA(),'S7'!$F$44)","v":{"$error":"#N/A"}},{"$error":"#N/A"},{"$f":"IF(ISTEXT('S7'!$F$48),NA(),'S7'!$F$48)","v":{"$error":"#N/A"}},{"$error":"#N/A"},{"$f":"IF(ISTEXT('S7'!$F$50),NA(),'S7'!$F$50)","v":{"$error":"#N/A"}},{"$error":"#N/A"},null,80,{"$f":"'S7'!$F$52","v":" "},{"$f":"'S7'!$F$49","v":"  "},{"$f":"'S7'!$F$48","v":"  "},{"$f":"'S7'!$F$44","v":"  "},{"$f":"'S7'!$F$43","v":"  "},{"$f":"'S7'!$F$41","v":"  "},{"$f":"'S7'!$F$39","v":"  "}]
[{"$f":"IF(ISBLANK('S7'!G$34),\" \",'S7'!G$34)","v":" "},{"$f":"IF(ISTEXT('S7'!$H$39),NA(),'S7'!$H$39)","v":{"$error":"#N/A"}},{"$f":"IF(ISTEXT('S7'!$H$40),NA(),'S7'!$H$40)","v":{"$error":"#N/A"}},{"$f":"IF(ISTEXT('S7'!$H$41),NA(),'S7'!$H$41)","v":{"$error":"#N/A"}},{"$f":"IF(ISTEXT('S7'!$H$43),NA(),'S7'!$H$43)","v":{"$error":"#N/A"}},{"$f":"IF(ISTEXT('S7'!$H$44),NA(),'S7'!$H$44)","v":{"$error":"#N/A"}},{"$error":"#N/A"},{"$f":"IF(ISTEXT('S7'!$H$48),NA(),'S7'!$H$48)","v":{"$error":"#N/A"}},{"$error":"#N/A"},{"$f":"IF(ISTEXT('S7'!$H$50),NA(),'S7'!$H$50)","v":{"$error":"#N/A"}},{"$error":"#N/A"},null,81,{"$f":"'S7'!$H$52","v":" "},{"$f":"'S7'!$H$49","v":"  "},{"$f":"'S7'!$H$48","v":"  "},{"$f":"'S7'!$H$44","v":"  "},{"$f":"'S7'!$H$43","v":"  "},{"$f":"'S7'!$H$41","v":"  "},{"$f":"'S7'!$H$39","v":"  "}]
[{"$f":"IF(ISBLANK('S7'!I$34),\" \",'S7'!I$34)","v":" "},{"$f":"IF(ISTEXT('S7'!$J$39),NA(),'S7'!$J$39)","v":{"$error":"#N/A"}},{"$f":"IF(ISTEXT('S7'!$J$40),NA(),'S7'!$J$40)","v":{"$error":"#N/A"}},{"$f":"IF(ISTEXT('S7'!$J$41),NA(),'S7'!$J$41)","v":{"$error":"#N/A"}},{"$f":"IF(ISTEXT('S7'!$J$43),NA(),'S7'!$J$43)","v":{"$error":"#N/A"}},{"$f":"IF(ISTEXT('S7'!$J$44),NA(),'S7'!$J$44)","v":{"$error":"#N/A"}},{"$error":"#N/A"},{"$f":"IF(ISTEXT('S7'!$J$48),NA(),'S7'!$J$48)","v":{"$error":"#N/A"}},{"$error":"#N/A"},{"$f":"IF(ISTEXT('S7'!$J$50),NA(),'S7'!$J$50)","v":{"$error":"#N/A"}},{"$error":"#N/A"},null,82,{"$f":"'S7'!$J$52","v":" "},{"$f":"'S7'!$J$49","v":"  "},{"$f":"'S7'!$J$48","v":"  "},{"$f":"'S7'!$J$44","v":"  "},{"$f":"'S7'!$J$43","v":"  "},{"$f":"'S7'!$J$41","v":"  "},{"$f":"'S7'!$J$39","v":"  "}]
[{"$f":"IF(ISBLANK('S7'!K$34),\" \",'S7'!K$34)","v":" "},{"$f":"IF(ISTEXT('S7'!$L$39),NA(),'S7'!$L$39)","v":{"$error":"#N/A"}},{"$f":"IF(ISTEXT('S7'!$L$40),NA(),'S7'!$L$40)","v":{"$error":"#N/A"}},{"$f":"IF(ISTEXT('S7'!$L$41),NA(),'S7'!$L$41)","v":{"$error":"#N/A"}},{"$f":"IF(ISTEXT('S7'!$L$43),NA(),'S7'!$L$43)","v":{"$error":"#N/A"}},{"$f":"IF(ISTEXT('S7'!$L$44),NA(),'S7'!$L$44)","v":{"$error":"#N/A"}},{"$error":"#N/A"},{"$f":"IF(ISTEXT('S7'!$L$48),NA(),'S7'!$L$48)","v":{"$error":"#N/A"}},{"$error":"#N/A"},{"$f":"IF(ISTEXT('S7'!$L$50),NA(),'S7'!$L$50)","v":{"$error":"#N/A"}},{"$error":"#N/A"},null,83,{"$f":"'S7'!$L$52","v":" "},{"$f":"'S7'!$L$49","v":"  "},{"$f":"'S7'!$L$48","v":"  "},{"$f":"'S7'!$L$44","v":"  "},{"$f":"'S7'!$L$43","v":"  "},{"$f":"'S7'!$L$41","v":"  "},{"$f":"'S7'!$L$39","v":"  "}]
[{"$f":"IF(ISBLANK('S7'!M$34),\" \",'S7'!M$34)","v":" "},{"$f":"IF(ISTEXT('S7'!$N$39),NA(),'S7'!$N$39)","v":{"$error":"#N/A"}},{"$f":"IF(ISTEXT('S7'!$N$40),NA(),'S7'!$N$40)","v":{"$error":"#N/A"}},{"$f":"IF(ISTEXT('S7'!$N$41),NA(),'S7'!$N$41)","v":{"$error":"#N/A"}},{"$f":"IF(ISTEXT('S7'!$N$43),NA(),'S7'!$N$43)","v":{"$error":"#N/A"}},{"$f":"IF(ISTEXT('S7'!$N$44),NA(),'S7'!$N$44)","v":{"$error":"#N/A"}},{"$error":"#N/A"},{"$f":"IF(ISTEXT('S7'!$N$48),NA(),'S7'!$N$48)","v":{"$error":"#N/A"}},{"$error":"#N/A"},{"$f":"IF(ISTEXT('S7'!$N$50),NA(),'S7'!$N$50)","v":{"$error":"#N/A"}},{"$error":"#N/A"},null,84,{"$f":"'S7'!$N$52","v":" "},{"$f":"'S7'!$N$49","v":"  "},{"$f":"'S7'!$N$48","v":"  "},{"$f":"'S7'!$N$44","v":"  "},{"$f":"'S7'!$N$43","v":"  "},{"$f":"'S7'!$N$41","v":"  "},{"$f":"'S7'!$N$39","v":"  "}]
[{"$f":"IF(ISBLANK('S8'!C$10),\" \",'S8'!C$10)","v":" "},{"$f":"IF(ISTEXT('S8'!$D$15),NA(),'S8'!$D$15)","v":{"$error":"#N/A"}},{"$f":"IF(ISTEXT('S8'!$D$16),NA(),'S8'!$D$16)","v":{"$error":"#N/A"}},{"$f":"IF(ISTEXT('S8'!$D$17),NA(),'S8'!$D$17)","v":{"$error":"#N/A"}},{"$f":"IF(ISTEXT('S8'!$D$19),NA(),'S8'!$D$19)","v":{"$error":"#N/A"}},{"$f":"IF(ISTEXT('S8'!$D$20),NA(),'S8'!$D$20)","v":{"$error":"#N/A"}},{"$error":"#N/A"},{"$f":"IF(ISTEXT('S8'!$D$24),NA(),'S8'!$D$24)","v":{"$error":"#N/A"}},{"$error":"#N/A"},{"$f":"IF(ISTEXT('S8'!$D$26),NA(),'S8'!$D$26)","v":{"$error":"#N/A"}},{"$error":"#N/A"},null,85,{"$f":"'S8'!$D$28","v":" "},{"$f":"'S8'!$D$25","v":"  "},{"$f":"'S8'!$D$24","v":"  "},{"$f":"'S8'!$D$20","v":"  "},{"$f":"'S8'!$D$19","v":"  "},{"$f":"'S8'!$D$17","v":"  "},{"$f":"'S8'!$D$15","v":"  "}]
[{"$f":"IF(ISBLANK('S8'!E$10),\" \",'S8'!E$10)","v":" "},{"$f":"IF(ISTEXT('S8'!$F$15),NA(),'S8'!$F$15)","v":{"$error":"#N/A"}},{"$f":"IF(ISTEXT('S8'!$F$16),NA(),'S8'!$F$16)","v":{"$error":"#N/A"}},{"$f":"IF(ISTEXT('S8'!$F$17),NA(),'S8'!$F$17)","v":{"$error":"#N/A"}},{"$f":"IF(ISTEXT('S8'!$F$19),NA(),'S8'!$F$19)","v":{"$error":"#N/A"}},{"$f":"IF(ISTEXT('S8'!$F$20),NA(),'S8'!$F$20)","v":{"$error":"#N/A"}},{"$error":"#N/A"},{"$f":"IF(ISTEXT('S8'!$F$24),NA(),'S8'!$F$24)","v":{"$error":"#N/A"}},{"$error":"#N/A"},{"$f":"IF(ISTEXT('S8'!$F$26),NA(),'S8'!$F$26)","v":{"$error":"#N/A"}},{"$error":"#N/A"},null,86,{"$f":"'S8'!$F$28","v":" "},{"$f":"'S8'!$F$25","v":"  "},{"$f":"'S8'!$F$24","v":"  "},{"$f":"'S8'!$F$20","v":"  "},{"$f":"'S8'!$F$19","v":"  "},{"$f":"'S8'!$F$17","v":"  "},{"$f":"'S8'!$F$15","v":"  "}]
[{"$f":"IF(ISBLANK('S8'!G$10),\" \",'S8'!G$10)","v":" "},{"$f":"IF(ISTEXT('S8'!$H$15),NA(),'S8'!$H$15)","v":{"$error":"#N/A"}},{"$f":"IF(ISTEXT('S8'!$H$16),NA(),'S8'!$H$16)","v":{"$error":"#N/A"}},{"$f":"IF(ISTEXT('S8'!$H$17),NA(),'S8'!$H$17)","v":{"$error":"#N/A"}},{"$f":"IF(ISTEXT('S8'!$H$19),NA(),'S8'!$H$19)","v":{"$error":"#N/A"}},{"$f":"IF(ISTEXT('S8'!$H$20),NA(),'S8'!$H$20)","v":{"$error":"#N/A"}},{"$error":"#N/A"},{"$f":"IF(ISTEXT('S8'!$H$24),NA(),'S8'!$H$24)","v":{"$error":"#N/A"}},{"$error":"#N/A"},{"$f":"IF(ISTEXT('S8'!$H$26),NA(),'S8'!$H$26)","v":{"$error":"#N/A"}},{"$error":"#N/A"},null,87,{"$f":"'S8'!$H$28","v":" "},{"$f":"'S8'!$H$25","v":"  "},{"$f":"'S8'!$H$24","v":"  "},{"$f":"'S8'!$H$20","v":"  "},{"$f":"'S8'!$H$19","v":"  "},{"$f":"'S8'!$H$17","v":"  "},{"$f":"'S8'!$H$15","v":"  "}]
[{"$f":"IF(ISBLANK('S8'!I$10),\" \",'S8'!I$10)","v":" "},{"$f":"IF(ISTEXT('S8'!$J$15),NA(),'S8'!$J$15)","v":{"$error":"#N/A"}},{"$f":"IF(ISTEXT('S8'!$J$16),NA(),'S8'!$J$16)","v":{"$error":"#N/A"}},{"$f":"IF(ISTEXT('S8'!$J$17),NA(),'S8'!$J$17)","v":{"$error":"#N/A"}},{"$f":"IF(ISTEXT('S8'!$J$19),NA(),'S8'!$J$19)","v":{"$error":"#N/A"}},{"$f":"IF(ISTEXT('S8'!$J$20),NA(),'S8'!$J$20)","v":{"$error":"#N/A"}},{"$error":"#N/A"},{"$f":"IF(ISTEXT('S8'!$J$24),NA(),'S8'!$J$24)","v":{"$error":"#N/A"}},{"$error":"#N/A"},{"$f":"IF(ISTEXT('S8'!$J$26),NA(),'S8'!$J$26)","v":{"$error":"#N/A"}},{"$error":"#N/A"},null,88,{"$f":"'S8'!$J$28","v":" "},{"$f":"'S8'!$J$25","v":"  "},{"$f":"'S8'!$J$24","v":"  "},{"$f":"'S8'!$J$20","v":"  "},{"$f":"'S8'!$J$19","v":"  "},{"$f":"'S8'!$J$17","v":"  "},{"$f":"'S8'!$J$15","v":"  "}]
[{"$f":"IF(ISBLANK('S8'!K$10),\" \",'S8'!K$10)","v":" "},{"$f":"IF(ISTEXT('S8'!$L$15),NA(),'S8'!$L$15)","v":{"$error":"#N/A"}},{"$f":"IF(ISTEXT('S8'!$L$16),NA(),'S8'!$L$16)","v":{"$error":"#N/A"}},{"$f":"IF(ISTEXT('S8'!$L$17),NA(),'S8'!$L$17)","v":{"$error":"#N/A"}},{"$f":"IF(ISTEXT('S8'!$L$19),NA(),'S8'!$L$19)","v":{"$error":"#N/A"}},{"$f":"IF(ISTEXT('S8'!$L$20),NA(),'S8'!$L$20)","v":{"$error":"#N/A"}},{"$error":"#N/A"},{"$f":"IF(ISTEXT('S8'!$L$24),NA(),'S8'!$L$24)","v":{"$error":"#N/A"}},{"$error":"#N/A"},{"$f":"IF(ISTEXT('S8'!$L$26),NA(),'S8'!$L$26)","v":{"$error":"#N/A"}},{"$error":"#N/A"},null,89,{"$f":"'S8'!$L$28","v":" "},{"$f":"'S8'!$L$25","v":"  "},{"$f":"'S8'!$L$24","v":"  "},{"$f":"'S8'!$L$20","v":"  "},{"$f":"'S8'!$L$19","v":"  "},{"$f":"'S8'!$L$17","v":"  "},{"$f":"'S8'!$L$15","v":"  "}]
[{"$f":"IF(ISBLANK('S8'!M$10),\" \",'S8'!M$10)","v":" "},{"$f":"IF(ISTEXT('S8'!$N$15),NA(),'S8'!$N$15)","v":{"$error":"#N/A"}},{"$f":"IF(ISTEXT('S8'!$N$16),NA(),'S8'!$N$16)","v":{"$error":"#N/A"}},{"$f":"IF(ISTEXT('S8'!$N$17),NA(),'S8'!$N$17)","v":{"$error":"#N/A"}},{"$f":"IF(ISTEXT('S8'!$N$19),NA(),'S8'!$N$19)","v":{"$error":"#N/A"}},{"$f":"IF(ISTEXT('S8'!$N$20),NA(),'S8'!$N$20)","v":{"$error":"#N/A"}},{"$error":"#N/A"},{"$f":"IF(ISTEXT('S8'!$N$24),NA(),'S8'!$N$24)","v":{"$error":"#N/A"}},{"$error":"#N/A"},{"$f":"IF(ISTEXT('S8'!$N$26),NA(),'S8'!$N$26)","v":{"$error":"#N/A"}},{"$error":"#N/A"},null,90,{"$f":"'S8'!$N$28","v":" "},{"$f":"'S8'!$N$25","v":"  "},{"$f":"'S8'!$N$24","v":"  "},{"$f":"'S8'!$N$20","v":"  "},{"$f":"'S8'!$N$19","v":"  "},{"$f":"'S8'!$N$17","v":"  "},{"$f":"'S8'!$N$15","v":"  "}]
[{"$f":"IF(ISBLANK('S8'!C$34),\" \",'S8'!C$34)","v":" "},{"$f":"IF(ISTEXT('S8'!$D$39),NA(),'S8'!$D$39)","v":{"$error":"#N/A"}},{"$f":"IF(ISTEXT('S8'!$D$40),NA(),'S8'!$D$40)","v":{"$error":"#N/A"}},{"$f":"IF(ISTEXT('S8'!$D$41),NA(),'S8'!$D$41)","v":{"$error":"#N/A"}},{"$f":"IF(ISTEXT('S8'!$D$43),NA(),'S8'!$D$43)","v":{"$error":"#N/A"}},{"$f":"IF(ISTEXT('S8'!$D$44),NA(),'S8'!$D$44)","v":{"$error":"#N/A"}},{"$error":"#N/A"},{"$f":"IF(ISTEXT('S8'!$D$48),NA(),'S8'!$D$48)","v":{"$error":"#N/A"}},{"$error":"#N/A"},{"$f":"IF(ISTEXT('S8'!$D$50),NA(),'S8'!$D$50)","v":{"$error":"#N/A"}},{"$error":"#N/A"},null,91,{"$f":"'S8'!$D$52","v":" "},{"$f":"'S8'!$D$49","v":"  "},{"$f":"'S8'!$D$48","v":"  "},{"$f":"'S8'!$D$44","v":"  "},{"$f":"'S8'!$D$43","v":"  "},{"$f":"'S8'!$D$41","v":"  "},{"$f":"'S8'!$D$39","v":"  "}]
[{"$f":"IF(ISBLANK('S8'!E$34),\" \",'S8'!E$34)","v":" "},{"$f":"IF(ISTEXT('S8'!$F$39),NA(),'S8'!$F$39)","v":{"$error":"#N/A"}},{"$f":"IF(ISTEXT('S8'!$F$40),NA(),'S8'!$F$40)","v":{"$error":"#N/A"}},{"$f":"IF(ISTEXT('S8'!$F$41),NA(),'S8'!$F$41)","v":{"$error":"#N/A"}},{"$f":"IF(ISTEXT('S8'!$F$43),NA(),'S8'!$F$43)","v":{"$error":"#N/A"}},{"$f":"IF(ISTEXT('S8'!$F$44),NA(),'S8'!$F$44)","v":{"$error":"#N/A"}},{"$error":"#N/A"},{"$f":"IF(ISTEXT('S8'!$F$48),NA(),'S8'!$F$48)","v":{"$error":"#N/A"}},{"$error":"#N/A"},{"$f":"IF(ISTEXT('S8'!$F$50),NA(),'S8'!$F$50)","v":{"$error":"#N/A"}},{"$error":"#N/A"},null,92,{"$f":"'S8'!$F$52","v":" "},{"$f":"'S8'!$F$49","v":"  "},{"$f":"'S8'!$F$48","v":"  "},{"$f":"'S8'!$F$44","v":"  "},{"$f":"'S8'!$F$43","v":"  "},{"$f":"'S8'!$F$41","v":"  "},{"$f":"'S8'!$F$39","v":"  "}]
[{"$f":"IF(ISBLANK('S8'!G$34),\" \",'S8'!G$34)","v":" "},{"$f":"IF(ISTEXT('S8'!$H$39),NA(),'S8'!$H$39)","v":{"$error":"#N/A"}},{"$f":"IF(ISTEXT('S8'!$H$40),NA(),'S8'!$H$40)","v":{"$error":"#N/A"}},{"$f":"IF(ISTEXT('S8'!$H$41),NA(),'S8'!$H$41)","v":{"$error":"#N/A"}},{"$f":"IF(ISTEXT('S8'!$H$43),NA(),'S8'!$H$43)","v":{"$error":"#N/A"}},{"$f":"IF(ISTEXT('S8'!$H$44),NA(),'S8'!$H$44)","v":{"$error":"#N/A"}},{"$error":"#N/A"},{"$f":"IF(ISTEXT('S8'!$H$48),NA(),'S8'!$H$48)","v":{"$error":"#N/A"}},{"$error":"#N/A"},{"$f":"IF(ISTEXT('S8'!$H$50),NA(),'S8'!$H$50)","v":{"$error":"#N/A"}},{"$error":"#N/A"},null,93,{"$f":"'S8'!$H$52","v":" "},{"$f":"'S8'!$H$49","v":"  "},{"$f":"'S8'!$H$48","v":"  "},{"$f":"'S8'!$H$44","v":"  "},{"$f":"'S8'!$H$43","v":"  "},{"$f":"'S8'!$H$41","v":"  "},{"$f":"'S8'!$H$39","v":"  "}]
[{"$f":"IF(ISBLANK('S8'!I$34),\" \",'S8'!I$34)","v":" "},{"$f":"IF(ISTEXT('S8'!$J$39),NA(),'S8'!$J$39)","v":{"$error":"#N/A"}},{"$f":"IF(ISTEXT('S8'!$J$40),NA(),'S8'!$J$40)","v":{"$error":"#N/A"}},{"$f":"IF(ISTEXT('S8'!$J$41),NA(),'S8'!$J$41)","v":{"$error":"#N/A"}},{"$f":"IF(ISTEXT('S8'!$J$43),NA(),'S8'!$J$43)","v":{"$error":"#N/A"}},{"$f":"IF(ISTEXT('S8'!$J$44),NA(),'S8'!$J$44)","v":{"$error":"#N/A"}},{"$error":"#N/A"},{"$f":"IF(ISTEXT('S8'!$J$48),NA(),'S8'!$J$48)","v":{"$error":"#N/A"}},{"$error":"#N/A"},{"$f":"IF(ISTEXT('S8'!$J$50),NA(),'S8'!$J$50)","v":{"$error":"#N/A"}},{"$error":"#N/A"},null,94,{"$f":"'S8'!$J$52","v":" "},{"$f":"'S8'!$J$49","v":"  "},{"$f":"'S8'!$J$48","v":"  "},{"$f":"'S8'!$J$44","v":"  "},{"$f":"'S8'!$J$43","v":"  "},{"$f":"'S8'!$J$41","v":"  "},{"$f":"'S8'!$J$39","v":"  "}]
[{"$f":"IF(ISBLANK('S8'!K$34),\" \",'S8'!K$34)","v":" "},{"$f":"IF(ISTEXT('S8'!$L$39),NA(),'S8'!$L$39)","v":{"$error":"#N/A"}},{"$f":"IF(ISTEXT('S8'!$L$40),NA(),'S8'!$L$40)","v":{"$error":"#N/A"}},{"$f":"IF(ISTEXT('S8'!$L$41),NA(),'S8'!$L$41)","v":{"$error":"#N/A"}},{"$f":"IF(ISTEXT('S8'!$L$43),NA(),'S8'!$L$43)","v":{"$error":"#N/A"}},{"$f":"IF(ISTEXT('S8'!$L$44),NA(),'S8'!$L$44)","v":{"$error":"#N/A"}},{"$error":"#N/A"},{"$f":"IF(ISTEXT('S8'!$L$48),NA(),'S8'!$L$48)","v":{"$error":"#N/A"}},{"$error":"#N/A"},{"$f":"IF(ISTEXT('S8'!$L$50),NA(),'S8'!$L$50)","v":{"$error":"#N/A"}},{"$error":"#N/A"},null,95,{"$f":"'S8'!$L$52","v":" "},{"$f":"'S8'!$L$49","v":"  "},{"$f":"'S8'!$L$48","v":"  "},{"$f":"'S8'!$L$44","v":"  "},{"$f":"'S8'!$L$43","v":"  "},{"$f":"'S8'!$L$41","v":"  "},{"$f":"'S8'!$L$39","v":"  "}]
[{"$f":"IF(ISBLANK('S8'!M$34),\" \",'S8'!M$34)","v":" "},{"$f":"IF(ISTEXT('S8'!$N$39),NA(),'S8'!$N$39)","v":{"$error":"#N/A"}},{"$f":"IF(ISTEXT('S8'!$N$40),NA(),'S8'!$N$40)","v":{"$error":"#N/A"}},{"$f":"IF(ISTEXT('S8'!$N$41),NA(),'S8'!$N$41)","v":{"$error":"#N/A"}},{"$f":"IF(ISTEXT('S8'!$N$43),NA(),'S8'!$N$43)","v":{"$error":"#N/A"}},{"$f":"IF(ISTEXT('S8'!$N$44),NA(),'S8'!$N$44)","v":{"$error":"#N/A"}},{"$error":"#N/A"},{"$f":"IF(ISTEXT('S8'!$N$48),NA(),'S8'!$N$48)","v":{"$error":"#N/A"}},{"$error":"#N/A"},{"$f":"IF(ISTEXT('S8'!$N$50),NA(),'S8'!$N$50)","v":{"$error":"#N/A"}},{"$error":"#N/A"},null,96,{"$f":"'S8'!$N$52","v":" "},{"$f":"'S8'!$N$49","v":"  "},{"$f":"'S8'!$N$48","v":"  "},{"$f":"'S8'!$N$44","v":"  "},{"$f":"'S8'!$N$43","v":"  "},{"$f":"'S8'!$N$41","v":"  "},{"$f":"'S8'!$N$39","v":"  "}]
[{"$f":"IF(ISBLANK('S9'!C$10),\" \",'S9'!C$10)","v":" "},{"$f":"IF(ISTEXT('S9'!$D$15),NA(),'S9'!$D$15)","v":{"$error":"#N/A"}},{"$f":"IF(ISTEXT('S9'!$D$16),NA(),'S9'!$D$16)","v":{"$error":"#N/A"}},{"$f":"IF(ISTEXT('S9'!$D$17),NA(),'S9'!$D$17)","v":{"$error":"#N/A"}},{"$f":"IF(ISTEXT('S9'!$D$19),NA(),'S9'!$D$19)","v":{"$error":"#N/A"}},{"$f":"IF(ISTEXT('S9'!$D$20),NA(),'S9'!$D$20)","v":{"$error":"#N/A"}},{"$error":"#N/A"},{"$f":"IF(ISTEXT('S9'!$D$24),NA(),'S9'!$D$24)","v":{"$error":"#N/A"}},{"$error":"#N/A"},{"$f":"IF(ISTEXT('S9'!$D$26),NA(),'S9'!$D$26)","v":{"$error":"#N/A"}},{"$error":"#N/A"},null,97,{"$f":"'S9'!$D$28","v":" "},{"$f":"'S9'!$D$25","v":"  "},{"$f":"'S9'!$D$24","v":"  "},{"$f":"'S9'!$D$20","v":"  "},{"$f":"'S9'!$D$19","v":"  "},{"$f":"'S9'!$D$17","v":"  "},{"$f":"'S9'!$D$15","v":"  "}]
[{"$f":"IF(ISBLANK('S9'!E$10),\" \",'S9'!E$10)","v":" "},{"$f":"IF(ISTEXT('S9'!$F$15),NA(),'S9'!$F$15)","v":{"$error":"#N/A"}},{"$f":"IF(ISTEXT('S9'!$F$16),NA(),'S9'!$F$16)","v":{"$error":"#N/A"}},{"$f":"IF(ISTEXT('S9'!$F$17),NA(),'S9'!$F$17)","v":{"$error":"#N/A"}},{"$f":"IF(ISTEXT('S9'!$F$19),NA(),'S9'!$F$19)","v":{"$error":"#N/A"}},{"$f":"IF(ISTEXT('S9'!$F$20),NA(),'S9'!$F$20)","v":{"$error":"#N/A"}},{"$error":"#N/A"},{"$f":"IF(ISTEXT('S9'!$F$24),NA(),'S9'!$F$24)","v":{"$error":"#N/A"}},{"$error":"#N/A"},{"$f":"IF(ISTEXT('S9'!$F$26),NA(),'S9'!$F$26)","v":{"$error":"#N/A"}},{"$error":"#N/A"},null,98,{"$f":"'S9'!$F$28","v":" "},{"$f":"'S9'!$F$25","v":"  "},{"$f":"'S9'!$F$24","v":"  "},{"$f":"'S9'!$F$20","v":"  "},{"$f":"'S9'!$F$19","v":"  "},{"$f":"'S9'!$F$17","v":"  "},{"$f":"'S9'!$F$15","v":"  "}]
[{"$f":"IF(ISBLANK('S9'!G$10),\" \",'S9'!G$10)","v":" "},{"$f":"IF(ISTEXT('S9'!$H$15),NA(),'S9'!$H$15)","v":{"$error":"#N/A"}},{"$f":"IF(ISTEXT('S9'!$H$16),NA(),'S9'!$H$16)","v":{"$error":"#N/A"}},{"$f":"IF(ISTEXT('S9'!$H$17),NA(),'S9'!$H$17)","v":{"$error":"#N/A"}},{"$f":"IF(ISTEXT('S9'!$H$19),NA(),'S9'!$H$19)","v":{"$error":"#N/A"}},{"$f":"IF(ISTEXT('S9'!$H$20),NA(),'S9'!$H$20)","v":{"$error":"#N/A"}},{"$f":"ROUND(AVERAGE(F99:F101),0)","v":{"$error":"#N/A"}},{"$f":"IF(ISTEXT('S9'!$H$24),NA(),'S9'!$H$24)","v":{"$error":"#N/A"}},{"$f":"ROUND(AVERAGE(H99:H101),0)","v":{"$error":"#N/A"}},{"$f":"IF(ISTEXT('S9'!$H$26),NA(),'S9'!$H$26)","v":{"$error":"#N/A"}},{"$error":"#N/A"},null,99,{"$f":"'S9'!$H$28","v":" "},{"$f":"'S9'!$H$25","v":"  "},{"$f":"'S9'!$H$24","v":"  "},{"$f":"'S9'!$H$20","v":"  "},{"$f":"'S9'!$H$19","v":"  "},{"$f":"'S9'!$H$17","v":"  "},{"$f":"'S9'!$H$15","v":"  "}]
[{"$f":"IF(ISBLANK('S9'!I$10),\" \",'S9'!I$10)","v":" "},{"$f":"IF(ISTEXT('S9'!$J$15),NA(),'S9'!$J$15)","v":{"$error":"#N/A"}},{"$f":"IF(ISTEXT('S9'!$J$16),NA(),'S9'!$J$16)","v":{"$error":"#N/A"}},{"$f":"IF(ISTEXT('S9'!$J$17),NA(),'S9'!$J$17)","v":{"$error":"#N/A"}},{"$f":"IF(ISTEXT('S9'!$J$19),NA(),'S9'!$J$19)","v":{"$error":"#N/A"}},{"$f":"IF(ISTEXT('S9'!$J$20),NA(),'S9'!$J$20)","v":{"$error":"#N/A"}},{"$error":"#N/A"},{"$f":"IF(ISTEXT('S9'!$J$24),NA(),'S9'!$J$24)","v":{"$error":"#N/A"}},{"$error":"#N/A"},{"$f":"IF(ISTEXT('S9'!$J$26),NA(),'S9'!$J$26)","v":{"$error":"#N/A"}},{"$error":"#N/A"},null,100,{"$f":"'S9'!$J$28","v":" "},{"$f":"'S9'!$J$25","v":"  "},{"$f":"'S9'!$J$24","v":"  "},{"$f":"'S9'!$J$20","v":"  "},{"$f":"'S9'!$J$19","v":"  "},{"$f":"'S9'!$J$17","v":"  "},{"$f":"'S9'!$J$15","v":"  "}]
[{"$f":"IF(ISBLANK('S9'!K$10),\" \",'S9'!K$10)","v":" "},{"$f":"IF(ISTEXT('S9'!$L$15),NA(),'S9'!$L$15)","v":{"$error":"#N/A"}},{"$f":"IF(ISTEXT('S9'!$L$16),NA(),'S9'!$L$16)","v":{"$error":"#N/A"}},{"$f":"IF(ISTEXT('S9'!$L$17),NA(),'S9'!$L$17)","v":{"$error":"#N/A"}},{"$f":"IF(ISTEXT('S9'!$L$19),NA(),'S9'!$L$19)","v":{"$error":"#N/A"}},{"$f":"IF(ISTEXT('S9'!$L$20),NA(),'S9'!$L$20)","v":{"$error":"#N/A"}},{"$error":"#N/A"},{"$f":"IF(ISTEXT('S9'!$L$24),NA(),'S9'!$L$24)","v":{"$error":"#N/A"}},{"$error":"#N/A"},{"$f":"IF(ISTEXT('S9'!$L$26),NA(),'S9'!$L$26)","v":{"$error":"#N/A"}},{"$error":"#N/A"},null,101,{"$f":"'S9'!$L$28","v":" "},{"$f":"'S9'!$L$25","v":"  "},{"$f":"'S9'!$L$24","v":"  "},{"$f":"'S9'!$L$20","v":"  "},{"$f":"'S9'!$L$19","v":"  "},{"$f":"'S9'!$L$17","v":"  "},{"$f":"'S9'!$L$15","v":"  "}]
[{"$f":"IF(ISBLANK('S9'!M$10),\" \",'S9'!M$10)","v":" "},{"$f":"IF(ISTEXT('S9'!$N$15),NA(),'S9'!$N$15)","v":{"$error":"#N/A"}},{"$f":"IF(ISTEXT('S9'!$N$16),NA(),'S9'!$N$16)","v":{"$error":"#N/A"}},{"$f":"IF(ISTEXT('S9'!$N$17),NA(),'S9'!$N$17)","v":{"$error":"#N/A"}},{"$f":"IF(ISTEXT('S9'!$N$19),NA(),'S9'!$N$19)","v":{"$error":"#N/A"}},{"$f":"IF(ISTEXT('S9'!$N$20),NA(),'S9'!$N$20)","v":{"$error":"#N/A"}},{"$error":"#N/A"},{"$f":"IF(ISTEXT('S9'!$N$24),NA(),'S9'!$N$24)","v":{"$error":"#N/A"}},{"$error":"#N/A"},{"$f":"IF(ISTEXT('S9'!$N$26),NA(),'S9'!$N$26)","v":{"$error":"#N/A"}},{"$error":"#N/A"},null,102,{"$f":"'S9'!$N$28","v":" "},{"$f":"'S9'!$N$25","v":"  "},{"$f":"'S9'!$N$24","v":"  "},{"$f":"'S9'!$N$20","v":"  "},{"$f":"'S9'!$N$19","v":"  "},{"$f":"'S9'!$N$17","v":"  "},{"$f":"'S9'!$N$15","v":"  "}]
[{"$f":"IF(ISBLANK('S9'!C$34),\" \",'S9'!C$34)","v":" "},{"$f":"IF(ISTEXT('S9'!$D$39),NA(),'S9'!$D$39)","v":{"$error":"#N/A"}},{"$f":"IF(ISTEXT('S9'!$D$40),NA(),'S9'!$D$40)","v":{"$error":"#N/A"}},{"$f":"IF(ISTEXT('S9'!$D$41),NA(),'S9'!$D$41)","v":{"$error":"#N/A"}},{"$f":"IF(ISTEXT('S9'!$D$43),NA(),'S9'!$D$43)","v":{"$error":"#N/A"}},{"$f":"IF(ISTEXT('S9'!$D$44),NA(),'S9'!$D$44)","v":{"$error":"#N/A"}},{"$error":"#N/A"},{"$f":"IF(ISTEXT('S9'!$D$48),NA(),'S9'!$D$48)","v":{"$error":"#N/A"}},{"$error":"#N/A"},{"$f":"IF(ISTEXT('S9'!$D$50),NA(),'S9'!$D$50)","v":{"$error":"#N/A"}},{"$error":"#N/A"},null,103,{"$f":"'S9'!$D$52","v":" "},{"$f":"'S9'!$D$49","v":"  "},{"$f":"'S9'!$D$48","v":"  "},{"$f":"'S9'!$D$44","v":"  "},{"$f":"'S9'!$D$43","v":"  "},{"$f":"'S9'!$D$41","v":"  "},{"$f":"'S9'!$D$39","v":"  "}]
[{"$f":"IF(ISBLANK('S9'!E$34),\" \",'S9'!E$34)","v":" "},{"$f":"IF(ISTEXT('S9'!$F$39),NA(),'S9'!$F$39)","v":{"$error":"#N/A"}},{"$f":"IF(ISTEXT('S9'!$F$40),NA(),'S9'!$F$40)","v":{"$error":"#N/A"}},{"$f":"IF(ISTEXT('S9'!$F$41),NA(),'S9'!$F$41)","v":{"$error":"#N/A"}},{"$f":"IF(ISTEXT('S9'!$F$43),NA(),'S9'!$F$43)","v":{"$error":"#N/A"}},{"$f":"IF(ISTEXT('S9'!$F$44),NA(),'S9'!$F$44)","v":{"$error":"#N/A"}},{"$error":"#N/A"},{"$f":"IF(ISTEXT('S9'!$F$48),NA(),'S9'!$F$48)","v":{"$error":"#N/A"}},{"$error":"#N/A"},{"$f":"IF(ISTEXT('S9'!$F$50),NA(),'S9'!$F$50)","v":{"$error":"#N/A"}},{"$error":"#N/A"},null,104,{"$f":"'S9'!$F$52","v":" "},{"$f":"'S9'!$F$49","v":"  "},{"$f":"'S9'!$F$48","v":"  "},{"$f":"'S9'!$F$44","v":"  "},{"$f":"'S9'!$F$43","v":"  "},{"$f":"'S9'!$F$41","v":"  "},{"$f":"'S9'!$F$39","v":"  "}]
[{"$f":"IF(ISBLANK('S9'!G$34),\" \",'S9'!G$34)","v":" "},{"$f":"IF(ISTEXT('S9'!$H$39),NA(),'S9'!$H$39)","v":{"$error":"#N/A"}},{"$f":"IF(ISTEXT('S9'!$H$40),NA(),'S9'!$H$40)","v":{"$error":"#N/A"}},{"$f":"IF(ISTEXT('S9'!$H$41),NA(),'S9'!$H$41)","v":{"$error":"#N/A"}},{"$f":"IF(ISTEXT('S9'!$H$43),NA(),'S9'!$H$43)","v":{"$error":"#N/A"}},{"$f":"IF(ISTEXT('S9'!$H$44),NA(),'S9'!$H$44)","v":{"$error":"#N/A"}},{"$error":"#N/A"},{"$f":"IF(ISTEXT('S9'!$H$48),NA(),'S9'!$H$48)","v":{"$error":"#N/A"}},{"$error":"#N/A"},{"$f":"IF(ISTEXT('S9'!$H$50),NA(),'S9'!$H$50)","v":{"$error":"#N/A"}},{"$error":"#N/A"},null,105,{"$f":"'S9'!$H$52","v":" "},{"$f":"'S9'!$H$49","v":"  "},{"$f":"'S9'!$H$48","v":"  "},{"$f":"'S9'!$H$44","v":"  "},{"$f":"'S9'!$H$43","v":"  "},{"$f":"'S9'!$H$41","v":"  "},{"$f":"'S9'!$H$39","v":"  "}]
[{"$f":"IF(ISBLANK('S9'!I$34),\" \",'S9'!I$34)","v":" "},{"$f":"IF(ISTEXT('S9'!$J$39),NA(),'S9'!$J$39)","v":{"$error":"#N/A"}},{"$f":"IF(ISTEXT('S9'!$J$40),NA(),'S9'!$J$40)","v":{"$error":"#N/A"}},{"$f":"IF(ISTEXT('S9'!$J$41),NA(),'S9'!$J$41)","v":{"$error":"#N/A"}},{"$f":"IF(ISTEXT('S9'!$J$43),NA(),'S9'!$J$43)","v":{"$error":"#N/A"}},{"$f":"IF(ISTEXT('S9'!$J$44),NA(),'S9'!$J$44)","v":{"$error":"#N/A"}},{"$error":"#N/A"},{"$f":"IF(ISTEXT('S9'!$J$48),NA(),'S9'!$J$48)","v":{"$error":"#N/A"}},{"$error":"#N/A"},{"$f":"IF(ISTEXT('S9'!$J$50),NA(),'S9'!$J$50)","v":{"$error":"#N/A"}},{"$error":"#N/A"},null,106,{"$f":"'S9'!$J$52","v":" "},{"$f":"'S9'!$J$49","v":"  "},{"$f":"'S9'!$J$48","v":"  "},{"$f":"'S9'!$J$44","v":"  "},{"$f":"'S9'!$J$43","v":"  "},{"$f":"'S9'!$J$41","v":"  "},{"$f":"'S9'!$J$39","v":"  "}]
[{"$f":"IF(ISBLANK('S9'!K$34),\" \",'S9'!K$34)","v":" "},{"$f":"IF(ISTEXT('S9'!$L$39),NA(),'S9'!$L$39)","v":{"$error":"#N/A"}},{"$f":"IF(ISTEXT('S9'!$L$40),NA(),'S9'!$L$40)","v":{"$error":"#N/A"}},{"$f":"IF(ISTEXT('S9'!$L$41),NA(),'S9'!$L$41)","v":{"$error":"#N/A"}},{"$f":"IF(ISTEXT('S9'!$L$43),NA(),'S9'!$L$43)","v":{"$error":"#N/A"}},{"$f":"IF(ISTEXT('S9'!$L$44),NA(),'S9'!$L$44)","v":{"$error":"#N/A"}},{"$error":"#N/A"},{"$f":"IF(ISTEXT('S9'!$L$48),NA(),'S9'!$L$48)","v":{"$error":"#N/A"}},{"$error":"#N/A"},{"$f":"IF(ISTEXT('S9'!$L$50),NA(),'S9'!$L$50)","v":{"$error":"#N/A"}},{"$error":"#N/A"},null,107,{"$f":"'S9'!$L$52","v":" "},{"$f":"'S9'!$L$49","v":"  "},{"$f":"'S9'!$L$48","v":"  "},{"$f":"'S9'!$L$44","v":"  "},{"$f":"'S9'!$L$43","v":"  "},{"$f":"'S9'!$L$41","v":"  "},{"$f":"'S9'!$L$39","v":"  "}]
[{"$f":"IF(ISBLANK('S9'!M$34),\" \",'S9'!M$34)","v":" "},{"$f":"IF(ISTEXT('S9'!$N$39),NA(),'S9'!$N$39)","v":{"$error":"#N/A"}},{"$f":"IF(ISTEXT('S9'!$N$40),NA(),'S9'!$N$40)","v":{"$error":"#N/A"}},{"$f":"IF(ISTEXT('S9'!$N$41),NA(),'S9'!$N$41)","v":{"$error":"#N/A"}},{"$f":"IF(ISTEXT('S9'!$N$43),NA(),'S9'!$N$43)","v":{"$error":"#N/A"}},{"$f":"IF(ISTEXT('S9'!$N$44),NA(),'S9'!$N$44)","v":{"$error":"#N/A"}},{"$error":"#N/A"},{"$f":"IF(ISTEXT('S9'!$N$48),NA(),'S9'!$N$48)","v":{"$error":"#N/A"}},{"$error":"#N/A"},{"$f":"IF(ISTEXT('S9'!$N$50),NA(),'S9'!$N$50)","v":{"$error":"#N/A"}},{"$error":"#N/A"},null,108,{"$f":"'S9'!$N$52","v":" "},{"$f":"'S9'!$N$49","v":"  "},{"$f":"'S9'!$N$48","v":"  "},{"$f":"'S9'!$N$44","v":"  "},{"$f":"'S9'!$N$43","v":"  "},{"$f":"'S9'!$N$41","v":"  "},{"$f":"'S9'!$N$39","v":"  "}]
[{"$f":"IF(ISBLANK('S10'!C$10),\" \",'S10'!C$10)","v":" "},{"$f":"IF(ISTEXT('S10'!$D$15),NA(),'S10'!$D$15)","v":{"$error":"#N/A"}},{"$f":"IF(ISTEXT('S10'!$D$16),NA(),'S10'!$D$16)","v":{"$error":"#N/A"}},{"$f":"IF(ISTEXT('S10'!$D$17),NA(),'S10'!$D$17)","v":{"$error":"#N/A"}},{"$f":"IF(ISTEXT('S10'!$D$19),NA(),'S10'!$D$19)","v":{"$error":"#N/A"}},{"$f":"IF(ISTEXT('S10'!$D$20),NA(),'S10'!$D$20)","v":{"$error":"#N/A"}},{"$error":"#N/A"},{"$f":"IF(ISTEXT('S10'!$D$24),NA(),'S10'!$D$24)","v":{"$error":"#N/A"}},{"$error":"#N/A"},{"$f":"IF(ISTEXT('S10'!$D$26),NA(),'S10'!$D$26)","v":{"$error":"#N/A"}},{"$error":"#N/A"},null,109,{"$f":"'S10'!$D$28","v":" "},{"$f":"'S10'!$D$25","v":"  "},{"$f":"'S10'!$D$24","v":"  "},{"$f":"'S10'!$D$20","v":"  "},{"$f":"'S10'!$D$19","v":"  "},{"$f":"'S10'!$D$17","v":"  "},{"$f":"'S10'!$D$15","v":"  "}]
[{"$f":"IF(ISBLANK('S10'!E$10),\" \",'S10'!E$10)","v":" "},{"$f":"IF(ISTEXT('S10'!$F$15),NA(),'S10'!$F$15)","v":{"$error":"#N/A"}},{"$f":"IF(ISTEXT('S10'!$F$16),NA(),'S10'!$F$16)","v":{"$error":"#N/A"}},{"$f":"IF(ISTEXT('S10'!$F$17),NA(),'S10'!$F$17)","v":{"$error":"#N/A"}},{"$f":"IF(ISTEXT('S10'!$F$19),NA(),'S10'!$F$19)","v":{"$error":"#N/A"}},{"$f":"IF(ISTEXT('S10'!$F$20),NA(),'S10'!$F$20)","v":{"$error":"#N/A"}},{"$error":"#N/A"},{"$f":"IF(ISTEXT('S10'!$F$24),NA(),'S10'!$F$24)","v":{"$error":"#N/A"}},{"$error":"#N/A"},{"$f":"IF(ISTEXT('S10'!$F$26),NA(),'S10'!$F$26)","v":{"$error":"#N/A"}},{"$error":"#N/A"},null,110,{"$f":"'S10'!$F$28","v":" "},{"$f":"'S10'!$F$25","v":"  "},{"$f":"'S10'!$F$24","v":"  "},{"$f":"'S10'!$F$20","v":"  "},{"$f":"'S10'!$F$19","v":"  "},{"$f":"'S10'!$F$17","v":"  "},{"$f":"'S10'!$F$15","v":"  "}]
[{"$f":"IF(ISBLANK('S10'!G$10),\" \",'S10'!G$10)","v":" "},{"$f":"IF(ISTEXT('S10'!$H$15),NA(),'S10'!$H$15)","v":{"$error":"#N/A"}},{"$f":"IF(ISTEXT('S10'!$H$16),NA(),'S10'!$H$16)","v":{"$error":"#N/A"}},{"$f":"IF(ISTEXT('S10'!$H$17),NA(),'S10'!$H$17)","v":{"$error":"#N/A"}},{"$f":"IF(ISTEXT('S10'!$H$19),NA(),'S10'!$H$19)","v":{"$error":"#N/A"}},{"$f":"IF(ISTEXT('S10'!$H$20),NA(),'S10'!$H$20)","v":{"$error":"#N/A"}},{"$error":"#N/A"},{"$f":"IF(ISTEXT('S10'!$H$24),NA(),'S10'!$H$24)","v":{"$error":"#N/A"}},{"$error":"#N/A"},{"$f":"IF(ISTEXT('S10'!$H$26),NA(),'S10'!$H$26)","v":{"$error":"#N/A"}},{"$error":"#N/A"},null,111,{"$f":"'S10'!$H$28","v":" "},{"$f":"'S10'!$H$25","v":"  "},{"$f":"'S10'!$H$24","v":"  "},{"$f":"'S10'!$H$20","v":"  "},{"$f":"'S10'!$H$19","v":"  "},{"$f":"'S10'!$H$17","v":"  "},{"$f":"'S10'!$H$15","v":"  "}]
[{"$f":"IF(ISBLANK('S10'!I$10),\" \",'S10'!I$10)","v":" "},{"$f":"IF(ISTEXT('S10'!$J$15),NA(),'S10'!$J$15)","v":{"$error":"#N/A"}},{"$f":"IF(ISTEXT('S10'!$J$16),NA(),'S10'!$J$16)","v":{"$error":"#N/A"}},{"$f":"IF(ISTEXT('S10'!$J$17),NA(),'S10'!$J$17)","v":{"$error":"#N/A"}},{"$f":"IF(ISTEXT('S10'!$J$19),NA(),'S10'!$J$19)","v":{"$error":"#N/A"}},{"$f":"IF(ISTEXT('S10'!$J$20),NA(),'S10'!$J$20)","v":{"$error":"#N/A"}},{"$error":"#N/A"},{"$f":"IF(ISTEXT('S10'!$J$24),NA(),'S10'!$J$24)","v":{"$error":"#N/A"}},{"$error":"#N/A"},{"$f":"IF(ISTEXT('S10'!$J$26),NA(),'S10'!$J$26)","v":{"$error":"#N/A"}},{"$error":"#N/A"},null,112,{"$f":"'S10'!$J$28","v":" "},{"$f":"'S10'!$J$25","v":"  "},{"$f":"'S10'!$J$24","v":"  "},{"$f":"'S10'!$J$20","v":"  "},{"$f":"'S10'!$J$19","v":"  "},{"$f":"'S10'!$J$17","v":"  "},{"$f":"'S10'!$J$15","v":"  "}]
[{"$f":"IF(ISBLANK('S10'!K$10),\" \",'S10'!K$10)","v":" "},{"$f":"IF(ISTEXT('S10'!$L$15),NA(),'S10'!$L$15)","v":{"$error":"#N/A"}},{"$f":"IF(ISTEXT('S10'!$L$16),NA(),'S10'!$L$16)","v":{"$error":"#N/A"}},{"$f":"IF(ISTEXT('S10'!$L$17),NA(),'S10'!$L$17)","v":{"$error":"#N/A"}},{"$f":"IF(ISTEXT('S10'!$L$19),NA(),'S10'!$L$19)","v":{"$error":"#N/A"}},{"$f":"IF(ISTEXT('S10'!$L$20),NA(),'S10'!$L$20)","v":{"$error":"#N/A"}},{"$error":"#N/A"},{"$f":"IF(ISTEXT('S10'!$L$24),NA(),'S10'!$L$24)","v":{"$error":"#N/A"}},{"$error":"#N/A"},{"$f":"IF(ISTEXT('S10'!$L$26),NA(),'S10'!$L$26)","v":{"$error":"#N/A"}},{"$error":"#N/A"},null,113,{"$f":"'S10'!$L$28","v":" "},{"$f":"'S10'!$L$25","v":"  "},{"$f":"'S10'!$L$24","v":"  "},{"$f":"'S10'!$L$20","v":"  "},{"$f":"'S10'!$L$19","v":"  "},{"$f":"'S10'!$L$17","v":"  "},{"$f":"'S10'!$L$15","v":"  "}]
[{"$f":"IF(ISBLANK('S10'!M$10),\" \",'S10'!M$10)","v":" "},{"$f":"IF(ISTEXT('S10'!$N$15),NA(),'S10'!$N$15)","v":{"$error":"#N/A"}},{"$f":"IF(ISTEXT('S10'!$N$16),NA(),'S10'!$N$16)","v":{"$error":"#N/A"}},{"$f":"IF(ISTEXT('S10'!$N$17),NA(),'S10'!$N$17)","v":{"$error":"#N/A"}},{"$f":"IF(ISTEXT('S10'!$N$19),NA(),'S10'!$N$19)","v":{"$error":"#N/A"}},{"$f":"IF(ISTEXT('S10'!$N$20),NA(),'S10'!$N$20)","v":{"$error":"#N/A"}},{"$error":"#N/A"},{"$f":"IF(ISTEXT('S10'!$N$24),NA(),'S10'!$N$24)","v":{"$error":"#N/A"}},{"$error":"#N/A"},{"$f":"IF(ISTEXT('S10'!$N$26),NA(),'S10'!$N$26)","v":{"$error":"#N/A"}},{"$error":"#N/A"},null,114,{"$f":"'S10'!$N$28","v":" "},{"$f":"'S10'!$N$25","v":"  "},{"$f":"'S10'!$N$24","v":"  "},{"$f":"'S10'!$N$20","v":"  "},{"$f":"'S10'!$N$19","v":"  "},{"$f":"'S10'!$N$17","v":"  "},{"$f":"'S10'!$N$15","v":"  "}]
[{"$f":"IF(ISBLANK('S10'!C$34),\" \",'S10'!C$34)","v":" "},{"$f":"IF(ISTEXT('S10'!$D$39),NA(),'S10'!$D$39)","v":{"$error":"#N/A"}},{"$f":"IF(ISTEXT('S10'!$D$40),NA(),'S10'!$D$40)","v":{"$error":"#N/A"}},{"$f":"IF(ISTEXT('S10'!$D$41),NA(),'S10'!$D$41)","v":{"$error":"#N/A"}},{"$f":"IF(ISTEXT('S10'!$D$43),NA(),'S10'!$D$43)","v":{"$error":"#N/A"}},{"$f":"IF(ISTEXT('S10'!$D$44),NA(),'S10'!$D$44)","v":{"$error":"#N/A"}},{"$error":"#N/A"},{"$f":"IF(ISTEXT('S10'!$D$48),NA(),'S10'!$D$48)","v":{"$error":"#N/A"}},{"$error":"#N/A"},{"$f":"IF(ISTEXT('S10'!$D$50),NA(),'S10'!$D$50)","v":{"$error":"#N/A"}},{"$error":"#N/A"},null,115,{"$f":"'S10'!$D$52","v":" "},{"$f":"'S10'!$D$49","v":"  "},{"$f":"'S10'!$D$48","v":"  "},{"$f":"'S10'!$D$44","v":"  "},{"$f":"'S10'!$D$43","v":"  "},{"$f":"'S10'!$D$41","v":"  "},{"$f":"'S10'!$D$39","v":"  "}]
[{"$f":"IF(ISBLANK('S10'!E$34),\" \",'S10'!E$34)","v":" "},{"$f":"IF(ISTEXT('S10'!$F$39),NA(),'S10'!$F$39)","v":{"$error":"#N/A"}},{"$f":"IF(ISTEXT('S10'!$F$40),NA(),'S10'!$F$40)","v":{"$error":"#N/A"}},{"$f":"IF(ISTEXT('S10'!$F$41),NA(),'S10'!$F$41)","v":{"$error":"#N/A"}},{"$f":"IF(ISTEXT('S10'!$F$43),NA(),'S10'!$F$43)","v":{"$error":"#N/A"}},{"$f":"IF(ISTEXT('S10'!$F$44),NA(),'S10'!$F$44)","v":{"$error":"#N/A"}},{"$error":"#N/A"},{"$f":"IF(ISTEXT('S10'!$F$48),NA(),'S10'!$F$48)","v":{"$error":"#N/A"}},{"$error":"#N/A"},{"$f":"IF(ISTEXT('S10'!$F$50),NA(),'S10'!$F$50)","v":{"$error":"#N/A"}},{"$error":"#N/A"},null,116,{"$f":"'S10'!$F$52","v":" "},{"$f":"'S10'!$F$49","v":"  "},{"$f":"'S10'!$F$48","v":"  "},{"$f":"'S10'!$F$44","v":"  "},{"$f":"'S10'!$F$43","v":"  "},{"$f":"'S10'!$F$41","v":"  "},{"$f":"'S10'!$F$39","v":"  "}]
[{"$f":"IF(ISBLANK('S10'!G$34),\" \",'S10'!G$34)","v":" "},{"$f":"IF(ISTEXT('S10'!$H$39),NA(),'S10'!$H$39)","v":{"$error":"#N/A"}},{"$f":"IF(ISTEXT('S10'!$H$40),NA(),'S10'!$H$40)","v":{"$error":"#N/A"}},{"$f":"IF(ISTEXT('S10'!$H$41),NA(),'S10'!$H$41)","v":{"$error":"#N/A"}},{"$f":"IF(ISTEXT('S10'!$H$43),NA(),'S10'!$H$43)","v":{"$error":"#N/A"}},{"$f":"IF(ISTEXT('S10'!$H$44),NA(),'S10'!$H$44)","v":{"$error":"#N/A"}},{"$error":"#N/A"},{"$f":"IF(ISTEXT('S10'!$H$48),NA(),'S10'!$H$48)","v":{"$error":"#N/A"}},{"$error":"#N/A"},{"$f":"IF(ISTEXT('S10'!$H$50),NA(),'S10'!$H$50)","v":{"$error":"#N/A"}},{"$error":"#N/A"},null,117,{"$f":"'S10'!$H$52","v":" "},{"$f":"'S10'!$H$49","v":"  "},{"$f":"'S10'!$H$48","v":"  "},{"$f":"'S10'!$H$44","v":"  "},{"$f":"'S10'!$H$43","v":"  "},{"$f":"'S10'!$H$41","v":"  "},{"$f":"'S10'!$H$39","v":"  "}]
[{"$f":"IF(ISBLANK('S10'!I$34),\" \",'S10'!I$34)","v":" "},{"$f":"IF(ISTEXT('S10'!$J$39),NA(),'S10'!$J$39)","v":{"$error":"#N/A"}},{"$f":"IF(ISTEXT('S10'!$J$40),NA(),'S10'!$J$40)","v":{"$error":"#N/A"}},{"$f":"IF(ISTEXT('S10'!$J$41),NA(),'S10'!$J$41)","v":{"$error":"#N/A"}},{"$f":"IF(ISTEXT('S10'!$J$43),NA(),'S10'!$J$43)","v":{"$error":"#N/A"}},{"$f":"IF(ISTEXT('S10'!$J$44),NA(),'S10'!$J$44)","v":{"$error":"#N/A"}},{"$error":"#N/A"},{"$f":"IF(ISTEXT('S10'!$J$48),NA(),'S10'!$J$48)","v":{"$error":"#N/A"}},{"$error":"#N/A"},{"$f":"IF(ISTEXT('S10'!$J$50),NA(),'S10'!$J$50)","v":{"$error":"#N/A"}},{"$error":"#N/A"},null,118,{"$f":"'S10'!$J$52","v":" "},{"$f":"'S10'!$J$49","v":"  "},{"$f":"'S10'!$J$48","v":"  "},{"$f":"'S10'!$J$44","v":"  "},{"$f":"'S10'!$J$43","v":"  "},{"$f":"'S10'!$J$41","v":"  "},{"$f":"'S10'!$J$39","v":"  "}]
[{"$f":"IF(ISBLANK('S10'!K$34),\" \",'S10'!K$34)","v":" "},{"$f":"IF(ISTEXT('S10'!$L$39),NA(),'S10'!$L$39)","v":{"$error":"#N/A"}},{"$f":"IF(ISTEXT('S10'!$L$40),NA(),'S10'!$L$40)","v":{"$error":"#N/A"}},{"$f":"IF(ISTEXT('S10'!$L$41),NA(),'S10'!$L$41)","v":{"$error":"#N/A"}},{"$f":"IF(ISTEXT('S10'!$L$43),NA(),'S10'!$L$43)","v":{"$error":"#N/A"}},{"$f":"IF(ISTEXT('S10'!$L$44),NA(),'S10'!$L$44)","v":{"$error":"#N/A"}},{"$error":"#N/A"},{"$f":"IF(ISTEXT('S10'!$L$48),NA(),'S10'!$L$48)","v":{"$error":"#N/A"}},{"$error":"#N/A"},{"$f":"IF(ISTEXT('S10'!$L$50),NA(),'S10'!$L$50)","v":{"$error":"#N/A"}},{"$error":"#N/A"},null,119,{"$f":"'S10'!$L$52","v":" "},{"$f":"'S10'!$L$49","v":"  "},{"$f":"'S10'!$L$48","v":"  "},{"$f":"'S10'!$L$44","v":"  "},{"$f":"'S10'!$L$43","v":"  "},{"$f":"'S10'!$L$41","v":"  "},{"$f":"'S10'!$L$39","v":"  "}]
[{"$f":"IF(ISBLANK('S10'!M$34),\" \",'S10'!M$34)","v":" "},{"$f":"IF(ISTEXT('S10'!$N$39),NA(),'S10'!$N$39)","v":{"$error":"#N/A"}},{"$f":"IF(ISTEXT('S10'!$N$40),NA(),'S10'!$N$40)","v":{"$error":"#N/A"}},{"$f":"IF(ISTEXT('S10'!$N$41),NA(),'S10'!$N$41)","v":{"$error":"#N/A"}},{"$f":"IF(ISTEXT('S10'!$N$43),NA(),'S10'!$N$43)","v":{"$error":"#N/A"}},{"$f":"IF(ISTEXT('S10'!$N$44),NA(),'S10'!$N$44)","v":{"$error":"#N/A"}},{"$error":"#N/A"},{"$f":"IF(ISTEXT('S10'!$N$48),NA(),'S10'!$N$48)","v":{"$error":"#N/A"}},{"$error":"#N/A"},{"$f":"IF(ISTEXT('S10'!$N$50),NA(),'S10'!$N$50)","v":{"$error":"#N/A"}},{"$error":"#N/A"},null,120,{"$f":"'S10'!$N$52","v":" "},{"$f":"'S10'!$N$49","v":"  "},{"$f":"'S10'!$N$48","v":"  "},{"$f":"'S10'!$N$44","v":"  "},{"$f":"'S10'!$N$43","v":"  "},{"$f":"'S10'!$N$41","v":"  "},{"$f":"'S10'!$N$39","v":"  "}]
[{"$f":"IF(ISBLANK('S11'!C$10),\" \",'S11'!C$10)","v":" "},{"$f":"IF(ISTEXT('S11'!$D$15),NA(),'S11'!$D$15)","v":{"$error":"#N/A"}},{"$f":"IF(ISTEXT('S11'!$D$16),NA(),'S11'!$D$16)","v":{"$error":"#N/A"}},{"$f":"IF(ISTEXT('S11'!$D$17),NA(),'S11'!$D$17)","v":{"$error":"#N/A"}},{"$f":"IF(ISTEXT('S11'!$D$19),NA(),'S11'!$D$19)","v":{"$error":"#N/A"}},{"$f":"IF(ISTEXT('S11'!$D$20),NA(),'S11'!$D$20)","v":{"$error":"#N/A"}},{"$error":"#N/A"},{"$f":"IF(ISTEXT('S11'!$D$24),NA(),'S11'!$D$24)","v":{"$error":"#N/A"}},{"$error":"#N/A"},{"$f":"IF(ISTEXT('S11'!$D$26),NA(),'S11'!$D$26)","v":{"$error":"#N/A"}},{"$error":"#N/A"},null,121,{"$f":"'S11'!$D$28","v":" "},{"$f":"'S11'!$D$25","v":"  "},{"$f":"'S11'!$D$24","v":"  "},{"$f":"'S11'!$D$20","v":"  "},{"$f":"'S11'!$D$19","v":"  "},{"$f":"'S11'!$D$17","v":"  "},{"$f":"'S11'!$D$15","v":"  "}]
[{"$f":"IF(ISBLANK('S11'!E$10),\" \",'S11'!E$10)","v":" "},{"$f":"IF(ISTEXT('S11'!$F$15),NA(),'S11'!$F$15)","v":{"$error":"#N/A"}},{"$f":"IF(ISTEXT('S11'!$F$16),NA(),'S11'!$F$16)","v":{"$error":"#N/A"}},{"$f":"IF(ISTEXT('S11'!$F$17),NA(),'S11'!$F$17)","v":{"$error":"#N/A"}},{"$f":"IF(ISTEXT('S11'!$F$19),NA(),'S11'!$F$19)","v":{"$error":"#N/A"}},{"$f":"IF(ISTEXT('S11'!$F$20),NA(),'S11'!$F$20)","v":{"$error":"#N/A"}},{"$error":"#N/A"},{"$f":"IF(ISTEXT('S11'!$F$24),NA(),'S11'!$F$24)","v":{"$error":"#N/A"}},{"$error":"#N/A"},{"$f":"IF(ISTEXT('S11'!$F$26),NA(),'S11'!$F$26)","v":{"$error":"#N/A"}},{"$error":"#N/A"},null,122,{"$f":"'S11'!$F$28","v":" "},{"$f":"'S11'!$F$25","v":"  "},{"$f":"'S11'!$F$24","v":"  "},{"$f":"'S11'!$F$20","v":"  "},{"$f":"'S11'!$F$19","v":"  "},{"$f":"'S11'!$F$17","v":"  "},{"$f":"'S11'!$F$15","v":"  "}]
[{"$f":"IF(ISBLANK('S11'!G$10),\" \",'S11'!G$10)","v":" "},{"$f":"IF(ISTEXT('S11'!$H$15),NA(),'S11'!$H$15)","v":{"$error":"#N/A"}},{"$f":"IF(ISTEXT('S11'!$H$16),NA(),'S11'!$H$16)","v":{"$error":"#N/A"}},{"$f":"IF(ISTEXT('S11'!$H$17),NA(),'S11'!$H$17)","v":{"$error":"#N/A"}},{"$f":"IF(ISTEXT('S11'!$H$19),NA(),'S11'!$H$19)","v":{"$error":"#N/A"}},{"$f":"IF(ISTEXT('S11'!$H$20),NA(),'S11'!$H$20)","v":{"$error":"#N/A"}},{"$error":"#N/A"},{"$f":"IF(ISTEXT('S11'!$H$24),NA(),'S11'!$H$24)","v":{"$error":"#N/A"}},{"$error":"#N/A"},{"$f":"IF(ISTEXT('S11'!$H$26),NA(),'S11'!$H$26)","v":{"$error":"#N/A"}},{"$error":"#N/A"},null,123,{"$f":"'S11'!$H$28","v":" "},{"$f":"'S11'!$H$25","v":"  "},{"$f":"'S11'!$H$24","v":"  "},{"$f":"'S11'!$H$20","v":"  "},{"$f":"'S11'!$H$19","v":"  "},{"$f":"'S11'!$H$17","v":"  "},{"$f":"'S11'!$H$15","v":"  "}]
[{"$f":"IF(ISBLANK('S11'!I$10),\" \",'S11'!I$10)","v":" "},{"$f":"IF(ISTEXT('S11'!$J$15),NA(),'S11'!$J$15)","v":{"$error":"#N/A"}},{"$f":"IF(ISTEXT('S11'!$J$16),NA(),'S11'!$J$16)","v":{"$error":"#N/A"}},{"$f":"IF(ISTEXT('S11'!$J$17),NA(),'S11'!$J$17)","v":{"$error":"#N/A"}},{"$f":"IF(ISTEXT('S11'!$J$19),NA(),'S11'!$J$19)","v":{"$error":"#N/A"}},{"$f":"IF(ISTEXT('S11'!$J$20),NA(),'S11'!$J$20)","v":{"$error":"#N/A"}},{"$error":"#N/A"},{"$f":"IF(ISTEXT('S11'!$J$24),NA(),'S11'!$J$24)","v":{"$error":"#N/A"}},{"$error":"#N/A"},{"$f":"IF(ISTEXT('S11'!$J$26),NA(),'S11'!$J$26)","v":{"$error":"#N/A"}},{"$error":"#N/A"},null,124,{"$f":"'S11'!$J$28","v":" "},{"$f":"'S11'!$J$25","v":"  "},{"$f":"'S11'!$J$24","v":"  "},{"$f":"'S11'!$J$20","v":"  "},{"$f":"'S11'!$J$19","v":"  "},{"$f":"'S11'!$J$17","v":"  "},{"$f":"'S11'!$J$15","v":"  "}]
[{"$f":"IF(ISBLANK('S11'!K$10),\" \",'S11'!K$10)","v":" "},{"$f":"IF(ISTEXT('S11'!$L$15),NA(),'S11'!$L$15)","v":{"$error":"#N/A"}},{"$f":"IF(ISTEXT('S11'!$L$16),NA(),'S11'!$L$16)","v":{"$error":"#N/A"}},{"$f":"IF(ISTEXT('S11'!$L$17),NA(),'S11'!$L$17)","v":{"$error":"#N/A"}},{"$f":"IF(ISTEXT('S11'!$L$19),NA(),'S11'!$L$19)","v":{"$error":"#N/A"}},{"$f":"IF(ISTEXT('S11'!$L$20),NA(),'S11'!$L$20)","v":{"$error":"#N/A"}},{"$error":"#N/A"},{"$f":"IF(ISTEXT('S11'!$L$24),NA(),'S11'!$L$24)","v":{"$error":"#N/A"}},{"$error":"#N/A"},{"$f":"IF(ISTEXT('S11'!$L$26),NA(),'S11'!$L$26)","v":{"$error":"#N/A"}},{"$error":"#N/A"},null,125,{"$f":"'S11'!$L$28","v":" "},{"$f":"'S11'!$L$25","v":"  "},{"$f":"'S11'!$L$24","v":"  "},{"$f":"'S11'!$L$20","v":"  "},{"$f":"'S11'!$L$19","v":"  "},{"$f":"'S11'!$L$17","v":"  "},{"$f":"'S11'!$L$15","v":"  "}]
[{"$f":"IF(ISBLANK('S11'!M$10),\" \",'S11'!M$10)","v":" "},{"$f":"IF(ISTEXT('S11'!$N$15),NA(),'S11'!$N$15)","v":{"$error":"#N/A"}},{"$f":"IF(ISTEXT('S11'!$N$16),NA(),'S11'!$N$16)","v":{"$error":"#N/A"}},{"$f":"IF(ISTEXT('S11'!$N$17),NA(),'S11'!$N$17)","v":{"$error":"#N/A"}},{"$f":"IF(ISTEXT('S11'!$N$19),NA(),'S11'!$N$19)","v":{"$error":"#N/A"}},{"$f":"IF(ISTEXT('S11'!$N$20),NA(),'S11'!$N$20)","v":{"$error":"#N/A"}},{"$error":"#N/A"},{"$f":"IF(ISTEXT('S11'!$N$24),NA(),'S11'!$N$24)","v":{"$error":"#N/A"}},{"$error":"#N/A"},{"$f":"IF(ISTEXT('S11'!$N$26),NA(),'S11'!$N$26)","v":{"$error":"#N/A"}},{"$error":"#N/A"},null,126,{"$f":"'S11'!$N$28","v":" "},{"$f":"'S11'!$N$25","v":"  "},{"$f":"'S11'!$N$24","v":"  "},{"$f":"'S11'!$N$20","v":"  "},{"$f":"'S11'!$N$19","v":"  "},{"$f":"'S11'!$N$17","v":"  "},{"$f":"'S11'!$N$15","v":"  "}]
[{"$f":"IF(ISBLANK('S11'!C$34),\" \",'S11'!C$34)","v":" "},{"$f":"IF(ISTEXT('S11'!$D$39),NA(),'S11'!$D$39)","v":{"$error":"#N/A"}},{"$f":"IF(ISTEXT('S11'!$D$40),NA(),'S11'!$D$40)","v":{"$error":"#N/A"}},{"$f":"IF(ISTEXT('S11'!$D$41),NA(),'S11'!$D$41)","v":{"$error":"#N/A"}},{"$f":"IF(ISTEXT('S11'!$D$43),NA(),'S11'!$D$43)","v":{"$error":"#N/A"}},{"$f":"IF(ISTEXT('S11'!$D$44),NA(),'S11'!$D$44)","v":{"$error":"#N/A"}},{"$error":"#N/A"},{"$f":"IF(ISTEXT('S11'!$D$48),NA(),'S11'!$D$48)","v":{"$error":"#N/A"}},{"$error":"#N/A"},{"$f":"IF(ISTEXT('S11'!$D$50),NA(),'S11'!$D$50)","v":{"$error":"#N/A"}},{"$error":"#N/A"},null,127,{"$f":"'S11'!$D$52","v":" "},{"$f":"'S11'!$D$49","v":"  "},{"$f":"'S11'!$D$48","v":"  "},{"$f":"'S11'!$D$44","v":"  "},{"$f":"'S11'!$D$43","v":"  "},{"$f":"'S11'!$D$41","v":"  "},{"$f":"'S11'!$D$39","v":"  "}]
[{"$f":"IF(ISBLANK('S11'!E$34),\" \",'S11'!E$34)","v":" "},{"$f":"IF(ISTEXT('S11'!$F$39),NA(),'S11'!$F$39)","v":{"$error":"#N/A"}},{"$f":"IF(ISTEXT('S11'!$F$40),NA(),'S11'!$F$40)","v":{"$error":"#N/A"}},{"$f":"IF(ISTEXT('S11'!$F$41),NA(),'S11'!$F$41)","v":{"$error":"#N/A"}},{"$f":"IF(ISTEXT('S11'!$F$43),NA(),'S11'!$F$43)","v":{"$error":"#N/A"}},{"$f":"IF(ISTEXT('S11'!$F$44),NA(),'S11'!$F$44)","v":{"$error":"#N/A"}},{"$error":"#N/A"},{"$f":"IF(ISTEXT('S11'!$F$48),NA(),'S11'!$F$48)","v":{"$error":"#N/A"}},{"$error":"#N/A"},{"$f":"IF(ISTEXT('S11'!$F$50),NA(),'S11'!$F$50)","v":{"$error":"#N/A"}},{"$error":"#N/A"},null,128,{"$f":"'S11'!$F$52","v":" "},{"$f":"'S11'!$F$49","v":"  "},{"$f":"'S11'!$F$48","v":"  "},{"$f":"'S11'!$F$44","v":"  "},{"$f":"'S11'!$F$43","v":"  "},{"$f":"'S11'!$F$41","v":"  "},{"$f":"'S11'!$F$39","v":"  "}]
[{"$f":"IF(ISBLANK('S11'!G$34),\" \",'S11'!G$34)","v":" "},{"$f":"IF(ISTEXT('S11'!$H$39),NA(),'S11'!$H$39)","v":{"$error":"#N/A"}},{"$f":"IF(ISTEXT('S11'!$H$40),NA(),'S11'!$H$40)","v":{"$error":"#N/A"}},{"$f":"IF(ISTEXT('S11'!$H$41),NA(),'S11'!$H$41)","v":{"$error":"#N/A"}},{"$f":"IF(ISTEXT('S11'!$H$43),NA(),'S11'!$H$43)","v":{"$error":"#N/A"}},{"$f":"IF(ISTEXT('S11'!$H$44),NA(),'S11'!$H$44)","v":{"$error":"#N/A"}},{"$error":"#N/A"},{"$f":"IF(ISTEXT('S11'!$H$48),NA(),'S11'!$H$48)","v":{"$error":"#N/A"}},{"$error":"#N/A"},{"$f":"IF(ISTEXT('S11'!$H$50),NA(),'S11'!$H$50)","v":{"$error":"#N/A"}},{"$error":"#N/A"},null,129,{"$f":"'S11'!$H$52","v":" "},{"$f":"'S11'!$H$49","v":"  "},{"$f":"'S11'!$H$48","v":"  "},{"$f":"'S11'!$H$44","v":"  "},{"$f":"'S11'!$H$43","v":"  "},{"$f":"'S11'!$H$41","v":"  "},{"$f":"'S11'!$H$39","v":"  "}]
[{"$f":"IF(ISBLANK('S11'!I$34),\" \",'S11'!I$34)","v":" "},{"$f":"IF(ISTEXT('S11'!$J$39),NA(),'S11'!$J$39)","v":{"$error":"#N/A"}},{"$f":"IF(ISTEXT('S11'!$J$40),NA(),'S11'!$J$40)","v":{"$error":"#N/A"}},{"$f":"IF(ISTEXT('S11'!$J$41),NA(),'S11'!$J$41)","v":{"$error":"#N/A"}},{"$f":"IF(ISTEXT('S11'!$J$43),NA(),'S11'!$J$43)","v":{"$error":"#N/A"}},{"$f":"IF(ISTEXT('S11'!$J$44),NA(),'S11'!$J$44)","v":{"$error":"#N/A"}},{"$error":"#N/A"},{"$f":"IF(ISTEXT('S11'!$J$48),NA(),'S11'!$J$48)","v":{"$error":"#N/A"}},{"$error":"#N/A"},{"$f":"IF(ISTEXT('S11'!$J$50),NA(),'S11'!$J$50)","v":{"$error":"#N/A"}},{"$error":"#N/A"},null,130,{"$f":"'S11'!$J$52","v":" "},{"$f":"'S11'!$J$49","v":"  "},{"$f":"'S11'!$J$48","v":"  "},{"$f":"'S11'!$J$44","v":"  "},{"$f":"'S11'!$J$43","v":"  "},{"$f":"'S11'!$J$41","v":"  "},{"$f":"'S11'!$J$39","v":"  "}]
[{"$f":"IF(ISBLANK('S11'!K$34),\" \",'S11'!K$34)","v":" "},{"$f":"IF(ISTEXT('S11'!$L$39),NA(),'S11'!$L$39)","v":{"$error":"#N/A"}},{"$f":"IF(ISTEXT('S11'!$L$40),NA(),'S11'!$L$40)","v":{"$error":"#N/A"}},{"$f":"IF(ISTEXT('S11'!$L$41),NA(),'S11'!$L$41)","v":{"$error":"#N/A"}},{"$f":"IF(ISTEXT('S11'!$L$43),NA(),'S11'!$L$43)","v":{"$error":"#N/A"}},{"$f":"IF(ISTEXT('S11'!$L$44),NA(),'S11'!$L$44)","v":{"$error":"#N/A"}},{"$f":"ROUND(AVERAGE(F131:F133),0)","v":{"$error":"#N/A"}},{"$f":"IF(ISTEXT('S11'!$L$48),NA(),'S11'!$L$48)","v":{"$error":"#N/A"}},{"$f":"ROUND(AVERAGE(H131:H133),0)","v":{"$error":"#N/A"}},{"$f":"IF(ISTEXT('S11'!$L$50),NA(),'S11'!$L$50)","v":{"$error":"#N/A"}},{"$f":"ROUND(AVERAGE(J131:J133),0)","v":{"$error":"#N/A"}},null,131,{"$f":"'S11'!$L$52","v":" "},{"$f":"'S11'!$L$49","v":"  "},{"$f":"'S11'!$L$48","v":"  "},{"$f":"'S11'!$L$44","v":"  "},{"$f":"'S11'!$L$43","v":"  "},{"$f":"'S11'!$L$41","v":"  "},{"$f":"'S11'!$L$39","v":"  "}]
[{"$f":"IF(ISBLANK('S11'!M$34),\" \",'S11'!M$34)","v":" "},{"$f":"IF(ISTEXT('S11'!$N$39),NA(),'S11'!$N$39)","v":{"$error":"#N/A"}},{"$f":"IF(ISTEXT('S11'!$N$40),NA(),'S11'!$N$40)","v":{"$error":"#N/A"}},{"$f":"IF(ISTEXT('S11'!$N$41),NA(),'S11'!$N$41)","v":{"$error":"#N/A"}},{"$f":"IF(ISTEXT('S11'!$N$43),NA(),'S11'!$N$43)","v":{"$error":"#N/A"}},{"$f":"IF(ISTEXT('S11'!$N$44),NA(),'S11'!$N$44)","v":{"$error":"#N/A"}},{"$error":"#N/A"},{"$f":"IF(ISTEXT('S11'!$N$48),NA(),'S11'!$N$48)","v":{"$error":"#N/A"}},{"$error":"#N/A"},{"$f":"IF(ISTEXT('S11'!$N$50),NA(),'S11'!$N$50)","v":{"$error":"#N/A"}},{"$error":"#N/A"},null,132,{"$f":"'S11'!$N$52","v":" "},{"$f":"'S11'!$N$49","v":"  "},{"$f":"'S11'!$N$48","v":"  "},{"$f":"'S11'!$N$44","v":"  "},{"$f":"'S11'!$N$43","v":"  "},{"$f":"'S11'!$N$41","v":"  "},{"$f":"'S11'!$N$39","v":"  "}]
[{"$f":"IF(ISBLANK('S12'!C$10),\" \",'S12'!C$10)","v":" "},{"$f":"IF(ISTEXT('S12'!$D$15),NA(),'S12'!$D$15)","v":{"$error":"#N/A"}},{"$f":"IF(ISTEXT('S12'!$D$16),NA(),'S12'!$D$16)","v":{"$error":"#N/A"}},{"$f":"IF(ISTEXT('S12'!$D$17),NA(),'S12'!$D$17)","v":{"$error":"#N/A"}},{"$f":"IF(ISTEXT('S12'!$D$19),NA(),'S12'!$D$19)","v":{"$error":"#N/A"}},{"$f":"IF(ISTEXT('S12'!$D$20),NA(),'S12'!$D$20)","v":{"$error":"#N/A"}},{"$error":"#N/A"},{"$f":"IF(ISTEXT('S12'!$D$24),NA(),'S12'!$D$24)","v":{"$error":"#N/A"}},{"$error":"#N/A"},{"$f":"IF(ISTEXT('S12'!$D$26),NA(),'S12'!$D$26)","v":{"$error":"#N/A"}},{"$error":"#N/A"},null,133,{"$f":"'S12'!$D$28","v":" "},{"$f":"'S12'!$D$25","v":"  "},{"$f":"'S12'!$D$24","v":"  "},{"$f":"'S12'!$D$20","v":"  "},{"$f":"'S12'!$D$19","v":"  "},{"$f":"'S12'!$D$17","v":"  "},{"$f":"'S12'!$D$15","v":"  "}]
[{"$f":"IF(ISBLANK('S12'!E$10),\" \",'S12'!E$10)","v":" "},{"$f":"IF(ISTEXT('S12'!$F$15),NA(),'S12'!$F$15)","v":{"$error":"#N/A"}},{"$f":"IF(ISTEXT('S12'!$F$16),NA(),'S12'!$F$16)","v":{"$error":"#N/A"}},{"$f":"IF(ISTEXT('S12'!$F$17),NA(),'S12'!$F$17)","v":{"$error":"#N/A"}},{"$f":"IF(ISTEXT('S12'!$F$19),NA(),'S12'!$F$19)","v":{"$error":"#N/A"}},{"$f":"IF(ISTEXT('S12'!$F$20),NA(),'S12'!$F$20)","v":{"$error":"#N/A"}},{"$error":"#N/A"},{"$f":"IF(ISTEXT('S12'!$F$24),NA(),'S12'!$F$24)","v":{"$error":"#N/A"}},{"$error":"#N/A"},{"$f":"IF(ISTEXT('S12'!$F$26),NA(),'S12'!$F$26)","v":{"$error":"#N/A"}},{"$error":"#N/A"},null,134,{"$f":"'S12'!$F$28","v":" "},{"$f":"'S12'!$F$25","v":"  "},{"$f":"'S12'!$F$24","v":"  "},{"$f":"'S12'!$F$20","v":"  "},{"$f":"'S12'!$F$19","v":"  "},{"$f":"'S12'!$F$17","v":"  "},{"$f":"'S12'!$F$15","v":"  "}]
[{"$f":"IF(ISBLANK('S12'!G$10),\" \",'S12'!G$10)","v":" "},{"$f":"IF(ISTEXT('S12'!$H$15),NA(),'S12'!$H$15)","v":{"$error":"#N/A"}},{"$f":"IF(ISTEXT('S12'!$H$16),NA(),'S12'!$H$16)","v":{"$error":"#N/A"}},{"$f":"IF(ISTEXT('S12'!$H$17),NA(),'S12'!$H$17)","v":{"$error":"#N/A"}},{"$f":"IF(ISTEXT('S12'!$H$19),NA(),'S12'!$H$19)","v":{"$error":"#N/A"}},{"$f":"IF(ISTEXT('S12'!$H$20),NA(),'S12'!$H$20)","v":{"$error":"#N/A"}},{"$error":"#N/A"},{"$f":"IF(ISTEXT('S12'!$H$24),NA(),'S12'!$H$24)","v":{"$error":"#N/A"}},{"$error":"#N/A"},{"$f":"IF(ISTEXT('S12'!$H$26),NA(),'S12'!$H$26)","v":{"$error":"#N/A"}},{"$error":"#N/A"},null,135,{"$f":"'S12'!$H$28","v":" "},{"$f":"'S12'!$H$25","v":"  "},{"$f":"'S12'!$H$24","v":"  "},{"$f":"'S12'!$H$20","v":"  "},{"$f":"'S12'!$H$19","v":"  "},{"$f":"'S12'!$H$17","v":"  "},{"$f":"'S12'!$H$15","v":"  "}]
[{"$f":"IF(ISBLANK('S12'!I$10),\" \",'S12'!I$10)","v":" "},{"$f":"IF(ISTEXT('S12'!$J$15),NA(),'S12'!$J$15)","v":{"$error":"#N/A"}},{"$f":"IF(ISTEXT('S12'!$J$16),NA(),'S12'!$J$16)","v":{"$error":"#N/A"}},{"$f":"IF(ISTEXT('S12'!$J$17),NA(),'S12'!$J$17)","v":{"$error":"#N/A"}},{"$f":"IF(ISTEXT('S12'!$J$19),NA(),'S12'!$J$19)","v":{"$error":"#N/A"}},{"$f":"IF(ISTEXT('S12'!$J$20),NA(),'S12'!$J$20)","v":{"$error":"#N/A"}},{"$error":"#N/A"},{"$f":"IF(ISTEXT('S12'!$J$24),NA(),'S12'!$J$24)","v":{"$error":"#N/A"}},{"$error":"#N/A"},{"$f":"IF(ISTEXT('S12'!$J$26),NA(),'S12'!$J$26)","v":{"$error":"#N/A"}},{"$error":"#N/A"},null,136,{"$f":"'S12'!$J$28","v":" "},{"$f":"'S12'!$J$25","v":"  "},{"$f":"'S12'!$J$24","v":"  "},{"$f":"'S12'!$J$20","v":"  "},{"$f":"'S12'!$J$19","v":"  "},{"$f":"'S12'!$J$17","v":"  "},{"$f":"'S12'!$J$15","v":"  "}]
[{"$f":"IF(ISBLANK('S12'!K$10),\" \",'S12'!K$10)","v":" "},{"$f":"IF(ISTEXT('S12'!$L$15),NA(),'S12'!$L$15)","v":{"$error":"#N/A"}},{"$f":"IF(ISTEXT('S12'!$L$16),NA(),'S12'!$L$16)","v":{"$error":"#N/A"}},{"$f":"IF(ISTEXT('S12'!$L$17),NA(),'S12'!$L$17)","v":{"$error":"#N/A"}},{"$f":"IF(ISTEXT('S12'!$L$19),NA(),'S12'!$L$19)","v":{"$error":"#N/A"}},{"$f":"IF(ISTEXT('S12'!$L$20),NA(),'S12'!$L$20)","v":{"$error":"#N/A"}},{"$error":"#N/A"},{"$f":"IF(ISTEXT('S12'!$L$24),NA(),'S12'!$L$24)","v":{"$error":"#N/A"}},{"$error":"#N/A"},{"$f":"IF(ISTEXT('S12'!$L$26),NA(),'S12'!$L$26)","v":{"$error":"#N/A"}},{"$error":"#N/A"},null,137,{"$f":"'S12'!$L$28","v":" "},{"$f":"'S12'!$L$25","v":"  "},{"$f":"'S12'!$L$24","v":"  "},{"$f":"'S12'!$L$20","v":"  "},{"$f":"'S12'!$L$19","v":"  "},{"$f":"'S12'!$L$17","v":"  "},{"$f":"'S12'!$L$15","v":"  "}]
[{"$f":"IF(ISBLANK('S12'!M$10),\" \",'S12'!M$10)","v":" "},{"$f":"IF(ISTEXT('S12'!$N$15),NA(),'S12'!$N$15)","v":{"$error":"#N/A"}},{"$f":"IF(ISTEXT('S12'!$N$16),NA(),'S12'!$N$16)","v":{"$error":"#N/A"}},{"$f":"IF(ISTEXT('S12'!$N$17),NA(),'S12'!$N$17)","v":{"$error":"#N/A"}},{"$f":"IF(ISTEXT('S12'!$N$19),NA(),'S12'!$N$19)","v":{"$error":"#N/A"}},{"$f":"IF(ISTEXT('S12'!$N$20),NA(),'S12'!$N$20)","v":{"$error":"#N/A"}},{"$error":"#N/A"},{"$f":"IF(ISTEXT('S12'!$N$24),NA(),'S12'!$N$24)","v":{"$error":"#N/A"}},{"$error":"#N/A"},{"$f":"IF(ISTEXT('S12'!$N$26),NA(),'S12'!$N$26)","v":{"$error":"#N/A"}},{"$error":"#N/A"},null,138,{"$f":"'S12'!$N$28","v":" "},{"$f":"'S12'!$N$25","v":"  "},{"$f":"'S12'!$N$24","v":"  "},{"$f":"'S12'!$N$20","v":"  "},{"$f":"'S12'!$N$19","v":"  "},{"$f":"'S12'!$N$17","v":"  "},{"$f":"'S12'!$N$15","v":"  "}]
[{"$f":"IF(ISBLANK('S12'!C$34),\" \",'S12'!C$34)","v":" "},{"$f":"IF(ISTEXT('S12'!$D$39),NA(),'S12'!$D$39)","v":{"$error":"#N/A"}},{"$f":"IF(ISTEXT('S12'!$D$40),NA(),'S12'!$D$40)","v":{"$error":"#N/A"}},{"$f":"IF(ISTEXT('S12'!$D$41),NA(),'S12'!$D$41)","v":{"$error":"#N/A"}},{"$f":"IF(ISTEXT('S12'!$D$43),NA(),'S12'!$D$43)","v":{"$error":"#N/A"}},{"$f":"IF(ISTEXT('S12'!$D$44),NA(),'S12'!$D$44)","v":{"$error":"#N/A"}},{"$error":"#N/A"},{"$f":"IF(ISTEXT('S12'!$D$48),NA(),'S12'!$D$48)","v":{"$error":"#N/A"}},{"$error":"#N/A"},{"$f":"IF(ISTEXT('S12'!$D$50),NA(),'S12'!$D$50)","v":{"$error":"#N/A"}},{"$error":"#N/A"},null,139,{"$f":"'S12'!$D$52","v":" "},{"$f":"'S12'!$D$49","v":"  "},{"$f":"'S12'!$D$48","v":"  "},{"$f":"'S12'!$D$44","v":"  "},{"$f":"'S12'!$D$43","v":"  "},{"$f":"'S12'!$D$41","v":"  "},{"$f":"'S12'!$D$39","v":"  "}]
[{"$f":"IF(ISBLANK('S12'!E$34),\" \",'S12'!E$34)","v":" "},{"$f":"IF(ISTEXT('S12'!$F$39),NA(),'S12'!$F$39)","v":{"$error":"#N/A"}},{"$f":"IF(ISTEXT('S12'!$F$40),NA(),'S12'!$F$40)","v":{"$error":"#N/A"}},{"$f":"IF(ISTEXT('S12'!$F$41),NA(),'S12'!$F$41)","v":{"$error":"#N/A"}},{"$f":"IF(ISTEXT('S12'!$F$43),NA(),'S12'!$F$43)","v":{"$error":"#N/A"}},{"$f":"IF(ISTEXT('S12'!$F$44),NA(),'S12'!$F$44)","v":{"$error":"#N/A"}},{"$error":"#N/A"},{"$f":"IF(ISTEXT('S12'!$F$48),NA(),'S12'!$F$48)","v":{"$error":"#N/A"}},{"$error":"#N/A"},{"$f":"IF(ISTEXT('S12'!$F$50),NA(),'S12'!$F$50)","v":{"$error":"#N/A"}},{"$error":"#N/A"},null,140,{"$f":"'S12'!$F$52","v":" "},{"$f":"'S12'!$F$49","v":"  "},{"$f":"'S12'!$F$48","v":"  "},{"$f":"'S12'!$F$44","v":"  "},{"$f":"'S12'!$F$43","v":"  "},{"$f":"'S12'!$F$41","v":"  "},{"$f":"'S12'!$F$39","v":"  "}]
[{"$f":"IF(ISBLANK('S12'!G$34),\" \",'S12'!G$34)","v":" "},{"$f":"IF(ISTEXT('S12'!$H$39),NA(),'S12'!$H$39)","v":{"$error":"#N/A"}},{"$f":"IF(ISTEXT('S12'!$H$40),NA(),'S12'!$H$40)","v":{"$error":"#N/A"}},{"$f":"IF(ISTEXT('S12'!$H$41),NA(),'S12'!$H$41)","v":{"$error":"#N/A"}},{"$f":"IF(ISTEXT('S12'!$H$43),NA(),'S12'!$H$43)","v":{"$error":"#N/A"}},{"$f":"IF(ISTEXT('S12'!$H$44),NA(),'S12'!$H$44)","v":{"$error":"#N/A"}},{"$error":"#N/A"},{"$f":"IF(ISTEXT('S12'!$H$48),NA(),'S12'!$H$48)","v":{"$error":"#N/A"}},{"$error":"#N/A"},{"$f":"IF(ISTEXT('S12'!$H$50),NA(),'S12'!$H$50)","v":{"$error":"#N/A"}},{"$error":"#N/A"},null,141,{"$f":"'S12'!$H$52","v":" "},{"$f":"'S12'!$H$49","v":"  "},{"$f":"'S12'!$H$48","v":"  "},{"$f":"'S12'!$H$44","v":"  "},{"$f":"'S12'!$H$43","v":"  "},{"$f":"'S12'!$H$41","v":"  "},{"$f":"'S12'!$H$39","v":"  "}]
[{"$f":"IF(ISBLANK('S12'!I$34),\" \",'S12'!I$34)","v":" "},{"$f":"IF(ISTEXT('S12'!$J$39),NA(),'S12'!$J$39)","v":{"$error":"#N/A"}},{"$f":"IF(ISTEXT('S12'!$J$40),NA(),'S12'!$J$40)","v":{"$error":"#N/A"}},{"$f":"IF(ISTEXT('S12'!$J$41),NA(),'S12'!$J$41)","v":{"$error":"#N/A"}},{"$f":"IF(ISTEXT('S12'!$J$43),NA(),'S12'!$J$43)","v":{"$error":"#N/A"}},{"$f":"IF(ISTEXT('S12'!$J$44),NA(),'S12'!$J$44)","v":{"$error":"#N/A"}},{"$error":"#N/A"},{"$f":"IF(ISTEXT('S12'!$J$48),NA(),'S12'!$J$48)","v":{"$error":"#N/A"}},{"$error":"#N/A"},{"$f":"IF(ISTEXT('S12'!$J$50),NA(),'S12'!$J$50)","v":{"$error":"#N/A"}},{"$error":"#N/A"},null,142,{"$f":"'S12'!$J$52","v":" "},{"$f":"'S12'!$J$49","v":"  "},{"$f":"'S12'!$J$48","v":"  "},{"$f":"'S12'!$J$44","v":"  "},{"$f":"'S12'!$J$43","v":"  "},{"$f":"'S12'!$J$41","v":"  "},{"$f":"'S12'!$J$39","v":"  "}]
[{"$f":"IF(ISBLANK('S12'!K$34),\" \",'S12'!K$34)","v":" "},{"$f":"IF(ISTEXT('S12'!$L$39),NA(),'S12'!$L$39)","v":{"$error":"#N/A"}},{"$f":"IF(ISTEXT('S12'!$L$40),NA(),'S12'!$L$40)","v":{"$error":"#N/A"}},{"$f":"IF(ISTEXT('S12'!$L$41),NA(),'S12'!$L$41)","v":{"$error":"#N/A"}},{"$f":"IF(ISTEXT('S12'!$L$43),NA(),'S12'!$L$43)","v":{"$error":"#N/A"}},{"$f":"IF(ISTEXT('S12'!$L$44),NA(),'S12'!$L$44)","v":{"$error":"#N/A"}},{"$error":"#N/A"},{"$f":"IF(ISTEXT('S12'!$L$48),NA(),'S12'!$L$48)","v":{"$error":"#N/A"}},{"$error":"#N/A"},{"$f":"IF(ISTEXT('S12'!$L$50),NA(),'S12'!$L$50)","v":{"$error":"#N/A"}},{"$error":"#N/A"},null,143,{"$f":"'S12'!$L$52","v":" "},{"$f":"'S12'!$L$49","v":"  "},{"$f":"'S12'!$L$48","v":"  "},{"$f":"'S12'!$L$44","v":"  "},{"$f":"'S12'!$L$43","v":"  "},{"$f":"'S12'!$L$41","v":"  "},{"$f":"'S12'!$L$39","v":"  "}]
[{"$f":"IF(ISBLANK('S12'!M$34),\" \",'S12'!M$34)","v":" "},{"$f":"IF(ISTEXT('S12'!$N$39),NA(),'S12'!$N$39)","v":{"$error":"#N/A"}},{"$f":"IF(ISTEXT('S12'!$N$40),NA(),'S12'!$N$40)","v":{"$error":"#N/A"}},{"$f":"IF(ISTEXT('S12'!$N$41),NA(),'S12'!$N$41)","v":{"$error":"#N/A"}},{"$f":"IF(ISTEXT('S12'!$N$43),NA(),'S12'!$N$43)","v":{"$error":"#N/A"}},{"$f":"IF(ISTEXT('S12'!$N$44),NA(),'S12'!$N$44)","v":{"$error":"#N/A"}},{"$error":"#N/A"},{"$f":"IF(ISTEXT('S12'!$N$48),NA(),'S12'!$N$48)","v":{"$error":"#N/A"}},{"$error":"#N/A"},{"$f":"IF(ISTEXT('S12'!$N$50),NA(),'S12'!$N$50)","v":{"$error":"#N/A"}},{"$error":"#N/A"},null,144,{"$f":"'S12'!$N$52","v":" "},{"$f":"'S12'!$N$49","v":"  "},{"$f":"'S12'!$N$48","v":"  "},{"$f":"'S12'!$N$44","v":"  "},{"$f":"'S12'!$N$43","v":"  "},{"$f":"'S12'!$N$41","v":"  "},{"$f":"'S12'!$N$39","v":"  "}]

{"sheet":"AP","index":22,"n_rows":26,"n_cols":14,"rows_kept":26,"cut":false,"hidden":true,"merged":[[23,11,25,11],[0,0,0,2],[0,3,0,5],[15,11,17,11],[3,11,5,11],[7,11,9,11],[11,11,13,11],[19,11,21,11]]}
["#4",null,null,"#16",null,null,200,200,"C U Bottom ",null,null,null,{"$f":"'S1'!L4","v":"2A"}]
["Target","Top","Botom","Target","Top","Bottom","UL","LL","LL"]
[{"$f":"'S1'!L5","v":0},{"$f":"A3+(IF($M1=\"2A\",'Critical screen tolerances'!$C9,IF($M1=\"OGS\",100,IF($M1=\"2RC\",100,IF($M1=\"DSA\",'Critical screen tolerances'!$C23)))))","v":7},{"$f":"A3-(IF($M1=\"2A\",'Critical screen tolerances'!$C10,IF($M1=\"OGS\",100,IF($M1=\"2RC\",100,IF($M1=\"DSA\",'Critical screen tolerances'!$C24)))))","v":-7},{"$f":"'S1'!L6","v":0},{"$f":"$D3+(IF($M1=\"2A\",'Critical screen tolerances'!$C11,IF($M1=\"OGS\",100,IF($M1=\"2RC\",100,IF($M1=\"DSA\",'Critical screen tolerances'!$C25)))))","v":4},{"$f":"D3-(IF($M1=\"2A\",'Critical screen tolerances'!$C12,IF($M1=\"OGS\",100,IF($M1=\"2RC\",100,IF($M1=\"DSA\",'Critical screen tolerances'!$C26)))))","v":-4},{"$f":"(IF($M1=\"2A\",'Critical screen tolerances'!$C13,IF($M1=\"OGS\",'Critical screen tolerances'!C17,IF($M1=\"2RC\",100,IF($M1=\"DSA\",'Critical screen tolerances'!$C27)))))","v":8},{"$f":"(IF($M1=\"2A\",-5,IF($M1=\"OGS\",-5,IF($M1=\"2RC\",-5,IF($M1=\"DSA\",'Critical screen tolerances'!$C28)))))","v":-5},4.5]
[{"$f":"A$3","v":0},{"$f":"B$3","v":7},{"$f":"C$3","v":-7},{"$f":"D$3","v":0},{"$f":"E$3","v":4},{"$f":"F3","v":-4},{"$f":"G$3","v":8},{"$f":"H$3","v":-5},4.5,null,null,{"$f":"IF(M1=\"DSA\",\"1 1/2\",2)","v":2},"Max",105]
[{"$f":"A$3","v":0},7,-7,{"$f":"D$3","v":0},4,{"$f":"F4","v":-4},{"$f":"G$3","v":8},-5,4.5]
[0,7,-7,0,4,-4,8,-5,4.5,null,null,null,"Min",95]
[0,7,-7,0,4,-4,8,-5,4.5]
[0,7,-7,0,4,-4,8,-5,4.5,null,null,1.5,"Max",{"$f":"IF(M1=\"DSA\",105,1)","v":1}]
[0,7,-7,0,4,-4,8,-5,4.5]
[0,7,-7,0,4,-4,8,-5,4.5,null,null,null,"Min",{"$f":"+IF(M1=\"DSA\",95,0)","v":0}]
[0,7,-7,0,4,-4,8,-5,4.5]
[0,7,-7,0,4,-4,8,-5,4.5,null,null,0.75,"Max",{"$f":"IF(M$1=\"2A\",100,IF(M$1=\"OGS\",100,IF(M$1=\"DSA\",95,IF(M$1=\"2RC\",1))))","v":100}]
[0,7,-7,0,4,-4,8,-5,4.5]
[0,7,-7,0,4,-4,8,-5,4.5,null,null,null,"Min",{"$f":"IF(M$1=\"2A\",52,IF(M$1=\"OGS\",52,IF(M$1=\"DSA\",65,IF(M$1=\"2RC\",0))))","v":52}]
[0,7,-7,0,4,-4,8,-5,4.5]
[0,7,-7,0,4,-4,8,-5,4.5,null,null,0.375,"Max",{"$f":"IF($M$1=\"2A\",70,IF($M$1=\"OGS\",65,IF($M$1=\"DSA\",10,IF($M$1=\"2RC\",1))))","v":70}]
[0,7,-7,0,4,-4,8,-5,4.5]
[0,7,-7,0,4,-4,8,-5,4.5,null,null,null,"Min",{"$f":"IF($M$1=\"2A\",36,IF($M$1=\"OGS\",36,IF($M$1=\"DSA\",0,IF($M$1=\"2RC\",0))))","v":36}]
[0,7,-7,0,4,-4,8,-5,4.5]
[0,7,-7,0,4,-4,8,-5,4.5,null,null,4,"Max",{"$f":"IF($M$1=\"2A\",50,IF($M$1=\"OGS\",40,IF($M$1=\"DSA\",65,IF($M$1=\"2RC\",60))))","v":50}]
[0,7,-7,0,4,-4,8,-5,4.5]
[0,7,-7,0,4,-4,8,-5,4.5,null,null,null,"Min",{"$f":"IF($M$1=\"2A\",24,IF($M$1=\"OGS\",8,IF($M$1=\"DSA\",30,IF($M$1=\"2RC\",15))))","v":24}]
[0,7,-7,0,4,-4,8,-5,4.5]
[0,7,-7,0,4,-4,8,-5,4.5,null,null,{"$f":"IF(M1=\"2RC\",100,16)","v":16},"Max",{"$f":"IF($M$1=\"2A\",30,IF($M$1=\"OGS\",12,IF($M$1=\"DSA\",30,IF($M$1=\"2RC\",30))))","v":30}]
[0,7,-7,0,4,-4,8,-5,4.5]
[0,7,-7,0,4,-4,8,-5,4.5,null,null,null,"Min",{"$f":"IF($M$1=\"2A\",10,IF($M$1=\"OGS\",0,IF($M$1=\"DSA\",15,IF($M$1=\"2RC\",0))))","v":10}]

{"sheet":"Avg","index":23,"n_rows":7,"n_cols":9,"rows_kept":7,"cut":false,"hidden":false,"merged":[[1,0,1,7],[1,8,1,9]]}
[]
["Average Gradation",null,null,null,null,null,null,null,{"$f":"IF(ISBLANK('S1'!L4),\" \",'S1'!L4)","v":"2A"}]
[]
["Sieve","Wash 200",200,{"$f":"IF('S1'!L4=\"2RC\",100,16)","v":16},4,0.375,0.75,2]
["Count",{"$f":"COUNT('S13'!N3:N146)","v":0},{"$f":"COUNT('S13'!O3:O146)","v":0},{"$f":"COUNT('S13'!P3:P146)","v":0},{"$f":"COUNT('S13'!Q3:Q146)","v":0},{"$f":"COUNT('S13'!R3:R146)","v":0},{"$f":"COUNT('S13'!S3:S146)","v":0},{"$f":"COUNT('S13'!T3:T146)","v":0}]
["Avg",{"$f":"AVERAGE('S13'!N3:N146)","v":{"$error":"#DIV/0!"}},{"$f":"AVERAGE('S13'!O3:O146)","v":{"$error":"#DIV/0!"}},{"$f":"AVERAGE('S13'!P3:P146)","v":{"$error":"#DIV/0!"}},{"$f":"AVERAGE('S13'!Q3:Q146)","v":{"$error":"#DIV/0!"}},{"$f":"AVERAGE('S13'!R3:R146)","v":{"$error":"#DIV/0!"}},{"$f":"AVERAGE('S13'!S3:S146)","v":{"$error":"#DIV/0!"}},{"$f":"AVERAGE('S13'!T3:T146)","v":{"$error":"#DIV/0!"}}]
["St Dev",{"$f":"STDEV('S13'!N3:N146)","v":{"$error":"#DIV/0!"}},{"$f":"STDEV('S13'!O3:O146)","v":{"$error":"#DIV/0!"}},{"$f":"STDEV('S13'!P3:P146)","v":{"$error":"#DIV/0!"}},{"$f":"STDEV('S13'!Q3:Q146)","v":{"$error":"#DIV/0!"}},{"$f":"STDEV('S13'!R3:R146)","v":{"$error":"#DIV/0!"}},{"$f":"STDEV('S13'!S3:S146)","v":{"$error":"#DIV/0!"}},{"$f":"STDEV('S13'!T3:T146)","v":{"$error":"#DIV/0!"}}]

{"sheet":"Critical screen tolerances","index":24,"n_rows":28,"n_cols":3,"rows_kept":28,"cut":false,"hidden":false,"merged":[[1,0,5,9],[8,0,9,0],[10,0,11,0],[7,0,7,2],[26,0,27,0],[14,0,14,2],[18,0,18,2],[19,0,19,2],[21,0,21,2],[22,0,23,0],[24,0,25,0]]}
[]
["In this workbook, 2A, OGS, 2RC and DSA (driving surface aggregate) the critical screen tolerances from the target values are set to a default value but can be changed at the Producer / Agency's discretion. To change these values, select the gray shaded cells below"]
[]
[]
[]
[]
[]
["2A"]
["#4","Upper",7]
[null,"Lower",7]
["#16","Upper",4]
[null,"Lower",4]
[200,"Max",8]
[]
["OGS"]
["CU","Min",4.5]
[200,"Max",4]
[]
["2RC"]
["None"]
[]
["DSA"]
["#4","Upper",7]
[null,"Lower",7]
["#16","Upper",4]
[null,"Lower",4]
[200,"Max",14]
[null,"Min",11]